{"text_format":"1","workbook":"xlsx","n_sheets":8,"sheets":["Instructions","Donors","Gifts","Campaigns","Appeals","Funds","Dashboard","Settings"],"not_rendered":{"charts":4,"images":3,"macros":1,"external_links":0,"defined_names":5,"comments":0,"pivot_tables":4},"unopened":[],"bounds":{"document_bytes":16777216,"sheet_cells":100000,"rows_first":2000,"rows_last":500,"rows_between":2000,"halvings":0,"cell_chars":16384,"cell_head_chars":4096},"cells_cut":0,"cells_raw":0,"read":"whole","date_system":"1900"}

{"sheet":"Instructions","index":0,"n_rows":31,"n_cols":2,"rows_kept":31,"cut":false,"hidden":false,"merged":[[1,1,3,1]]}
[]
[]
[]
[]
[null,"DonorDock - Free Excel Database"]
[null,"This Excel-based donor database is designed to help you keep track of donors and gifts."]
[]
[null,"How To Start:"]
[null,"Step 1: Begin Adding Your Data To The Spreadsheet:"]
[null,"   Make sure to \"Enable Content.\" this may appear as as a yellow bar above your sheet. "]
[null,"First enter donor data, Then enter gift data. "]
[null,"Not sure how to use all the columns? Schedule a free setup call, and we'll help you get started. "]
[null,"Step 2: Schedule your Free 15 minute setup call with a Donor Database Expert"]
[null,"   Get the most out of your spreadsheet, and learn about using our subscription version for free. "]
[null,"Schedule a Free Setup Call Now"]
[null,"Step 3:  Choose the Solution that works best for you."]
[null,"Start using your spreadsheet, and sign up for a free trial of DonorDock to see which works best for you."]
[null,"Get a Free Trial or Demo of DonorDock"]
[]
[]
[null,"Tips for using this spreadsheet:"]
[null,"Use the filters at the top of the donor and gift lists to filter down and report on data."]
[]
[null,"Most of the workbook is protected to ensure the scripts and formulas keep working."]
[null,"The Dashboard sheet is unprotected, so feel free to adjust that add your own charts. "]
[null,"You can refresh the Dashboard data by choose \"Data -> Refresh All\" in the ribbon bar."]
[]
[]
[]
[null,"Want an affordable Database that is better than a spreadsheet?"]
[null,"Learn More About DonorDock"]

{"sheet":"Donors","index":1,"n_rows":5002,"n_cols":17,"rows_kept":5002,"cut":false,"hidden":false,"merged":[]}
["Donor Data"]
[{"$f":"SUBTOTAL(103,Table6[Name])","v":1},null,null,{"$f":"SUBTOTAL(109,Table6[Total Donations])","v":100},null,null,null,null,null,null,null,null,null,null,null,null,{"$f":"SUBTOTAL(103,Table6[Notes])","v":0}]
["Name","Type","Email","Total Donations","Address 1","Address 2","City","State/Province","Postal Code","Home Phone","Mobile Phone","Business Phone","Spouse Name","Spouse Email","Spouse Business Phone","Spouse Mobile Phone","Notes"]
["Sample Donor","Individual","sample@noemail.com",{"$f":"SUMIF(Gifts!A$4:A$5000, Donors!A4,Gifts!B$4:B$5000)","v":100}]
[null,null,null,{"$f":"SUMIF(Gifts!A$4:A$5000, Donors!A5,Gifts!B$4:B$5000)","v":0}]
[null,null,null,{"$f":"SUMIF(Gifts!A$4:A$5000, Donors!A6,Gifts!B$4:B$5000)","v":0}]
[null,null,null,{"$f":"SUMIF(Gifts!A$4:A$5000, Donors!A7,Gifts!B$4:B$5000)","v":0}]
[null,null,null,{"$f":"SUMIF(Gifts!A$4:A$5000, Donors!A8,Gifts!B$4:B$5000)","v":0}]
[null,null,null,{"$f":"SUMIF(Gifts!A$4:A$5000, Donors!A9,Gifts!B$4:B$5000)","v":0}]
[null,null,null,{"$f":"SUMIF(Gifts!A$4:A$5000, Donors!A10,Gifts!B$4:B$5000)","v":0}]
[null,null,null,{"$f":"SUMIF(Gifts!A$4:A$5000, Donors!A11,Gifts!B$4:B$5000)","v":0}]
[null,null,null,{"$f":"SUMIF(Gifts!A$4:A$5000, Donors!A12,Gifts!B$4:B$5000)","v":0}]
[null,null,null,{"$f":"SUMIF(Gifts!A$4:A$5000, Donors!A13,Gifts!B$4:B$5000)","v":0}]
[null,null,null,{"$f":"SUMIF(Gifts!A$4:A$5000, Donors!A14,Gifts!B$4:B$5000)","v":0}]
[null,null,null,{"$f":"SUMIF(Gifts!A$4:A$5000, Donors!A15,Gifts!B$4:B$5000)","v":0}]
[null,null,null,{"$f":"SUMIF(Gifts!A$4:A$5000, Donors!A16,Gifts!B$4:B$5000)","v":0}]
[null,null,null,{"$f":"SUMIF(Gifts!A$4:A$5000, Donors!A17,Gifts!B$4:B$5000)","v":0}]
[null,null,null,{"$f":"SUMIF(Gifts!A$4:A$5000, Donors!A18,Gifts!B$4:B$5000)","v":0}]
[null,null,null,{"$f":"SUMIF(Gifts!A$4:A$5000, Donors!A19,Gifts!B$4:B$5000)","v":0}]
[null,null,null,{"$f":"SUMIF(Gifts!A$4:A$5000, Donors!A20,Gifts!B$4:B$5000)","v":0}]
[null,null,null,{"$f":"SUMIF(Gifts!A$4:A$5000, Donors!A21,Gifts!B$4:B$5000)","v":0}]
[null,null,null,{"$f":"SUMIF(Gifts!A$4:A$5000, Donors!A22,Gifts!B$4:B$5000)","v":0}]
[null,null,null,{"$f":"SUMIF(Gifts!A$4:A$5000, Donors!A23,Gifts!B$4:B$5000)","v":0}]
[null,null,null,{"$f":"SUMIF(Gifts!A$4:A$5000, Donors!A24,Gifts!B$4:B$5000)","v":0}]
[null,null,null,{"$f":"SUMIF(Gifts!A$4:A$5000, Donors!A25,Gifts!B$4:B$5000)","v":0}]
[null,null,null,{"$f":"SUMIF(Gifts!A$4:A$5000, Donors!A26,Gifts!B$4:B$5000)","v":0}]
[null,null,null,{"$f":"SUMIF(Gifts!A$4:A$5000, Donors!A27,Gifts!B$4:B$5000)","v":0}]
[null,null,null,{"$f":"SUMIF(Gifts!A$4:A$5000, Donors!A28,Gifts!B$4:B$5000)","v":0}]
[null,null,null,{"$f":"SUMIF(Gifts!A$4:A$5000, Donors!A29,Gifts!B$4:B$5000)","v":0}]
[null,null,null,{"$f":"SUMIF(Gifts!A$4:A$5000, Donors!A30,Gifts!B$4:B$5000)","v":0}]
[null,null,null,{"$f":"SUMIF(Gifts!A$4:A$5000, Donors!A31,Gifts!B$4:B$5000)","v":0}]
[null,null,null,{"$f":"SUMIF(Gifts!A$4:A$5000, Donors!A32,Gifts!B$4:B$5000)","v":0}]
[null,null,null,{"$f":"SUMIF(Gifts!A$4:A$5000, Donors!A33,Gifts!B$4:B$5000)","v":0}]
[null,null,null,{"$f":"SUMIF(Gifts!A$4:A$5000, Donors!A34,Gifts!B$4:B$5000)","v":0}]
[null,null,null,{"$f":"SUMIF(Gifts!A$4:A$5000, Donors!A35,Gifts!B$4:B$5000)","v":0}]
[null,null,null,{"$f":"SUMIF(Gifts!A$4:A$5000, Donors!A36,Gifts!B$4:B$5000)","v":0}]
[null,null,null,{"$f":"SUMIF(Gifts!A$4:A$5000, Donors!A37,Gifts!B$4:B$5000)","v":0}]
[null,null,null,{"$f":"SUMIF(Gifts!A$4:A$5000, Donors!A38,Gifts!B$4:B$5000)","v":0}]
[null,null,null,{"$f":"SUMIF(Gifts!A$4:A$5000, Donors!A39,Gifts!B$4:B$5000)","v":0}]
[null,null,null,{"$f":"SUMIF(Gifts!A$4:A$5000, Donors!A40,Gifts!B$4:B$5000)","v":0}]
[null,null,null,{"$f":"SUMIF(Gifts!A$4:A$5000, Donors!A41,Gifts!B$4:B$5000)","v":0}]
[null,null,null,{"$f":"SUMIF(Gifts!A$4:A$5000, Donors!A42,Gifts!B$4:B$5000)","v":0}]
[null,null,null,{"$f":"SUMIF(Gifts!A$4:A$5000, Donors!A43,Gifts!B$4:B$5000)","v":0}]
[null,null,null,{"$f":"SUMIF(Gifts!A$4:A$5000, Donors!A44,Gifts!B$4:B$5000)","v":0}]
[null,null,null,{"$f":"SUMIF(Gifts!A$4:A$5000, Donors!A45,Gifts!B$4:B$5000)","v":0}]
[null,null,null,{"$f":"SUMIF(Gifts!A$4:A$5000, Donors!A46,Gifts!B$4:B$5000)","v":0}]
[null,null,null,{"$f":"SUMIF(Gifts!A$4:A$5000, Donors!A47,Gifts!B$4:B$5000)","v":0}]
[null,null,null,{"$f":"SUMIF(Gifts!A$4:A$5000, Donors!A48,Gifts!B$4:B$5000)","v":0}]
[null,null,null,{"$f":"SUMIF(Gifts!A$4:A$5000, Donors!A49,Gifts!B$4:B$5000)","v":0}]
[null,null,null,{"$f":"SUMIF(Gifts!A$4:A$5000, Donors!A50,Gifts!B$4:B$5000)","v":0}]
[null,null,null,{"$f":"SUMIF(Gifts!A$4:A$5000, Donors!A51,Gifts!B$4:B$5000)","v":0}]
[null,null,null,{"$f":"SUMIF(Gifts!A$4:A$5000, Donors!A52,Gifts!B$4:B$5000)","v":0}]
[null,null,null,{"$f":"SUMIF(Gifts!A$4:A$5000, Donors!A53,Gifts!B$4:B$5000)","v":0}]
[null,null,null,{"$f":"SUMIF(Gifts!A$4:A$5000, Donors!A54,Gifts!B$4:B$5000)","v":0}]
[null,null,null,{"$f":"SUMIF(Gifts!A$4:A$5000, Donors!A55,Gifts!B$4:B$5000)","v":0}]
[null,null,null,{"$f":"SUMIF(Gifts!A$4:A$5000, Donors!A56,Gifts!B$4:B$5000)","v":0}]
[null,null,null,{"$f":"SUMIF(Gifts!A$4:A$5000, Donors!A57,Gifts!B$4:B$5000)","v":0}]
[null,null,null,{"$f":"SUMIF(Gifts!A$4:A$5000, Donors!A58,Gifts!B$4:B$5000)","v":0}]
[null,null,null,{"$f":"SUMIF(Gifts!A$4:A$5000, Donors!A59,Gifts!B$4:B$5000)","v":0}]
[null,null,null,{"$f":"SUMIF(Gifts!A$4:A$5000, Donors!A60,Gifts!B$4:B$5000)","v":0}]
[null,null,null,{"$f":"SUMIF(Gifts!A$4:A$5000, Donors!A61,Gifts!B$4:B$5000)","v":0}]
[null,null,null,{"$f":"SUMIF(Gifts!A$4:A$5000, Donors!A62,Gifts!B$4:B$5000)","v":0}]
[null,null,null,{"$f":"SUMIF(Gifts!A$4:A$5000, Donors!A63,Gifts!B$4:B$5000)","v":0}]
[null,null,null,{"$f":"SUMIF(Gifts!A$4:A$5000, Donors!A64,Gifts!B$4:B$5000)","v":0}]
[null,null,null,{"$f":"SUMIF(Gifts!A$4:A$5000, Donors!A65,Gifts!B$4:B$5000)","v":0}]
[null,null,null,{"$f":"SUMIF(Gifts!A$4:A$5000, Donors!A66,Gifts!B$4:B$5000)","v":0}]
[null,null,null,{"$f":"SUMIF(Gifts!A$4:A$5000, Donors!A67,Gifts!B$4:B$5000)","v":0}]
[null,null,null,{"$f":"SUMIF(Gifts!A$4:A$5000, Donors!A68,Gifts!B$4:B$5000)","v":0}]
[null,null,null,{"$f":"SUMIF(Gifts!A$4:A$5000, Donors!A69,Gifts!B$4:B$5000)","v":0}]
[null,null,null,{"$f":"SUMIF(Gifts!A$4:A$5000, Donors!A70,Gifts!B$4:B$5000)","v":0}]
[null,null,null,{"$f":"SUMIF(Gifts!A$4:A$5000, Donors!A71,Gifts!B$4:B$5000)","v":0}]
[null,null,null,{"$f":"SUMIF(Gifts!A$4:A$5000, Donors!A72,Gifts!B$4:B$5000)","v":0}]
[null,null,null,{"$f":"SUMIF(Gifts!A$4:A$5000, Donors!A73,Gifts!B$4:B$5000)","v":0}]
[null,null,null,{"$f":"SUMIF(Gifts!A$4:A$5000, Donors!A74,Gifts!B$4:B$5000)","v":0}]
[null,null,null,{"$f":"SUMIF(Gifts!A$4:A$5000, Donors!A75,Gifts!B$4:B$5000)","v":0}]
[null,null,null,{"$f":"SUMIF(Gifts!A$4:A$5000, Donors!A76,Gifts!B$4:B$5000)","v":0}]
[null,null,null,{"$f":"SUMIF(Gifts!A$4:A$5000, Donors!A77,Gifts!B$4:B$5000)","v":0}]
[null,null,null,{"$f":"SUMIF(Gifts!A$4:A$5000, Donors!A78,Gifts!B$4:B$5000)","v":0}]
[null,null,null,{"$f":"SUMIF(Gifts!A$4:A$5000, Donors!A79,Gifts!B$4:B$5000)","v":0}]
[null,null,null,{"$f":"SUMIF(Gifts!A$4:A$5000, Donors!A80,Gifts!B$4:B$5000)","v":0}]
[null,null,null,{"$f":"SUMIF(Gifts!A$4:A$5000, Donors!A81,Gifts!B$4:B$5000)","v":0}]
[null,null,null,{"$f":"SUMIF(Gifts!A$4:A$5000, Donors!A82,Gifts!B$4:B$5000)","v":0}]
[null,null,null,{"$f":"SUMIF(Gifts!A$4:A$5000, Donors!A83,Gifts!B$4:B$5000)","v":0}]
[null,null,null,{"$f":"SUMIF(Gifts!A$4:A$5000, Donors!A84,Gifts!B$4:B$5000)","v":0}]
[null,null,null,{"$f":"SUMIF(Gifts!A$4:A$5000, Donors!A85,Gifts!B$4:B$5000)","v":0}]
[null,null,null,{"$f":"SUMIF(Gifts!A$4:A$5000, Donors!A86,Gifts!B$4:B$5000)","v":0}]
[null,null,null,{"$f":"SUMIF(Gifts!A$4:A$5000, Donors!A87,Gifts!B$4:B$5000)","v":0}]
[null,null,null,{"$f":"SUMIF(Gifts!A$4:A$5000, Donors!A88,Gifts!B$4:B$5000)","v":0}]
[null,null,null,{"$f":"SUMIF(Gifts!A$4:A$5000, Donors!A89,Gifts!B$4:B$5000)","v":0}]
[null,null,null,{"$f":"SUMIF(Gifts!A$4:A$5000, Donors!A90,Gifts!B$4:B$5000)","v":0}]
[null,null,null,{"$f":"SUMIF(Gifts!A$4:A$5000, Donors!A91,Gifts!B$4:B$5000)","v":0}]
[null,null,null,{"$f":"SUMIF(Gifts!A$4:A$5000, Donors!A92,Gifts!B$4:B$5000)","v":0}]
[null,null,null,{"$f":"SUMIF(Gifts!A$4:A$5000, Donors!A93,Gifts!B$4:B$5000)","v":0}]
[null,null,null,{"$f":"SUMIF(Gifts!A$4:A$5000, Donors!A94,Gifts!B$4:B$5000)","v":0}]
[null,null,null,{"$f":"SUMIF(Gifts!A$4:A$5000, Donors!A95,Gifts!B$4:B$5000)","v":0}]
[null,null,null,{"$f":"SUMIF(Gifts!A$4:A$5000, Donors!A96,Gifts!B$4:B$5000)","v":0}]
[null,null,null,{"$f":"SUMIF(Gifts!A$4:A$5000, Donors!A97,Gifts!B$4:B$5000)","v":0}]
[null,null,null,{"$f":"SUMIF(Gifts!A$4:A$5000, Donors!A98,Gifts!B$4:B$5000)","v":0}]
[null,null,null,{"$f":"SUMIF(Gifts!A$4:A$5000, Donors!A99,Gifts!B$4:B$5000)","v":0}]
[null,null,null,{"$f":"SUMIF(Gifts!A$4:A$5000, Donors!A100,Gifts!B$4:B$5000)","v":0}]
[null,null,null,{"$f":"SUMIF(Gifts!A$4:A$5000, Donors!A101,Gifts!B$4:B$5000)","v":0}]
[null,null,null,{"$f":"SUMIF(Gifts!A$4:A$5000, Donors!A102,Gifts!B$4:B$5000)","v":0}]
[null,null,null,{"$f":"SUMIF(Gifts!A$4:A$5000, Donors!A103,Gifts!B$4:B$5000)","v":0}]
[null,null,null,{"$f":"SUMIF(Gifts!A$4:A$5000, Donors!A104,Gifts!B$4:B$5000)","v":0}]
[null,null,null,{"$f":"SUMIF(Gifts!A$4:A$5000, Donors!A105,Gifts!B$4:B$5000)","v":0}]
[null,null,null,{"$f":"SUMIF(Gifts!A$4:A$5000, Donors!A106,Gifts!B$4:B$5000)","v":0}]
[null,null,null,{"$f":"SUMIF(Gifts!A$4:A$5000, Donors!A107,Gifts!B$4:B$5000)","v":0}]
[null,null,null,{"$f":"SUMIF(Gifts!A$4:A$5000, Donors!A108,Gifts!B$4:B$5000)","v":0}]
[null,null,null,{"$f":"SUMIF(Gifts!A$4:A$5000, Donors!A109,Gifts!B$4:B$5000)","v":0}]
[null,null,null,{"$f":"SUMIF(Gifts!A$4:A$5000, Donors!A110,Gifts!B$4:B$5000)","v":0}]
[null,null,null,{"$f":"SUMIF(Gifts!A$4:A$5000, Donors!A111,Gifts!B$4:B$5000)","v":0}]
[null,null,null,{"$f":"SUMIF(Gifts!A$4:A$5000, Donors!A112,Gifts!B$4:B$5000)","v":0}]
[null,null,null,{"$f":"SUMIF(Gifts!A$4:A$5000, Donors!A113,Gifts!B$4:B$5000)","v":0}]
[null,null,null,{"$f":"SUMIF(Gifts!A$4:A$5000, Donors!A114,Gifts!B$4:B$5000)","v":0}]
[null,null,null,{"$f":"SUMIF(Gifts!A$4:A$5000, Donors!A115,Gifts!B$4:B$5000)","v":0}]
[null,null,null,{"$f":"SUMIF(Gifts!A$4:A$5000, Donors!A116,Gifts!B$4:B$5000)","v":0}]
[null,null,null,{"$f":"SUMIF(Gifts!A$4:A$5000, Donors!A117,Gifts!B$4:B$5000)","v":0}]
[null,null,null,{"$f":"SUMIF(Gifts!A$4:A$5000, Donors!A118,Gifts!B$4:B$5000)","v":0}]
[null,null,null,{"$f":"SUMIF(Gifts!A$4:A$5000, Donors!A119,Gifts!B$4:B$5000)","v":0}]
[null,null,null,{"$f":"SUMIF(Gifts!A$4:A$5000, Donors!A120,Gifts!B$4:B$5000)","v":0}]
[null,null,null,{"$f":"SUMIF(Gifts!A$4:A$5000, Donors!A121,Gifts!B$4:B$5000)","v":0}]
[null,null,null,{"$f":"SUMIF(Gifts!A$4:A$5000, Donors!A122,Gifts!B$4:B$5000)","v":0}]
[null,null,null,{"$f":"SUMIF(Gifts!A$4:A$5000, Donors!A123,Gifts!B$4:B$5000)","v":0}]
[null,null,null,{"$f":"SUMIF(Gifts!A$4:A$5000, Donors!A124,Gifts!B$4:B$5000)","v":0}]
[null,null,null,{"$f":"SUMIF(Gifts!A$4:A$5000, Donors!A125,Gifts!B$4:B$5000)","v":0}]
[null,null,null,{"$f":"SUMIF(Gifts!A$4:A$5000, Donors!A126,Gifts!B$4:B$5000)","v":0}]
[null,null,null,{"$f":"SUMIF(Gifts!A$4:A$5000, Donors!A127,Gifts!B$4:B$5000)","v":0}]
[null,null,null,{"$f":"SUMIF(Gifts!A$4:A$5000, Donors!A128,Gifts!B$4:B$5000)","v":0}]
[null,null,null,{"$f":"SUMIF(Gifts!A$4:A$5000, Donors!A129,Gifts!B$4:B$5000)","v":0}]
[null,null,null,{"$f":"SUMIF(Gifts!A$4:A$5000, Donors!A130,Gifts!B$4:B$5000)","v":0}]
[null,null,null,{"$f":"SUMIF(Gifts!A$4:A$5000, Donors!A131,Gifts!B$4:B$5000)","v":0}]
[null,null,null,{"$f":"SUMIF(Gifts!A$4:A$5000, Donors!A132,Gifts!B$4:B$5000)","v":0}]
[null,null,null,{"$f":"SUMIF(Gifts!A$4:A$5000, Donors!A133,Gifts!B$4:B$5000)","v":0}]
[null,null,null,{"$f":"SUMIF(Gifts!A$4:A$5000, Donors!A134,Gifts!B$4:B$5000)","v":0}]
[null,null,null,{"$f":"SUMIF(Gifts!A$4:A$5000, Donors!A135,Gifts!B$4:B$5000)","v":0}]
[null,null,null,{"$f":"SUMIF(Gifts!A$4:A$5000, Donors!A136,Gifts!B$4:B$5000)","v":0}]
[null,null,null,{"$f":"SUMIF(Gifts!A$4:A$5000, Donors!A137,Gifts!B$4:B$5000)","v":0}]
[null,null,null,{"$f":"SUMIF(Gifts!A$4:A$5000, Donors!A138,Gifts!B$4:B$5000)","v":0}]
[null,null,null,{"$f":"SUMIF(Gifts!A$4:A$5000, Donors!A139,Gifts!B$4:B$5000)","v":0}]
[null,null,null,{"$f":"SUMIF(Gifts!A$4:A$5000, Donors!A140,Gifts!B$4:B$5000)","v":0}]
[null,null,null,{"$f":"SUMIF(Gifts!A$4:A$5000, Donors!A141,Gifts!B$4:B$5000)","v":0}]
[null,null,null,{"$f":"SUMIF(Gifts!A$4:A$5000, Donors!A142,Gifts!B$4:B$5000)","v":0}]
[null,null,null,{"$f":"SUMIF(Gifts!A$4:A$5000, Donors!A143,Gifts!B$4:B$5000)","v":0}]
[null,null,null,{"$f":"SUMIF(Gifts!A$4:A$5000, Donors!A144,Gifts!B$4:B$5000)","v":0}]
[null,null,null,{"$f":"SUMIF(Gifts!A$4:A$5000, Donors!A145,Gifts!B$4:B$5000)","v":0}]
[null,null,null,{"$f":"SUMIF(Gifts!A$4:A$5000, Donors!A146,Gifts!B$4:B$5000)","v":0}]
[null,null,null,{"$f":"SUMIF(Gifts!A$4:A$5000, Donors!A147,Gifts!B$4:B$5000)","v":0}]
[null,null,null,{"$f":"SUMIF(Gifts!A$4:A$5000, Donors!A148,Gifts!B$4:B$5000)","v":0}]
[null,null,null,{"$f":"SUMIF(Gifts!A$4:A$5000, Donors!A149,Gifts!B$4:B$5000)","v":0}]
[null,null,null,{"$f":"SUMIF(Gifts!A$4:A$5000, Donors!A150,Gifts!B$4:B$5000)","v":0}]
[null,null,null,{"$f":"SUMIF(Gifts!A$4:A$5000, Donors!A151,Gifts!B$4:B$5000)","v":0}]
[null,null,null,{"$f":"SUMIF(Gifts!A$4:A$5000, Donors!A152,Gifts!B$4:B$5000)","v":0}]
[null,null,null,{"$f":"SUMIF(Gifts!A$4:A$5000, Donors!A153,Gifts!B$4:B$5000)","v":0}]
[null,null,null,{"$f":"SUMIF(Gifts!A$4:A$5000, Donors!A154,Gifts!B$4:B$5000)","v":0}]
[null,null,null,{"$f":"SUMIF(Gifts!A$4:A$5000, Donors!A155,Gifts!B$4:B$5000)","v":0}]
[null,null,null,{"$f":"SUMIF(Gifts!A$4:A$5000, Donors!A156,Gifts!B$4:B$5000)","v":0}]
[null,null,null,{"$f":"SUMIF(Gifts!A$4:A$5000, Donors!A157,Gifts!B$4:B$5000)","v":0}]
[null,null,null,{"$f":"SUMIF(Gifts!A$4:A$5000, Donors!A158,Gifts!B$4:B$5000)","v":0}]
[null,null,null,{"$f":"SUMIF(Gifts!A$4:A$5000, Donors!A159,Gifts!B$4:B$5000)","v":0}]
[null,null,null,{"$f":"SUMIF(Gifts!A$4:A$5000, Donors!A160,Gifts!B$4:B$5000)","v":0}]
[null,null,null,{"$f":"SUMIF(Gifts!A$4:A$5000, Donors!A161,Gifts!B$4:B$5000)","v":0}]
[null,null,null,{"$f":"SUMIF(Gifts!A$4:A$5000, Donors!A162,Gifts!B$4:B$5000)","v":0}]
[null,null,null,{"$f":"SUMIF(Gifts!A$4:A$5000, Donors!A163,Gifts!B$4:B$5000)","v":0}]
[null,null,null,{"$f":"SUMIF(Gifts!A$4:A$5000, Donors!A164,Gifts!B$4:B$5000)","v":0}]
[null,null,null,{"$f":"SUMIF(Gifts!A$4:A$5000, Donors!A165,Gifts!B$4:B$5000)","v":0}]
[null,null,null,{"$f":"SUMIF(Gifts!A$4:A$5000, Donors!A166,Gifts!B$4:B$5000)","v":0}]
[null,null,null,{"$f":"SUMIF(Gifts!A$4:A$5000, Donors!A167,Gifts!B$4:B$5000)","v":0}]
[null,null,null,{"$f":"SUMIF(Gifts!A$4:A$5000, Donors!A168,Gifts!B$4:B$5000)","v":0}]
[null,null,null,{"$f":"SUMIF(Gifts!A$4:A$5000, Donors!A169,Gifts!B$4:B$5000)","v":0}]
[null,null,null,{"$f":"SUMIF(Gifts!A$4:A$5000, Donors!A170,Gifts!B$4:B$5000)","v":0}]
[null,null,null,{"$f":"SUMIF(Gifts!A$4:A$5000, Donors!A171,Gifts!B$4:B$5000)","v":0}]
[null,null,null,{"$f":"SUMIF(Gifts!A$4:A$5000, Donors!A172,Gifts!B$4:B$5000)","v":0}]
[null,null,null,{"$f":"SUMIF(Gifts!A$4:A$5000, Donors!A173,Gifts!B$4:B$5000)","v":0}]
[null,null,null,{"$f":"SUMIF(Gifts!A$4:A$5000, Donors!A174,Gifts!B$4:B$5000)","v":0}]
[null,null,null,{"$f":"SUMIF(Gifts!A$4:A$5000, Donors!A175,Gifts!B$4:B$5000)","v":0}]
[null,null,null,{"$f":"SUMIF(Gifts!A$4:A$5000, Donors!A176,Gifts!B$4:B$5000)","v":0}]
[null,null,null,{"$f":"SUMIF(Gifts!A$4:A$5000, Donors!A177,Gifts!B$4:B$5000)","v":0}]
[null,null,null,{"$f":"SUMIF(Gifts!A$4:A$5000, Donors!A178,Gifts!B$4:B$5000)","v":0}]
[null,null,null,{"$f":"SUMIF(Gifts!A$4:A$5000, Donors!A179,Gifts!B$4:B$5000)","v":0}]
[null,null,null,{"$f":"SUMIF(Gifts!A$4:A$5000, Donors!A180,Gifts!B$4:B$5000)","v":0}]
[null,null,null,{"$f":"SUMIF(Gifts!A$4:A$5000, Donors!A181,Gifts!B$4:B$5000)","v":0}]
[null,null,null,{"$f":"SUMIF(Gifts!A$4:A$5000, Donors!A182,Gifts!B$4:B$5000)","v":0}]
[null,null,null,{"$f":"SUMIF(Gifts!A$4:A$5000, Donors!A183,Gifts!B$4:B$5000)","v":0}]
[null,null,null,{"$f":"SUMIF(Gifts!A$4:A$5000, Donors!A184,Gifts!B$4:B$5000)","v":0}]
[null,null,null,{"$f":"SUMIF(Gifts!A$4:A$5000, Donors!A185,Gifts!B$4:B$5000)","v":0}]
[null,null,null,{"$f":"SUMIF(Gifts!A$4:A$5000, Donors!A186,Gifts!B$4:B$5000)","v":0}]
[null,null,null,{"$f":"SUMIF(Gifts!A$4:A$5000, Donors!A187,Gifts!B$4:B$5000)","v":0}]
[null,null,null,{"$f":"SUMIF(Gifts!A$4:A$5000, Donors!A188,Gifts!B$4:B$5000)","v":0}]
[null,null,null,{"$f":"SUMIF(Gifts!A$4:A$5000, Donors!A189,Gifts!B$4:B$5000)","v":0}]
[null,null,null,{"$f":"SUMIF(Gifts!A$4:A$5000, Donors!A190,Gifts!B$4:B$5000)","v":0}]
[null,null,null,{"$f":"SUMIF(Gifts!A$4:A$5000, Donors!A191,Gifts!B$4:B$5000)","v":0}]
[null,null,null,{"$f":"SUMIF(Gifts!A$4:A$5000, Donors!A192,Gifts!B$4:B$5000)","v":0}]
[null,null,null,{"$f":"SUMIF(Gifts!A$4:A$5000, Donors!A193,Gifts!B$4:B$5000)","v":0}]
[null,null,null,{"$f":"SUMIF(Gifts!A$4:A$5000, Donors!A194,Gifts!B$4:B$5000)","v":0}]
[null,null,null,{"$f":"SUMIF(Gifts!A$4:A$5000, Donors!A195,Gifts!B$4:B$5000)","v":0}]
[null,null,null,{"$f":"SUMIF(Gifts!A$4:A$5000, Donors!A196,Gifts!B$4:B$5000)","v":0}]
[null,null,null,{"$f":"SUMIF(Gifts!A$4:A$5000, Donors!A197,Gifts!B$4:B$5000)","v":0}]
[null,null,null,{"$f":"SUMIF(Gifts!A$4:A$5000, Donors!A198,Gifts!B$4:B$5000)","v":0}]
[null,null,null,{"$f":"SUMIF(Gifts!A$4:A$5000, Donors!A199,Gifts!B$4:B$5000)","v":0}]
[null,null,null,{"$f":"SUMIF(Gifts!A$4:A$5000, Donors!A200,Gifts!B$4:B$5000)","v":0}]
[null,null,null,{"$f":"SUMIF(Gifts!A$4:A$5000, Donors!A201,Gifts!B$4:B$5000)","v":0}]
[null,null,null,{"$f":"SUMIF(Gifts!A$4:A$5000, Donors!A202,Gifts!B$4:B$5000)","v":0}]
[null,null,null,{"$f":"SUMIF(Gifts!A$4:A$5000, Donors!A203,Gifts!B$4:B$5000)","v":0}]
[null,null,null,{"$f":"SUMIF(Gifts!A$4:A$5000, Donors!A204,Gifts!B$4:B$5000)","v":0}]
[null,null,null,{"$f":"SUMIF(Gifts!A$4:A$5000, Donors!A205,Gifts!B$4:B$5000)","v":0}]
[null,null,null,{"$f":"SUMIF(Gifts!A$4:A$5000, Donors!A206,Gifts!B$4:B$5000)","v":0}]
[null,null,null,{"$f":"SUMIF(Gifts!A$4:A$5000, Donors!A207,Gifts!B$4:B$5000)","v":0}]
[null,null,null,{"$f":"SUMIF(Gifts!A$4:A$5000, Donors!A208,Gifts!B$4:B$5000)","v":0}]
[null,null,null,{"$f":"SUMIF(Gifts!A$4:A$5000, Donors!A209,Gifts!B$4:B$5000)","v":0}]
[null,null,null,{"$f":"SUMIF(Gifts!A$4:A$5000, Donors!A210,Gifts!B$4:B$5000)","v":0}]
[null,null,null,{"$f":"SUMIF(Gifts!A$4:A$5000, Donors!A211,Gifts!B$4:B$5000)","v":0}]
[null,null,null,{"$f":"SUMIF(Gifts!A$4:A$5000, Donors!A212,Gifts!B$4:B$5000)","v":0}]
[null,null,null,{"$f":"SUMIF(Gifts!A$4:A$5000, Donors!A213,Gifts!B$4:B$5000)","v":0}]
[null,null,null,{"$f":"SUMIF(Gifts!A$4:A$5000, Donors!A214,Gifts!B$4:B$5000)","v":0}]
[null,null,null,{"$f":"SUMIF(Gifts!A$4:A$5000, Donors!A215,Gifts!B$4:B$5000)","v":0}]
[null,null,null,{"$f":"SUMIF(Gifts!A$4:A$5000, Donors!A216,Gifts!B$4:B$5000)","v":0}]
[null,null,null,{"$f":"SUMIF(Gifts!A$4:A$5000, Donors!A217,Gifts!B$4:B$5000)","v":0}]
[null,null,null,{"$f":"SUMIF(Gifts!A$4:A$5000, Donors!A218,Gifts!B$4:B$5000)","v":0}]
[null,null,null,{"$f":"SUMIF(Gifts!A$4:A$5000, Donors!A219,Gifts!B$4:B$5000)","v":0}]
[null,null,null,{"$f":"SUMIF(Gifts!A$4:A$5000, Donors!A220,Gifts!B$4:B$5000)","v":0}]
[null,null,null,{"$f":"SUMIF(Gifts!A$4:A$5000, Donors!A221,Gifts!B$4:B$5000)","v":0}]
[null,null,null,{"$f":"SUMIF(Gifts!A$4:A$5000, Donors!A222,Gifts!B$4:B$5000)","v":0}]
[null,null,null,{"$f":"SUMIF(Gifts!A$4:A$5000, Donors!A223,Gifts!B$4:B$5000)","v":0}]
[null,null,null,{"$f":"SUMIF(Gifts!A$4:A$5000, Donors!A224,Gifts!B$4:B$5000)","v":0}]
[null,null,null,{"$f":"SUMIF(Gifts!A$4:A$5000, Donors!A225,Gifts!B$4:B$5000)","v":0}]
[null,null,null,{"$f":"SUMIF(Gifts!A$4:A$5000, Donors!A226,Gifts!B$4:B$5000)","v":0}]
[null,null,null,{"$f":"SUMIF(Gifts!A$4:A$5000, Donors!A227,Gifts!B$4:B$5000)","v":0}]
[null,null,null,{"$f":"SUMIF(Gifts!A$4:A$5000, Donors!A228,Gifts!B$4:B$5000)","v":0}]
[null,null,null,{"$f":"SUMIF(Gifts!A$4:A$5000, Donors!A229,Gifts!B$4:B$5000)","v":0}]
[null,null,null,{"$f":"SUMIF(Gifts!A$4:A$5000, Donors!A230,Gifts!B$4:B$5000)","v":0}]
[null,null,null,{"$f":"SUMIF(Gifts!A$4:A$5000, Donors!A231,Gifts!B$4:B$5000)","v":0}]
[null,null,null,{"$f":"SUMIF(Gifts!A$4:A$5000, Donors!A232,Gifts!B$4:B$5000)","v":0}]
[null,null,null,{"$f":"SUMIF(Gifts!A$4:A$5000, Donors!A233,Gifts!B$4:B$5000)","v":0}]
[null,null,null,{"$f":"SUMIF(Gifts!A$4:A$5000, Donors!A234,Gifts!B$4:B$5000)","v":0}]
[null,null,null,{"$f":"SUMIF(Gifts!A$4:A$5000, Donors!A235,Gifts!B$4:B$5000)","v":0}]
[null,null,null,{"$f":"SUMIF(Gifts!A$4:A$5000, Donors!A236,Gifts!B$4:B$5000)","v":0}]
[null,null,null,{"$f":"SUMIF(Gifts!A$4:A$5000, Donors!A237,Gifts!B$4:B$5000)","v":0}]
[null,null,null,{"$f":"SUMIF(Gifts!A$4:A$5000, Donors!A238,Gifts!B$4:B$5000)","v":0}]
[null,null,null,{"$f":"SUMIF(Gifts!A$4:A$5000, Donors!A239,Gifts!B$4:B$5000)","v":0}]
[null,null,null,{"$f":"SUMIF(Gifts!A$4:A$5000, Donors!A240,Gifts!B$4:B$5000)","v":0}]
[null,null,null,{"$f":"SUMIF(Gifts!A$4:A$5000, Donors!A241,Gifts!B$4:B$5000)","v":0}]
[null,null,null,{"$f":"SUMIF(Gifts!A$4:A$5000, Donors!A242,Gifts!B$4:B$5000)","v":0}]
[null,null,null,{"$f":"SUMIF(Gifts!A$4:A$5000, Donors!A243,Gifts!B$4:B$5000)","v":0}]
[null,null,null,{"$f":"SUMIF(Gifts!A$4:A$5000, Donors!A244,Gifts!B$4:B$5000)","v":0}]
[null,null,null,{"$f":"SUMIF(Gifts!A$4:A$5000, Donors!A245,Gifts!B$4:B$5000)","v":0}]
[null,null,null,{"$f":"SUMIF(Gifts!A$4:A$5000, Donors!A246,Gifts!B$4:B$5000)","v":0}]
[null,null,null,{"$f":"SUMIF(Gifts!A$4:A$5000, Donors!A247,Gifts!B$4:B$5000)","v":0}]
[null,null,null,{"$f":"SUMIF(Gifts!A$4:A$5000, Donors!A248,Gifts!B$4:B$5000)","v":0}]
[null,null,null,{"$f":"SUMIF(Gifts!A$4:A$5000, Donors!A249,Gifts!B$4:B$5000)","v":0}]
[null,null,null,{"$f":"SUMIF(Gifts!A$4:A$5000, Donors!A250,Gifts!B$4:B$5000)","v":0}]
[null,null,null,{"$f":"SUMIF(Gifts!A$4:A$5000, Donors!A251,Gifts!B$4:B$5000)","v":0}]
[null,null,null,{"$f":"SUMIF(Gifts!A$4:A$5000, Donors!A252,Gifts!B$4:B$5000)","v":0}]
[null,null,null,{"$f":"SUMIF(Gifts!A$4:A$5000, Donors!A253,Gifts!B$4:B$5000)","v":0}]
[null,null,null,{"$f":"SUMIF(Gifts!A$4:A$5000, Donors!A254,Gifts!B$4:B$5000)","v":0}]
[null,null,null,{"$f":"SUMIF(Gifts!A$4:A$5000, Donors!A255,Gifts!B$4:B$5000)","v":0}]
[null,null,null,{"$f":"SUMIF(Gifts!A$4:A$5000, Donors!A256,Gifts!B$4:B$5000)","v":0}]
[null,null,null,{"$f":"SUMIF(Gifts!A$4:A$5000, Donors!A257,Gifts!B$4:B$5000)","v":0}]
[null,null,null,{"$f":"SUMIF(Gifts!A$4:A$5000, Donors!A258,Gifts!B$4:B$5000)","v":0}]
[null,null,null,{"$f":"SUMIF(Gifts!A$4:A$5000, Donors!A259,Gifts!B$4:B$5000)","v":0}]
[null,null,null,{"$f":"SUMIF(Gifts!A$4:A$5000, Donors!A260,Gifts!B$4:B$5000)","v":0}]
[null,null,null,{"$f":"SUMIF(Gifts!A$4:A$5000, Donors!A261,Gifts!B$4:B$5000)","v":0}]
[null,null,null,{"$f":"SUMIF(Gifts!A$4:A$5000, Donors!A262,Gifts!B$4:B$5000)","v":0}]
[null,null,null,{"$f":"SUMIF(Gifts!A$4:A$5000, Donors!A263,Gifts!B$4:B$5000)","v":0}]
[null,null,null,{"$f":"SUMIF(Gifts!A$4:A$5000, Donors!A264,Gifts!B$4:B$5000)","v":0}]
[null,null,null,{"$f":"SUMIF(Gifts!A$4:A$5000, Donors!A265,Gifts!B$4:B$5000)","v":0}]
[null,null,null,{"$f":"SUMIF(Gifts!A$4:A$5000, Donors!A266,Gifts!B$4:B$5000)","v":0}]
[null,null,null,{"$f":"SUMIF(Gifts!A$4:A$5000, Donors!A267,Gifts!B$4:B$5000)","v":0}]
[null,null,null,{"$f":"SUMIF(Gifts!A$4:A$5000, Donors!A268,Gifts!B$4:B$5000)","v":0}]
[null,null,null,{"$f":"SUMIF(Gifts!A$4:A$5000, Donors!A269,Gifts!B$4:B$5000)","v":0}]
[null,null,null,{"$f":"SUMIF(Gifts!A$4:A$5000, Donors!A270,Gifts!B$4:B$5000)","v":0}]
[null,null,null,{"$f":"SUMIF(Gifts!A$4:A$5000, Donors!A271,Gifts!B$4:B$5000)","v":0}]
[null,null,null,{"$f":"SUMIF(Gifts!A$4:A$5000, Donors!A272,Gifts!B$4:B$5000)","v":0}]
[null,null,null,{"$f":"SUMIF(Gifts!A$4:A$5000, Donors!A273,Gifts!B$4:B$5000)","v":0}]
[null,null,null,{"$f":"SUMIF(Gifts!A$4:A$5000, Donors!A274,Gifts!B$4:B$5000)","v":0}]
[null,null,null,{"$f":"SUMIF(Gifts!A$4:A$5000, Donors!A275,Gifts!B$4:B$5000)","v":0}]
[null,null,null,{"$f":"SUMIF(Gifts!A$4:A$5000, Donors!A276,Gifts!B$4:B$5000)","v":0}]
[null,null,null,{"$f":"SUMIF(Gifts!A$4:A$5000, Donors!A277,Gifts!B$4:B$5000)","v":0}]
[null,null,null,{"$f":"SUMIF(Gifts!A$4:A$5000, Donors!A278,Gifts!B$4:B$5000)","v":0}]
[null,null,null,{"$f":"SUMIF(Gifts!A$4:A$5000, Donors!A279,Gifts!B$4:B$5000)","v":0}]
[null,null,null,{"$f":"SUMIF(Gifts!A$4:A$5000, Donors!A280,Gifts!B$4:B$5000)","v":0}]
[null,null,null,{"$f":"SUMIF(Gifts!A$4:A$5000, Donors!A281,Gifts!B$4:B$5000)","v":0}]
[null,null,null,{"$f":"SUMIF(Gifts!A$4:A$5000, Donors!A282,Gifts!B$4:B$5000)","v":0}]
[null,null,null,{"$f":"SUMIF(Gifts!A$4:A$5000, Donors!A283,Gifts!B$4:B$5000)","v":0}]
[null,null,null,{"$f":"SUMIF(Gifts!A$4:A$5000, Donors!A284,Gifts!B$4:B$5000)","v":0}]
[null,null,null,{"$f":"SUMIF(Gifts!A$4:A$5000, Donors!A285,Gifts!B$4:B$5000)","v":0}]
[null,null,null,{"$f":"SUMIF(Gifts!A$4:A$5000, Donors!A286,Gifts!B$4:B$5000)","v":0}]
[null,null,null,{"$f":"SUMIF(Gifts!A$4:A$5000, Donors!A287,Gifts!B$4:B$5000)","v":0}]
[null,null,null,{"$f":"SUMIF(Gifts!A$4:A$5000, Donors!A288,Gifts!B$4:B$5000)","v":0}]
[null,null,null,{"$f":"SUMIF(Gifts!A$4:A$5000, Donors!A289,Gifts!B$4:B$5000)","v":0}]
[null,null,null,{"$f":"SUMIF(Gifts!A$4:A$5000, Donors!A290,Gifts!B$4:B$5000)","v":0}]
[null,null,null,{"$f":"SUMIF(Gifts!A$4:A$5000, Donors!A291,Gifts!B$4:B$5000)","v":0}]
[null,null,null,{"$f":"SUMIF(Gifts!A$4:A$5000, Donors!A292,Gifts!B$4:B$5000)","v":0}]
[null,null,null,{"$f":"SUMIF(Gifts!A$4:A$5000, Donors!A293,Gifts!B$4:B$5000)","v":0}]
[null,null,null,{"$f":"SUMIF(Gifts!A$4:A$5000, Donors!A294,Gifts!B$4:B$5000)","v":0}]
[null,null,null,{"$f":"SUMIF(Gifts!A$4:A$5000, Donors!A295,Gifts!B$4:B$5000)","v":0}]
[null,null,null,{"$f":"SUMIF(Gifts!A$4:A$5000, Donors!A296,Gifts!B$4:B$5000)","v":0}]
[null,null,null,{"$f":"SUMIF(Gifts!A$4:A$5000, Donors!A297,Gifts!B$4:B$5000)","v":0}]
[null,null,null,{"$f":"SUMIF(Gifts!A$4:A$5000, Donors!A298,Gifts!B$4:B$5000)","v":0}]
[null,null,null,{"$f":"SUMIF(Gifts!A$4:A$5000, Donors!A299,Gifts!B$4:B$5000)","v":0}]
[null,null,null,{"$f":"SUMIF(Gifts!A$4:A$5000, Donors!A300,Gifts!B$4:B$5000)","v":0}]
[null,null,null,{"$f":"SUMIF(Gifts!A$4:A$5000, Donors!A301,Gifts!B$4:B$5000)","v":0}]
[null,null,null,{"$f":"SUMIF(Gifts!A$4:A$5000, Donors!A302,Gifts!B$4:B$5000)","v":0}]
[null,null,null,{"$f":"SUMIF(Gifts!A$4:A$5000, Donors!A303,Gifts!B$4:B$5000)","v":0}]
[null,null,null,{"$f":"SUMIF(Gifts!A$4:A$5000, Donors!A304,Gifts!B$4:B$5000)","v":0}]
[null,null,null,{"$f":"SUMIF(Gifts!A$4:A$5000, Donors!A305,Gifts!B$4:B$5000)","v":0}]
[null,null,null,{"$f":"SUMIF(Gifts!A$4:A$5000, Donors!A306,Gifts!B$4:B$5000)","v":0}]
[null,null,null,{"$f":"SUMIF(Gifts!A$4:A$5000, Donors!A307,Gifts!B$4:B$5000)","v":0}]
[null,null,null,{"$f":"SUMIF(Gifts!A$4:A$5000, Donors!A308,Gifts!B$4:B$5000)","v":0}]
[null,null,null,{"$f":"SUMIF(Gifts!A$4:A$5000, Donors!A309,Gifts!B$4:B$5000)","v":0}]
[null,null,null,{"$f":"SUMIF(Gifts!A$4:A$5000, Donors!A310,Gifts!B$4:B$5000)","v":0}]
[null,null,null,{"$f":"SUMIF(Gifts!A$4:A$5000, Donors!A311,Gifts!B$4:B$5000)","v":0}]
[null,null,null,{"$f":"SUMIF(Gifts!A$4:A$5000, Donors!A312,Gifts!B$4:B$5000)","v":0}]
[null,null,null,{"$f":"SUMIF(Gifts!A$4:A$5000, Donors!A313,Gifts!B$4:B$5000)","v":0}]
[null,null,null,{"$f":"SUMIF(Gifts!A$4:A$5000, Donors!A314,Gifts!B$4:B$5000)","v":0}]
[null,null,null,{"$f":"SUMIF(Gifts!A$4:A$5000, Donors!A315,Gifts!B$4:B$5000)","v":0}]
[null,null,null,{"$f":"SUMIF(Gifts!A$4:A$5000, Donors!A316,Gifts!B$4:B$5000)","v":0}]
[null,null,null,{"$f":"SUMIF(Gifts!A$4:A$5000, Donors!A317,Gifts!B$4:B$5000)","v":0}]
[null,null,null,{"$f":"SUMIF(Gifts!A$4:A$5000, Donors!A318,Gifts!B$4:B$5000)","v":0}]
[null,null,null,{"$f":"SUMIF(Gifts!A$4:A$5000, Donors!A319,Gifts!B$4:B$5000)","v":0}]
[null,null,null,{"$f":"SUMIF(Gifts!A$4:A$5000, Donors!A320,Gifts!B$4:B$5000)","v":0}]
[null,null,null,{"$f":"SUMIF(Gifts!A$4:A$5000, Donors!A321,Gifts!B$4:B$5000)","v":0}]
[null,null,null,{"$f":"SUMIF(Gifts!A$4:A$5000, Donors!A322,Gifts!B$4:B$5000)","v":0}]
[null,null,null,{"$f":"SUMIF(Gifts!A$4:A$5000, Donors!A323,Gifts!B$4:B$5000)","v":0}]
[null,null,null,{"$f":"SUMIF(Gifts!A$4:A$5000, Donors!A324,Gifts!B$4:B$5000)","v":0}]
[null,null,null,{"$f":"SUMIF(Gifts!A$4:A$5000, Donors!A325,Gifts!B$4:B$5000)","v":0}]
[null,null,null,{"$f":"SUMIF(Gifts!A$4:A$5000, Donors!A326,Gifts!B$4:B$5000)","v":0}]
[null,null,null,{"$f":"SUMIF(Gifts!A$4:A$5000, Donors!A327,Gifts!B$4:B$5000)","v":0}]
[null,null,null,{"$f":"SUMIF(Gifts!A$4:A$5000, Donors!A328,Gifts!B$4:B$5000)","v":0}]
[null,null,null,{"$f":"SUMIF(Gifts!A$4:A$5000, Donors!A329,Gifts!B$4:B$5000)","v":0}]
[null,null,null,{"$f":"SUMIF(Gifts!A$4:A$5000, Donors!A330,Gifts!B$4:B$5000)","v":0}]
[null,null,null,{"$f":"SUMIF(Gifts!A$4:A$5000, Donors!A331,Gifts!B$4:B$5000)","v":0}]
[null,null,null,{"$f":"SUMIF(Gifts!A$4:A$5000, Donors!A332,Gifts!B$4:B$5000)","v":0}]
[null,null,null,{"$f":"SUMIF(Gifts!A$4:A$5000, Donors!A333,Gifts!B$4:B$5000)","v":0}]
[null,null,null,{"$f":"SUMIF(Gifts!A$4:A$5000, Donors!A334,Gifts!B$4:B$5000)","v":0}]
[null,null,null,{"$f":"SUMIF(Gifts!A$4:A$5000, Donors!A335,Gifts!B$4:B$5000)","v":0}]
[null,null,null,{"$f":"SUMIF(Gifts!A$4:A$5000, Donors!A336,Gifts!B$4:B$5000)","v":0}]
[null,null,null,{"$f":"SUMIF(Gifts!A$4:A$5000, Donors!A337,Gifts!B$4:B$5000)","v":0}]
[null,null,null,{"$f":"SUMIF(Gifts!A$4:A$5000, Donors!A338,Gifts!B$4:B$5000)","v":0}]
[null,null,null,{"$f":"SUMIF(Gifts!A$4:A$5000, Donors!A339,Gifts!B$4:B$5000)","v":0}]
[null,null,null,{"$f":"SUMIF(Gifts!A$4:A$5000, Donors!A340,Gifts!B$4:B$5000)","v":0}]
[null,null,null,{"$f":"SUMIF(Gifts!A$4:A$5000, Donors!A341,Gifts!B$4:B$5000)","v":0}]
[null,null,null,{"$f":"SUMIF(Gifts!A$4:A$5000, Donors!A342,Gifts!B$4:B$5000)","v":0}]
[null,null,null,{"$f":"SUMIF(Gifts!A$4:A$5000, Donors!A343,Gifts!B$4:B$5000)","v":0}]
[null,null,null,{"$f":"SUMIF(Gifts!A$4:A$5000, Donors!A344,Gifts!B$4:B$5000)","v":0}]
[null,null,null,{"$f":"SUMIF(Gifts!A$4:A$5000, Donors!A345,Gifts!B$4:B$5000)","v":0}]
[null,null,null,{"$f":"SUMIF(Gifts!A$4:A$5000, Donors!A346,Gifts!B$4:B$5000)","v":0}]
[null,null,null,{"$f":"SUMIF(Gifts!A$4:A$5000, Donors!A347,Gifts!B$4:B$5000)","v":0}]
[null,null,null,{"$f":"SUMIF(Gifts!A$4:A$5000, Donors!A348,Gifts!B$4:B$5000)","v":0}]
[null,null,null,{"$f":"SUMIF(Gifts!A$4:A$5000, Donors!A349,Gifts!B$4:B$5000)","v":0}]
[null,null,null,{"$f":"SUMIF(Gifts!A$4:A$5000, Donors!A350,Gifts!B$4:B$5000)","v":0}]
[null,null,null,{"$f":"SUMIF(Gifts!A$4:A$5000, Donors!A351,Gifts!B$4:B$5000)","v":0}]
[null,null,null,{"$f":"SUMIF(Gifts!A$4:A$5000, Donors!A352,Gifts!B$4:B$5000)","v":0}]
[null,null,null,{"$f":"SUMIF(Gifts!A$4:A$5000, Donors!A353,Gifts!B$4:B$5000)","v":0}]
[null,null,null,{"$f":"SUMIF(Gifts!A$4:A$5000, Donors!A354,Gifts!B$4:B$5000)","v":0}]
[null,null,null,{"$f":"SUMIF(Gifts!A$4:A$5000, Donors!A355,Gifts!B$4:B$5000)","v":0}]
[null,null,null,{"$f":"SUMIF(Gifts!A$4:A$5000, Donors!A356,Gifts!B$4:B$5000)","v":0}]
[null,null,null,{"$f":"SUMIF(Gifts!A$4:A$5000, Donors!A357,Gifts!B$4:B$5000)","v":0}]
[null,null,null,{"$f":"SUMIF(Gifts!A$4:A$5000, Donors!A358,Gifts!B$4:B$5000)","v":0}]
[null,null,null,{"$f":"SUMIF(Gifts!A$4:A$5000, Donors!A359,Gifts!B$4:B$5000)","v":0}]
[null,null,null,{"$f":"SUMIF(Gifts!A$4:A$5000, Donors!A360,Gifts!B$4:B$5000)","v":0}]
[null,null,null,{"$f":"SUMIF(Gifts!A$4:A$5000, Donors!A361,Gifts!B$4:B$5000)","v":0}]
[null,null,null,{"$f":"SUMIF(Gifts!A$4:A$5000, Donors!A362,Gifts!B$4:B$5000)","v":0}]
[null,null,null,{"$f":"SUMIF(Gifts!A$4:A$5000, Donors!A363,Gifts!B$4:B$5000)","v":0}]
[null,null,null,{"$f":"SUMIF(Gifts!A$4:A$5000, Donors!A364,Gifts!B$4:B$5000)","v":0}]
[null,null,null,{"$f":"SUMIF(Gifts!A$4:A$5000, Donors!A365,Gifts!B$4:B$5000)","v":0}]
[null,null,null,{"$f":"SUMIF(Gifts!A$4:A$5000, Donors!A366,Gifts!B$4:B$5000)","v":0}]
[null,null,null,{"$f":"SUMIF(Gifts!A$4:A$5000, Donors!A367,Gifts!B$4:B$5000)","v":0}]
[null,null,null,{"$f":"SUMIF(Gifts!A$4:A$5000, Donors!A368,Gifts!B$4:B$5000)","v":0}]
[null,null,null,{"$f":"SUMIF(Gifts!A$4:A$5000, Donors!A369,Gifts!B$4:B$5000)","v":0}]
[null,null,null,{"$f":"SUMIF(Gifts!A$4:A$5000, Donors!A370,Gifts!B$4:B$5000)","v":0}]
[null,null,null,{"$f":"SUMIF(Gifts!A$4:A$5000, Donors!A371,Gifts!B$4:B$5000)","v":0}]
[null,null,null,{"$f":"SUMIF(Gifts!A$4:A$5000, Donors!A372,Gifts!B$4:B$5000)","v":0}]
[null,null,null,{"$f":"SUMIF(Gifts!A$4:A$5000, Donors!A373,Gifts!B$4:B$5000)","v":0}]
[null,null,null,{"$f":"SUMIF(Gifts!A$4:A$5000, Donors!A374,Gifts!B$4:B$5000)","v":0}]
[null,null,null,{"$f":"SUMIF(Gifts!A$4:A$5000, Donors!A375,Gifts!B$4:B$5000)","v":0}]
[null,null,null,{"$f":"SUMIF(Gifts!A$4:A$5000, Donors!A376,Gifts!B$4:B$5000)","v":0}]
[null,null,null,{"$f":"SUMIF(Gifts!A$4:A$5000, Donors!A377,Gifts!B$4:B$5000)","v":0}]
[null,null,null,{"$f":"SUMIF(Gifts!A$4:A$5000, Donors!A378,Gifts!B$4:B$5000)","v":0}]
[null,null,null,{"$f":"SUMIF(Gifts!A$4:A$5000, Donors!A379,Gifts!B$4:B$5000)","v":0}]
[null,null,null,{"$f":"SUMIF(Gifts!A$4:A$5000, Donors!A380,Gifts!B$4:B$5000)","v":0}]
[null,null,null,{"$f":"SUMIF(Gifts!A$4:A$5000, Donors!A381,Gifts!B$4:B$5000)","v":0}]
[null,null,null,{"$f":"SUMIF(Gifts!A$4:A$5000, Donors!A382,Gifts!B$4:B$5000)","v":0}]
[null,null,null,{"$f":"SUMIF(Gifts!A$4:A$5000, Donors!A383,Gifts!B$4:B$5000)","v":0}]
[null,null,null,{"$f":"SUMIF(Gifts!A$4:A$5000, Donors!A384,Gifts!B$4:B$5000)","v":0}]
[null,null,null,{"$f":"SUMIF(Gifts!A$4:A$5000, Donors!A385,Gifts!B$4:B$5000)","v":0}]
[null,null,null,{"$f":"SUMIF(Gifts!A$4:A$5000, Donors!A386,Gifts!B$4:B$5000)","v":0}]
[null,null,null,{"$f":"SUMIF(Gifts!A$4:A$5000, Donors!A387,Gifts!B$4:B$5000)","v":0}]
[null,null,null,{"$f":"SUMIF(Gifts!A$4:A$5000, Donors!A388,Gifts!B$4:B$5000)","v":0}]
[null,null,null,{"$f":"SUMIF(Gifts!A$4:A$5000, Donors!A389,Gifts!B$4:B$5000)","v":0}]
[null,null,null,{"$f":"SUMIF(Gifts!A$4:A$5000, Donors!A390,Gifts!B$4:B$5000)","v":0}]
[null,null,null,{"$f":"SUMIF(Gifts!A$4:A$5000, Donors!A391,Gifts!B$4:B$5000)","v":0}]
[null,null,null,{"$f":"SUMIF(Gifts!A$4:A$5000, Donors!A392,Gifts!B$4:B$5000)","v":0}]
[null,null,null,{"$f":"SUMIF(Gifts!A$4:A$5000, Donors!A393,Gifts!B$4:B$5000)","v":0}]
[null,null,null,{"$f":"SUMIF(Gifts!A$4:A$5000, Donors!A394,Gifts!B$4:B$5000)","v":0}]
[null,null,null,{"$f":"SUMIF(Gifts!A$4:A$5000, Donors!A395,Gifts!B$4:B$5000)","v":0}]
[null,null,null,{"$f":"SUMIF(Gifts!A$4:A$5000, Donors!A396,Gifts!B$4:B$5000)","v":0}]
[null,null,null,{"$f":"SUMIF(Gifts!A$4:A$5000, Donors!A397,Gifts!B$4:B$5000)","v":0}]
[null,null,null,{"$f":"SUMIF(Gifts!A$4:A$5000, Donors!A398,Gifts!B$4:B$5000)","v":0}]
[null,null,null,{"$f":"SUMIF(Gifts!A$4:A$5000, Donors!A399,Gifts!B$4:B$5000)","v":0}]
[null,null,null,{"$f":"SUMIF(Gifts!A$4:A$5000, Donors!A400,Gifts!B$4:B$5000)","v":0}]
[null,null,null,{"$f":"SUMIF(Gifts!A$4:A$5000, Donors!A401,Gifts!B$4:B$5000)","v":0}]
[null,null,null,{"$f":"SUMIF(Gifts!A$4:A$5000, Donors!A402,Gifts!B$4:B$5000)","v":0}]
[null,null,null,{"$f":"SUMIF(Gifts!A$4:A$5000, Donors!A403,Gifts!B$4:B$5000)","v":0}]
[null,null,null,{"$f":"SUMIF(Gifts!A$4:A$5000, Donors!A404,Gifts!B$4:B$5000)","v":0}]
[null,null,null,{"$f":"SUMIF(Gifts!A$4:A$5000, Donors!A405,Gifts!B$4:B$5000)","v":0}]
[null,null,null,{"$f":"SUMIF(Gifts!A$4:A$5000, Donors!A406,Gifts!B$4:B$5000)","v":0}]
[null,null,null,{"$f":"SUMIF(Gifts!A$4:A$5000, Donors!A407,Gifts!B$4:B$5000)","v":0}]
[null,null,null,{"$f":"SUMIF(Gifts!A$4:A$5000, Donors!A408,Gifts!B$4:B$5000)","v":0}]
[null,null,null,{"$f":"SUMIF(Gifts!A$4:A$5000, Donors!A409,Gifts!B$4:B$5000)","v":0}]
[null,null,null,{"$f":"SUMIF(Gifts!A$4:A$5000, Donors!A410,Gifts!B$4:B$5000)","v":0}]
[null,null,null,{"$f":"SUMIF(Gifts!A$4:A$5000, Donors!A411,Gifts!B$4:B$5000)","v":0}]
[null,null,null,{"$f":"SUMIF(Gifts!A$4:A$5000, Donors!A412,Gifts!B$4:B$5000)","v":0}]
[null,null,null,{"$f":"SUMIF(Gifts!A$4:A$5000, Donors!A413,Gifts!B$4:B$5000)","v":0}]
[null,null,null,{"$f":"SUMIF(Gifts!A$4:A$5000, Donors!A414,Gifts!B$4:B$5000)","v":0}]
[null,null,null,{"$f":"SUMIF(Gifts!A$4:A$5000, Donors!A415,Gifts!B$4:B$5000)","v":0}]
[null,null,null,{"$f":"SUMIF(Gifts!A$4:A$5000, Donors!A416,Gifts!B$4:B$5000)","v":0}]
[null,null,null,{"$f":"SUMIF(Gifts!A$4:A$5000, Donors!A417,Gifts!B$4:B$5000)","v":0}]
[null,null,null,{"$f":"SUMIF(Gifts!A$4:A$5000, Donors!A418,Gifts!B$4:B$5000)","v":0}]
[null,null,null,{"$f":"SUMIF(Gifts!A$4:A$5000, Donors!A419,Gifts!B$4:B$5000)","v":0}]
[null,null,null,{"$f":"SUMIF(Gifts!A$4:A$5000, Donors!A420,Gifts!B$4:B$5000)","v":0}]
[null,null,null,{"$f":"SUMIF(Gifts!A$4:A$5000, Donors!A421,Gifts!B$4:B$5000)","v":0}]
[null,null,null,{"$f":"SUMIF(Gifts!A$4:A$5000, Donors!A422,Gifts!B$4:B$5000)","v":0}]
[null,null,null,{"$f":"SUMIF(Gifts!A$4:A$5000, Donors!A423,Gifts!B$4:B$5000)","v":0}]
[null,null,null,{"$f":"SUMIF(Gifts!A$4:A$5000, Donors!A424,Gifts!B$4:B$5000)","v":0}]
[null,null,null,{"$f":"SUMIF(Gifts!A$4:A$5000, Donors!A425,Gifts!B$4:B$5000)","v":0}]
[null,null,null,{"$f":"SUMIF(Gifts!A$4:A$5000, Donors!A426,Gifts!B$4:B$5000)","v":0}]
[null,null,null,{"$f":"SUMIF(Gifts!A$4:A$5000, Donors!A427,Gifts!B$4:B$5000)","v":0}]
[null,null,null,{"$f":"SUMIF(Gifts!A$4:A$5000, Donors!A428,Gifts!B$4:B$5000)","v":0}]
[null,null,null,{"$f":"SUMIF(Gifts!A$4:A$5000, Donors!A429,Gifts!B$4:B$5000)","v":0}]
[null,null,null,{"$f":"SUMIF(Gifts!A$4:A$5000, Donors!A430,Gifts!B$4:B$5000)","v":0}]
[null,null,null,{"$f":"SUMIF(Gifts!A$4:A$5000, Donors!A431,Gifts!B$4:B$5000)","v":0}]
[null,null,null,{"$f":"SUMIF(Gifts!A$4:A$5000, Donors!A432,Gifts!B$4:B$5000)","v":0}]
[null,null,null,{"$f":"SUMIF(Gifts!A$4:A$5000, Donors!A433,Gifts!B$4:B$5000)","v":0}]
[null,null,null,{"$f":"SUMIF(Gifts!A$4:A$5000, Donors!A434,Gifts!B$4:B$5000)","v":0}]
[null,null,null,{"$f":"SUMIF(Gifts!A$4:A$5000, Donors!A435,Gifts!B$4:B$5000)","v":0}]
[null,null,null,{"$f":"SUMIF(Gifts!A$4:A$5000, Donors!A436,Gifts!B$4:B$5000)","v":0}]
[null,null,null,{"$f":"SUMIF(Gifts!A$4:A$5000, Donors!A437,Gifts!B$4:B$5000)","v":0}]
[null,null,null,{"$f":"SUMIF(Gifts!A$4:A$5000, Donors!A438,Gifts!B$4:B$5000)","v":0}]
[null,null,null,{"$f":"SUMIF(Gifts!A$4:A$5000, Donors!A439,Gifts!B$4:B$5000)","v":0}]
[null,null,null,{"$f":"SUMIF(Gifts!A$4:A$5000, Donors!A440,Gifts!B$4:B$5000)","v":0}]
[null,null,null,{"$f":"SUMIF(Gifts!A$4:A$5000, Donors!A441,Gifts!B$4:B$5000)","v":0}]
[null,null,null,{"$f":"SUMIF(Gifts!A$4:A$5000, Donors!A442,Gifts!B$4:B$5000)","v":0}]
[null,null,null,{"$f":"SUMIF(Gifts!A$4:A$5000, Donors!A443,Gifts!B$4:B$5000)","v":0}]
[null,null,null,{"$f":"SUMIF(Gifts!A$4:A$5000, Donors!A444,Gifts!B$4:B$5000)","v":0}]
[null,null,null,{"$f":"SUMIF(Gifts!A$4:A$5000, Donors!A445,Gifts!B$4:B$5000)","v":0}]
[null,null,null,{"$f":"SUMIF(Gifts!A$4:A$5000, Donors!A446,Gifts!B$4:B$5000)","v":0}]
[null,null,null,{"$f":"SUMIF(Gifts!A$4:A$5000, Donors!A447,Gifts!B$4:B$5000)","v":0}]
[null,null,null,{"$f":"SUMIF(Gifts!A$4:A$5000, Donors!A448,Gifts!B$4:B$5000)","v":0}]
[null,null,null,{"$f":"SUMIF(Gifts!A$4:A$5000, Donors!A449,Gifts!B$4:B$5000)","v":0}]
[null,null,null,{"$f":"SUMIF(Gifts!A$4:A$5000, Donors!A450,Gifts!B$4:B$5000)","v":0}]
[null,null,null,{"$f":"SUMIF(Gifts!A$4:A$5000, Donors!A451,Gifts!B$4:B$5000)","v":0}]
[null,null,null,{"$f":"SUMIF(Gifts!A$4:A$5000, Donors!A452,Gifts!B$4:B$5000)","v":0}]
[null,null,null,{"$f":"SUMIF(Gifts!A$4:A$5000, Donors!A453,Gifts!B$4:B$5000)","v":0}]
[null,null,null,{"$f":"SUMIF(Gifts!A$4:A$5000, Donors!A454,Gifts!B$4:B$5000)","v":0}]
[null,null,null,{"$f":"SUMIF(Gifts!A$4:A$5000, Donors!A455,Gifts!B$4:B$5000)","v":0}]
[null,null,null,{"$f":"SUMIF(Gifts!A$4:A$5000, Donors!A456,Gifts!B$4:B$5000)","v":0}]
[null,null,null,{"$f":"SUMIF(Gifts!A$4:A$5000, Donors!A457,Gifts!B$4:B$5000)","v":0}]
[null,null,null,{"$f":"SUMIF(Gifts!A$4:A$5000, Donors!A458,Gifts!B$4:B$5000)","v":0}]
[null,null,null,{"$f":"SUMIF(Gifts!A$4:A$5000, Donors!A459,Gifts!B$4:B$5000)","v":0}]
[null,null,null,{"$f":"SUMIF(Gifts!A$4:A$5000, Donors!A460,Gifts!B$4:B$5000)","v":0}]
[null,null,null,{"$f":"SUMIF(Gifts!A$4:A$5000, Donors!A461,Gifts!B$4:B$5000)","v":0}]
[null,null,null,{"$f":"SUMIF(Gifts!A$4:A$5000, Donors!A462,Gifts!B$4:B$5000)","v":0}]
[null,null,null,{"$f":"SUMIF(Gifts!A$4:A$5000, Donors!A463,Gifts!B$4:B$5000)","v":0}]
[null,null,null,{"$f":"SUMIF(Gifts!A$4:A$5000, Donors!A464,Gifts!B$4:B$5000)","v":0}]
[null,null,null,{"$f":"SUMIF(Gifts!A$4:A$5000, Donors!A465,Gifts!B$4:B$5000)","v":0}]
[null,null,null,{"$f":"SUMIF(Gifts!A$4:A$5000, Donors!A466,Gifts!B$4:B$5000)","v":0}]
[null,null,null,{"$f":"SUMIF(Gifts!A$4:A$5000, Donors!A467,Gifts!B$4:B$5000)","v":0}]
[null,null,null,{"$f":"SUMIF(Gifts!A$4:A$5000, Donors!A468,Gifts!B$4:B$5000)","v":0}]
[null,null,null,{"$f":"SUMIF(Gifts!A$4:A$5000, Donors!A469,Gifts!B$4:B$5000)","v":0}]
[null,null,null,{"$f":"SUMIF(Gifts!A$4:A$5000, Donors!A470,Gifts!B$4:B$5000)","v":0}]
[null,null,null,{"$f":"SUMIF(Gifts!A$4:A$5000, Donors!A471,Gifts!B$4:B$5000)","v":0}]
[null,null,null,{"$f":"SUMIF(Gifts!A$4:A$5000, Donors!A472,Gifts!B$4:B$5000)","v":0}]
[null,null,null,{"$f":"SUMIF(Gifts!A$4:A$5000, Donors!A473,Gifts!B$4:B$5000)","v":0}]
[null,null,null,{"$f":"SUMIF(Gifts!A$4:A$5000, Donors!A474,Gifts!B$4:B$5000)","v":0}]
[null,null,null,{"$f":"SUMIF(Gifts!A$4:A$5000, Donors!A475,Gifts!B$4:B$5000)","v":0}]
[null,null,null,{"$f":"SUMIF(Gifts!A$4:A$5000, Donors!A476,Gifts!B$4:B$5000)","v":0}]
[null,null,null,{"$f":"SUMIF(Gifts!A$4:A$5000, Donors!A477,Gifts!B$4:B$5000)","v":0}]
[null,null,null,{"$f":"SUMIF(Gifts!A$4:A$5000, Donors!A478,Gifts!B$4:B$5000)","v":0}]
[null,null,null,{"$f":"SUMIF(Gifts!A$4:A$5000, Donors!A479,Gifts!B$4:B$5000)","v":0}]
[null,null,null,{"$f":"SUMIF(Gifts!A$4:A$5000, Donors!A480,Gifts!B$4:B$5000)","v":0}]
[null,null,null,{"$f":"SUMIF(Gifts!A$4:A$5000, Donors!A481,Gifts!B$4:B$5000)","v":0}]
[null,null,null,{"$f":"SUMIF(Gifts!A$4:A$5000, Donors!A482,Gifts!B$4:B$5000)","v":0}]
[null,null,null,{"$f":"SUMIF(Gifts!A$4:A$5000, Donors!A483,Gifts!B$4:B$5000)","v":0}]
[null,null,null,{"$f":"SUMIF(Gifts!A$4:A$5000, Donors!A484,Gifts!B$4:B$5000)","v":0}]
[null,null,null,{"$f":"SUMIF(Gifts!A$4:A$5000, Donors!A485,Gifts!B$4:B$5000)","v":0}]
[null,null,null,{"$f":"SUMIF(Gifts!A$4:A$5000, Donors!A486,Gifts!B$4:B$5000)","v":0}]
[null,null,null,{"$f":"SUMIF(Gifts!A$4:A$5000, Donors!A487,Gifts!B$4:B$5000)","v":0}]
[null,null,null,{"$f":"SUMIF(Gifts!A$4:A$5000, Donors!A488,Gifts!B$4:B$5000)","v":0}]
[null,null,null,{"$f":"SUMIF(Gifts!A$4:A$5000, Donors!A489,Gifts!B$4:B$5000)","v":0}]
[null,null,null,{"$f":"SUMIF(Gifts!A$4:A$5000, Donors!A490,Gifts!B$4:B$5000)","v":0}]
[null,null,null,{"$f":"SUMIF(Gifts!A$4:A$5000, Donors!A491,Gifts!B$4:B$5000)","v":0}]
[null,null,null,{"$f":"SUMIF(Gifts!A$4:A$5000, Donors!A492,Gifts!B$4:B$5000)","v":0}]
[null,null,null,{"$f":"SUMIF(Gifts!A$4:A$5000, Donors!A493,Gifts!B$4:B$5000)","v":0}]
[null,null,null,{"$f":"SUMIF(Gifts!A$4:A$5000, Donors!A494,Gifts!B$4:B$5000)","v":0}]
[null,null,null,{"$f":"SUMIF(Gifts!A$4:A$5000, Donors!A495,Gifts!B$4:B$5000)","v":0}]
[null,null,null,{"$f":"SUMIF(Gifts!A$4:A$5000, Donors!A496,Gifts!B$4:B$5000)","v":0}]
[null,null,null,{"$f":"SUMIF(Gifts!A$4:A$5000, Donors!A497,Gifts!B$4:B$5000)","v":0}]
[null,null,null,{"$f":"SUMIF(Gifts!A$4:A$5000, Donors!A498,Gifts!B$4:B$5000)","v":0}]
[null,null,null,{"$f":"SUMIF(Gifts!A$4:A$5000, Donors!A499,Gifts!B$4:B$5000)","v":0}]
[null,null,null,{"$f":"SUMIF(Gifts!A$4:A$5000, Donors!A500,Gifts!B$4:B$5000)","v":0}]
[null,null,null,{"$f":"SUMIF(Gifts!A$4:A$5000, Donors!A501,Gifts!B$4:B$5000)","v":0}]
[null,null,null,{"$f":"SUMIF(Gifts!A$4:A$5000, Donors!A502,Gifts!B$4:B$5000)","v":0}]
[null,null,null,{"$f":"SUMIF(Gifts!A$4:A$5000, Donors!A503,Gifts!B$4:B$5000)","v":0}]
[null,null,null,{"$f":"SUMIF(Gifts!A$4:A$5000, Donors!A504,Gifts!B$4:B$5000)","v":0}]
[null,null,null,{"$f":"SUMIF(Gifts!A$4:A$5000, Donors!A505,Gifts!B$4:B$5000)","v":0}]
[null,null,null,{"$f":"SUMIF(Gifts!A$4:A$5000, Donors!A506,Gifts!B$4:B$5000)","v":0}]
[null,null,null,{"$f":"SUMIF(Gifts!A$4:A$5000, Donors!A507,Gifts!B$4:B$5000)","v":0}]
[null,null,null,{"$f":"SUMIF(Gifts!A$4:A$5000, Donors!A508,Gifts!B$4:B$5000)","v":0}]
[null,null,null,{"$f":"SUMIF(Gifts!A$4:A$5000, Donors!A509,Gifts!B$4:B$5000)","v":0}]
[null,null,null,{"$f":"SUMIF(Gifts!A$4:A$5000, Donors!A510,Gifts!B$4:B$5000)","v":0}]
[null,null,null,{"$f":"SUMIF(Gifts!A$4:A$5000, Donors!A511,Gifts!B$4:B$5000)","v":0}]
[null,null,null,{"$f":"SUMIF(Gifts!A$4:A$5000, Donors!A512,Gifts!B$4:B$5000)","v":0}]
[null,null,null,{"$f":"SUMIF(Gifts!A$4:A$5000, Donors!A513,Gifts!B$4:B$5000)","v":0}]
[null,null,null,{"$f":"SUMIF(Gifts!A$4:A$5000, Donors!A514,Gifts!B$4:B$5000)","v":0}]
[null,null,null,{"$f":"SUMIF(Gifts!A$4:A$5000, Donors!A515,Gifts!B$4:B$5000)","v":0}]
[null,null,null,{"$f":"SUMIF(Gifts!A$4:A$5000, Donors!A516,Gifts!B$4:B$5000)","v":0}]
[null,null,null,{"$f":"SUMIF(Gifts!A$4:A$5000, Donors!A517,Gifts!B$4:B$5000)","v":0}]
[null,null,null,{"$f":"SUMIF(Gifts!A$4:A$5000, Donors!A518,Gifts!B$4:B$5000)","v":0}]
[null,null,null,{"$f":"SUMIF(Gifts!A$4:A$5000, Donors!A519,Gifts!B$4:B$5000)","v":0}]
[null,null,null,{"$f":"SUMIF(Gifts!A$4:A$5000, Donors!A520,Gifts!B$4:B$5000)","v":0}]
[null,null,null,{"$f":"SUMIF(Gifts!A$4:A$5000, Donors!A521,Gifts!B$4:B$5000)","v":0}]
[null,null,null,{"$f":"SUMIF(Gifts!A$4:A$5000, Donors!A522,Gifts!B$4:B$5000)","v":0}]
[null,null,null,{"$f":"SUMIF(Gifts!A$4:A$5000, Donors!A523,Gifts!B$4:B$5000)","v":0}]
[null,null,null,{"$f":"SUMIF(Gifts!A$4:A$5000, Donors!A524,Gifts!B$4:B$5000)","v":0}]
[null,null,null,{"$f":"SUMIF(Gifts!A$4:A$5000, Donors!A525,Gifts!B$4:B$5000)","v":0}]
[null,null,null,{"$f":"SUMIF(Gifts!A$4:A$5000, Donors!A526,Gifts!B$4:B$5000)","v":0}]
[null,null,null,{"$f":"SUMIF(Gifts!A$4:A$5000, Donors!A527,Gifts!B$4:B$5000)","v":0}]
[null,null,null,{"$f":"SUMIF(Gifts!A$4:A$5000, Donors!A528,Gifts!B$4:B$5000)","v":0}]
[null,null,null,{"$f":"SUMIF(Gifts!A$4:A$5000, Donors!A529,Gifts!B$4:B$5000)","v":0}]
[null,null,null,{"$f":"SUMIF(Gifts!A$4:A$5000, Donors!A530,Gifts!B$4:B$5000)","v":0}]
[null,null,null,{"$f":"SUMIF(Gifts!A$4:A$5000, Donors!A531,Gifts!B$4:B$5000)","v":0}]
[null,null,null,{"$f":"SUMIF(Gifts!A$4:A$5000, Donors!A532,Gifts!B$4:B$5000)","v":0}]
[null,null,null,{"$f":"SUMIF(Gifts!A$4:A$5000, Donors!A533,Gifts!B$4:B$5000)","v":0}]
[null,null,null,{"$f":"SUMIF(Gifts!A$4:A$5000, Donors!A534,Gifts!B$4:B$5000)","v":0}]
[null,null,null,{"$f":"SUMIF(Gifts!A$4:A$5000, Donors!A535,Gifts!B$4:B$5000)","v":0}]
[null,null,null,{"$f":"SUMIF(Gifts!A$4:A$5000, Donors!A536,Gifts!B$4:B$5000)","v":0}]
[null,null,null,{"$f":"SUMIF(Gifts!A$4:A$5000, Donors!A537,Gifts!B$4:B$5000)","v":0}]
[null,null,null,{"$f":"SUMIF(Gifts!A$4:A$5000, Donors!A538,Gifts!B$4:B$5000)","v":0}]
[null,null,null,{"$f":"SUMIF(Gifts!A$4:A$5000, Donors!A539,Gifts!B$4:B$5000)","v":0}]
[null,null,null,{"$f":"SUMIF(Gifts!A$4:A$5000, Donors!A540,Gifts!B$4:B$5000)","v":0}]
[null,null,null,{"$f":"SUMIF(Gifts!A$4:A$5000, Donors!A541,Gifts!B$4:B$5000)","v":0}]
[null,null,null,{"$f":"SUMIF(Gifts!A$4:A$5000, Donors!A542,Gifts!B$4:B$5000)","v":0}]
[null,null,null,{"$f":"SUMIF(Gifts!A$4:A$5000, Donors!A543,Gifts!B$4:B$5000)","v":0}]
[null,null,null,{"$f":"SUMIF(Gifts!A$4:A$5000, Donors!A544,Gifts!B$4:B$5000)","v":0}]
[null,null,null,{"$f":"SUMIF(Gifts!A$4:A$5000, Donors!A545,Gifts!B$4:B$5000)","v":0}]
[null,null,null,{"$f":"SUMIF(Gifts!A$4:A$5000, Donors!A546,Gifts!B$4:B$5000)","v":0}]
[null,null,null,{"$f":"SUMIF(Gifts!A$4:A$5000, Donors!A547,Gifts!B$4:B$5000)","v":0}]
[null,null,null,{"$f":"SUMIF(Gifts!A$4:A$5000, Donors!A548,Gifts!B$4:B$5000)","v":0}]
[null,null,null,{"$f":"SUMIF(Gifts!A$4:A$5000, Donors!A549,Gifts!B$4:B$5000)","v":0}]
[null,null,null,{"$f":"SUMIF(Gifts!A$4:A$5000, Donors!A550,Gifts!B$4:B$5000)","v":0}]
[null,null,null,{"$f":"SUMIF(Gifts!A$4:A$5000, Donors!A551,Gifts!B$4:B$5000)","v":0}]
[null,null,null,{"$f":"SUMIF(Gifts!A$4:A$5000, Donors!A552,Gifts!B$4:B$5000)","v":0}]
[null,null,null,{"$f":"SUMIF(Gifts!A$4:A$5000, Donors!A553,Gifts!B$4:B$5000)","v":0}]
[null,null,null,{"$f":"SUMIF(Gifts!A$4:A$5000, Donors!A554,Gifts!B$4:B$5000)","v":0}]
[null,null,null,{"$f":"SUMIF(Gifts!A$4:A$5000, Donors!A555,Gifts!B$4:B$5000)","v":0}]
[null,null,null,{"$f":"SUMIF(Gifts!A$4:A$5000, Donors!A556,Gifts!B$4:B$5000)","v":0}]
[null,null,null,{"$f":"SUMIF(Gifts!A$4:A$5000, Donors!A557,Gifts!B$4:B$5000)","v":0}]
[null,null,null,{"$f":"SUMIF(Gifts!A$4:A$5000, Donors!A558,Gifts!B$4:B$5000)","v":0}]
[null,null,null,{"$f":"SUMIF(Gifts!A$4:A$5000, Donors!A559,Gifts!B$4:B$5000)","v":0}]
[null,null,null,{"$f":"SUMIF(Gifts!A$4:A$5000, Donors!A560,Gifts!B$4:B$5000)","v":0}]
[null,null,null,{"$f":"SUMIF(Gifts!A$4:A$5000, Donors!A561,Gifts!B$4:B$5000)","v":0}]
[null,null,null,{"$f":"SUMIF(Gifts!A$4:A$5000, Donors!A562,Gifts!B$4:B$5000)","v":0}]
[null,null,null,{"$f":"SUMIF(Gifts!A$4:A$5000, Donors!A563,Gifts!B$4:B$5000)","v":0}]
[null,null,null,{"$f":"SUMIF(Gifts!A$4:A$5000, Donors!A564,Gifts!B$4:B$5000)","v":0}]
[null,null,null,{"$f":"SUMIF(Gifts!A$4:A$5000, Donors!A565,Gifts!B$4:B$5000)","v":0}]
[null,null,null,{"$f":"SUMIF(Gifts!A$4:A$5000, Donors!A566,Gifts!B$4:B$5000)","v":0}]
[null,null,null,{"$f":"SUMIF(Gifts!A$4:A$5000, Donors!A567,Gifts!B$4:B$5000)","v":0}]
[null,null,null,{"$f":"SUMIF(Gifts!A$4:A$5000, Donors!A568,Gifts!B$4:B$5000)","v":0}]
[null,null,null,{"$f":"SUMIF(Gifts!A$4:A$5000, Donors!A569,Gifts!B$4:B$5000)","v":0}]
[null,null,null,{"$f":"SUMIF(Gifts!A$4:A$5000, Donors!A570,Gifts!B$4:B$5000)","v":0}]
[null,null,null,{"$f":"SUMIF(Gifts!A$4:A$5000, Donors!A571,Gifts!B$4:B$5000)","v":0}]
[null,null,null,{"$f":"SUMIF(Gifts!A$4:A$5000, Donors!A572,Gifts!B$4:B$5000)","v":0}]
[null,null,null,{"$f":"SUMIF(Gifts!A$4:A$5000, Donors!A573,Gifts!B$4:B$5000)","v":0}]
[null,null,null,{"$f":"SUMIF(Gifts!A$4:A$5000, Donors!A574,Gifts!B$4:B$5000)","v":0}]
[null,null,null,{"$f":"SUMIF(Gifts!A$4:A$5000, Donors!A575,Gifts!B$4:B$5000)","v":0}]
[null,null,null,{"$f":"SUMIF(Gifts!A$4:A$5000, Donors!A576,Gifts!B$4:B$5000)","v":0}]
[null,null,null,{"$f":"SUMIF(Gifts!A$4:A$5000, Donors!A577,Gifts!B$4:B$5000)","v":0}]
[null,null,null,{"$f":"SUMIF(Gifts!A$4:A$5000, Donors!A578,Gifts!B$4:B$5000)","v":0}]
[null,null,null,{"$f":"SUMIF(Gifts!A$4:A$5000, Donors!A579,Gifts!B$4:B$5000)","v":0}]
[null,null,null,{"$f":"SUMIF(Gifts!A$4:A$5000, Donors!A580,Gifts!B$4:B$5000)","v":0}]
[null,null,null,{"$f":"SUMIF(Gifts!A$4:A$5000, Donors!A581,Gifts!B$4:B$5000)","v":0}]
[null,null,null,{"$f":"SUMIF(Gifts!A$4:A$5000, Donors!A582,Gifts!B$4:B$5000)","v":0}]
[null,null,null,{"$f":"SUMIF(Gifts!A$4:A$5000, Donors!A583,Gifts!B$4:B$5000)","v":0}]
[null,null,null,{"$f":"SUMIF(Gifts!A$4:A$5000, Donors!A584,Gifts!B$4:B$5000)","v":0}]
[null,null,null,{"$f":"SUMIF(Gifts!A$4:A$5000, Donors!A585,Gifts!B$4:B$5000)","v":0}]
[null,null,null,{"$f":"SUMIF(Gifts!A$4:A$5000, Donors!A586,Gifts!B$4:B$5000)","v":0}]
[null,null,null,{"$f":"SUMIF(Gifts!A$4:A$5000, Donors!A587,Gifts!B$4:B$5000)","v":0}]
[null,null,null,{"$f":"SUMIF(Gifts!A$4:A$5000, Donors!A588,Gifts!B$4:B$5000)","v":0}]
[null,null,null,{"$f":"SUMIF(Gifts!A$4:A$5000, Donors!A589,Gifts!B$4:B$5000)","v":0}]
[null,null,null,{"$f":"SUMIF(Gifts!A$4:A$5000, Donors!A590,Gifts!B$4:B$5000)","v":0}]
[null,null,null,{"$f":"SUMIF(Gifts!A$4:A$5000, Donors!A591,Gifts!B$4:B$5000)","v":0}]
[null,null,null,{"$f":"SUMIF(Gifts!A$4:A$5000, Donors!A592,Gifts!B$4:B$5000)","v":0}]
[null,null,null,{"$f":"SUMIF(Gifts!A$4:A$5000, Donors!A593,Gifts!B$4:B$5000)","v":0}]
[null,null,null,{"$f":"SUMIF(Gifts!A$4:A$5000, Donors!A594,Gifts!B$4:B$5000)","v":0}]
[null,null,null,{"$f":"SUMIF(Gifts!A$4:A$5000, Donors!A595,Gifts!B$4:B$5000)","v":0}]
[null,null,null,{"$f":"SUMIF(Gifts!A$4:A$5000, Donors!A596,Gifts!B$4:B$5000)","v":0}]
[null,null,null,{"$f":"SUMIF(Gifts!A$4:A$5000, Donors!A597,Gifts!B$4:B$5000)","v":0}]
[null,null,null,{"$f":"SUMIF(Gifts!A$4:A$5000, Donors!A598,Gifts!B$4:B$5000)","v":0}]
[null,null,null,{"$f":"SUMIF(Gifts!A$4:A$5000, Donors!A599,Gifts!B$4:B$5000)","v":0}]
[null,null,null,{"$f":"SUMIF(Gifts!A$4:A$5000, Donors!A600,Gifts!B$4:B$5000)","v":0}]
[null,null,null,{"$f":"SUMIF(Gifts!A$4:A$5000, Donors!A601,Gifts!B$4:B$5000)","v":0}]
[null,null,null,{"$f":"SUMIF(Gifts!A$4:A$5000, Donors!A602,Gifts!B$4:B$5000)","v":0}]
[null,null,null,{"$f":"SUMIF(Gifts!A$4:A$5000, Donors!A603,Gifts!B$4:B$5000)","v":0}]
[null,null,null,{"$f":"SUMIF(Gifts!A$4:A$5000, Donors!A604,Gifts!B$4:B$5000)","v":0}]
[null,null,null,{"$f":"SUMIF(Gifts!A$4:A$5000, Donors!A605,Gifts!B$4:B$5000)","v":0}]
[null,null,null,{"$f":"SUMIF(Gifts!A$4:A$5000, Donors!A606,Gifts!B$4:B$5000)","v":0}]
[null,null,null,{"$f":"SUMIF(Gifts!A$4:A$5000, Donors!A607,Gifts!B$4:B$5000)","v":0}]
[null,null,null,{"$f":"SUMIF(Gifts!A$4:A$5000, Donors!A608,Gifts!B$4:B$5000)","v":0}]
[null,null,null,{"$f":"SUMIF(Gifts!A$4:A$5000, Donors!A609,Gifts!B$4:B$5000)","v":0}]
[null,null,null,{"$f":"SUMIF(Gifts!A$4:A$5000, Donors!A610,Gifts!B$4:B$5000)","v":0}]
[null,null,null,{"$f":"SUMIF(Gifts!A$4:A$5000, Donors!A611,Gifts!B$4:B$5000)","v":0}]
[null,null,null,{"$f":"SUMIF(Gifts!A$4:A$5000, Donors!A612,Gifts!B$4:B$5000)","v":0}]
[null,null,null,{"$f":"SUMIF(Gifts!A$4:A$5000, Donors!A613,Gifts!B$4:B$5000)","v":0}]
[null,null,null,{"$f":"SUMIF(Gifts!A$4:A$5000, Donors!A614,Gifts!B$4:B$5000)","v":0}]
[null,null,null,{"$f":"SUMIF(Gifts!A$4:A$5000, Donors!A615,Gifts!B$4:B$5000)","v":0}]
[null,null,null,{"$f":"SUMIF(Gifts!A$4:A$5000, Donors!A616,Gifts!B$4:B$5000)","v":0}]
[null,null,null,{"$f":"SUMIF(Gifts!A$4:A$5000, Donors!A617,Gifts!B$4:B$5000)","v":0}]
[null,null,null,{"$f":"SUMIF(Gifts!A$4:A$5000, Donors!A618,Gifts!B$4:B$5000)","v":0}]
[null,null,null,{"$f":"SUMIF(Gifts!A$4:A$5000, Donors!A619,Gifts!B$4:B$5000)","v":0}]
[null,null,null,{"$f":"SUMIF(Gifts!A$4:A$5000, Donors!A620,Gifts!B$4:B$5000)","v":0}]
[null,null,null,{"$f":"SUMIF(Gifts!A$4:A$5000, Donors!A621,Gifts!B$4:B$5000)","v":0}]
[null,null,null,{"$f":"SUMIF(Gifts!A$4:A$5000, Donors!A622,Gifts!B$4:B$5000)","v":0}]
[null,null,null,{"$f":"SUMIF(Gifts!A$4:A$5000, Donors!A623,Gifts!B$4:B$5000)","v":0}]
[null,null,null,{"$f":"SUMIF(Gifts!A$4:A$5000, Donors!A624,Gifts!B$4:B$5000)","v":0}]
[null,null,null,{"$f":"SUMIF(Gifts!A$4:A$5000, Donors!A625,Gifts!B$4:B$5000)","v":0}]
[null,null,null,{"$f":"SUMIF(Gifts!A$4:A$5000, Donors!A626,Gifts!B$4:B$5000)","v":0}]
[null,null,null,{"$f":"SUMIF(Gifts!A$4:A$5000, Donors!A627,Gifts!B$4:B$5000)","v":0}]
[null,null,null,{"$f":"SUMIF(Gifts!A$4:A$5000, Donors!A628,Gifts!B$4:B$5000)","v":0}]
[null,null,null,{"$f":"SUMIF(Gifts!A$4:A$5000, Donors!A629,Gifts!B$4:B$5000)","v":0}]
[null,null,null,{"$f":"SUMIF(Gifts!A$4:A$5000, Donors!A630,Gifts!B$4:B$5000)","v":0}]
[null,null,null,{"$f":"SUMIF(Gifts!A$4:A$5000, Donors!A631,Gifts!B$4:B$5000)","v":0}]
[null,null,null,{"$f":"SUMIF(Gifts!A$4:A$5000, Donors!A632,Gifts!B$4:B$5000)","v":0}]
[null,null,null,{"$f":"SUMIF(Gifts!A$4:A$5000, Donors!A633,Gifts!B$4:B$5000)","v":0}]
[null,null,null,{"$f":"SUMIF(Gifts!A$4:A$5000, Donors!A634,Gifts!B$4:B$5000)","v":0}]
[null,null,null,{"$f":"SUMIF(Gifts!A$4:A$5000, Donors!A635,Gifts!B$4:B$5000)","v":0}]
[null,null,null,{"$f":"SUMIF(Gifts!A$4:A$5000, Donors!A636,Gifts!B$4:B$5000)","v":0}]
[null,null,null,{"$f":"SUMIF(Gifts!A$4:A$5000, Donors!A637,Gifts!B$4:B$5000)","v":0}]
[null,null,null,{"$f":"SUMIF(Gifts!A$4:A$5000, Donors!A638,Gifts!B$4:B$5000)","v":0}]
[null,null,null,{"$f":"SUMIF(Gifts!A$4:A$5000, Donors!A639,Gifts!B$4:B$5000)","v":0}]
[null,null,null,{"$f":"SUMIF(Gifts!A$4:A$5000, Donors!A640,Gifts!B$4:B$5000)","v":0}]
[null,null,null,{"$f":"SUMIF(Gifts!A$4:A$5000, Donors!A641,Gifts!B$4:B$5000)","v":0}]
[null,null,null,{"$f":"SUMIF(Gifts!A$4:A$5000, Donors!A642,Gifts!B$4:B$5000)","v":0}]
[null,null,null,{"$f":"SUMIF(Gifts!A$4:A$5000, Donors!A643,Gifts!B$4:B$5000)","v":0}]
[null,null,null,{"$f":"SUMIF(Gifts!A$4:A$5000, Donors!A644,Gifts!B$4:B$5000)","v":0}]
[null,null,null,{"$f":"SUMIF(Gifts!A$4:A$5000, Donors!A645,Gifts!B$4:B$5000)","v":0}]
[null,null,null,{"$f":"SUMIF(Gifts!A$4:A$5000, Donors!A646,Gifts!B$4:B$5000)","v":0}]
[null,null,null,{"$f":"SUMIF(Gifts!A$4:A$5000, Donors!A647,Gifts!B$4:B$5000)","v":0}]
[null,null,null,{"$f":"SUMIF(Gifts!A$4:A$5000, Donors!A648,Gifts!B$4:B$5000)","v":0}]
[null,null,null,{"$f":"SUMIF(Gifts!A$4:A$5000, Donors!A649,Gifts!B$4:B$5000)","v":0}]
[null,null,null,{"$f":"SUMIF(Gifts!A$4:A$5000, Donors!A650,Gifts!B$4:B$5000)","v":0}]
[null,null,null,{"$f":"SUMIF(Gifts!A$4:A$5000, Donors!A651,Gifts!B$4:B$5000)","v":0}]
[null,null,null,{"$f":"SUMIF(Gifts!A$4:A$5000, Donors!A652,Gifts!B$4:B$5000)","v":0}]
[null,null,null,{"$f":"SUMIF(Gifts!A$4:A$5000, Donors!A653,Gifts!B$4:B$5000)","v":0}]
[null,null,null,{"$f":"SUMIF(Gifts!A$4:A$5000, Donors!A654,Gifts!B$4:B$5000)","v":0}]
[null,null,null,{"$f":"SUMIF(Gifts!A$4:A$5000, Donors!A655,Gifts!B$4:B$5000)","v":0}]
[null,null,null,{"$f":"SUMIF(Gifts!A$4:A$5000, Donors!A656,Gifts!B$4:B$5000)","v":0}]
[null,null,null,{"$f":"SUMIF(Gifts!A$4:A$5000, Donors!A657,Gifts!B$4:B$5000)","v":0}]
[null,null,null,{"$f":"SUMIF(Gifts!A$4:A$5000, Donors!A658,Gifts!B$4:B$5000)","v":0}]
[null,null,null,{"$f":"SUMIF(Gifts!A$4:A$5000, Donors!A659,Gifts!B$4:B$5000)","v":0}]
[null,null,null,{"$f":"SUMIF(Gifts!A$4:A$5000, Donors!A660,Gifts!B$4:B$5000)","v":0}]
[null,null,null,{"$f":"SUMIF(Gifts!A$4:A$5000, Donors!A661,Gifts!B$4:B$5000)","v":0}]
[null,null,null,{"$f":"SUMIF(Gifts!A$4:A$5000, Donors!A662,Gifts!B$4:B$5000)","v":0}]
[null,null,null,{"$f":"SUMIF(Gifts!A$4:A$5000, Donors!A663,Gifts!B$4:B$5000)","v":0}]
[null,null,null,{"$f":"SUMIF(Gifts!A$4:A$5000, Donors!A664,Gifts!B$4:B$5000)","v":0}]
[null,null,null,{"$f":"SUMIF(Gifts!A$4:A$5000, Donors!A665,Gifts!B$4:B$5000)","v":0}]
[null,null,null,{"$f":"SUMIF(Gifts!A$4:A$5000, Donors!A666,Gifts!B$4:B$5000)","v":0}]
[null,null,null,{"$f":"SUMIF(Gifts!A$4:A$5000, Donors!A667,Gifts!B$4:B$5000)","v":0}]
[null,null,null,{"$f":"SUMIF(Gifts!A$4:A$5000, Donors!A668,Gifts!B$4:B$5000)","v":0}]
[null,null,null,{"$f":"SUMIF(Gifts!A$4:A$5000, Donors!A669,Gifts!B$4:B$5000)","v":0}]
[null,null,null,{"$f":"SUMIF(Gifts!A$4:A$5000, Donors!A670,Gifts!B$4:B$5000)","v":0}]
[null,null,null,{"$f":"SUMIF(Gifts!A$4:A$5000, Donors!A671,Gifts!B$4:B$5000)","v":0}]
[null,null,null,{"$f":"SUMIF(Gifts!A$4:A$5000, Donors!A672,Gifts!B$4:B$5000)","v":0}]
[null,null,null,{"$f":"SUMIF(Gifts!A$4:A$5000, Donors!A673,Gifts!B$4:B$5000)","v":0}]
[null,null,null,{"$f":"SUMIF(Gifts!A$4:A$5000, Donors!A674,Gifts!B$4:B$5000)","v":0}]
[null,null,null,{"$f":"SUMIF(Gifts!A$4:A$5000, Donors!A675,Gifts!B$4:B$5000)","v":0}]
[null,null,null,{"$f":"SUMIF(Gifts!A$4:A$5000, Donors!A676,Gifts!B$4:B$5000)","v":0}]
[null,null,null,{"$f":"SUMIF(Gifts!A$4:A$5000, Donors!A677,Gifts!B$4:B$5000)","v":0}]
[null,null,null,{"$f":"SUMIF(Gifts!A$4:A$5000, Donors!A678,Gifts!B$4:B$5000)","v":0}]
[null,null,null,{"$f":"SUMIF(Gifts!A$4:A$5000, Donors!A679,Gifts!B$4:B$5000)","v":0}]
[null,null,null,{"$f":"SUMIF(Gifts!A$4:A$5000, Donors!A680,Gifts!B$4:B$5000)","v":0}]
[null,null,null,{"$f":"SUMIF(Gifts!A$4:A$5000, Donors!A681,Gifts!B$4:B$5000)","v":0}]
[null,null,null,{"$f":"SUMIF(Gifts!A$4:A$5000, Donors!A682,Gifts!B$4:B$5000)","v":0}]
[null,null,null,{"$f":"SUMIF(Gifts!A$4:A$5000, Donors!A683,Gifts!B$4:B$5000)","v":0}]
[null,null,null,{"$f":"SUMIF(Gifts!A$4:A$5000, Donors!A684,Gifts!B$4:B$5000)","v":0}]
[null,null,null,{"$f":"SUMIF(Gifts!A$4:A$5000, Donors!A685,Gifts!B$4:B$5000)","v":0}]
[null,null,null,{"$f":"SUMIF(Gifts!A$4:A$5000, Donors!A686,Gifts!B$4:B$5000)","v":0}]
[null,null,null,{"$f":"SUMIF(Gifts!A$4:A$5000, Donors!A687,Gifts!B$4:B$5000)","v":0}]
[null,null,null,{"$f":"SUMIF(Gifts!A$4:A$5000, Donors!A688,Gifts!B$4:B$5000)","v":0}]
[null,null,null,{"$f":"SUMIF(Gifts!A$4:A$5000, Donors!A689,Gifts!B$4:B$5000)","v":0}]
[null,null,null,{"$f":"SUMIF(Gifts!A$4:A$5000, Donors!A690,Gifts!B$4:B$5000)","v":0}]
[null,null,null,{"$f":"SUMIF(Gifts!A$4:A$5000, Donors!A691,Gifts!B$4:B$5000)","v":0}]
[null,null,null,{"$f":"SUMIF(Gifts!A$4:A$5000, Donors!A692,Gifts!B$4:B$5000)","v":0}]
[null,null,null,{"$f":"SUMIF(Gifts!A$4:A$5000, Donors!A693,Gifts!B$4:B$5000)","v":0}]
[null,null,null,{"$f":"SUMIF(Gifts!A$4:A$5000, Donors!A694,Gifts!B$4:B$5000)","v":0}]
[null,null,null,{"$f":"SUMIF(Gifts!A$4:A$5000, Donors!A695,Gifts!B$4:B$5000)","v":0}]
[null,null,null,{"$f":"SUMIF(Gifts!A$4:A$5000, Donors!A696,Gifts!B$4:B$5000)","v":0}]
[null,null,null,{"$f":"SUMIF(Gifts!A$4:A$5000, Donors!A697,Gifts!B$4:B$5000)","v":0}]
[null,null,null,{"$f":"SUMIF(Gifts!A$4:A$5000, Donors!A698,Gifts!B$4:B$5000)","v":0}]
[null,null,null,{"$f":"SUMIF(Gifts!A$4:A$5000, Donors!A699,Gifts!B$4:B$5000)","v":0}]
[null,null,null,{"$f":"SUMIF(Gifts!A$4:A$5000, Donors!A700,Gifts!B$4:B$5000)","v":0}]
[null,null,null,{"$f":"SUMIF(Gifts!A$4:A$5000, Donors!A701,Gifts!B$4:B$5000)","v":0}]
[null,null,null,{"$f":"SUMIF(Gifts!A$4:A$5000, Donors!A702,Gifts!B$4:B$5000)","v":0}]
[null,null,null,{"$f":"SUMIF(Gifts!A$4:A$5000, Donors!A703,Gifts!B$4:B$5000)","v":0}]
[null,null,null,{"$f":"SUMIF(Gifts!A$4:A$5000, Donors!A704,Gifts!B$4:B$5000)","v":0}]
[null,null,null,{"$f":"SUMIF(Gifts!A$4:A$5000, Donors!A705,Gifts!B$4:B$5000)","v":0}]
[null,null,null,{"$f":"SUMIF(Gifts!A$4:A$5000, Donors!A706,Gifts!B$4:B$5000)","v":0}]
[null,null,null,{"$f":"SUMIF(Gifts!A$4:A$5000, Donors!A707,Gifts!B$4:B$5000)","v":0}]
[null,null,null,{"$f":"SUMIF(Gifts!A$4:A$5000, Donors!A708,Gifts!B$4:B$5000)","v":0}]
[null,null,null,{"$f":"SUMIF(Gifts!A$4:A$5000, Donors!A709,Gifts!B$4:B$5000)","v":0}]
[null,null,null,{"$f":"SUMIF(Gifts!A$4:A$5000, Donors!A710,Gifts!B$4:B$5000)","v":0}]
[null,null,null,{"$f":"SUMIF(Gifts!A$4:A$5000, Donors!A711,Gifts!B$4:B$5000)","v":0}]
[null,null,null,{"$f":"SUMIF(Gifts!A$4:A$5000, Donors!A712,Gifts!B$4:B$5000)","v":0}]
[null,null,null,{"$f":"SUMIF(Gifts!A$4:A$5000, Donors!A713,Gifts!B$4:B$5000)","v":0}]
[null,null,null,{"$f":"SUMIF(Gifts!A$4:A$5000, Donors!A714,Gifts!B$4:B$5000)","v":0}]
[null,null,null,{"$f":"SUMIF(Gifts!A$4:A$5000, Donors!A715,Gifts!B$4:B$5000)","v":0}]
[null,null,null,{"$f":"SUMIF(Gifts!A$4:A$5000, Donors!A716,Gifts!B$4:B$5000)","v":0}]
[null,null,null,{"$f":"SUMIF(Gifts!A$4:A$5000, Donors!A717,Gifts!B$4:B$5000)","v":0}]
[null,null,null,{"$f":"SUMIF(Gifts!A$4:A$5000, Donors!A718,Gifts!B$4:B$5000)","v":0}]
[null,null,null,{"$f":"SUMIF(Gifts!A$4:A$5000, Donors!A719,Gifts!B$4:B$5000)","v":0}]
[null,null,null,{"$f":"SUMIF(Gifts!A$4:A$5000, Donors!A720,Gifts!B$4:B$5000)","v":0}]
[null,null,null,{"$f":"SUMIF(Gifts!A$4:A$5000, Donors!A721,Gifts!B$4:B$5000)","v":0}]
[null,null,null,{"$f":"SUMIF(Gifts!A$4:A$5000, Donors!A722,Gifts!B$4:B$5000)","v":0}]
[null,null,null,{"$f":"SUMIF(Gifts!A$4:A$5000, Donors!A723,Gifts!B$4:B$5000)","v":0}]
[null,null,null,{"$f":"SUMIF(Gifts!A$4:A$5000, Donors!A724,Gifts!B$4:B$5000)","v":0}]
[null,null,null,{"$f":"SUMIF(Gifts!A$4:A$5000, Donors!A725,Gifts!B$4:B$5000)","v":0}]
[null,null,null,{"$f":"SUMIF(Gifts!A$4:A$5000, Donors!A726,Gifts!B$4:B$5000)","v":0}]
[null,null,null,{"$f":"SUMIF(Gifts!A$4:A$5000, Donors!A727,Gifts!B$4:B$5000)","v":0}]
[null,null,null,{"$f":"SUMIF(Gifts!A$4:A$5000, Donors!A728,Gifts!B$4:B$5000)","v":0}]
[null,null,null,{"$f":"SUMIF(Gifts!A$4:A$5000, Donors!A729,Gifts!B$4:B$5000)","v":0}]
[null,null,null,{"$f":"SUMIF(Gifts!A$4:A$5000, Donors!A730,Gifts!B$4:B$5000)","v":0}]
[null,null,null,{"$f":"SUMIF(Gifts!A$4:A$5000, Donors!A731,Gifts!B$4:B$5000)","v":0}]
[null,null,null,{"$f":"SUMIF(Gifts!A$4:A$5000, Donors!A732,Gifts!B$4:B$5000)","v":0}]
[null,null,null,{"$f":"SUMIF(Gifts!A$4:A$5000, Donors!A733,Gifts!B$4:B$5000)","v":0}]
[null,null,null,{"$f":"SUMIF(Gifts!A$4:A$5000, Donors!A734,Gifts!B$4:B$5000)","v":0}]
[null,null,null,{"$f":"SUMIF(Gifts!A$4:A$5000, Donors!A735,Gifts!B$4:B$5000)","v":0}]
[null,null,null,{"$f":"SUMIF(Gifts!A$4:A$5000, Donors!A736,Gifts!B$4:B$5000)","v":0}]
[null,null,null,{"$f":"SUMIF(Gifts!A$4:A$5000, Donors!A737,Gifts!B$4:B$5000)","v":0}]
[null,null,null,{"$f":"SUMIF(Gifts!A$4:A$5000, Donors!A738,Gifts!B$4:B$5000)","v":0}]
[null,null,null,{"$f":"SUMIF(Gifts!A$4:A$5000, Donors!A739,Gifts!B$4:B$5000)","v":0}]
[null,null,null,{"$f":"SUMIF(Gifts!A$4:A$5000, Donors!A740,Gifts!B$4:B$5000)","v":0}]
[null,null,null,{"$f":"SUMIF(Gifts!A$4:A$5000, Donors!A741,Gifts!B$4:B$5000)","v":0}]
[null,null,null,{"$f":"SUMIF(Gifts!A$4:A$5000, Donors!A742,Gifts!B$4:B$5000)","v":0}]
[null,null,null,{"$f":"SUMIF(Gifts!A$4:A$5000, Donors!A743,Gifts!B$4:B$5000)","v":0}]
[null,null,null,{"$f":"SUMIF(Gifts!A$4:A$5000, Donors!A744,Gifts!B$4:B$5000)","v":0}]
[null,null,null,{"$f":"SUMIF(Gifts!A$4:A$5000, Donors!A745,Gifts!B$4:B$5000)","v":0}]
[null,null,null,{"$f":"SUMIF(Gifts!A$4:A$5000, Donors!A746,Gifts!B$4:B$5000)","v":0}]
[null,null,null,{"$f":"SUMIF(Gifts!A$4:A$5000, Donors!A747,Gifts!B$4:B$5000)","v":0}]
[null,null,null,{"$f":"SUMIF(Gifts!A$4:A$5000, Donors!A748,Gifts!B$4:B$5000)","v":0}]
[null,null,null,{"$f":"SUMIF(Gifts!A$4:A$5000, Donors!A749,Gifts!B$4:B$5000)","v":0}]
[null,null,null,{"$f":"SUMIF(Gifts!A$4:A$5000, Donors!A750,Gifts!B$4:B$5000)","v":0}]
[null,null,null,{"$f":"SUMIF(Gifts!A$4:A$5000, Donors!A751,Gifts!B$4:B$5000)","v":0}]
[null,null,null,{"$f":"SUMIF(Gifts!A$4:A$5000, Donors!A752,Gifts!B$4:B$5000)","v":0}]
[null,null,null,{"$f":"SUMIF(Gifts!A$4:A$5000, Donors!A753,Gifts!B$4:B$5000)","v":0}]
[null,null,null,{"$f":"SUMIF(Gifts!A$4:A$5000, Donors!A754,Gifts!B$4:B$5000)","v":0}]
[null,null,null,{"$f":"SUMIF(Gifts!A$4:A$5000, Donors!A755,Gifts!B$4:B$5000)","v":0}]
[null,null,null,{"$f":"SUMIF(Gifts!A$4:A$5000, Donors!A756,Gifts!B$4:B$5000)","v":0}]
[null,null,null,{"$f":"SUMIF(Gifts!A$4:A$5000, Donors!A757,Gifts!B$4:B$5000)","v":0}]
[null,null,null,{"$f":"SUMIF(Gifts!A$4:A$5000, Donors!A758,Gifts!B$4:B$5000)","v":0}]
[null,null,null,{"$f":"SUMIF(Gifts!A$4:A$5000, Donors!A759,Gifts!B$4:B$5000)","v":0}]
[null,null,null,{"$f":"SUMIF(Gifts!A$4:A$5000, Donors!A760,Gifts!B$4:B$5000)","v":0}]
[null,null,null,{"$f":"SUMIF(Gifts!A$4:A$5000, Donors!A761,Gifts!B$4:B$5000)","v":0}]
[null,null,null,{"$f":"SUMIF(Gifts!A$4:A$5000, Donors!A762,Gifts!B$4:B$5000)","v":0}]
[null,null,null,{"$f":"SUMIF(Gifts!A$4:A$5000, Donors!A763,Gifts!B$4:B$5000)","v":0}]
[null,null,null,{"$f":"SUMIF(Gifts!A$4:A$5000, Donors!A764,Gifts!B$4:B$5000)","v":0}]
[null,null,null,{"$f":"SUMIF(Gifts!A$4:A$5000, Donors!A765,Gifts!B$4:B$5000)","v":0}]
[null,null,null,{"$f":"SUMIF(Gifts!A$4:A$5000, Donors!A766,Gifts!B$4:B$5000)","v":0}]
[null,null,null,{"$f":"SUMIF(Gifts!A$4:A$5000, Donors!A767,Gifts!B$4:B$5000)","v":0}]
[null,null,null,{"$f":"SUMIF(Gifts!A$4:A$5000, Donors!A768,Gifts!B$4:B$5000)","v":0}]
[null,null,null,{"$f":"SUMIF(Gifts!A$4:A$5000, Donors!A769,Gifts!B$4:B$5000)","v":0}]
[null,null,null,{"$f":"SUMIF(Gifts!A$4:A$5000, Donors!A770,Gifts!B$4:B$5000)","v":0}]
[null,null,null,{"$f":"SUMIF(Gifts!A$4:A$5000, Donors!A771,Gifts!B$4:B$5000)","v":0}]
[null,null,null,{"$f":"SUMIF(Gifts!A$4:A$5000, Donors!A772,Gifts!B$4:B$5000)","v":0}]
[null,null,null,{"$f":"SUMIF(Gifts!A$4:A$5000, Donors!A773,Gifts!B$4:B$5000)","v":0}]
[null,null,null,{"$f":"SUMIF(Gifts!A$4:A$5000, Donors!A774,Gifts!B$4:B$5000)","v":0}]
[null,null,null,{"$f":"SUMIF(Gifts!A$4:A$5000, Donors!A775,Gifts!B$4:B$5000)","v":0}]
[null,null,null,{"$f":"SUMIF(Gifts!A$4:A$5000, Donors!A776,Gifts!B$4:B$5000)","v":0}]
[null,null,null,{"$f":"SUMIF(Gifts!A$4:A$5000, Donors!A777,Gifts!B$4:B$5000)","v":0}]
[null,null,null,{"$f":"SUMIF(Gifts!A$4:A$5000, Donors!A778,Gifts!B$4:B$5000)","v":0}]
[null,null,null,{"$f":"SUMIF(Gifts!A$4:A$5000, Donors!A779,Gifts!B$4:B$5000)","v":0}]
[null,null,null,{"$f":"SUMIF(Gifts!A$4:A$5000, Donors!A780,Gifts!B$4:B$5000)","v":0}]
[null,null,null,{"$f":"SUMIF(Gifts!A$4:A$5000, Donors!A781,Gifts!B$4:B$5000)","v":0}]
[null,null,null,{"$f":"SUMIF(Gifts!A$4:A$5000, Donors!A782,Gifts!B$4:B$5000)","v":0}]
[null,null,null,{"$f":"SUMIF(Gifts!A$4:A$5000, Donors!A783,Gifts!B$4:B$5000)","v":0}]
[null,null,null,{"$f":"SUMIF(Gifts!A$4:A$5000, Donors!A784,Gifts!B$4:B$5000)","v":0}]
[null,null,null,{"$f":"SUMIF(Gifts!A$4:A$5000, Donors!A785,Gifts!B$4:B$5000)","v":0}]
[null,null,null,{"$f":"SUMIF(Gifts!A$4:A$5000, Donors!A786,Gifts!B$4:B$5000)","v":0}]
[null,null,null,{"$f":"SUMIF(Gifts!A$4:A$5000, Donors!A787,Gifts!B$4:B$5000)","v":0}]
[null,null,null,{"$f":"SUMIF(Gifts!A$4:A$5000, Donors!A788,Gifts!B$4:B$5000)","v":0}]
[null,null,null,{"$f":"SUMIF(Gifts!A$4:A$5000, Donors!A789,Gifts!B$4:B$5000)","v":0}]
[null,null,null,{"$f":"SUMIF(Gifts!A$4:A$5000, Donors!A790,Gifts!B$4:B$5000)","v":0}]
[null,null,null,{"$f":"SUMIF(Gifts!A$4:A$5000, Donors!A791,Gifts!B$4:B$5000)","v":0}]
[null,null,null,{"$f":"SUMIF(Gifts!A$4:A$5000, Donors!A792,Gifts!B$4:B$5000)","v":0}]
[null,null,null,{"$f":"SUMIF(Gifts!A$4:A$5000, Donors!A793,Gifts!B$4:B$5000)","v":0}]
[null,null,null,{"$f":"SUMIF(Gifts!A$4:A$5000, Donors!A794,Gifts!B$4:B$5000)","v":0}]
[null,null,null,{"$f":"SUMIF(Gifts!A$4:A$5000, Donors!A795,Gifts!B$4:B$5000)","v":0}]
[null,null,null,{"$f":"SUMIF(Gifts!A$4:A$5000, Donors!A796,Gifts!B$4:B$5000)","v":0}]
[null,null,null,{"$f":"SUMIF(Gifts!A$4:A$5000, Donors!A797,Gifts!B$4:B$5000)","v":0}]
[null,null,null,{"$f":"SUMIF(Gifts!A$4:A$5000, Donors!A798,Gifts!B$4:B$5000)","v":0}]
[null,null,null,{"$f":"SUMIF(Gifts!A$4:A$5000, Donors!A799,Gifts!B$4:B$5000)","v":0}]
[null,null,null,{"$f":"SUMIF(Gifts!A$4:A$5000, Donors!A800,Gifts!B$4:B$5000)","v":0}]
[null,null,null,{"$f":"SUMIF(Gifts!A$4:A$5000, Donors!A801,Gifts!B$4:B$5000)","v":0}]
[null,null,null,{"$f":"SUMIF(Gifts!A$4:A$5000, Donors!A802,Gifts!B$4:B$5000)","v":0}]
[null,null,null,{"$f":"SUMIF(Gifts!A$4:A$5000, Donors!A803,Gifts!B$4:B$5000)","v":0}]
[null,null,null,{"$f":"SUMIF(Gifts!A$4:A$5000, Donors!A804,Gifts!B$4:B$5000)","v":0}]
[null,null,null,{"$f":"SUMIF(Gifts!A$4:A$5000, Donors!A805,Gifts!B$4:B$5000)","v":0}]
[null,null,null,{"$f":"SUMIF(Gifts!A$4:A$5000, Donors!A806,Gifts!B$4:B$5000)","v":0}]
[null,null,null,{"$f":"SUMIF(Gifts!A$4:A$5000, Donors!A807,Gifts!B$4:B$5000)","v":0}]
[null,null,null,{"$f":"SUMIF(Gifts!A$4:A$5000, Donors!A808,Gifts!B$4:B$5000)","v":0}]
[null,null,null,{"$f":"SUMIF(Gifts!A$4:A$5000, Donors!A809,Gifts!B$4:B$5000)","v":0}]
[null,null,null,{"$f":"SUMIF(Gifts!A$4:A$5000, Donors!A810,Gifts!B$4:B$5000)","v":0}]
[null,null,null,{"$f":"SUMIF(Gifts!A$4:A$5000, Donors!A811,Gifts!B$4:B$5000)","v":0}]
[null,null,null,{"$f":"SUMIF(Gifts!A$4:A$5000, Donors!A812,Gifts!B$4:B$5000)","v":0}]
[null,null,null,{"$f":"SUMIF(Gifts!A$4:A$5000, Donors!A813,Gifts!B$4:B$5000)","v":0}]
[null,null,null,{"$f":"SUMIF(Gifts!A$4:A$5000, Donors!A814,Gifts!B$4:B$5000)","v":0}]
[null,null,null,{"$f":"SUMIF(Gifts!A$4:A$5000, Donors!A815,Gifts!B$4:B$5000)","v":0}]
[null,null,null,{"$f":"SUMIF(Gifts!A$4:A$5000, Donors!A816,Gifts!B$4:B$5000)","v":0}]
[null,null,null,{"$f":"SUMIF(Gifts!A$4:A$5000, Donors!A817,Gifts!B$4:B$5000)","v":0}]
[null,null,null,{"$f":"SUMIF(Gifts!A$4:A$5000, Donors!A818,Gifts!B$4:B$5000)","v":0}]
[null,null,null,{"$f":"SUMIF(Gifts!A$4:A$5000, Donors!A819,Gifts!B$4:B$5000)","v":0}]
[null,null,null,{"$f":"SUMIF(Gifts!A$4:A$5000, Donors!A820,Gifts!B$4:B$5000)","v":0}]
[null,null,null,{"$f":"SUMIF(Gifts!A$4:A$5000, Donors!A821,Gifts!B$4:B$5000)","v":0}]
[null,null,null,{"$f":"SUMIF(Gifts!A$4:A$5000, Donors!A822,Gifts!B$4:B$5000)","v":0}]
[null,null,null,{"$f":"SUMIF(Gifts!A$4:A$5000, Donors!A823,Gifts!B$4:B$5000)","v":0}]
[null,null,null,{"$f":"SUMIF(Gifts!A$4:A$5000, Donors!A824,Gifts!B$4:B$5000)","v":0}]
[null,null,null,{"$f":"SUMIF(Gifts!A$4:A$5000, Donors!A825,Gifts!B$4:B$5000)","v":0}]
[null,null,null,{"$f":"SUMIF(Gifts!A$4:A$5000, Donors!A826,Gifts!B$4:B$5000)","v":0}]
[null,null,null,{"$f":"SUMIF(Gifts!A$4:A$5000, Donors!A827,Gifts!B$4:B$5000)","v":0}]
[null,null,null,{"$f":"SUMIF(Gifts!A$4:A$5000, Donors!A828,Gifts!B$4:B$5000)","v":0}]
[null,null,null,{"$f":"SUMIF(Gifts!A$4:A$5000, Donors!A829,Gifts!B$4:B$5000)","v":0}]
[null,null,null,{"$f":"SUMIF(Gifts!A$4:A$5000, Donors!A830,Gifts!B$4:B$5000)","v":0}]
[null,null,null,{"$f":"SUMIF(Gifts!A$4:A$5000, Donors!A831,Gifts!B$4:B$5000)","v":0}]
[null,null,null,{"$f":"SUMIF(Gifts!A$4:A$5000, Donors!A832,Gifts!B$4:B$5000)","v":0}]
[null,null,null,{"$f":"SUMIF(Gifts!A$4:A$5000, Donors!A833,Gifts!B$4:B$5000)","v":0}]
[null,null,null,{"$f":"SUMIF(Gifts!A$4:A$5000, Donors!A834,Gifts!B$4:B$5000)","v":0}]
[null,null,null,{"$f":"SUMIF(Gifts!A$4:A$5000, Donors!A835,Gifts!B$4:B$5000)","v":0}]
[null,null,null,{"$f":"SUMIF(Gifts!A$4:A$5000, Donors!A836,Gifts!B$4:B$5000)","v":0}]
[null,null,null,{"$f":"SUMIF(Gifts!A$4:A$5000, Donors!A837,Gifts!B$4:B$5000)","v":0}]
[null,null,null,{"$f":"SUMIF(Gifts!A$4:A$5000, Donors!A838,Gifts!B$4:B$5000)","v":0}]
[null,null,null,{"$f":"SUMIF(Gifts!A$4:A$5000, Donors!A839,Gifts!B$4:B$5000)","v":0}]
[null,null,null,{"$f":"SUMIF(Gifts!A$4:A$5000, Donors!A840,Gifts!B$4:B$5000)","v":0}]
[null,null,null,{"$f":"SUMIF(Gifts!A$4:A$5000, Donors!A841,Gifts!B$4:B$5000)","v":0}]
[null,null,null,{"$f":"SUMIF(Gifts!A$4:A$5000, Donors!A842,Gifts!B$4:B$5000)","v":0}]
[null,null,null,{"$f":"SUMIF(Gifts!A$4:A$5000, Donors!A843,Gifts!B$4:B$5000)","v":0}]
[null,null,null,{"$f":"SUMIF(Gifts!A$4:A$5000, Donors!A844,Gifts!B$4:B$5000)","v":0}]
[null,null,null,{"$f":"SUMIF(Gifts!A$4:A$5000, Donors!A845,Gifts!B$4:B$5000)","v":0}]
[null,null,null,{"$f":"SUMIF(Gifts!A$4:A$5000, Donors!A846,Gifts!B$4:B$5000)","v":0}]
[null,null,null,{"$f":"SUMIF(Gifts!A$4:A$5000, Donors!A847,Gifts!B$4:B$5000)","v":0}]
[null,null,null,{"$f":"SUMIF(Gifts!A$4:A$5000, Donors!A848,Gifts!B$4:B$5000)","v":0}]
[null,null,null,{"$f":"SUMIF(Gifts!A$4:A$5000, Donors!A849,Gifts!B$4:B$5000)","v":0}]
[null,null,null,{"$f":"SUMIF(Gifts!A$4:A$5000, Donors!A850,Gifts!B$4:B$5000)","v":0}]
[null,null,null,{"$f":"SUMIF(Gifts!A$4:A$5000, Donors!A851,Gifts!B$4:B$5000)","v":0}]
[null,null,null,{"$f":"SUMIF(Gifts!A$4:A$5000, Donors!A852,Gifts!B$4:B$5000)","v":0}]
[null,null,null,{"$f":"SUMIF(Gifts!A$4:A$5000, Donors!A853,Gifts!B$4:B$5000)","v":0}]
[null,null,null,{"$f":"SUMIF(Gifts!A$4:A$5000, Donors!A854,Gifts!B$4:B$5000)","v":0}]
[null,null,null,{"$f":"SUMIF(Gifts!A$4:A$5000, Donors!A855,Gifts!B$4:B$5000)","v":0}]
[null,null,null,{"$f":"SUMIF(Gifts!A$4:A$5000, Donors!A856,Gifts!B$4:B$5000)","v":0}]
[null,null,null,{"$f":"SUMIF(Gifts!A$4:A$5000, Donors!A857,Gifts!B$4:B$5000)","v":0}]
[null,null,null,{"$f":"SUMIF(Gifts!A$4:A$5000, Donors!A858,Gifts!B$4:B$5000)","v":0}]
[null,null,null,{"$f":"SUMIF(Gifts!A$4:A$5000, Donors!A859,Gifts!B$4:B$5000)","v":0}]
[null,null,null,{"$f":"SUMIF(Gifts!A$4:A$5000, Donors!A860,Gifts!B$4:B$5000)","v":0}]
[null,null,null,{"$f":"SUMIF(Gifts!A$4:A$5000, Donors!A861,Gifts!B$4:B$5000)","v":0}]
[null,null,null,{"$f":"SUMIF(Gifts!A$4:A$5000, Donors!A862,Gifts!B$4:B$5000)","v":0}]
[null,null,null,{"$f":"SUMIF(Gifts!A$4:A$5000, Donors!A863,Gifts!B$4:B$5000)","v":0}]
[null,null,null,{"$f":"SUMIF(Gifts!A$4:A$5000, Donors!A864,Gifts!B$4:B$5000)","v":0}]
[null,null,null,{"$f":"SUMIF(Gifts!A$4:A$5000, Donors!A865,Gifts!B$4:B$5000)","v":0}]
[null,null,null,{"$f":"SUMIF(Gifts!A$4:A$5000, Donors!A866,Gifts!B$4:B$5000)","v":0}]
[null,null,null,{"$f":"SUMIF(Gifts!A$4:A$5000, Donors!A867,Gifts!B$4:B$5000)","v":0}]
[null,null,null,{"$f":"SUMIF(Gifts!A$4:A$5000, Donors!A868,Gifts!B$4:B$5000)","v":0}]
[null,null,null,{"$f":"SUMIF(Gifts!A$4:A$5000, Donors!A869,Gifts!B$4:B$5000)","v":0}]
[null,null,null,{"$f":"SUMIF(Gifts!A$4:A$5000, Donors!A870,Gifts!B$4:B$5000)","v":0}]
[null,null,null,{"$f":"SUMIF(Gifts!A$4:A$5000, Donors!A871,Gifts!B$4:B$5000)","v":0}]
[null,null,null,{"$f":"SUMIF(Gifts!A$4:A$5000, Donors!A872,Gifts!B$4:B$5000)","v":0}]
[null,null,null,{"$f":"SUMIF(Gifts!A$4:A$5000, Donors!A873,Gifts!B$4:B$5000)","v":0}]
[null,null,null,{"$f":"SUMIF(Gifts!A$4:A$5000, Donors!A874,Gifts!B$4:B$5000)","v":0}]
[null,null,null,{"$f":"SUMIF(Gifts!A$4:A$5000, Donors!A875,Gifts!B$4:B$5000)","v":0}]
[null,null,null,{"$f":"SUMIF(Gifts!A$4:A$5000, Donors!A876,Gifts!B$4:B$5000)","v":0}]
[null,null,null,{"$f":"SUMIF(Gifts!A$4:A$5000, Donors!A877,Gifts!B$4:B$5000)","v":0}]
[null,null,null,{"$f":"SUMIF(Gifts!A$4:A$5000, Donors!A878,Gifts!B$4:B$5000)","v":0}]
[null,null,null,{"$f":"SUMIF(Gifts!A$4:A$5000, Donors!A879,Gifts!B$4:B$5000)","v":0}]
[null,null,null,{"$f":"SUMIF(Gifts!A$4:A$5000, Donors!A880,Gifts!B$4:B$5000)","v":0}]
[null,null,null,{"$f":"SUMIF(Gifts!A$4:A$5000, Donors!A881,Gifts!B$4:B$5000)","v":0}]
[null,null,null,{"$f":"SUMIF(Gifts!A$4:A$5000, Donors!A882,Gifts!B$4:B$5000)","v":0}]
[null,null,null,{"$f":"SUMIF(Gifts!A$4:A$5000, Donors!A883,Gifts!B$4:B$5000)","v":0}]
[null,null,null,{"$f":"SUMIF(Gifts!A$4:A$5000, Donors!A884,Gifts!B$4:B$5000)","v":0}]
[null,null,null,{"$f":"SUMIF(Gifts!A$4:A$5000, Donors!A885,Gifts!B$4:B$5000)","v":0}]
[null,null,null,{"$f":"SUMIF(Gifts!A$4:A$5000, Donors!A886,Gifts!B$4:B$5000)","v":0}]
[null,null,null,{"$f":"SUMIF(Gifts!A$4:A$5000, Donors!A887,Gifts!B$4:B$5000)","v":0}]
[null,null,null,{"$f":"SUMIF(Gifts!A$4:A$5000, Donors!A888,Gifts!B$4:B$5000)","v":0}]
[null,null,null,{"$f":"SUMIF(Gifts!A$4:A$5000, Donors!A889,Gifts!B$4:B$5000)","v":0}]
[null,null,null,{"$f":"SUMIF(Gifts!A$4:A$5000, Donors!A890,Gifts!B$4:B$5000)","v":0}]
[null,null,null,{"$f":"SUMIF(Gifts!A$4:A$5000, Donors!A891,Gifts!B$4:B$5000)","v":0}]
[null,null,null,{"$f":"SUMIF(Gifts!A$4:A$5000, Donors!A892,Gifts!B$4:B$5000)","v":0}]
[null,null,null,{"$f":"SUMIF(Gifts!A$4:A$5000, Donors!A893,Gifts!B$4:B$5000)","v":0}]
[null,null,null,{"$f":"SUMIF(Gifts!A$4:A$5000, Donors!A894,Gifts!B$4:B$5000)","v":0}]
[null,null,null,{"$f":"SUMIF(Gifts!A$4:A$5000, Donors!A895,Gifts!B$4:B$5000)","v":0}]
[null,null,null,{"$f":"SUMIF(Gifts!A$4:A$5000, Donors!A896,Gifts!B$4:B$5000)","v":0}]
[null,null,null,{"$f":"SUMIF(Gifts!A$4:A$5000, Donors!A897,Gifts!B$4:B$5000)","v":0}]
[null,null,null,{"$f":"SUMIF(Gifts!A$4:A$5000, Donors!A898,Gifts!B$4:B$5000)","v":0}]
[null,null,null,{"$f":"SUMIF(Gifts!A$4:A$5000, Donors!A899,Gifts!B$4:B$5000)","v":0}]
[null,null,null,{"$f":"SUMIF(Gifts!A$4:A$5000, Donors!A900,Gifts!B$4:B$5000)","v":0}]
[null,null,null,{"$f":"SUMIF(Gifts!A$4:A$5000, Donors!A901,Gifts!B$4:B$5000)","v":0}]
[null,null,null,{"$f":"SUMIF(Gifts!A$4:A$5000, Donors!A902,Gifts!B$4:B$5000)","v":0}]
[null,null,null,{"$f":"SUMIF(Gifts!A$4:A$5000, Donors!A903,Gifts!B$4:B$5000)","v":0}]
[null,null,null,{"$f":"SUMIF(Gifts!A$4:A$5000, Donors!A904,Gifts!B$4:B$5000)","v":0}]
[null,null,null,{"$f":"SUMIF(Gifts!A$4:A$5000, Donors!A905,Gifts!B$4:B$5000)","v":0}]
[null,null,null,{"$f":"SUMIF(Gifts!A$4:A$5000, Donors!A906,Gifts!B$4:B$5000)","v":0}]
[null,null,null,{"$f":"SUMIF(Gifts!A$4:A$5000, Donors!A907,Gifts!B$4:B$5000)","v":0}]
[null,null,null,{"$f":"SUMIF(Gifts!A$4:A$5000, Donors!A908,Gifts!B$4:B$5000)","v":0}]
[null,null,null,{"$f":"SUMIF(Gifts!A$4:A$5000, Donors!A909,Gifts!B$4:B$5000)","v":0}]
[null,null,null,{"$f":"SUMIF(Gifts!A$4:A$5000, Donors!A910,Gifts!B$4:B$5000)","v":0}]
[null,null,null,{"$f":"SUMIF(Gifts!A$4:A$5000, Donors!A911,Gifts!B$4:B$5000)","v":0}]
[null,null,null,{"$f":"SUMIF(Gifts!A$4:A$5000, Donors!A912,Gifts!B$4:B$5000)","v":0}]
[null,null,null,{"$f":"SUMIF(Gifts!A$4:A$5000, Donors!A913,Gifts!B$4:B$5000)","v":0}]
[null,null,null,{"$f":"SUMIF(Gifts!A$4:A$5000, Donors!A914,Gifts!B$4:B$5000)","v":0}]
[null,null,null,{"$f":"SUMIF(Gifts!A$4:A$5000, Donors!A915,Gifts!B$4:B$5000)","v":0}]
[null,null,null,{"$f":"SUMIF(Gifts!A$4:A$5000, Donors!A916,Gifts!B$4:B$5000)","v":0}]
[null,null,null,{"$f":"SUMIF(Gifts!A$4:A$5000, Donors!A917,Gifts!B$4:B$5000)","v":0}]
[null,null,null,{"$f":"SUMIF(Gifts!A$4:A$5000, Donors!A918,Gifts!B$4:B$5000)","v":0}]
[null,null,null,{"$f":"SUMIF(Gifts!A$4:A$5000, Donors!A919,Gifts!B$4:B$5000)","v":0}]
[null,null,null,{"$f":"SUMIF(Gifts!A$4:A$5000, Donors!A920,Gifts!B$4:B$5000)","v":0}]
[null,null,null,{"$f":"SUMIF(Gifts!A$4:A$5000, Donors!A921,Gifts!B$4:B$5000)","v":0}]
[null,null,null,{"$f":"SUMIF(Gifts!A$4:A$5000, Donors!A922,Gifts!B$4:B$5000)","v":0}]
[null,null,null,{"$f":"SUMIF(Gifts!A$4:A$5000, Donors!A923,Gifts!B$4:B$5000)","v":0}]
[null,null,null,{"$f":"SUMIF(Gifts!A$4:A$5000, Donors!A924,Gifts!B$4:B$5000)","v":0}]
[null,null,null,{"$f":"SUMIF(Gifts!A$4:A$5000, Donors!A925,Gifts!B$4:B$5000)","v":0}]
[null,null,null,{"$f":"SUMIF(Gifts!A$4:A$5000, Donors!A926,Gifts!B$4:B$5000)","v":0}]
[null,null,null,{"$f":"SUMIF(Gifts!A$4:A$5000, Donors!A927,Gifts!B$4:B$5000)","v":0}]
[null,null,null,{"$f":"SUMIF(Gifts!A$4:A$5000, Donors!A928,Gifts!B$4:B$5000)","v":0}]
[null,null,null,{"$f":"SUMIF(Gifts!A$4:A$5000, Donors!A929,Gifts!B$4:B$5000)","v":0}]
[null,null,null,{"$f":"SUMIF(Gifts!A$4:A$5000, Donors!A930,Gifts!B$4:B$5000)","v":0}]
[null,null,null,{"$f":"SUMIF(Gifts!A$4:A$5000, Donors!A931,Gifts!B$4:B$5000)","v":0}]
[null,null,null,{"$f":"SUMIF(Gifts!A$4:A$5000, Donors!A932,Gifts!B$4:B$5000)","v":0}]
[null,null,null,{"$f":"SUMIF(Gifts!A$4:A$5000, Donors!A933,Gifts!B$4:B$5000)","v":0}]
[null,null,null,{"$f":"SUMIF(Gifts!A$4:A$5000, Donors!A934,Gifts!B$4:B$5000)","v":0}]
[null,null,null,{"$f":"SUMIF(Gifts!A$4:A$5000, Donors!A935,Gifts!B$4:B$5000)","v":0}]
[null,null,null,{"$f":"SUMIF(Gifts!A$4:A$5000, Donors!A936,Gifts!B$4:B$5000)","v":0}]
[null,null,null,{"$f":"SUMIF(Gifts!A$4:A$5000, Donors!A937,Gifts!B$4:B$5000)","v":0}]
[null,null,null,{"$f":"SUMIF(Gifts!A$4:A$5000, Donors!A938,Gifts!B$4:B$5000)","v":0}]
[null,null,null,{"$f":"SUMIF(Gifts!A$4:A$5000, Donors!A939,Gifts!B$4:B$5000)","v":0}]
[null,null,null,{"$f":"SUMIF(Gifts!A$4:A$5000, Donors!A940,Gifts!B$4:B$5000)","v":0}]
[null,null,null,{"$f":"SUMIF(Gifts!A$4:A$5000, Donors!A941,Gifts!B$4:B$5000)","v":0}]
[null,null,null,{"$f":"SUMIF(Gifts!A$4:A$5000, Donors!A942,Gifts!B$4:B$5000)","v":0}]
[null,null,null,{"$f":"SUMIF(Gifts!A$4:A$5000, Donors!A943,Gifts!B$4:B$5000)","v":0}]
[null,null,null,{"$f":"SUMIF(Gifts!A$4:A$5000, Donors!A944,Gifts!B$4:B$5000)","v":0}]
[null,null,null,{"$f":"SUMIF(Gifts!A$4:A$5000, Donors!A945,Gifts!B$4:B$5000)","v":0}]
[null,null,null,{"$f":"SUMIF(Gifts!A$4:A$5000, Donors!A946,Gifts!B$4:B$5000)","v":0}]
[null,null,null,{"$f":"SUMIF(Gifts!A$4:A$5000, Donors!A947,Gifts!B$4:B$5000)","v":0}]
[null,null,null,{"$f":"SUMIF(Gifts!A$4:A$5000, Donors!A948,Gifts!B$4:B$5000)","v":0}]
[null,null,null,{"$f":"SUMIF(Gifts!A$4:A$5000, Donors!A949,Gifts!B$4:B$5000)","v":0}]
[null,null,null,{"$f":"SUMIF(Gifts!A$4:A$5000, Donors!A950,Gifts!B$4:B$5000)","v":0}]
[null,null,null,{"$f":"SUMIF(Gifts!A$4:A$5000, Donors!A951,Gifts!B$4:B$5000)","v":0}]
[null,null,null,{"$f":"SUMIF(Gifts!A$4:A$5000, Donors!A952,Gifts!B$4:B$5000)","v":0}]
[null,null,null,{"$f":"SUMIF(Gifts!A$4:A$5000, Donors!A953,Gifts!B$4:B$5000)","v":0}]
[null,null,null,{"$f":"SUMIF(Gifts!A$4:A$5000, Donors!A954,Gifts!B$4:B$5000)","v":0}]
[null,null,null,{"$f":"SUMIF(Gifts!A$4:A$5000, Donors!A955,Gifts!B$4:B$5000)","v":0}]
[null,null,null,{"$f":"SUMIF(Gifts!A$4:A$5000, Donors!A956,Gifts!B$4:B$5000)","v":0}]
[null,null,null,{"$f":"SUMIF(Gifts!A$4:A$5000, Donors!A957,Gifts!B$4:B$5000)","v":0}]
[null,null,null,{"$f":"SUMIF(Gifts!A$4:A$5000, Donors!A958,Gifts!B$4:B$5000)","v":0}]
[null,null,null,{"$f":"SUMIF(Gifts!A$4:A$5000, Donors!A959,Gifts!B$4:B$5000)","v":0}]
[null,null,null,{"$f":"SUMIF(Gifts!A$4:A$5000, Donors!A960,Gifts!B$4:B$5000)","v":0}]
[null,null,null,{"$f":"SUMIF(Gifts!A$4:A$5000, Donors!A961,Gifts!B$4:B$5000)","v":0}]
[null,null,null,{"$f":"SUMIF(Gifts!A$4:A$5000, Donors!A962,Gifts!B$4:B$5000)","v":0}]
[null,null,null,{"$f":"SUMIF(Gifts!A$4:A$5000, Donors!A963,Gifts!B$4:B$5000)","v":0}]
[null,null,null,{"$f":"SUMIF(Gifts!A$4:A$5000, Donors!A964,Gifts!B$4:B$5000)","v":0}]
[null,null,null,{"$f":"SUMIF(Gifts!A$4:A$5000, Donors!A965,Gifts!B$4:B$5000)","v":0}]
[null,null,null,{"$f":"SUMIF(Gifts!A$4:A$5000, Donors!A966,Gifts!B$4:B$5000)","v":0}]
[null,null,null,{"$f":"SUMIF(Gifts!A$4:A$5000, Donors!A967,Gifts!B$4:B$5000)","v":0}]
[null,null,null,{"$f":"SUMIF(Gifts!A$4:A$5000, Donors!A968,Gifts!B$4:B$5000)","v":0}]
[null,null,null,{"$f":"SUMIF(Gifts!A$4:A$5000, Donors!A969,Gifts!B$4:B$5000)","v":0}]
[null,null,null,{"$f":"SUMIF(Gifts!A$4:A$5000, Donors!A970,Gifts!B$4:B$5000)","v":0}]
[null,null,null,{"$f":"SUMIF(Gifts!A$4:A$5000, Donors!A971,Gifts!B$4:B$5000)","v":0}]
[null,null,null,{"$f":"SUMIF(Gifts!A$4:A$5000, Donors!A972,Gifts!B$4:B$5000)","v":0}]
[null,null,null,{"$f":"SUMIF(Gifts!A$4:A$5000, Donors!A973,Gifts!B$4:B$5000)","v":0}]
[null,null,null,{"$f":"SUMIF(Gifts!A$4:A$5000, Donors!A974,Gifts!B$4:B$5000)","v":0}]
[null,null,null,{"$f":"SUMIF(Gifts!A$4:A$5000, Donors!A975,Gifts!B$4:B$5000)","v":0}]
[null,null,null,{"$f":"SUMIF(Gifts!A$4:A$5000, Donors!A976,Gifts!B$4:B$5000)","v":0}]
[null,null,null,{"$f":"SUMIF(Gifts!A$4:A$5000, Donors!A977,Gifts!B$4:B$5000)","v":0}]
[null,null,null,{"$f":"SUMIF(Gifts!A$4:A$5000, Donors!A978,Gifts!B$4:B$5000)","v":0}]
[null,null,null,{"$f":"SUMIF(Gifts!A$4:A$5000, Donors!A979,Gifts!B$4:B$5000)","v":0}]
[null,null,null,{"$f":"SUMIF(Gifts!A$4:A$5000, Donors!A980,Gifts!B$4:B$5000)","v":0}]
[null,null,null,{"$f":"SUMIF(Gifts!A$4:A$5000, Donors!A981,Gifts!B$4:B$5000)","v":0}]
[null,null,null,{"$f":"SUMIF(Gifts!A$4:A$5000, Donors!A982,Gifts!B$4:B$5000)","v":0}]
[null,null,null,{"$f":"SUMIF(Gifts!A$4:A$5000, Donors!A983,Gifts!B$4:B$5000)","v":0}]
[null,null,null,{"$f":"SUMIF(Gifts!A$4:A$5000, Donors!A984,Gifts!B$4:B$5000)","v":0}]
[null,null,null,{"$f":"SUMIF(Gifts!A$4:A$5000, Donors!A985,Gifts!B$4:B$5000)","v":0}]
[null,null,null,{"$f":"SUMIF(Gifts!A$4:A$5000, Donors!A986,Gifts!B$4:B$5000)","v":0}]
[null,null,null,{"$f":"SUMIF(Gifts!A$4:A$5000, Donors!A987,Gifts!B$4:B$5000)","v":0}]
[null,null,null,{"$f":"SUMIF(Gifts!A$4:A$5000, Donors!A988,Gifts!B$4:B$5000)","v":0}]
[null,null,null,{"$f":"SUMIF(Gifts!A$4:A$5000, Donors!A989,Gifts!B$4:B$5000)","v":0}]
[null,null,null,{"$f":"SUMIF(Gifts!A$4:A$5000, Donors!A990,Gifts!B$4:B$5000)","v":0}]
[null,null,null,{"$f":"SUMIF(Gifts!A$4:A$5000, Donors!A991,Gifts!B$4:B$5000)","v":0}]
[null,null,null,{"$f":"SUMIF(Gifts!A$4:A$5000, Donors!A992,Gifts!B$4:B$5000)","v":0}]
[null,null,null,{"$f":"SUMIF(Gifts!A$4:A$5000, Donors!A993,Gifts!B$4:B$5000)","v":0}]
[null,null,null,{"$f":"SUMIF(Gifts!A$4:A$5000, Donors!A994,Gifts!B$4:B$5000)","v":0}]
[null,null,null,{"$f":"SUMIF(Gifts!A$4:A$5000, Donors!A995,Gifts!B$4:B$5000)","v":0}]
[null,null,null,{"$f":"SUMIF(Gifts!A$4:A$5000, Donors!A996,Gifts!B$4:B$5000)","v":0}]
[null,null,null,{"$f":"SUMIF(Gifts!A$4:A$5000, Donors!A997,Gifts!B$4:B$5000)","v":0}]
[null,null,null,{"$f":"SUMIF(Gifts!A$4:A$5000, Donors!A998,Gifts!B$4:B$5000)","v":0}]
[null,null,null,{"$f":"SUMIF(Gifts!A$4:A$5000, Donors!A999,Gifts!B$4:B$5000)","v":0}]
[null,null,null,{"$f":"SUMIF(Gifts!A$4:A$5000, Donors!A1000,Gifts!B$4:B$5000)","v":0}]
[null,null,null,{"$f":"SUMIF(Gifts!A$4:A$5000, Donors!A1001,Gifts!B$4:B$5000)","v":0}]
[null,null,null,{"$f":"SUMIF(Gifts!A$4:A$5000, Donors!A1002,Gifts!B$4:B$5000)","v":0}]
[null,null,null,{"$f":"SUMIF(Gifts!A$4:A$5000, Donors!A1003,Gifts!B$4:B$5000)","v":0}]
[null,null,null,{"$f":"SUMIF(Gifts!A$4:A$5000, Donors!A1004,Gifts!B$4:B$5000)","v":0}]
[null,null,null,{"$f":"SUMIF(Gifts!A$4:A$5000, Donors!A1005,Gifts!B$4:B$5000)","v":0}]
[null,null,null,{"$f":"SUMIF(Gifts!A$4:A$5000, Donors!A1006,Gifts!B$4:B$5000)","v":0}]
[null,null,null,{"$f":"SUMIF(Gifts!A$4:A$5000, Donors!A1007,Gifts!B$4:B$5000)","v":0}]
[null,null,null,{"$f":"SUMIF(Gifts!A$4:A$5000, Donors!A1008,Gifts!B$4:B$5000)","v":0}]
[null,null,null,{"$f":"SUMIF(Gifts!A$4:A$5000, Donors!A1009,Gifts!B$4:B$5000)","v":0}]
[null,null,null,{"$f":"SUMIF(Gifts!A$4:A$5000, Donors!A1010,Gifts!B$4:B$5000)","v":0}]
[null,null,null,{"$f":"SUMIF(Gifts!A$4:A$5000, Donors!A1011,Gifts!B$4:B$5000)","v":0}]
[null,null,null,{"$f":"SUMIF(Gifts!A$4:A$5000, Donors!A1012,Gifts!B$4:B$5000)","v":0}]
[null,null,null,{"$f":"SUMIF(Gifts!A$4:A$5000, Donors!A1013,Gifts!B$4:B$5000)","v":0}]
[null,null,null,{"$f":"SUMIF(Gifts!A$4:A$5000, Donors!A1014,Gifts!B$4:B$5000)","v":0}]
[null,null,null,{"$f":"SUMIF(Gifts!A$4:A$5000, Donors!A1015,Gifts!B$4:B$5000)","v":0}]
[null,null,null,{"$f":"SUMIF(Gifts!A$4:A$5000, Donors!A1016,Gifts!B$4:B$5000)","v":0}]
[null,null,null,{"$f":"SUMIF(Gifts!A$4:A$5000, Donors!A1017,Gifts!B$4:B$5000)","v":0}]
[null,null,null,{"$f":"SUMIF(Gifts!A$4:A$5000, Donors!A1018,Gifts!B$4:B$5000)","v":0}]
[null,null,null,{"$f":"SUMIF(Gifts!A$4:A$5000, Donors!A1019,Gifts!B$4:B$5000)","v":0}]
[null,null,null,{"$f":"SUMIF(Gifts!A$4:A$5000, Donors!A1020,Gifts!B$4:B$5000)","v":0}]
[null,null,null,{"$f":"SUMIF(Gifts!A$4:A$5000, Donors!A1021,Gifts!B$4:B$5000)","v":0}]
[null,null,null,{"$f":"SUMIF(Gifts!A$4:A$5000, Donors!A1022,Gifts!B$4:B$5000)","v":0}]
[null,null,null,{"$f":"SUMIF(Gifts!A$4:A$5000, Donors!A1023,Gifts!B$4:B$5000)","v":0}]
[null,null,null,{"$f":"SUMIF(Gifts!A$4:A$5000, Donors!A1024,Gifts!B$4:B$5000)","v":0}]
[null,null,null,{"$f":"SUMIF(Gifts!A$4:A$5000, Donors!A1025,Gifts!B$4:B$5000)","v":0}]
[null,null,null,{"$f":"SUMIF(Gifts!A$4:A$5000, Donors!A1026,Gifts!B$4:B$5000)","v":0}]
[null,null,null,{"$f":"SUMIF(Gifts!A$4:A$5000, Donors!A1027,Gifts!B$4:B$5000)","v":0}]
[null,null,null,{"$f":"SUMIF(Gifts!A$4:A$5000, Donors!A1028,Gifts!B$4:B$5000)","v":0}]
[null,null,null,{"$f":"SUMIF(Gifts!A$4:A$5000, Donors!A1029,Gifts!B$4:B$5000)","v":0}]
[null,null,null,{"$f":"SUMIF(Gifts!A$4:A$5000, Donors!A1030,Gifts!B$4:B$5000)","v":0}]
[null,null,null,{"$f":"SUMIF(Gifts!A$4:A$5000, Donors!A1031,Gifts!B$4:B$5000)","v":0}]
[null,null,null,{"$f":"SUMIF(Gifts!A$4:A$5000, Donors!A1032,Gifts!B$4:B$5000)","v":0}]
[null,null,null,{"$f":"SUMIF(Gifts!A$4:A$5000, Donors!A1033,Gifts!B$4:B$5000)","v":0}]
[null,null,null,{"$f":"SUMIF(Gifts!A$4:A$5000, Donors!A1034,Gifts!B$4:B$5000)","v":0}]
[null,null,null,{"$f":"SUMIF(Gifts!A$4:A$5000, Donors!A1035,Gifts!B$4:B$5000)","v":0}]
[null,null,null,{"$f":"SUMIF(Gifts!A$4:A$5000, Donors!A1036,Gifts!B$4:B$5000)","v":0}]
[null,null,null,{"$f":"SUMIF(Gifts!A$4:A$5000, Donors!A1037,Gifts!B$4:B$5000)","v":0}]
[null,null,null,{"$f":"SUMIF(Gifts!A$4:A$5000, Donors!A1038,Gifts!B$4:B$5000)","v":0}]
[null,null,null,{"$f":"SUMIF(Gifts!A$4:A$5000, Donors!A1039,Gifts!B$4:B$5000)","v":0}]
[null,null,null,{"$f":"SUMIF(Gifts!A$4:A$5000, Donors!A1040,Gifts!B$4:B$5000)","v":0}]
[null,null,null,{"$f":"SUMIF(Gifts!A$4:A$5000, Donors!A1041,Gifts!B$4:B$5000)","v":0}]
[null,null,null,{"$f":"SUMIF(Gifts!A$4:A$5000, Donors!A1042,Gifts!B$4:B$5000)","v":0}]
[null,null,null,{"$f":"SUMIF(Gifts!A$4:A$5000, Donors!A1043,Gifts!B$4:B$5000)","v":0}]
[null,null,null,{"$f":"SUMIF(Gifts!A$4:A$5000, Donors!A1044,Gifts!B$4:B$5000)","v":0}]
[null,null,null,{"$f":"SUMIF(Gifts!A$4:A$5000, Donors!A1045,Gifts!B$4:B$5000)","v":0}]
[null,null,null,{"$f":"SUMIF(Gifts!A$4:A$5000, Donors!A1046,Gifts!B$4:B$5000)","v":0}]
[null,null,null,{"$f":"SUMIF(Gifts!A$4:A$5000, Donors!A1047,Gifts!B$4:B$5000)","v":0}]
[null,null,null,{"$f":"SUMIF(Gifts!A$4:A$5000, Donors!A1048,Gifts!B$4:B$5000)","v":0}]
[null,null,null,{"$f":"SUMIF(Gifts!A$4:A$5000, Donors!A1049,Gifts!B$4:B$5000)","v":0}]
[null,null,null,{"$f":"SUMIF(Gifts!A$4:A$5000, Donors!A1050,Gifts!B$4:B$5000)","v":0}]
[null,null,null,{"$f":"SUMIF(Gifts!A$4:A$5000, Donors!A1051,Gifts!B$4:B$5000)","v":0}]
[null,null,null,{"$f":"SUMIF(Gifts!A$4:A$5000, Donors!A1052,Gifts!B$4:B$5000)","v":0}]
[null,null,null,{"$f":"SUMIF(Gifts!A$4:A$5000, Donors!A1053,Gifts!B$4:B$5000)","v":0}]
[null,null,null,{"$f":"SUMIF(Gifts!A$4:A$5000, Donors!A1054,Gifts!B$4:B$5000)","v":0}]
[null,null,null,{"$f":"SUMIF(Gifts!A$4:A$5000, Donors!A1055,Gifts!B$4:B$5000)","v":0}]
[null,null,null,{"$f":"SUMIF(Gifts!A$4:A$5000, Donors!A1056,Gifts!B$4:B$5000)","v":0}]
[null,null,null,{"$f":"SUMIF(Gifts!A$4:A$5000, Donors!A1057,Gifts!B$4:B$5000)","v":0}]
[null,null,null,{"$f":"SUMIF(Gifts!A$4:A$5000, Donors!A1058,Gifts!B$4:B$5000)","v":0}]
[null,null,null,{"$f":"SUMIF(Gifts!A$4:A$5000, Donors!A1059,Gifts!B$4:B$5000)","v":0}]
[null,null,null,{"$f":"SUMIF(Gifts!A$4:A$5000, Donors!A1060,Gifts!B$4:B$5000)","v":0}]
[null,null,null,{"$f":"SUMIF(Gifts!A$4:A$5000, Donors!A1061,Gifts!B$4:B$5000)","v":0}]
[null,null,null,{"$f":"SUMIF(Gifts!A$4:A$5000, Donors!A1062,Gifts!B$4:B$5000)","v":0}]
[null,null,null,{"$f":"SUMIF(Gifts!A$4:A$5000, Donors!A1063,Gifts!B$4:B$5000)","v":0}]
[null,null,null,{"$f":"SUMIF(Gifts!A$4:A$5000, Donors!A1064,Gifts!B$4:B$5000)","v":0}]
[null,null,null,{"$f":"SUMIF(Gifts!A$4:A$5000, Donors!A1065,Gifts!B$4:B$5000)","v":0}]
[null,null,null,{"$f":"SUMIF(Gifts!A$4:A$5000, Donors!A1066,Gifts!B$4:B$5000)","v":0}]
[null,null,null,{"$f":"SUMIF(Gifts!A$4:A$5000, Donors!A1067,Gifts!B$4:B$5000)","v":0}]
[null,null,null,{"$f":"SUMIF(Gifts!A$4:A$5000, Donors!A1068,Gifts!B$4:B$5000)","v":0}]
[null,null,null,{"$f":"SUMIF(Gifts!A$4:A$5000, Donors!A1069,Gifts!B$4:B$5000)","v":0}]
[null,null,null,{"$f":"SUMIF(Gifts!A$4:A$5000, Donors!A1070,Gifts!B$4:B$5000)","v":0}]
[null,null,null,{"$f":"SUMIF(Gifts!A$4:A$5000, Donors!A1071,Gifts!B$4:B$5000)","v":0}]
[null,null,null,{"$f":"SUMIF(Gifts!A$4:A$5000, Donors!A1072,Gifts!B$4:B$5000)","v":0}]
[null,null,null,{"$f":"SUMIF(Gifts!A$4:A$5000, Donors!A1073,Gifts!B$4:B$5000)","v":0}]
[null,null,null,{"$f":"SUMIF(Gifts!A$4:A$5000, Donors!A1074,Gifts!B$4:B$5000)","v":0}]
[null,null,null,{"$f":"SUMIF(Gifts!A$4:A$5000, Donors!A1075,Gifts!B$4:B$5000)","v":0}]
[null,null,null,{"$f":"SUMIF(Gifts!A$4:A$5000, Donors!A1076,Gifts!B$4:B$5000)","v":0}]
[null,null,null,{"$f":"SUMIF(Gifts!A$4:A$5000, Donors!A1077,Gifts!B$4:B$5000)","v":0}]
[null,null,null,{"$f":"SUMIF(Gifts!A$4:A$5000, Donors!A1078,Gifts!B$4:B$5000)","v":0}]
[null,null,null,{"$f":"SUMIF(Gifts!A$4:A$5000, Donors!A1079,Gifts!B$4:B$5000)","v":0}]
[null,null,null,{"$f":"SUMIF(Gifts!A$4:A$5000, Donors!A1080,Gifts!B$4:B$5000)","v":0}]
[null,null,null,{"$f":"SUMIF(Gifts!A$4:A$5000, Donors!A1081,Gifts!B$4:B$5000)","v":0}]
[null,null,null,{"$f":"SUMIF(Gifts!A$4:A$5000, Donors!A1082,Gifts!B$4:B$5000)","v":0}]
[null,null,null,{"$f":"SUMIF(Gifts!A$4:A$5000, Donors!A1083,Gifts!B$4:B$5000)","v":0}]
[null,null,null,{"$f":"SUMIF(Gifts!A$4:A$5000, Donors!A1084,Gifts!B$4:B$5000)","v":0}]
[null,null,null,{"$f":"SUMIF(Gifts!A$4:A$5000, Donors!A1085,Gifts!B$4:B$5000)","v":0}]
[null,null,null,{"$f":"SUMIF(Gifts!A$4:A$5000, Donors!A1086,Gifts!B$4:B$5000)","v":0}]
[null,null,null,{"$f":"SUMIF(Gifts!A$4:A$5000, Donors!A1087,Gifts!B$4:B$5000)","v":0}]
[null,null,null,{"$f":"SUMIF(Gifts!A$4:A$5000, Donors!A1088,Gifts!B$4:B$5000)","v":0}]
[null,null,null,{"$f":"SUMIF(Gifts!A$4:A$5000, Donors!A1089,Gifts!B$4:B$5000)","v":0}]
[null,null,null,{"$f":"SUMIF(Gifts!A$4:A$5000, Donors!A1090,Gifts!B$4:B$5000)","v":0}]
[null,null,null,{"$f":"SUMIF(Gifts!A$4:A$5000, Donors!A1091,Gifts!B$4:B$5000)","v":0}]
[null,null,null,{"$f":"SUMIF(Gifts!A$4:A$5000, Donors!A1092,Gifts!B$4:B$5000)","v":0}]
[null,null,null,{"$f":"SUMIF(Gifts!A$4:A$5000, Donors!A1093,Gifts!B$4:B$5000)","v":0}]
[null,null,null,{"$f":"SUMIF(Gifts!A$4:A$5000, Donors!A1094,Gifts!B$4:B$5000)","v":0}]
[null,null,null,{"$f":"SUMIF(Gifts!A$4:A$5000, Donors!A1095,Gifts!B$4:B$5000)","v":0}]
[null,null,null,{"$f":"SUMIF(Gifts!A$4:A$5000, Donors!A1096,Gifts!B$4:B$5000)","v":0}]
[null,null,null,{"$f":"SUMIF(Gifts!A$4:A$5000, Donors!A1097,Gifts!B$4:B$5000)","v":0}]
[null,null,null,{"$f":"SUMIF(Gifts!A$4:A$5000, Donors!A1098,Gifts!B$4:B$5000)","v":0}]
[null,null,null,{"$f":"SUMIF(Gifts!A$4:A$5000, Donors!A1099,Gifts!B$4:B$5000)","v":0}]
[null,null,null,{"$f":"SUMIF(Gifts!A$4:A$5000, Donors!A1100,Gifts!B$4:B$5000)","v":0}]
[null,null,null,{"$f":"SUMIF(Gifts!A$4:A$5000, Donors!A1101,Gifts!B$4:B$5000)","v":0}]
[null,null,null,{"$f":"SUMIF(Gifts!A$4:A$5000, Donors!A1102,Gifts!B$4:B$5000)","v":0}]
[null,null,null,{"$f":"SUMIF(Gifts!A$4:A$5000, Donors!A1103,Gifts!B$4:B$5000)","v":0}]
[null,null,null,{"$f":"SUMIF(Gifts!A$4:A$5000, Donors!A1104,Gifts!B$4:B$5000)","v":0}]
[null,null,null,{"$f":"SUMIF(Gifts!A$4:A$5000, Donors!A1105,Gifts!B$4:B$5000)","v":0}]
[null,null,null,{"$f":"SUMIF(Gifts!A$4:A$5000, Donors!A1106,Gifts!B$4:B$5000)","v":0}]
[null,null,null,{"$f":"SUMIF(Gifts!A$4:A$5000, Donors!A1107,Gifts!B$4:B$5000)","v":0}]
[null,null,null,{"$f":"SUMIF(Gifts!A$4:A$5000, Donors!A1108,Gifts!B$4:B$5000)","v":0}]
[null,null,null,{"$f":"SUMIF(Gifts!A$4:A$5000, Donors!A1109,Gifts!B$4:B$5000)","v":0}]
[null,null,null,{"$f":"SUMIF(Gifts!A$4:A$5000, Donors!A1110,Gifts!B$4:B$5000)","v":0}]
[null,null,null,{"$f":"SUMIF(Gifts!A$4:A$5000, Donors!A1111,Gifts!B$4:B$5000)","v":0}]
[null,null,null,{"$f":"SUMIF(Gifts!A$4:A$5000, Donors!A1112,Gifts!B$4:B$5000)","v":0}]
[null,null,null,{"$f":"SUMIF(Gifts!A$4:A$5000, Donors!A1113,Gifts!B$4:B$5000)","v":0}]
[null,null,null,{"$f":"SUMIF(Gifts!A$4:A$5000, Donors!A1114,Gifts!B$4:B$5000)","v":0}]
[null,null,null,{"$f":"SUMIF(Gifts!A$4:A$5000, Donors!A1115,Gifts!B$4:B$5000)","v":0}]
[null,null,null,{"$f":"SUMIF(Gifts!A$4:A$5000, Donors!A1116,Gifts!B$4:B$5000)","v":0}]
[null,null,null,{"$f":"SUMIF(Gifts!A$4:A$5000, Donors!A1117,Gifts!B$4:B$5000)","v":0}]
[null,null,null,{"$f":"SUMIF(Gifts!A$4:A$5000, Donors!A1118,Gifts!B$4:B$5000)","v":0}]
[null,null,null,{"$f":"SUMIF(Gifts!A$4:A$5000, Donors!A1119,Gifts!B$4:B$5000)","v":0}]
[null,null,null,{"$f":"SUMIF(Gifts!A$4:A$5000, Donors!A1120,Gifts!B$4:B$5000)","v":0}]
[null,null,null,{"$f":"SUMIF(Gifts!A$4:A$5000, Donors!A1121,Gifts!B$4:B$5000)","v":0}]
[null,null,null,{"$f":"SUMIF(Gifts!A$4:A$5000, Donors!A1122,Gifts!B$4:B$5000)","v":0}]
[null,null,null,{"$f":"SUMIF(Gifts!A$4:A$5000, Donors!A1123,Gifts!B$4:B$5000)","v":0}]
[null,null,null,{"$f":"SUMIF(Gifts!A$4:A$5000, Donors!A1124,Gifts!B$4:B$5000)","v":0}]
[null,null,null,{"$f":"SUMIF(Gifts!A$4:A$5000, Donors!A1125,Gifts!B$4:B$5000)","v":0}]
[null,null,null,{"$f":"SUMIF(Gifts!A$4:A$5000, Donors!A1126,Gifts!B$4:B$5000)","v":0}]
[null,null,null,{"$f":"SUMIF(Gifts!A$4:A$5000, Donors!A1127,Gifts!B$4:B$5000)","v":0}]
[null,null,null,{"$f":"SUMIF(Gifts!A$4:A$5000, Donors!A1128,Gifts!B$4:B$5000)","v":0}]
[null,null,null,{"$f":"SUMIF(Gifts!A$4:A$5000, Donors!A1129,Gifts!B$4:B$5000)","v":0}]
[null,null,null,{"$f":"SUMIF(Gifts!A$4:A$5000, Donors!A1130,Gifts!B$4:B$5000)","v":0}]
[null,null,null,{"$f":"SUMIF(Gifts!A$4:A$5000, Donors!A1131,Gifts!B$4:B$5000)","v":0}]
[null,null,null,{"$f":"SUMIF(Gifts!A$4:A$5000, Donors!A1132,Gifts!B$4:B$5000)","v":0}]
[null,null,null,{"$f":"SUMIF(Gifts!A$4:A$5000, Donors!A1133,Gifts!B$4:B$5000)","v":0}]
[null,null,null,{"$f":"SUMIF(Gifts!A$4:A$5000, Donors!A1134,Gifts!B$4:B$5000)","v":0}]
[null,null,null,{"$f":"SUMIF(Gifts!A$4:A$5000, Donors!A1135,Gifts!B$4:B$5000)","v":0}]
[null,null,null,{"$f":"SUMIF(Gifts!A$4:A$5000, Donors!A1136,Gifts!B$4:B$5000)","v":0}]
[null,null,null,{"$f":"SUMIF(Gifts!A$4:A$5000, Donors!A1137,Gifts!B$4:B$5000)","v":0}]
[null,null,null,{"$f":"SUMIF(Gifts!A$4:A$5000, Donors!A1138,Gifts!B$4:B$5000)","v":0}]
[null,null,null,{"$f":"SUMIF(Gifts!A$4:A$5000, Donors!A1139,Gifts!B$4:B$5000)","v":0}]
[null,null,null,{"$f":"SUMIF(Gifts!A$4:A$5000, Donors!A1140,Gifts!B$4:B$5000)","v":0}]
[null,null,null,{"$f":"SUMIF(Gifts!A$4:A$5000, Donors!A1141,Gifts!B$4:B$5000)","v":0}]
[null,null,null,{"$f":"SUMIF(Gifts!A$4:A$5000, Donors!A1142,Gifts!B$4:B$5000)","v":0}]
[null,null,null,{"$f":"SUMIF(Gifts!A$4:A$5000, Donors!A1143,Gifts!B$4:B$5000)","v":0}]
[null,null,null,{"$f":"SUMIF(Gifts!A$4:A$5000, Donors!A1144,Gifts!B$4:B$5000)","v":0}]
[null,null,null,{"$f":"SUMIF(Gifts!A$4:A$5000, Donors!A1145,Gifts!B$4:B$5000)","v":0}]
[null,null,null,{"$f":"SUMIF(Gifts!A$4:A$5000, Donors!A1146,Gifts!B$4:B$5000)","v":0}]
[null,null,null,{"$f":"SUMIF(Gifts!A$4:A$5000, Donors!A1147,Gifts!B$4:B$5000)","v":0}]
[null,null,null,{"$f":"SUMIF(Gifts!A$4:A$5000, Donors!A1148,Gifts!B$4:B$5000)","v":0}]
[null,null,null,{"$f":"SUMIF(Gifts!A$4:A$5000, Donors!A1149,Gifts!B$4:B$5000)","v":0}]
[null,null,null,{"$f":"SUMIF(Gifts!A$4:A$5000, Donors!A1150,Gifts!B$4:B$5000)","v":0}]
[null,null,null,{"$f":"SUMIF(Gifts!A$4:A$5000, Donors!A1151,Gifts!B$4:B$5000)","v":0}]
[null,null,null,{"$f":"SUMIF(Gifts!A$4:A$5000, Donors!A1152,Gifts!B$4:B$5000)","v":0}]
[null,null,null,{"$f":"SUMIF(Gifts!A$4:A$5000, Donors!A1153,Gifts!B$4:B$5000)","v":0}]
[null,null,null,{"$f":"SUMIF(Gifts!A$4:A$5000, Donors!A1154,Gifts!B$4:B$5000)","v":0}]
[null,null,null,{"$f":"SUMIF(Gifts!A$4:A$5000, Donors!A1155,Gifts!B$4:B$5000)","v":0}]
[null,null,null,{"$f":"SUMIF(Gifts!A$4:A$5000, Donors!A1156,Gifts!B$4:B$5000)","v":0}]
[null,null,null,{"$f":"SUMIF(Gifts!A$4:A$5000, Donors!A1157,Gifts!B$4:B$5000)","v":0}]
[null,null,null,{"$f":"SUMIF(Gifts!A$4:A$5000, Donors!A1158,Gifts!B$4:B$5000)","v":0}]
[null,null,null,{"$f":"SUMIF(Gifts!A$4:A$5000, Donors!A1159,Gifts!B$4:B$5000)","v":0}]
[null,null,null,{"$f":"SUMIF(Gifts!A$4:A$5000, Donors!A1160,Gifts!B$4:B$5000)","v":0}]
[null,null,null,{"$f":"SUMIF(Gifts!A$4:A$5000, Donors!A1161,Gifts!B$4:B$5000)","v":0}]
[null,null,null,{"$f":"SUMIF(Gifts!A$4:A$5000, Donors!A1162,Gifts!B$4:B$5000)","v":0}]
[null,null,null,{"$f":"SUMIF(Gifts!A$4:A$5000, Donors!A1163,Gifts!B$4:B$5000)","v":0}]
[null,null,null,{"$f":"SUMIF(Gifts!A$4:A$5000, Donors!A1164,Gifts!B$4:B$5000)","v":0}]
[null,null,null,{"$f":"SUMIF(Gifts!A$4:A$5000, Donors!A1165,Gifts!B$4:B$5000)","v":0}]
[null,null,null,{"$f":"SUMIF(Gifts!A$4:A$5000, Donors!A1166,Gifts!B$4:B$5000)","v":0}]
[null,null,null,{"$f":"SUMIF(Gifts!A$4:A$5000, Donors!A1167,Gifts!B$4:B$5000)","v":0}]
[null,null,null,{"$f":"SUMIF(Gifts!A$4:A$5000, Donors!A1168,Gifts!B$4:B$5000)","v":0}]
[null,null,null,{"$f":"SUMIF(Gifts!A$4:A$5000, Donors!A1169,Gifts!B$4:B$5000)","v":0}]
[null,null,null,{"$f":"SUMIF(Gifts!A$4:A$5000, Donors!A1170,Gifts!B$4:B$5000)","v":0}]
[null,null,null,{"$f":"SUMIF(Gifts!A$4:A$5000, Donors!A1171,Gifts!B$4:B$5000)","v":0}]
[null,null,null,{"$f":"SUMIF(Gifts!A$4:A$5000, Donors!A1172,Gifts!B$4:B$5000)","v":0}]
[null,null,null,{"$f":"SUMIF(Gifts!A$4:A$5000, Donors!A1173,Gifts!B$4:B$5000)","v":0}]
[null,null,null,{"$f":"SUMIF(Gifts!A$4:A$5000, Donors!A1174,Gifts!B$4:B$5000)","v":0}]
[null,null,null,{"$f":"SUMIF(Gifts!A$4:A$5000, Donors!A1175,Gifts!B$4:B$5000)","v":0}]
[null,null,null,{"$f":"SUMIF(Gifts!A$4:A$5000, Donors!A1176,Gifts!B$4:B$5000)","v":0}]
[null,null,null,{"$f":"SUMIF(Gifts!A$4:A$5000, Donors!A1177,Gifts!B$4:B$5000)","v":0}]
[null,null,null,{"$f":"SUMIF(Gifts!A$4:A$5000, Donors!A1178,Gifts!B$4:B$5000)","v":0}]
[null,null,null,{"$f":"SUMIF(Gifts!A$4:A$5000, Donors!A1179,Gifts!B$4:B$5000)","v":0}]
[null,null,null,{"$f":"SUMIF(Gifts!A$4:A$5000, Donors!A1180,Gifts!B$4:B$5000)","v":0}]
[null,null,null,{"$f":"SUMIF(Gifts!A$4:A$5000, Donors!A1181,Gifts!B$4:B$5000)","v":0}]
[null,null,null,{"$f":"SUMIF(Gifts!A$4:A$5000, Donors!A1182,Gifts!B$4:B$5000)","v":0}]
[null,null,null,{"$f":"SUMIF(Gifts!A$4:A$5000, Donors!A1183,Gifts!B$4:B$5000)","v":0}]
[null,null,null,{"$f":"SUMIF(Gifts!A$4:A$5000, Donors!A1184,Gifts!B$4:B$5000)","v":0}]
[null,null,null,{"$f":"SUMIF(Gifts!A$4:A$5000, Donors!A1185,Gifts!B$4:B$5000)","v":0}]
[null,null,null,{"$f":"SUMIF(Gifts!A$4:A$5000, Donors!A1186,Gifts!B$4:B$5000)","v":0}]
[null,null,null,{"$f":"SUMIF(Gifts!A$4:A$5000, Donors!A1187,Gifts!B$4:B$5000)","v":0}]
[null,null,null,{"$f":"SUMIF(Gifts!A$4:A$5000, Donors!A1188,Gifts!B$4:B$5000)","v":0}]
[null,null,null,{"$f":"SUMIF(Gifts!A$4:A$5000, Donors!A1189,Gifts!B$4:B$5000)","v":0}]
[null,null,null,{"$f":"SUMIF(Gifts!A$4:A$5000, Donors!A1190,Gifts!B$4:B$5000)","v":0}]
[null,null,null,{"$f":"SUMIF(Gifts!A$4:A$5000, Donors!A1191,Gifts!B$4:B$5000)","v":0}]
[null,null,null,{"$f":"SUMIF(Gifts!A$4:A$5000, Donors!A1192,Gifts!B$4:B$5000)","v":0}]
[null,null,null,{"$f":"SUMIF(Gifts!A$4:A$5000, Donors!A1193,Gifts!B$4:B$5000)","v":0}]
[null,null,null,{"$f":"SUMIF(Gifts!A$4:A$5000, Donors!A1194,Gifts!B$4:B$5000)","v":0}]
[null,null,null,{"$f":"SUMIF(Gifts!A$4:A$5000, Donors!A1195,Gifts!B$4:B$5000)","v":0}]
[null,null,null,{"$f":"SUMIF(Gifts!A$4:A$5000, Donors!A1196,Gifts!B$4:B$5000)","v":0}]
[null,null,null,{"$f":"SUMIF(Gifts!A$4:A$5000, Donors!A1197,Gifts!B$4:B$5000)","v":0}]
[null,null,null,{"$f":"SUMIF(Gifts!A$4:A$5000, Donors!A1198,Gifts!B$4:B$5000)","v":0}]
[null,null,null,{"$f":"SUMIF(Gifts!A$4:A$5000, Donors!A1199,Gifts!B$4:B$5000)","v":0}]
[null,null,null,{"$f":"SUMIF(Gifts!A$4:A$5000, Donors!A1200,Gifts!B$4:B$5000)","v":0}]
[null,null,null,{"$f":"SUMIF(Gifts!A$4:A$5000, Donors!A1201,Gifts!B$4:B$5000)","v":0}]
[null,null,null,{"$f":"SUMIF(Gifts!A$4:A$5000, Donors!A1202,Gifts!B$4:B$5000)","v":0}]
[null,null,null,{"$f":"SUMIF(Gifts!A$4:A$5000, Donors!A1203,Gifts!B$4:B$5000)","v":0}]
[null,null,null,{"$f":"SUMIF(Gifts!A$4:A$5000, Donors!A1204,Gifts!B$4:B$5000)","v":0}]
[null,null,null,{"$f":"SUMIF(Gifts!A$4:A$5000, Donors!A1205,Gifts!B$4:B$5000)","v":0}]
[null,null,null,{"$f":"SUMIF(Gifts!A$4:A$5000, Donors!A1206,Gifts!B$4:B$5000)","v":0}]
[null,null,null,{"$f":"SUMIF(Gifts!A$4:A$5000, Donors!A1207,Gifts!B$4:B$5000)","v":0}]
[null,null,null,{"$f":"SUMIF(Gifts!A$4:A$5000, Donors!A1208,Gifts!B$4:B$5000)","v":0}]
[null,null,null,{"$f":"SUMIF(Gifts!A$4:A$5000, Donors!A1209,Gifts!B$4:B$5000)","v":0}]
[null,null,null,{"$f":"SUMIF(Gifts!A$4:A$5000, Donors!A1210,Gifts!B$4:B$5000)","v":0}]
[null,null,null,{"$f":"SUMIF(Gifts!A$4:A$5000, Donors!A1211,Gifts!B$4:B$5000)","v":0}]
[null,null,null,{"$f":"SUMIF(Gifts!A$4:A$5000, Donors!A1212,Gifts!B$4:B$5000)","v":0}]
[null,null,null,{"$f":"SUMIF(Gifts!A$4:A$5000, Donors!A1213,Gifts!B$4:B$5000)","v":0}]
[null,null,null,{"$f":"SUMIF(Gifts!A$4:A$5000, Donors!A1214,Gifts!B$4:B$5000)","v":0}]
[null,null,null,{"$f":"SUMIF(Gifts!A$4:A$5000, Donors!A1215,Gifts!B$4:B$5000)","v":0}]
[null,null,null,{"$f":"SUMIF(Gifts!A$4:A$5000, Donors!A1216,Gifts!B$4:B$5000)","v":0}]
[null,null,null,{"$f":"SUMIF(Gifts!A$4:A$5000, Donors!A1217,Gifts!B$4:B$5000)","v":0}]
[null,null,null,{"$f":"SUMIF(Gifts!A$4:A$5000, Donors!A1218,Gifts!B$4:B$5000)","v":0}]
[null,null,null,{"$f":"SUMIF(Gifts!A$4:A$5000, Donors!A1219,Gifts!B$4:B$5000)","v":0}]
[null,null,null,{"$f":"SUMIF(Gifts!A$4:A$5000, Donors!A1220,Gifts!B$4:B$5000)","v":0}]
[null,null,null,{"$f":"SUMIF(Gifts!A$4:A$5000, Donors!A1221,Gifts!B$4:B$5000)","v":0}]
[null,null,null,{"$f":"SUMIF(Gifts!A$4:A$5000, Donors!A1222,Gifts!B$4:B$5000)","v":0}]
[null,null,null,{"$f":"SUMIF(Gifts!A$4:A$5000, Donors!A1223,Gifts!B$4:B$5000)","v":0}]
[null,null,null,{"$f":"SUMIF(Gifts!A$4:A$5000, Donors!A1224,Gifts!B$4:B$5000)","v":0}]
[null,null,null,{"$f":"SUMIF(Gifts!A$4:A$5000, Donors!A1225,Gifts!B$4:B$5000)","v":0}]
[null,null,null,{"$f":"SUMIF(Gifts!A$4:A$5000, Donors!A1226,Gifts!B$4:B$5000)","v":0}]
[null,null,null,{"$f":"SUMIF(Gifts!A$4:A$5000, Donors!A1227,Gifts!B$4:B$5000)","v":0}]
[null,null,null,{"$f":"SUMIF(Gifts!A$4:A$5000, Donors!A1228,Gifts!B$4:B$5000)","v":0}]
[null,null,null,{"$f":"SUMIF(Gifts!A$4:A$5000, Donors!A1229,Gifts!B$4:B$5000)","v":0}]
[null,null,null,{"$f":"SUMIF(Gifts!A$4:A$5000, Donors!A1230,Gifts!B$4:B$5000)","v":0}]
[null,null,null,{"$f":"SUMIF(Gifts!A$4:A$5000, Donors!A1231,Gifts!B$4:B$5000)","v":0}]
[null,null,null,{"$f":"SUMIF(Gifts!A$4:A$5000, Donors!A1232,Gifts!B$4:B$5000)","v":0}]
[null,null,null,{"$f":"SUMIF(Gifts!A$4:A$5000, Donors!A1233,Gifts!B$4:B$5000)","v":0}]
[null,null,null,{"$f":"SUMIF(Gifts!A$4:A$5000, Donors!A1234,Gifts!B$4:B$5000)","v":0}]
[null,null,null,{"$f":"SUMIF(Gifts!A$4:A$5000, Donors!A1235,Gifts!B$4:B$5000)","v":0}]
[null,null,null,{"$f":"SUMIF(Gifts!A$4:A$5000, Donors!A1236,Gifts!B$4:B$5000)","v":0}]
[null,null,null,{"$f":"SUMIF(Gifts!A$4:A$5000, Donors!A1237,Gifts!B$4:B$5000)","v":0}]
[null,null,null,{"$f":"SUMIF(Gifts!A$4:A$5000, Donors!A1238,Gifts!B$4:B$5000)","v":0}]
[null,null,null,{"$f":"SUMIF(Gifts!A$4:A$5000, Donors!A1239,Gifts!B$4:B$5000)","v":0}]
[null,null,null,{"$f":"SUMIF(Gifts!A$4:A$5000, Donors!A1240,Gifts!B$4:B$5000)","v":0}]
[null,null,null,{"$f":"SUMIF(Gifts!A$4:A$5000, Donors!A1241,Gifts!B$4:B$5000)","v":0}]
[null,null,null,{"$f":"SUMIF(Gifts!A$4:A$5000, Donors!A1242,Gifts!B$4:B$5000)","v":0}]
[null,null,null,{"$f":"SUMIF(Gifts!A$4:A$5000, Donors!A1243,Gifts!B$4:B$5000)","v":0}]
[null,null,null,{"$f":"SUMIF(Gifts!A$4:A$5000, Donors!A1244,Gifts!B$4:B$5000)","v":0}]
[null,null,null,{"$f":"SUMIF(Gifts!A$4:A$5000, Donors!A1245,Gifts!B$4:B$5000)","v":0}]
[null,null,null,{"$f":"SUMIF(Gifts!A$4:A$5000, Donors!A1246,Gifts!B$4:B$5000)","v":0}]
[null,null,null,{"$f":"SUMIF(Gifts!A$4:A$5000, Donors!A1247,Gifts!B$4:B$5000)","v":0}]
[null,null,null,{"$f":"SUMIF(Gifts!A$4:A$5000, Donors!A1248,Gifts!B$4:B$5000)","v":0}]
[null,null,null,{"$f":"SUMIF(Gifts!A$4:A$5000, Donors!A1249,Gifts!B$4:B$5000)","v":0}]
[null,null,null,{"$f":"SUMIF(Gifts!A$4:A$5000, Donors!A1250,Gifts!B$4:B$5000)","v":0}]
[null,null,null,{"$f":"SUMIF(Gifts!A$4:A$5000, Donors!A1251,Gifts!B$4:B$5000)","v":0}]
[null,null,null,{"$f":"SUMIF(Gifts!A$4:A$5000, Donors!A1252,Gifts!B$4:B$5000)","v":0}]
[null,null,null,{"$f":"SUMIF(Gifts!A$4:A$5000, Donors!A1253,Gifts!B$4:B$5000)","v":0}]
[null,null,null,{"$f":"SUMIF(Gifts!A$4:A$5000, Donors!A1254,Gifts!B$4:B$5000)","v":0}]
[null,null,null,{"$f":"SUMIF(Gifts!A$4:A$5000, Donors!A1255,Gifts!B$4:B$5000)","v":0}]
[null,null,null,{"$f":"SUMIF(Gifts!A$4:A$5000, Donors!A1256,Gifts!B$4:B$5000)","v":0}]
[null,null,null,{"$f":"SUMIF(Gifts!A$4:A$5000, Donors!A1257,Gifts!B$4:B$5000)","v":0}]
[null,null,null,{"$f":"SUMIF(Gifts!A$4:A$5000, Donors!A1258,Gifts!B$4:B$5000)","v":0}]
[null,null,null,{"$f":"SUMIF(Gifts!A$4:A$5000, Donors!A1259,Gifts!B$4:B$5000)","v":0}]
[null,null,null,{"$f":"SUMIF(Gifts!A$4:A$5000, Donors!A1260,Gifts!B$4:B$5000)","v":0}]
[null,null,null,{"$f":"SUMIF(Gifts!A$4:A$5000, Donors!A1261,Gifts!B$4:B$5000)","v":0}]
[null,null,null,{"$f":"SUMIF(Gifts!A$4:A$5000, Donors!A1262,Gifts!B$4:B$5000)","v":0}]
[null,null,null,{"$f":"SUMIF(Gifts!A$4:A$5000, Donors!A1263,Gifts!B$4:B$5000)","v":0}]
[null,null,null,{"$f":"SUMIF(Gifts!A$4:A$5000, Donors!A1264,Gifts!B$4:B$5000)","v":0}]
[null,null,null,{"$f":"SUMIF(Gifts!A$4:A$5000, Donors!A1265,Gifts!B$4:B$5000)","v":0}]
[null,null,null,{"$f":"SUMIF(Gifts!A$4:A$5000, Donors!A1266,Gifts!B$4:B$5000)","v":0}]
[null,null,null,{"$f":"SUMIF(Gifts!A$4:A$5000, Donors!A1267,Gifts!B$4:B$5000)","v":0}]
[null,null,null,{"$f":"SUMIF(Gifts!A$4:A$5000, Donors!A1268,Gifts!B$4:B$5000)","v":0}]
[null,null,null,{"$f":"SUMIF(Gifts!A$4:A$5000, Donors!A1269,Gifts!B$4:B$5000)","v":0}]
[null,null,null,{"$f":"SUMIF(Gifts!A$4:A$5000, Donors!A1270,Gifts!B$4:B$5000)","v":0}]
[null,null,null,{"$f":"SUMIF(Gifts!A$4:A$5000, Donors!A1271,Gifts!B$4:B$5000)","v":0}]
[null,null,null,{"$f":"SUMIF(Gifts!A$4:A$5000, Donors!A1272,Gifts!B$4:B$5000)","v":0}]
[null,null,null,{"$f":"SUMIF(Gifts!A$4:A$5000, Donors!A1273,Gifts!B$4:B$5000)","v":0}]
[null,null,null,{"$f":"SUMIF(Gifts!A$4:A$5000, Donors!A1274,Gifts!B$4:B$5000)","v":0}]
[null,null,null,{"$f":"SUMIF(Gifts!A$4:A$5000, Donors!A1275,Gifts!B$4:B$5000)","v":0}]
[null,null,null,{"$f":"SUMIF(Gifts!A$4:A$5000, Donors!A1276,Gifts!B$4:B$5000)","v":0}]
[null,null,null,{"$f":"SUMIF(Gifts!A$4:A$5000, Donors!A1277,Gifts!B$4:B$5000)","v":0}]
[null,null,null,{"$f":"SUMIF(Gifts!A$4:A$5000, Donors!A1278,Gifts!B$4:B$5000)","v":0}]
[null,null,null,{"$f":"SUMIF(Gifts!A$4:A$5000, Donors!A1279,Gifts!B$4:B$5000)","v":0}]
[null,null,null,{"$f":"SUMIF(Gifts!A$4:A$5000, Donors!A1280,Gifts!B$4:B$5000)","v":0}]
[null,null,null,{"$f":"SUMIF(Gifts!A$4:A$5000, Donors!A1281,Gifts!B$4:B$5000)","v":0}]
[null,null,null,{"$f":"SUMIF(Gifts!A$4:A$5000, Donors!A1282,Gifts!B$4:B$5000)","v":0}]
[null,null,null,{"$f":"SUMIF(Gifts!A$4:A$5000, Donors!A1283,Gifts!B$4:B$5000)","v":0}]
[null,null,null,{"$f":"SUMIF(Gifts!A$4:A$5000, Donors!A1284,Gifts!B$4:B$5000)","v":0}]
[null,null,null,{"$f":"SUMIF(Gifts!A$4:A$5000, Donors!A1285,Gifts!B$4:B$5000)","v":0}]
[null,null,null,{"$f":"SUMIF(Gifts!A$4:A$5000, Donors!A1286,Gifts!B$4:B$5000)","v":0}]
[null,null,null,{"$f":"SUMIF(Gifts!A$4:A$5000, Donors!A1287,Gifts!B$4:B$5000)","v":0}]
[null,null,null,{"$f":"SUMIF(Gifts!A$4:A$5000, Donors!A1288,Gifts!B$4:B$5000)","v":0}]
[null,null,null,{"$f":"SUMIF(Gifts!A$4:A$5000, Donors!A1289,Gifts!B$4:B$5000)","v":0}]
[null,null,null,{"$f":"SUMIF(Gifts!A$4:A$5000, Donors!A1290,Gifts!B$4:B$5000)","v":0}]
[null,null,null,{"$f":"SUMIF(Gifts!A$4:A$5000, Donors!A1291,Gifts!B$4:B$5000)","v":0}]
[null,null,null,{"$f":"SUMIF(Gifts!A$4:A$5000, Donors!A1292,Gifts!B$4:B$5000)","v":0}]
[null,null,null,{"$f":"SUMIF(Gifts!A$4:A$5000, Donors!A1293,Gifts!B$4:B$5000)","v":0}]
[null,null,null,{"$f":"SUMIF(Gifts!A$4:A$5000, Donors!A1294,Gifts!B$4:B$5000)","v":0}]
[null,null,null,{"$f":"SUMIF(Gifts!A$4:A$5000, Donors!A1295,Gifts!B$4:B$5000)","v":0}]
[null,null,null,{"$f":"SUMIF(Gifts!A$4:A$5000, Donors!A1296,Gifts!B$4:B$5000)","v":0}]
[null,null,null,{"$f":"SUMIF(Gifts!A$4:A$5000, Donors!A1297,Gifts!B$4:B$5000)","v":0}]
[null,null,null,{"$f":"SUMIF(Gifts!A$4:A$5000, Donors!A1298,Gifts!B$4:B$5000)","v":0}]
[null,null,null,{"$f":"SUMIF(Gifts!A$4:A$5000, Donors!A1299,Gifts!B$4:B$5000)","v":0}]
[null,null,null,{"$f":"SUMIF(Gifts!A$4:A$5000, Donors!A1300,Gifts!B$4:B$5000)","v":0}]
[null,null,null,{"$f":"SUMIF(Gifts!A$4:A$5000, Donors!A1301,Gifts!B$4:B$5000)","v":0}]
[null,null,null,{"$f":"SUMIF(Gifts!A$4:A$5000, Donors!A1302,Gifts!B$4:B$5000)","v":0}]
[null,null,null,{"$f":"SUMIF(Gifts!A$4:A$5000, Donors!A1303,Gifts!B$4:B$5000)","v":0}]
[null,null,null,{"$f":"SUMIF(Gifts!A$4:A$5000, Donors!A1304,Gifts!B$4:B$5000)","v":0}]
[null,null,null,{"$f":"SUMIF(Gifts!A$4:A$5000, Donors!A1305,Gifts!B$4:B$5000)","v":0}]
[null,null,null,{"$f":"SUMIF(Gifts!A$4:A$5000, Donors!A1306,Gifts!B$4:B$5000)","v":0}]
[null,null,null,{"$f":"SUMIF(Gifts!A$4:A$5000, Donors!A1307,Gifts!B$4:B$5000)","v":0}]
[null,null,null,{"$f":"SUMIF(Gifts!A$4:A$5000, Donors!A1308,Gifts!B$4:B$5000)","v":0}]
[null,null,null,{"$f":"SUMIF(Gifts!A$4:A$5000, Donors!A1309,Gifts!B$4:B$5000)","v":0}]
[null,null,null,{"$f":"SUMIF(Gifts!A$4:A$5000, Donors!A1310,Gifts!B$4:B$5000)","v":0}]
[null,null,null,{"$f":"SUMIF(Gifts!A$4:A$5000, Donors!A1311,Gifts!B$4:B$5000)","v":0}]
[null,null,null,{"$f":"SUMIF(Gifts!A$4:A$5000, Donors!A1312,Gifts!B$4:B$5000)","v":0}]
[null,null,null,{"$f":"SUMIF(Gifts!A$4:A$5000, Donors!A1313,Gifts!B$4:B$5000)","v":0}]
[null,null,null,{"$f":"SUMIF(Gifts!A$4:A$5000, Donors!A1314,Gifts!B$4:B$5000)","v":0}]
[null,null,null,{"$f":"SUMIF(Gifts!A$4:A$5000, Donors!A1315,Gifts!B$4:B$5000)","v":0}]
[null,null,null,{"$f":"SUMIF(Gifts!A$4:A$5000, Donors!A1316,Gifts!B$4:B$5000)","v":0}]
[null,null,null,{"$f":"SUMIF(Gifts!A$4:A$5000, Donors!A1317,Gifts!B$4:B$5000)","v":0}]
[null,null,null,{"$f":"SUMIF(Gifts!A$4:A$5000, Donors!A1318,Gifts!B$4:B$5000)","v":0}]
[null,null,null,{"$f":"SUMIF(Gifts!A$4:A$5000, Donors!A1319,Gifts!B$4:B$5000)","v":0}]
[null,null,null,{"$f":"SUMIF(Gifts!A$4:A$5000, Donors!A1320,Gifts!B$4:B$5000)","v":0}]
[null,null,null,{"$f":"SUMIF(Gifts!A$4:A$5000, Donors!A1321,Gifts!B$4:B$5000)","v":0}]
[null,null,null,{"$f":"SUMIF(Gifts!A$4:A$5000, Donors!A1322,Gifts!B$4:B$5000)","v":0}]
[null,null,null,{"$f":"SUMIF(Gifts!A$4:A$5000, Donors!A1323,Gifts!B$4:B$5000)","v":0}]
[null,null,null,{"$f":"SUMIF(Gifts!A$4:A$5000, Donors!A1324,Gifts!B$4:B$5000)","v":0}]
[null,null,null,{"$f":"SUMIF(Gifts!A$4:A$5000, Donors!A1325,Gifts!B$4:B$5000)","v":0}]
[null,null,null,{"$f":"SUMIF(Gifts!A$4:A$5000, Donors!A1326,Gifts!B$4:B$5000)","v":0}]
[null,null,null,{"$f":"SUMIF(Gifts!A$4:A$5000, Donors!A1327,Gifts!B$4:B$5000)","v":0}]
[null,null,null,{"$f":"SUMIF(Gifts!A$4:A$5000, Donors!A1328,Gifts!B$4:B$5000)","v":0}]
[null,null,null,{"$f":"SUMIF(Gifts!A$4:A$5000, Donors!A1329,Gifts!B$4:B$5000)","v":0}]
[null,null,null,{"$f":"SUMIF(Gifts!A$4:A$5000, Donors!A1330,Gifts!B$4:B$5000)","v":0}]
[null,null,null,{"$f":"SUMIF(Gifts!A$4:A$5000, Donors!A1331,Gifts!B$4:B$5000)","v":0}]
[null,null,null,{"$f":"SUMIF(Gifts!A$4:A$5000, Donors!A1332,Gifts!B$4:B$5000)","v":0}]
[null,null,null,{"$f":"SUMIF(Gifts!A$4:A$5000, Donors!A1333,Gifts!B$4:B$5000)","v":0}]
[null,null,null,{"$f":"SUMIF(Gifts!A$4:A$5000, Donors!A1334,Gifts!B$4:B$5000)","v":0}]
[null,null,null,{"$f":"SUMIF(Gifts!A$4:A$5000, Donors!A1335,Gifts!B$4:B$5000)","v":0}]
[null,null,null,{"$f":"SUMIF(Gifts!A$4:A$5000, Donors!A1336,Gifts!B$4:B$5000)","v":0}]
[null,null,null,{"$f":"SUMIF(Gifts!A$4:A$5000, Donors!A1337,Gifts!B$4:B$5000)","v":0}]
[null,null,null,{"$f":"SUMIF(Gifts!A$4:A$5000, Donors!A1338,Gifts!B$4:B$5000)","v":0}]
[null,null,null,{"$f":"SUMIF(Gifts!A$4:A$5000, Donors!A1339,Gifts!B$4:B$5000)","v":0}]
[null,null,null,{"$f":"SUMIF(Gifts!A$4:A$5000, Donors!A1340,Gifts!B$4:B$5000)","v":0}]
[null,null,null,{"$f":"SUMIF(Gifts!A$4:A$5000, Donors!A1341,Gifts!B$4:B$5000)","v":0}]
[null,null,null,{"$f":"SUMIF(Gifts!A$4:A$5000, Donors!A1342,Gifts!B$4:B$5000)","v":0}]
[null,null,null,{"$f":"SUMIF(Gifts!A$4:A$5000, Donors!A1343,Gifts!B$4:B$5000)","v":0}]
[null,null,null,{"$f":"SUMIF(Gifts!A$4:A$5000, Donors!A1344,Gifts!B$4:B$5000)","v":0}]
[null,null,null,{"$f":"SUMIF(Gifts!A$4:A$5000, Donors!A1345,Gifts!B$4:B$5000)","v":0}]
[null,null,null,{"$f":"SUMIF(Gifts!A$4:A$5000, Donors!A1346,Gifts!B$4:B$5000)","v":0}]
[null,null,null,{"$f":"SUMIF(Gifts!A$4:A$5000, Donors!A1347,Gifts!B$4:B$5000)","v":0}]
[null,null,null,{"$f":"SUMIF(Gifts!A$4:A$5000, Donors!A1348,Gifts!B$4:B$5000)","v":0}]
[null,null,null,{"$f":"SUMIF(Gifts!A$4:A$5000, Donors!A1349,Gifts!B$4:B$5000)","v":0}]
[null,null,null,{"$f":"SUMIF(Gifts!A$4:A$5000, Donors!A1350,Gifts!B$4:B$5000)","v":0}]
[null,null,null,{"$f":"SUMIF(Gifts!A$4:A$5000, Donors!A1351,Gifts!B$4:B$5000)","v":0}]
[null,null,null,{"$f":"SUMIF(Gifts!A$4:A$5000, Donors!A1352,Gifts!B$4:B$5000)","v":0}]
[null,null,null,{"$f":"SUMIF(Gifts!A$4:A$5000, Donors!A1353,Gifts!B$4:B$5000)","v":0}]
[null,null,null,{"$f":"SUMIF(Gifts!A$4:A$5000, Donors!A1354,Gifts!B$4:B$5000)","v":0}]
[null,null,null,{"$f":"SUMIF(Gifts!A$4:A$5000, Donors!A1355,Gifts!B$4:B$5000)","v":0}]
[null,null,null,{"$f":"SUMIF(Gifts!A$4:A$5000, Donors!A1356,Gifts!B$4:B$5000)","v":0}]
[null,null,null,{"$f":"SUMIF(Gifts!A$4:A$5000, Donors!A1357,Gifts!B$4:B$5000)","v":0}]
[null,null,null,{"$f":"SUMIF(Gifts!A$4:A$5000, Donors!A1358,Gifts!B$4:B$5000)","v":0}]
[null,null,null,{"$f":"SUMIF(Gifts!A$4:A$5000, Donors!A1359,Gifts!B$4:B$5000)","v":0}]
[null,null,null,{"$f":"SUMIF(Gifts!A$4:A$5000, Donors!A1360,Gifts!B$4:B$5000)","v":0}]
[null,null,null,{"$f":"SUMIF(Gifts!A$4:A$5000, Donors!A1361,Gifts!B$4:B$5000)","v":0}]
[null,null,null,{"$f":"SUMIF(Gifts!A$4:A$5000, Donors!A1362,Gifts!B$4:B$5000)","v":0}]
[null,null,null,{"$f":"SUMIF(Gifts!A$4:A$5000, Donors!A1363,Gifts!B$4:B$5000)","v":0}]
[null,null,null,{"$f":"SUMIF(Gifts!A$4:A$5000, Donors!A1364,Gifts!B$4:B$5000)","v":0}]
[null,null,null,{"$f":"SUMIF(Gifts!A$4:A$5000, Donors!A1365,Gifts!B$4:B$5000)","v":0}]
[null,null,null,{"$f":"SUMIF(Gifts!A$4:A$5000, Donors!A1366,Gifts!B$4:B$5000)","v":0}]
[null,null,null,{"$f":"SUMIF(Gifts!A$4:A$5000, Donors!A1367,Gifts!B$4:B$5000)","v":0}]
[null,null,null,{"$f":"SUMIF(Gifts!A$4:A$5000, Donors!A1368,Gifts!B$4:B$5000)","v":0}]
[null,null,null,{"$f":"SUMIF(Gifts!A$4:A$5000, Donors!A1369,Gifts!B$4:B$5000)","v":0}]
[null,null,null,{"$f":"SUMIF(Gifts!A$4:A$5000, Donors!A1370,Gifts!B$4:B$5000)","v":0}]
[null,null,null,{"$f":"SUMIF(Gifts!A$4:A$5000, Donors!A1371,Gifts!B$4:B$5000)","v":0}]
[null,null,null,{"$f":"SUMIF(Gifts!A$4:A$5000, Donors!A1372,Gifts!B$4:B$5000)","v":0}]
[null,null,null,{"$f":"SUMIF(Gifts!A$4:A$5000, Donors!A1373,Gifts!B$4:B$5000)","v":0}]
[null,null,null,{"$f":"SUMIF(Gifts!A$4:A$5000, Donors!A1374,Gifts!B$4:B$5000)","v":0}]
[null,null,null,{"$f":"SUMIF(Gifts!A$4:A$5000, Donors!A1375,Gifts!B$4:B$5000)","v":0}]
[null,null,null,{"$f":"SUMIF(Gifts!A$4:A$5000, Donors!A1376,Gifts!B$4:B$5000)","v":0}]
[null,null,null,{"$f":"SUMIF(Gifts!A$4:A$5000, Donors!A1377,Gifts!B$4:B$5000)","v":0}]
[null,null,null,{"$f":"SUMIF(Gifts!A$4:A$5000, Donors!A1378,Gifts!B$4:B$5000)","v":0}]
[null,null,null,{"$f":"SUMIF(Gifts!A$4:A$5000, Donors!A1379,Gifts!B$4:B$5000)","v":0}]
[null,null,null,{"$f":"SUMIF(Gifts!A$4:A$5000, Donors!A1380,Gifts!B$4:B$5000)","v":0}]
[null,null,null,{"$f":"SUMIF(Gifts!A$4:A$5000, Donors!A1381,Gifts!B$4:B$5000)","v":0}]
[null,null,null,{"$f":"SUMIF(Gifts!A$4:A$5000, Donors!A1382,Gifts!B$4:B$5000)","v":0}]
[null,null,null,{"$f":"SUMIF(Gifts!A$4:A$5000, Donors!A1383,Gifts!B$4:B$5000)","v":0}]
[null,null,null,{"$f":"SUMIF(Gifts!A$4:A$5000, Donors!A1384,Gifts!B$4:B$5000)","v":0}]
[null,null,null,{"$f":"SUMIF(Gifts!A$4:A$5000, Donors!A1385,Gifts!B$4:B$5000)","v":0}]
[null,null,null,{"$f":"SUMIF(Gifts!A$4:A$5000, Donors!A1386,Gifts!B$4:B$5000)","v":0}]
[null,null,null,{"$f":"SUMIF(Gifts!A$4:A$5000, Donors!A1387,Gifts!B$4:B$5000)","v":0}]
[null,null,null,{"$f":"SUMIF(Gifts!A$4:A$5000, Donors!A1388,Gifts!B$4:B$5000)","v":0}]
[null,null,null,{"$f":"SUMIF(Gifts!A$4:A$5000, Donors!A1389,Gifts!B$4:B$5000)","v":0}]
[null,null,null,{"$f":"SUMIF(Gifts!A$4:A$5000, Donors!A1390,Gifts!B$4:B$5000)","v":0}]
[null,null,null,{"$f":"SUMIF(Gifts!A$4:A$5000, Donors!A1391,Gifts!B$4:B$5000)","v":0}]
[null,null,null,{"$f":"SUMIF(Gifts!A$4:A$5000, Donors!A1392,Gifts!B$4:B$5000)","v":0}]
[null,null,null,{"$f":"SUMIF(Gifts!A$4:A$5000, Donors!A1393,Gifts!B$4:B$5000)","v":0}]
[null,null,null,{"$f":"SUMIF(Gifts!A$4:A$5000, Donors!A1394,Gifts!B$4:B$5000)","v":0}]
[null,null,null,{"$f":"SUMIF(Gifts!A$4:A$5000, Donors!A1395,Gifts!B$4:B$5000)","v":0}]
[null,null,null,{"$f":"SUMIF(Gifts!A$4:A$5000, Donors!A1396,Gifts!B$4:B$5000)","v":0}]
[null,null,null,{"$f":"SUMIF(Gifts!A$4:A$5000, Donors!A1397,Gifts!B$4:B$5000)","v":0}]
[null,null,null,{"$f":"SUMIF(Gifts!A$4:A$5000, Donors!A1398,Gifts!B$4:B$5000)","v":0}]
[null,null,null,{"$f":"SUMIF(Gifts!A$4:A$5000, Donors!A1399,Gifts!B$4:B$5000)","v":0}]
[null,null,null,{"$f":"SUMIF(Gifts!A$4:A$5000, Donors!A1400,Gifts!B$4:B$5000)","v":0}]
[null,null,null,{"$f":"SUMIF(Gifts!A$4:A$5000, Donors!A1401,Gifts!B$4:B$5000)","v":0}]
[null,null,null,{"$f":"SUMIF(Gifts!A$4:A$5000, Donors!A1402,Gifts!B$4:B$5000)","v":0}]
[null,null,null,{"$f":"SUMIF(Gifts!A$4:A$5000, Donors!A1403,Gifts!B$4:B$5000)","v":0}]
[null,null,null,{"$f":"SUMIF(Gifts!A$4:A$5000, Donors!A1404,Gifts!B$4:B$5000)","v":0}]
[null,null,null,{"$f":"SUMIF(Gifts!A$4:A$5000, Donors!A1405,Gifts!B$4:B$5000)","v":0}]
[null,null,null,{"$f":"SUMIF(Gifts!A$4:A$5000, Donors!A1406,Gifts!B$4:B$5000)","v":0}]
[null,null,null,{"$f":"SUMIF(Gifts!A$4:A$5000, Donors!A1407,Gifts!B$4:B$5000)","v":0}]
[null,null,null,{"$f":"SUMIF(Gifts!A$4:A$5000, Donors!A1408,Gifts!B$4:B$5000)","v":0}]
[null,null,null,{"$f":"SUMIF(Gifts!A$4:A$5000, Donors!A1409,Gifts!B$4:B$5000)","v":0}]
[null,null,null,{"$f":"SUMIF(Gifts!A$4:A$5000, Donors!A1410,Gifts!B$4:B$5000)","v":0}]
[null,null,null,{"$f":"SUMIF(Gifts!A$4:A$5000, Donors!A1411,Gifts!B$4:B$5000)","v":0}]
[null,null,null,{"$f":"SUMIF(Gifts!A$4:A$5000, Donors!A1412,Gifts!B$4:B$5000)","v":0}]
[null,null,null,{"$f":"SUMIF(Gifts!A$4:A$5000, Donors!A1413,Gifts!B$4:B$5000)","v":0}]
[null,null,null,{"$f":"SUMIF(Gifts!A$4:A$5000, Donors!A1414,Gifts!B$4:B$5000)","v":0}]
[null,null,null,{"$f":"SUMIF(Gifts!A$4:A$5000, Donors!A1415,Gifts!B$4:B$5000)","v":0}]
[null,null,null,{"$f":"SUMIF(Gifts!A$4:A$5000, Donors!A1416,Gifts!B$4:B$5000)","v":0}]
[null,null,null,{"$f":"SUMIF(Gifts!A$4:A$5000, Donors!A1417,Gifts!B$4:B$5000)","v":0}]
[null,null,null,{"$f":"SUMIF(Gifts!A$4:A$5000, Donors!A1418,Gifts!B$4:B$5000)","v":0}]
[null,null,null,{"$f":"SUMIF(Gifts!A$4:A$5000, Donors!A1419,Gifts!B$4:B$5000)","v":0}]
[null,null,null,{"$f":"SUMIF(Gifts!A$4:A$5000, Donors!A1420,Gifts!B$4:B$5000)","v":0}]
[null,null,null,{"$f":"SUMIF(Gifts!A$4:A$5000, Donors!A1421,Gifts!B$4:B$5000)","v":0}]
[null,null,null,{"$f":"SUMIF(Gifts!A$4:A$5000, Donors!A1422,Gifts!B$4:B$5000)","v":0}]
[null,null,null,{"$f":"SUMIF(Gifts!A$4:A$5000, Donors!A1423,Gifts!B$4:B$5000)","v":0}]
[null,null,null,{"$f":"SUMIF(Gifts!A$4:A$5000, Donors!A1424,Gifts!B$4:B$5000)","v":0}]
[null,null,null,{"$f":"SUMIF(Gifts!A$4:A$5000, Donors!A1425,Gifts!B$4:B$5000)","v":0}]
[null,null,null,{"$f":"SUMIF(Gifts!A$4:A$5000, Donors!A1426,Gifts!B$4:B$5000)","v":0}]
[null,null,null,{"$f":"SUMIF(Gifts!A$4:A$5000, Donors!A1427,Gifts!B$4:B$5000)","v":0}]
[null,null,null,{"$f":"SUMIF(Gifts!A$4:A$5000, Donors!A1428,Gifts!B$4:B$5000)","v":0}]
[null,null,null,{"$f":"SUMIF(Gifts!A$4:A$5000, Donors!A1429,Gifts!B$4:B$5000)","v":0}]
[null,null,null,{"$f":"SUMIF(Gifts!A$4:A$5000, Donors!A1430,Gifts!B$4:B$5000)","v":0}]
[null,null,null,{"$f":"SUMIF(Gifts!A$4:A$5000, Donors!A1431,Gifts!B$4:B$5000)","v":0}]
[null,null,null,{"$f":"SUMIF(Gifts!A$4:A$5000, Donors!A1432,Gifts!B$4:B$5000)","v":0}]
[null,null,null,{"$f":"SUMIF(Gifts!A$4:A$5000, Donors!A1433,Gifts!B$4:B$5000)","v":0}]
[null,null,null,{"$f":"SUMIF(Gifts!A$4:A$5000, Donors!A1434,Gifts!B$4:B$5000)","v":0}]
[null,null,null,{"$f":"SUMIF(Gifts!A$4:A$5000, Donors!A1435,Gifts!B$4:B$5000)","v":0}]
[null,null,null,{"$f":"SUMIF(Gifts!A$4:A$5000, Donors!A1436,Gifts!B$4:B$5000)","v":0}]
[null,null,null,{"$f":"SUMIF(Gifts!A$4:A$5000, Donors!A1437,Gifts!B$4:B$5000)","v":0}]
[null,null,null,{"$f":"SUMIF(Gifts!A$4:A$5000, Donors!A1438,Gifts!B$4:B$5000)","v":0}]
[null,null,null,{"$f":"SUMIF(Gifts!A$4:A$5000, Donors!A1439,Gifts!B$4:B$5000)","v":0}]
[null,null,null,{"$f":"SUMIF(Gifts!A$4:A$5000, Donors!A1440,Gifts!B$4:B$5000)","v":0}]
[null,null,null,{"$f":"SUMIF(Gifts!A$4:A$5000, Donors!A1441,Gifts!B$4:B$5000)","v":0}]
[null,null,null,{"$f":"SUMIF(Gifts!A$4:A$5000, Donors!A1442,Gifts!B$4:B$5000)","v":0}]
[null,null,null,{"$f":"SUMIF(Gifts!A$4:A$5000, Donors!A1443,Gifts!B$4:B$5000)","v":0}]
[null,null,null,{"$f":"SUMIF(Gifts!A$4:A$5000, Donors!A1444,Gifts!B$4:B$5000)","v":0}]
[null,null,null,{"$f":"SUMIF(Gifts!A$4:A$5000, Donors!A1445,Gifts!B$4:B$5000)","v":0}]
[null,null,null,{"$f":"SUMIF(Gifts!A$4:A$5000, Donors!A1446,Gifts!B$4:B$5000)","v":0}]
[null,null,null,{"$f":"SUMIF(Gifts!A$4:A$5000, Donors!A1447,Gifts!B$4:B$5000)","v":0}]
[null,null,null,{"$f":"SUMIF(Gifts!A$4:A$5000, Donors!A1448,Gifts!B$4:B$5000)","v":0}]
[null,null,null,{"$f":"SUMIF(Gifts!A$4:A$5000, Donors!A1449,Gifts!B$4:B$5000)","v":0}]
[null,null,null,{"$f":"SUMIF(Gifts!A$4:A$5000, Donors!A1450,Gifts!B$4:B$5000)","v":0}]
[null,null,null,{"$f":"SUMIF(Gifts!A$4:A$5000, Donors!A1451,Gifts!B$4:B$5000)","v":0}]
[null,null,null,{"$f":"SUMIF(Gifts!A$4:A$5000, Donors!A1452,Gifts!B$4:B$5000)","v":0}]
[null,null,null,{"$f":"SUMIF(Gifts!A$4:A$5000, Donors!A1453,Gifts!B$4:B$5000)","v":0}]
[null,null,null,{"$f":"SUMIF(Gifts!A$4:A$5000, Donors!A1454,Gifts!B$4:B$5000)","v":0}]
[null,null,null,{"$f":"SUMIF(Gifts!A$4:A$5000, Donors!A1455,Gifts!B$4:B$5000)","v":0}]
[null,null,null,{"$f":"SUMIF(Gifts!A$4:A$5000, Donors!A1456,Gifts!B$4:B$5000)","v":0}]
[null,null,null,{"$f":"SUMIF(Gifts!A$4:A$5000, Donors!A1457,Gifts!B$4:B$5000)","v":0}]
[null,null,null,{"$f":"SUMIF(Gifts!A$4:A$5000, Donors!A1458,Gifts!B$4:B$5000)","v":0}]
[null,null,null,{"$f":"SUMIF(Gifts!A$4:A$5000, Donors!A1459,Gifts!B$4:B$5000)","v":0}]
[null,null,null,{"$f":"SUMIF(Gifts!A$4:A$5000, Donors!A1460,Gifts!B$4:B$5000)","v":0}]
[null,null,null,{"$f":"SUMIF(Gifts!A$4:A$5000, Donors!A1461,Gifts!B$4:B$5000)","v":0}]
[null,null,null,{"$f":"SUMIF(Gifts!A$4:A$5000, Donors!A1462,Gifts!B$4:B$5000)","v":0}]
[null,null,null,{"$f":"SUMIF(Gifts!A$4:A$5000, Donors!A1463,Gifts!B$4:B$5000)","v":0}]
[null,null,null,{"$f":"SUMIF(Gifts!A$4:A$5000, Donors!A1464,Gifts!B$4:B$5000)","v":0}]
[null,null,null,{"$f":"SUMIF(Gifts!A$4:A$5000, Donors!A1465,Gifts!B$4:B$5000)","v":0}]
[null,null,null,{"$f":"SUMIF(Gifts!A$4:A$5000, Donors!A1466,Gifts!B$4:B$5000)","v":0}]
[null,null,null,{"$f":"SUMIF(Gifts!A$4:A$5000, Donors!A1467,Gifts!B$4:B$5000)","v":0}]
[null,null,null,{"$f":"SUMIF(Gifts!A$4:A$5000, Donors!A1468,Gifts!B$4:B$5000)","v":0}]
[null,null,null,{"$f":"SUMIF(Gifts!A$4:A$5000, Donors!A1469,Gifts!B$4:B$5000)","v":0}]
[null,null,null,{"$f":"SUMIF(Gifts!A$4:A$5000, Donors!A1470,Gifts!B$4:B$5000)","v":0}]
[null,null,null,{"$f":"SUMIF(Gifts!A$4:A$5000, Donors!A1471,Gifts!B$4:B$5000)","v":0}]
[null,null,null,{"$f":"SUMIF(Gifts!A$4:A$5000, Donors!A1472,Gifts!B$4:B$5000)","v":0}]
[null,null,null,{"$f":"SUMIF(Gifts!A$4:A$5000, Donors!A1473,Gifts!B$4:B$5000)","v":0}]
[null,null,null,{"$f":"SUMIF(Gifts!A$4:A$5000, Donors!A1474,Gifts!B$4:B$5000)","v":0}]
[null,null,null,{"$f":"SUMIF(Gifts!A$4:A$5000, Donors!A1475,Gifts!B$4:B$5000)","v":0}]
[null,null,null,{"$f":"SUMIF(Gifts!A$4:A$5000, Donors!A1476,Gifts!B$4:B$5000)","v":0}]
[null,null,null,{"$f":"SUMIF(Gifts!A$4:A$5000, Donors!A1477,Gifts!B$4:B$5000)","v":0}]
[null,null,null,{"$f":"SUMIF(Gifts!A$4:A$5000, Donors!A1478,Gifts!B$4:B$5000)","v":0}]
[null,null,null,{"$f":"SUMIF(Gifts!A$4:A$5000, Donors!A1479,Gifts!B$4:B$5000)","v":0}]
[null,null,null,{"$f":"SUMIF(Gifts!A$4:A$5000, Donors!A1480,Gifts!B$4:B$5000)","v":0}]
[null,null,null,{"$f":"SUMIF(Gifts!A$4:A$5000, Donors!A1481,Gifts!B$4:B$5000)","v":0}]
[null,null,null,{"$f":"SUMIF(Gifts!A$4:A$5000, Donors!A1482,Gifts!B$4:B$5000)","v":0}]
[null,null,null,{"$f":"SUMIF(Gifts!A$4:A$5000, Donors!A1483,Gifts!B$4:B$5000)","v":0}]
[null,null,null,{"$f":"SUMIF(Gifts!A$4:A$5000, Donors!A1484,Gifts!B$4:B$5000)","v":0}]
[null,null,null,{"$f":"SUMIF(Gifts!A$4:A$5000, Donors!A1485,Gifts!B$4:B$5000)","v":0}]
[null,null,null,{"$f":"SUMIF(Gifts!A$4:A$5000, Donors!A1486,Gifts!B$4:B$5000)","v":0}]
[null,null,null,{"$f":"SUMIF(Gifts!A$4:A$5000, Donors!A1487,Gifts!B$4:B$5000)","v":0}]
[null,null,null,{"$f":"SUMIF(Gifts!A$4:A$5000, Donors!A1488,Gifts!B$4:B$5000)","v":0}]
[null,null,null,{"$f":"SUMIF(Gifts!A$4:A$5000, Donors!A1489,Gifts!B$4:B$5000)","v":0}]
[null,null,null,{"$f":"SUMIF(Gifts!A$4:A$5000, Donors!A1490,Gifts!B$4:B$5000)","v":0}]
[null,null,null,{"$f":"SUMIF(Gifts!A$4:A$5000, Donors!A1491,Gifts!B$4:B$5000)","v":0}]
[null,null,null,{"$f":"SUMIF(Gifts!A$4:A$5000, Donors!A1492,Gifts!B$4:B$5000)","v":0}]
[null,null,null,{"$f":"SUMIF(Gifts!A$4:A$5000, Donors!A1493,Gifts!B$4:B$5000)","v":0}]
[null,null,null,{"$f":"SUMIF(Gifts!A$4:A$5000, Donors!A1494,Gifts!B$4:B$5000)","v":0}]
[null,null,null,{"$f":"SUMIF(Gifts!A$4:A$5000, Donors!A1495,Gifts!B$4:B$5000)","v":0}]
[null,null,null,{"$f":"SUMIF(Gifts!A$4:A$5000, Donors!A1496,Gifts!B$4:B$5000)","v":0}]
[null,null,null,{"$f":"SUMIF(Gifts!A$4:A$5000, Donors!A1497,Gifts!B$4:B$5000)","v":0}]
[null,null,null,{"$f":"SUMIF(Gifts!A$4:A$5000, Donors!A1498,Gifts!B$4:B$5000)","v":0}]
[null,null,null,{"$f":"SUMIF(Gifts!A$4:A$5000, Donors!A1499,Gifts!B$4:B$5000)","v":0}]
[null,null,null,{"$f":"SUMIF(Gifts!A$4:A$5000, Donors!A1500,Gifts!B$4:B$5000)","v":0}]
[null,null,null,{"$f":"SUMIF(Gifts!A$4:A$5000, Donors!A1501,Gifts!B$4:B$5000)","v":0}]
[null,null,null,{"$f":"SUMIF(Gifts!A$4:A$5000, Donors!A1502,Gifts!B$4:B$5000)","v":0}]
[null,null,null,{"$f":"SUMIF(Gifts!A$4:A$5000, Donors!A1503,Gifts!B$4:B$5000)","v":0}]
[null,null,null,{"$f":"SUMIF(Gifts!A$4:A$5000, Donors!A1504,Gifts!B$4:B$5000)","v":0}]
[null,null,null,{"$f":"SUMIF(Gifts!A$4:A$5000, Donors!A1505,Gifts!B$4:B$5000)","v":0}]
[null,null,null,{"$f":"SUMIF(Gifts!A$4:A$5000, Donors!A1506,Gifts!B$4:B$5000)","v":0}]
[null,null,null,{"$f":"SUMIF(Gifts!A$4:A$5000, Donors!A1507,Gifts!B$4:B$5000)","v":0}]
[null,null,null,{"$f":"SUMIF(Gifts!A$4:A$5000, Donors!A1508,Gifts!B$4:B$5000)","v":0}]
[null,null,null,{"$f":"SUMIF(Gifts!A$4:A$5000, Donors!A1509,Gifts!B$4:B$5000)","v":0}]
[null,null,null,{"$f":"SUMIF(Gifts!A$4:A$5000, Donors!A1510,Gifts!B$4:B$5000)","v":0}]
[null,null,null,{"$f":"SUMIF(Gifts!A$4:A$5000, Donors!A1511,Gifts!B$4:B$5000)","v":0}]
[null,null,null,{"$f":"SUMIF(Gifts!A$4:A$5000, Donors!A1512,Gifts!B$4:B$5000)","v":0}]
[null,null,null,{"$f":"SUMIF(Gifts!A$4:A$5000, Donors!A1513,Gifts!B$4:B$5000)","v":0}]
[null,null,null,{"$f":"SUMIF(Gifts!A$4:A$5000, Donors!A1514,Gifts!B$4:B$5000)","v":0}]
[null,null,null,{"$f":"SUMIF(Gifts!A$4:A$5000, Donors!A1515,Gifts!B$4:B$5000)","v":0}]
[null,null,null,{"$f":"SUMIF(Gifts!A$4:A$5000, Donors!A1516,Gifts!B$4:B$5000)","v":0}]
[null,null,null,{"$f":"SUMIF(Gifts!A$4:A$5000, Donors!A1517,Gifts!B$4:B$5000)","v":0}]
[null,null,null,{"$f":"SUMIF(Gifts!A$4:A$5000, Donors!A1518,Gifts!B$4:B$5000)","v":0}]
[null,null,null,{"$f":"SUMIF(Gifts!A$4:A$5000, Donors!A1519,Gifts!B$4:B$5000)","v":0}]
[null,null,null,{"$f":"SUMIF(Gifts!A$4:A$5000, Donors!A1520,Gifts!B$4:B$5000)","v":0}]
[null,null,null,{"$f":"SUMIF(Gifts!A$4:A$5000, Donors!A1521,Gifts!B$4:B$5000)","v":0}]
[null,null,null,{"$f":"SUMIF(Gifts!A$4:A$5000, Donors!A1522,Gifts!B$4:B$5000)","v":0}]
[null,null,null,{"$f":"SUMIF(Gifts!A$4:A$5000, Donors!A1523,Gifts!B$4:B$5000)","v":0}]
[null,null,null,{"$f":"SUMIF(Gifts!A$4:A$5000, Donors!A1524,Gifts!B$4:B$5000)","v":0}]
[null,null,null,{"$f":"SUMIF(Gifts!A$4:A$5000, Donors!A1525,Gifts!B$4:B$5000)","v":0}]
[null,null,null,{"$f":"SUMIF(Gifts!A$4:A$5000, Donors!A1526,Gifts!B$4:B$5000)","v":0}]
[null,null,null,{"$f":"SUMIF(Gifts!A$4:A$5000, Donors!A1527,Gifts!B$4:B$5000)","v":0}]
[null,null,null,{"$f":"SUMIF(Gifts!A$4:A$5000, Donors!A1528,Gifts!B$4:B$5000)","v":0}]
[null,null,null,{"$f":"SUMIF(Gifts!A$4:A$5000, Donors!A1529,Gifts!B$4:B$5000)","v":0}]
[null,null,null,{"$f":"SUMIF(Gifts!A$4:A$5000, Donors!A1530,Gifts!B$4:B$5000)","v":0}]
[null,null,null,{"$f":"SUMIF(Gifts!A$4:A$5000, Donors!A1531,Gifts!B$4:B$5000)","v":0}]
[null,null,null,{"$f":"SUMIF(Gifts!A$4:A$5000, Donors!A1532,Gifts!B$4:B$5000)","v":0}]
[null,null,null,{"$f":"SUMIF(Gifts!A$4:A$5000, Donors!A1533,Gifts!B$4:B$5000)","v":0}]
[null,null,null,{"$f":"SUMIF(Gifts!A$4:A$5000, Donors!A1534,Gifts!B$4:B$5000)","v":0}]
[null,null,null,{"$f":"SUMIF(Gifts!A$4:A$5000, Donors!A1535,Gifts!B$4:B$5000)","v":0}]
[null,null,null,{"$f":"SUMIF(Gifts!A$4:A$5000, Donors!A1536,Gifts!B$4:B$5000)","v":0}]
[null,null,null,{"$f":"SUMIF(Gifts!A$4:A$5000, Donors!A1537,Gifts!B$4:B$5000)","v":0}]
[null,null,null,{"$f":"SUMIF(Gifts!A$4:A$5000, Donors!A1538,Gifts!B$4:B$5000)","v":0}]
[null,null,null,{"$f":"SUMIF(Gifts!A$4:A$5000, Donors!A1539,Gifts!B$4:B$5000)","v":0}]
[null,null,null,{"$f":"SUMIF(Gifts!A$4:A$5000, Donors!A1540,Gifts!B$4:B$5000)","v":0}]
[null,null,null,{"$f":"SUMIF(Gifts!A$4:A$5000, Donors!A1541,Gifts!B$4:B$5000)","v":0}]
[null,null,null,{"$f":"SUMIF(Gifts!A$4:A$5000, Donors!A1542,Gifts!B$4:B$5000)","v":0}]
[null,null,null,{"$f":"SUMIF(Gifts!A$4:A$5000, Donors!A1543,Gifts!B$4:B$5000)","v":0}]
[null,null,null,{"$f":"SUMIF(Gifts!A$4:A$5000, Donors!A1544,Gifts!B$4:B$5000)","v":0}]
[null,null,null,{"$f":"SUMIF(Gifts!A$4:A$5000, Donors!A1545,Gifts!B$4:B$5000)","v":0}]
[null,null,null,{"$f":"SUMIF(Gifts!A$4:A$5000, Donors!A1546,Gifts!B$4:B$5000)","v":0}]
[null,null,null,{"$f":"SUMIF(Gifts!A$4:A$5000, Donors!A1547,Gifts!B$4:B$5000)","v":0}]
[null,null,null,{"$f":"SUMIF(Gifts!A$4:A$5000, Donors!A1548,Gifts!B$4:B$5000)","v":0}]
[null,null,null,{"$f":"SUMIF(Gifts!A$4:A$5000, Donors!A1549,Gifts!B$4:B$5000)","v":0}]
[null,null,null,{"$f":"SUMIF(Gifts!A$4:A$5000, Donors!A1550,Gifts!B$4:B$5000)","v":0}]
[null,null,null,{"$f":"SUMIF(Gifts!A$4:A$5000, Donors!A1551,Gifts!B$4:B$5000)","v":0}]
[null,null,null,{"$f":"SUMIF(Gifts!A$4:A$5000, Donors!A1552,Gifts!B$4:B$5000)","v":0}]
[null,null,null,{"$f":"SUMIF(Gifts!A$4:A$5000, Donors!A1553,Gifts!B$4:B$5000)","v":0}]
[null,null,null,{"$f":"SUMIF(Gifts!A$4:A$5000, Donors!A1554,Gifts!B$4:B$5000)","v":0}]
[null,null,null,{"$f":"SUMIF(Gifts!A$4:A$5000, Donors!A1555,Gifts!B$4:B$5000)","v":0}]
[null,null,null,{"$f":"SUMIF(Gifts!A$4:A$5000, Donors!A1556,Gifts!B$4:B$5000)","v":0}]
[null,null,null,{"$f":"SUMIF(Gifts!A$4:A$5000, Donors!A1557,Gifts!B$4:B$5000)","v":0}]
[null,null,null,{"$f":"SUMIF(Gifts!A$4:A$5000, Donors!A1558,Gifts!B$4:B$5000)","v":0}]
[null,null,null,{"$f":"SUMIF(Gifts!A$4:A$5000, Donors!A1559,Gifts!B$4:B$5000)","v":0}]
[null,null,null,{"$f":"SUMIF(Gifts!A$4:A$5000, Donors!A1560,Gifts!B$4:B$5000)","v":0}]
[null,null,null,{"$f":"SUMIF(Gifts!A$4:A$5000, Donors!A1561,Gifts!B$4:B$5000)","v":0}]
[null,null,null,{"$f":"SUMIF(Gifts!A$4:A$5000, Donors!A1562,Gifts!B$4:B$5000)","v":0}]
[null,null,null,{"$f":"SUMIF(Gifts!A$4:A$5000, Donors!A1563,Gifts!B$4:B$5000)","v":0}]
[null,null,null,{"$f":"SUMIF(Gifts!A$4:A$5000, Donors!A1564,Gifts!B$4:B$5000)","v":0}]
[null,null,null,{"$f":"SUMIF(Gifts!A$4:A$5000, Donors!A1565,Gifts!B$4:B$5000)","v":0}]
[null,null,null,{"$f":"SUMIF(Gifts!A$4:A$5000, Donors!A1566,Gifts!B$4:B$5000)","v":0}]
[null,null,null,{"$f":"SUMIF(Gifts!A$4:A$5000, Donors!A1567,Gifts!B$4:B$5000)","v":0}]
[null,null,null,{"$f":"SUMIF(Gifts!A$4:A$5000, Donors!A1568,Gifts!B$4:B$5000)","v":0}]
[null,null,null,{"$f":"SUMIF(Gifts!A$4:A$5000, Donors!A1569,Gifts!B$4:B$5000)","v":0}]
[null,null,null,{"$f":"SUMIF(Gifts!A$4:A$5000, Donors!A1570,Gifts!B$4:B$5000)","v":0}]
[null,null,null,{"$f":"SUMIF(Gifts!A$4:A$5000, Donors!A1571,Gifts!B$4:B$5000)","v":0}]
[null,null,null,{"$f":"SUMIF(Gifts!A$4:A$5000, Donors!A1572,Gifts!B$4:B$5000)","v":0}]
[null,null,null,{"$f":"SUMIF(Gifts!A$4:A$5000, Donors!A1573,Gifts!B$4:B$5000)","v":0}]
[null,null,null,{"$f":"SUMIF(Gifts!A$4:A$5000, Donors!A1574,Gifts!B$4:B$5000)","v":0}]
[null,null,null,{"$f":"SUMIF(Gifts!A$4:A$5000, Donors!A1575,Gifts!B$4:B$5000)","v":0}]
[null,null,null,{"$f":"SUMIF(Gifts!A$4:A$5000, Donors!A1576,Gifts!B$4:B$5000)","v":0}]
[null,null,null,{"$f":"SUMIF(Gifts!A$4:A$5000, Donors!A1577,Gifts!B$4:B$5000)","v":0}]
[null,null,null,{"$f":"SUMIF(Gifts!A$4:A$5000, Donors!A1578,Gifts!B$4:B$5000)","v":0}]
[null,null,null,{"$f":"SUMIF(Gifts!A$4:A$5000, Donors!A1579,Gifts!B$4:B$5000)","v":0}]
[null,null,null,{"$f":"SUMIF(Gifts!A$4:A$5000, Donors!A1580,Gifts!B$4:B$5000)","v":0}]
[null,null,null,{"$f":"SUMIF(Gifts!A$4:A$5000, Donors!A1581,Gifts!B$4:B$5000)","v":0}]
[null,null,null,{"$f":"SUMIF(Gifts!A$4:A$5000, Donors!A1582,Gifts!B$4:B$5000)","v":0}]
[null,null,null,{"$f":"SUMIF(Gifts!A$4:A$5000, Donors!A1583,Gifts!B$4:B$5000)","v":0}]
[null,null,null,{"$f":"SUMIF(Gifts!A$4:A$5000, Donors!A1584,Gifts!B$4:B$5000)","v":0}]
[null,null,null,{"$f":"SUMIF(Gifts!A$4:A$5000, Donors!A1585,Gifts!B$4:B$5000)","v":0}]
[null,null,null,{"$f":"SUMIF(Gifts!A$4:A$5000, Donors!A1586,Gifts!B$4:B$5000)","v":0}]
[null,null,null,{"$f":"SUMIF(Gifts!A$4:A$5000, Donors!A1587,Gifts!B$4:B$5000)","v":0}]
[null,null,null,{"$f":"SUMIF(Gifts!A$4:A$5000, Donors!A1588,Gifts!B$4:B$5000)","v":0}]
[null,null,null,{"$f":"SUMIF(Gifts!A$4:A$5000, Donors!A1589,Gifts!B$4:B$5000)","v":0}]
[null,null,null,{"$f":"SUMIF(Gifts!A$4:A$5000, Donors!A1590,Gifts!B$4:B$5000)","v":0}]
[null,null,null,{"$f":"SUMIF(Gifts!A$4:A$5000, Donors!A1591,Gifts!B$4:B$5000)","v":0}]
[null,null,null,{"$f":"SUMIF(Gifts!A$4:A$5000, Donors!A1592,Gifts!B$4:B$5000)","v":0}]
[null,null,null,{"$f":"SUMIF(Gifts!A$4:A$5000, Donors!A1593,Gifts!B$4:B$5000)","v":0}]
[null,null,null,{"$f":"SUMIF(Gifts!A$4:A$5000, Donors!A1594,Gifts!B$4:B$5000)","v":0}]
[null,null,null,{"$f":"SUMIF(Gifts!A$4:A$5000, Donors!A1595,Gifts!B$4:B$5000)","v":0}]
[null,null,null,{"$f":"SUMIF(Gifts!A$4:A$5000, Donors!A1596,Gifts!B$4:B$5000)","v":0}]
[null,null,null,{"$f":"SUMIF(Gifts!A$4:A$5000, Donors!A1597,Gifts!B$4:B$5000)","v":0}]
[null,null,null,{"$f":"SUMIF(Gifts!A$4:A$5000, Donors!A1598,Gifts!B$4:B$5000)","v":0}]
[null,null,null,{"$f":"SUMIF(Gifts!A$4:A$5000, Donors!A1599,Gifts!B$4:B$5000)","v":0}]
[null,null,null,{"$f":"SUMIF(Gifts!A$4:A$5000, Donors!A1600,Gifts!B$4:B$5000)","v":0}]
[null,null,null,{"$f":"SUMIF(Gifts!A$4:A$5000, Donors!A1601,Gifts!B$4:B$5000)","v":0}]
[null,null,null,{"$f":"SUMIF(Gifts!A$4:A$5000, Donors!A1602,Gifts!B$4:B$5000)","v":0}]
[null,null,null,{"$f":"SUMIF(Gifts!A$4:A$5000, Donors!A1603,Gifts!B$4:B$5000)","v":0}]
[null,null,null,{"$f":"SUMIF(Gifts!A$4:A$5000, Donors!A1604,Gifts!B$4:B$5000)","v":0}]
[null,null,null,{"$f":"SUMIF(Gifts!A$4:A$5000, Donors!A1605,Gifts!B$4:B$5000)","v":0}]
[null,null,null,{"$f":"SUMIF(Gifts!A$4:A$5000, Donors!A1606,Gifts!B$4:B$5000)","v":0}]
[null,null,null,{"$f":"SUMIF(Gifts!A$4:A$5000, Donors!A1607,Gifts!B$4:B$5000)","v":0}]
[null,null,null,{"$f":"SUMIF(Gifts!A$4:A$5000, Donors!A1608,Gifts!B$4:B$5000)","v":0}]
[null,null,null,{"$f":"SUMIF(Gifts!A$4:A$5000, Donors!A1609,Gifts!B$4:B$5000)","v":0}]
[null,null,null,{"$f":"SUMIF(Gifts!A$4:A$5000, Donors!A1610,Gifts!B$4:B$5000)","v":0}]
[null,null,null,{"$f":"SUMIF(Gifts!A$4:A$5000, Donors!A1611,Gifts!B$4:B$5000)","v":0}]
[null,null,null,{"$f":"SUMIF(Gifts!A$4:A$5000, Donors!A1612,Gifts!B$4:B$5000)","v":0}]
[null,null,null,{"$f":"SUMIF(Gifts!A$4:A$5000, Donors!A1613,Gifts!B$4:B$5000)","v":0}]
[null,null,null,{"$f":"SUMIF(Gifts!A$4:A$5000, Donors!A1614,Gifts!B$4:B$5000)","v":0}]
[null,null,null,{"$f":"SUMIF(Gifts!A$4:A$5000, Donors!A1615,Gifts!B$4:B$5000)","v":0}]
[null,null,null,{"$f":"SUMIF(Gifts!A$4:A$5000, Donors!A1616,Gifts!B$4:B$5000)","v":0}]
[null,null,null,{"$f":"SUMIF(Gifts!A$4:A$5000, Donors!A1617,Gifts!B$4:B$5000)","v":0}]
[null,null,null,{"$f":"SUMIF(Gifts!A$4:A$5000, Donors!A1618,Gifts!B$4:B$5000)","v":0}]
[null,null,null,{"$f":"SUMIF(Gifts!A$4:A$5000, Donors!A1619,Gifts!B$4:B$5000)","v":0}]
[null,null,null,{"$f":"SUMIF(Gifts!A$4:A$5000, Donors!A1620,Gifts!B$4:B$5000)","v":0}]
[null,null,null,{"$f":"SUMIF(Gifts!A$4:A$5000, Donors!A1621,Gifts!B$4:B$5000)","v":0}]
[null,null,null,{"$f":"SUMIF(Gifts!A$4:A$5000, Donors!A1622,Gifts!B$4:B$5000)","v":0}]
[null,null,null,{"$f":"SUMIF(Gifts!A$4:A$5000, Donors!A1623,Gifts!B$4:B$5000)","v":0}]
[null,null,null,{"$f":"SUMIF(Gifts!A$4:A$5000, Donors!A1624,Gifts!B$4:B$5000)","v":0}]
[null,null,null,{"$f":"SUMIF(Gifts!A$4:A$5000, Donors!A1625,Gifts!B$4:B$5000)","v":0}]
[null,null,null,{"$f":"SUMIF(Gifts!A$4:A$5000, Donors!A1626,Gifts!B$4:B$5000)","v":0}]
[null,null,null,{"$f":"SUMIF(Gifts!A$4:A$5000, Donors!A1627,Gifts!B$4:B$5000)","v":0}]
[null,null,null,{"$f":"SUMIF(Gifts!A$4:A$5000, Donors!A1628,Gifts!B$4:B$5000)","v":0}]
[null,null,null,{"$f":"SUMIF(Gifts!A$4:A$5000, Donors!A1629,Gifts!B$4:B$5000)","v":0}]
[null,null,null,{"$f":"SUMIF(Gifts!A$4:A$5000, Donors!A1630,Gifts!B$4:B$5000)","v":0}]
[null,null,null,{"$f":"SUMIF(Gifts!A$4:A$5000, Donors!A1631,Gifts!B$4:B$5000)","v":0}]
[null,null,null,{"$f":"SUMIF(Gifts!A$4:A$5000, Donors!A1632,Gifts!B$4:B$5000)","v":0}]
[null,null,null,{"$f":"SUMIF(Gifts!A$4:A$5000, Donors!A1633,Gifts!B$4:B$5000)","v":0}]
[null,null,null,{"$f":"SUMIF(Gifts!A$4:A$5000, Donors!A1634,Gifts!B$4:B$5000)","v":0}]
[null,null,null,{"$f":"SUMIF(Gifts!A$4:A$5000, Donors!A1635,Gifts!B$4:B$5000)","v":0}]
[null,null,null,{"$f":"SUMIF(Gifts!A$4:A$5000, Donors!A1636,Gifts!B$4:B$5000)","v":0}]
[null,null,null,{"$f":"SUMIF(Gifts!A$4:A$5000, Donors!A1637,Gifts!B$4:B$5000)","v":0}]
[null,null,null,{"$f":"SUMIF(Gifts!A$4:A$5000, Donors!A1638,Gifts!B$4:B$5000)","v":0}]
[null,null,null,{"$f":"SUMIF(Gifts!A$4:A$5000, Donors!A1639,Gifts!B$4:B$5000)","v":0}]
[null,null,null,{"$f":"SUMIF(Gifts!A$4:A$5000, Donors!A1640,Gifts!B$4:B$5000)","v":0}]
[null,null,null,{"$f":"SUMIF(Gifts!A$4:A$5000, Donors!A1641,Gifts!B$4:B$5000)","v":0}]
[null,null,null,{"$f":"SUMIF(Gifts!A$4:A$5000, Donors!A1642,Gifts!B$4:B$5000)","v":0}]
[null,null,null,{"$f":"SUMIF(Gifts!A$4:A$5000, Donors!A1643,Gifts!B$4:B$5000)","v":0}]
[null,null,null,{"$f":"SUMIF(Gifts!A$4:A$5000, Donors!A1644,Gifts!B$4:B$5000)","v":0}]
[null,null,null,{"$f":"SUMIF(Gifts!A$4:A$5000, Donors!A1645,Gifts!B$4:B$5000)","v":0}]
[null,null,null,{"$f":"SUMIF(Gifts!A$4:A$5000, Donors!A1646,Gifts!B$4:B$5000)","v":0}]
[null,null,null,{"$f":"SUMIF(Gifts!A$4:A$5000, Donors!A1647,Gifts!B$4:B$5000)","v":0}]
[null,null,null,{"$f":"SUMIF(Gifts!A$4:A$5000, Donors!A1648,Gifts!B$4:B$5000)","v":0}]
[null,null,null,{"$f":"SUMIF(Gifts!A$4:A$5000, Donors!A1649,Gifts!B$4:B$5000)","v":0}]
[null,null,null,{"$f":"SUMIF(Gifts!A$4:A$5000, Donors!A1650,Gifts!B$4:B$5000)","v":0}]
[null,null,null,{"$f":"SUMIF(Gifts!A$4:A$5000, Donors!A1651,Gifts!B$4:B$5000)","v":0}]
[null,null,null,{"$f":"SUMIF(Gifts!A$4:A$5000, Donors!A1652,Gifts!B$4:B$5000)","v":0}]
[null,null,null,{"$f":"SUMIF(Gifts!A$4:A$5000, Donors!A1653,Gifts!B$4:B$5000)","v":0}]
[null,null,null,{"$f":"SUMIF(Gifts!A$4:A$5000, Donors!A1654,Gifts!B$4:B$5000)","v":0}]
[null,null,null,{"$f":"SUMIF(Gifts!A$4:A$5000, Donors!A1655,Gifts!B$4:B$5000)","v":0}]
[null,null,null,{"$f":"SUMIF(Gifts!A$4:A$5000, Donors!A1656,Gifts!B$4:B$5000)","v":0}]
[null,null,null,{"$f":"SUMIF(Gifts!A$4:A$5000, Donors!A1657,Gifts!B$4:B$5000)","v":0}]
[null,null,null,{"$f":"SUMIF(Gifts!A$4:A$5000, Donors!A1658,Gifts!B$4:B$5000)","v":0}]
[null,null,null,{"$f":"SUMIF(Gifts!A$4:A$5000, Donors!A1659,Gifts!B$4:B$5000)","v":0}]
[null,null,null,{"$f":"SUMIF(Gifts!A$4:A$5000, Donors!A1660,Gifts!B$4:B$5000)","v":0}]
[null,null,null,{"$f":"SUMIF(Gifts!A$4:A$5000, Donors!A1661,Gifts!B$4:B$5000)","v":0}]
[null,null,null,{"$f":"SUMIF(Gifts!A$4:A$5000, Donors!A1662,Gifts!B$4:B$5000)","v":0}]
[null,null,null,{"$f":"SUMIF(Gifts!A$4:A$5000, Donors!A1663,Gifts!B$4:B$5000)","v":0}]
[null,null,null,{"$f":"SUMIF(Gifts!A$4:A$5000, Donors!A1664,Gifts!B$4:B$5000)","v":0}]
[null,null,null,{"$f":"SUMIF(Gifts!A$4:A$5000, Donors!A1665,Gifts!B$4:B$5000)","v":0}]
[null,null,null,{"$f":"SUMIF(Gifts!A$4:A$5000, Donors!A1666,Gifts!B$4:B$5000)","v":0}]
[null,null,null,{"$f":"SUMIF(Gifts!A$4:A$5000, Donors!A1667,Gifts!B$4:B$5000)","v":0}]
[null,null,null,{"$f":"SUMIF(Gifts!A$4:A$5000, Donors!A1668,Gifts!B$4:B$5000)","v":0}]
[null,null,null,{"$f":"SUMIF(Gifts!A$4:A$5000, Donors!A1669,Gifts!B$4:B$5000)","v":0}]
[null,null,null,{"$f":"SUMIF(Gifts!A$4:A$5000, Donors!A1670,Gifts!B$4:B$5000)","v":0}]
[null,null,null,{"$f":"SUMIF(Gifts!A$4:A$5000, Donors!A1671,Gifts!B$4:B$5000)","v":0}]
[null,null,null,{"$f":"SUMIF(Gifts!A$4:A$5000, Donors!A1672,Gifts!B$4:B$5000)","v":0}]
[null,null,null,{"$f":"SUMIF(Gifts!A$4:A$5000, Donors!A1673,Gifts!B$4:B$5000)","v":0}]
[null,null,null,{"$f":"SUMIF(Gifts!A$4:A$5000, Donors!A1674,Gifts!B$4:B$5000)","v":0}]
[null,null,null,{"$f":"SUMIF(Gifts!A$4:A$5000, Donors!A1675,Gifts!B$4:B$5000)","v":0}]
[null,null,null,{"$f":"SUMIF(Gifts!A$4:A$5000, Donors!A1676,Gifts!B$4:B$5000)","v":0}]
[null,null,null,{"$f":"SUMIF(Gifts!A$4:A$5000, Donors!A1677,Gifts!B$4:B$5000)","v":0}]
[null,null,null,{"$f":"SUMIF(Gifts!A$4:A$5000, Donors!A1678,Gifts!B$4:B$5000)","v":0}]
[null,null,null,{"$f":"SUMIF(Gifts!A$4:A$5000, Donors!A1679,Gifts!B$4:B$5000)","v":0}]
[null,null,null,{"$f":"SUMIF(Gifts!A$4:A$5000, Donors!A1680,Gifts!B$4:B$5000)","v":0}]
[null,null,null,{"$f":"SUMIF(Gifts!A$4:A$5000, Donors!A1681,Gifts!B$4:B$5000)","v":0}]
[null,null,null,{"$f":"SUMIF(Gifts!A$4:A$5000, Donors!A1682,Gifts!B$4:B$5000)","v":0}]
[null,null,null,{"$f":"SUMIF(Gifts!A$4:A$5000, Donors!A1683,Gifts!B$4:B$5000)","v":0}]
[null,null,null,{"$f":"SUMIF(Gifts!A$4:A$5000, Donors!A1684,Gifts!B$4:B$5000)","v":0}]
[null,null,null,{"$f":"SUMIF(Gifts!A$4:A$5000, Donors!A1685,Gifts!B$4:B$5000)","v":0}]
[null,null,null,{"$f":"SUMIF(Gifts!A$4:A$5000, Donors!A1686,Gifts!B$4:B$5000)","v":0}]
[null,null,null,{"$f":"SUMIF(Gifts!A$4:A$5000, Donors!A1687,Gifts!B$4:B$5000)","v":0}]
[null,null,null,{"$f":"SUMIF(Gifts!A$4:A$5000, Donors!A1688,Gifts!B$4:B$5000)","v":0}]
[null,null,null,{"$f":"SUMIF(Gifts!A$4:A$5000, Donors!A1689,Gifts!B$4:B$5000)","v":0}]
[null,null,null,{"$f":"SUMIF(Gifts!A$4:A$5000, Donors!A1690,Gifts!B$4:B$5000)","v":0}]
[null,null,null,{"$f":"SUMIF(Gifts!A$4:A$5000, Donors!A1691,Gifts!B$4:B$5000)","v":0}]
[null,null,null,{"$f":"SUMIF(Gifts!A$4:A$5000, Donors!A1692,Gifts!B$4:B$5000)","v":0}]
[null,null,null,{"$f":"SUMIF(Gifts!A$4:A$5000, Donors!A1693,Gifts!B$4:B$5000)","v":0}]
[null,null,null,{"$f":"SUMIF(Gifts!A$4:A$5000, Donors!A1694,Gifts!B$4:B$5000)","v":0}]
[null,null,null,{"$f":"SUMIF(Gifts!A$4:A$5000, Donors!A1695,Gifts!B$4:B$5000)","v":0}]
[null,null,null,{"$f":"SUMIF(Gifts!A$4:A$5000, Donors!A1696,Gifts!B$4:B$5000)","v":0}]
[null,null,null,{"$f":"SUMIF(Gifts!A$4:A$5000, Donors!A1697,Gifts!B$4:B$5000)","v":0}]
[null,null,null,{"$f":"SUMIF(Gifts!A$4:A$5000, Donors!A1698,Gifts!B$4:B$5000)","v":0}]
[null,null,null,{"$f":"SUMIF(Gifts!A$4:A$5000, Donors!A1699,Gifts!B$4:B$5000)","v":0}]
[null,null,null,{"$f":"SUMIF(Gifts!A$4:A$5000, Donors!A1700,Gifts!B$4:B$5000)","v":0}]
[null,null,null,{"$f":"SUMIF(Gifts!A$4:A$5000, Donors!A1701,Gifts!B$4:B$5000)","v":0}]
[null,null,null,{"$f":"SUMIF(Gifts!A$4:A$5000, Donors!A1702,Gifts!B$4:B$5000)","v":0}]
[null,null,null,{"$f":"SUMIF(Gifts!A$4:A$5000, Donors!A1703,Gifts!B$4:B$5000)","v":0}]
[null,null,null,{"$f":"SUMIF(Gifts!A$4:A$5000, Donors!A1704,Gifts!B$4:B$5000)","v":0}]
[null,null,null,{"$f":"SUMIF(Gifts!A$4:A$5000, Donors!A1705,Gifts!B$4:B$5000)","v":0}]
[null,null,null,{"$f":"SUMIF(Gifts!A$4:A$5000, Donors!A1706,Gifts!B$4:B$5000)","v":0}]
[null,null,null,{"$f":"SUMIF(Gifts!A$4:A$5000, Donors!A1707,Gifts!B$4:B$5000)","v":0}]
[null,null,null,{"$f":"SUMIF(Gifts!A$4:A$5000, Donors!A1708,Gifts!B$4:B$5000)","v":0}]
[null,null,null,{"$f":"SUMIF(Gifts!A$4:A$5000, Donors!A1709,Gifts!B$4:B$5000)","v":0}]
[null,null,null,{"$f":"SUMIF(Gifts!A$4:A$5000, Donors!A1710,Gifts!B$4:B$5000)","v":0}]
[null,null,null,{"$f":"SUMIF(Gifts!A$4:A$5000, Donors!A1711,Gifts!B$4:B$5000)","v":0}]
[null,null,null,{"$f":"SUMIF(Gifts!A$4:A$5000, Donors!A1712,Gifts!B$4:B$5000)","v":0}]
[null,null,null,{"$f":"SUMIF(Gifts!A$4:A$5000, Donors!A1713,Gifts!B$4:B$5000)","v":0}]
[null,null,null,{"$f":"SUMIF(Gifts!A$4:A$5000, Donors!A1714,Gifts!B$4:B$5000)","v":0}]
[null,null,null,{"$f":"SUMIF(Gifts!A$4:A$5000, Donors!A1715,Gifts!B$4:B$5000)","v":0}]
[null,null,null,{"$f":"SUMIF(Gifts!A$4:A$5000, Donors!A1716,Gifts!B$4:B$5000)","v":0}]
[null,null,null,{"$f":"SUMIF(Gifts!A$4:A$5000, Donors!A1717,Gifts!B$4:B$5000)","v":0}]
[null,null,null,{"$f":"SUMIF(Gifts!A$4:A$5000, Donors!A1718,Gifts!B$4:B$5000)","v":0}]
[null,null,null,{"$f":"SUMIF(Gifts!A$4:A$5000, Donors!A1719,Gifts!B$4:B$5000)","v":0}]
[null,null,null,{"$f":"SUMIF(Gifts!A$4:A$5000, Donors!A1720,Gifts!B$4:B$5000)","v":0}]
[null,null,null,{"$f":"SUMIF(Gifts!A$4:A$5000, Donors!A1721,Gifts!B$4:B$5000)","v":0}]
[null,null,null,{"$f":"SUMIF(Gifts!A$4:A$5000, Donors!A1722,Gifts!B$4:B$5000)","v":0}]
[null,null,null,{"$f":"SUMIF(Gifts!A$4:A$5000, Donors!A1723,Gifts!B$4:B$5000)","v":0}]
[null,null,null,{"$f":"SUMIF(Gifts!A$4:A$5000, Donors!A1724,Gifts!B$4:B$5000)","v":0}]
[null,null,null,{"$f":"SUMIF(Gifts!A$4:A$5000, Donors!A1725,Gifts!B$4:B$5000)","v":0}]
[null,null,null,{"$f":"SUMIF(Gifts!A$4:A$5000, Donors!A1726,Gifts!B$4:B$5000)","v":0}]
[null,null,null,{"$f":"SUMIF(Gifts!A$4:A$5000, Donors!A1727,Gifts!B$4:B$5000)","v":0}]
[null,null,null,{"$f":"SUMIF(Gifts!A$4:A$5000, Donors!A1728,Gifts!B$4:B$5000)","v":0}]
[null,null,null,{"$f":"SUMIF(Gifts!A$4:A$5000, Donors!A1729,Gifts!B$4:B$5000)","v":0}]
[null,null,null,{"$f":"SUMIF(Gifts!A$4:A$5000, Donors!A1730,Gifts!B$4:B$5000)","v":0}]
[null,null,null,{"$f":"SUMIF(Gifts!A$4:A$5000, Donors!A1731,Gifts!B$4:B$5000)","v":0}]
[null,null,null,{"$f":"SUMIF(Gifts!A$4:A$5000, Donors!A1732,Gifts!B$4:B$5000)","v":0}]
[null,null,null,{"$f":"SUMIF(Gifts!A$4:A$5000, Donors!A1733,Gifts!B$4:B$5000)","v":0}]
[null,null,null,{"$f":"SUMIF(Gifts!A$4:A$5000, Donors!A1734,Gifts!B$4:B$5000)","v":0}]
[null,null,null,{"$f":"SUMIF(Gifts!A$4:A$5000, Donors!A1735,Gifts!B$4:B$5000)","v":0}]
[null,null,null,{"$f":"SUMIF(Gifts!A$4:A$5000, Donors!A1736,Gifts!B$4:B$5000)","v":0}]
[null,null,null,{"$f":"SUMIF(Gifts!A$4:A$5000, Donors!A1737,Gifts!B$4:B$5000)","v":0}]
[null,null,null,{"$f":"SUMIF(Gifts!A$4:A$5000, Donors!A1738,Gifts!B$4:B$5000)","v":0}]
[null,null,null,{"$f":"SUMIF(Gifts!A$4:A$5000, Donors!A1739,Gifts!B$4:B$5000)","v":0}]
[null,null,null,{"$f":"SUMIF(Gifts!A$4:A$5000, Donors!A1740,Gifts!B$4:B$5000)","v":0}]
[null,null,null,{"$f":"SUMIF(Gifts!A$4:A$5000, Donors!A1741,Gifts!B$4:B$5000)","v":0}]
[null,null,null,{"$f":"SUMIF(Gifts!A$4:A$5000, Donors!A1742,Gifts!B$4:B$5000)","v":0}]
[null,null,null,{"$f":"SUMIF(Gifts!A$4:A$5000, Donors!A1743,Gifts!B$4:B$5000)","v":0}]
[null,null,null,{"$f":"SUMIF(Gifts!A$4:A$5000, Donors!A1744,Gifts!B$4:B$5000)","v":0}]
[null,null,null,{"$f":"SUMIF(Gifts!A$4:A$5000, Donors!A1745,Gifts!B$4:B$5000)","v":0}]
[null,null,null,{"$f":"SUMIF(Gifts!A$4:A$5000, Donors!A1746,Gifts!B$4:B$5000)","v":0}]
[null,null,null,{"$f":"SUMIF(Gifts!A$4:A$5000, Donors!A1747,Gifts!B$4:B$5000)","v":0}]
[null,null,null,{"$f":"SUMIF(Gifts!A$4:A$5000, Donors!A1748,Gifts!B$4:B$5000)","v":0}]
[null,null,null,{"$f":"SUMIF(Gifts!A$4:A$5000, Donors!A1749,Gifts!B$4:B$5000)","v":0}]
[null,null,null,{"$f":"SUMIF(Gifts!A$4:A$5000, Donors!A1750,Gifts!B$4:B$5000)","v":0}]
[null,null,null,{"$f":"SUMIF(Gifts!A$4:A$5000, Donors!A1751,Gifts!B$4:B$5000)","v":0}]
[null,null,null,{"$f":"SUMIF(Gifts!A$4:A$5000, Donors!A1752,Gifts!B$4:B$5000)","v":0}]
[null,null,null,{"$f":"SUMIF(Gifts!A$4:A$5000, Donors!A1753,Gifts!B$4:B$5000)","v":0}]
[null,null,null,{"$f":"SUMIF(Gifts!A$4:A$5000, Donors!A1754,Gifts!B$4:B$5000)","v":0}]
[null,null,null,{"$f":"SUMIF(Gifts!A$4:A$5000, Donors!A1755,Gifts!B$4:B$5000)","v":0}]
[null,null,null,{"$f":"SUMIF(Gifts!A$4:A$5000, Donors!A1756,Gifts!B$4:B$5000)","v":0}]
[null,null,null,{"$f":"SUMIF(Gifts!A$4:A$5000, Donors!A1757,Gifts!B$4:B$5000)","v":0}]
[null,null,null,{"$f":"SUMIF(Gifts!A$4:A$5000, Donors!A1758,Gifts!B$4:B$5000)","v":0}]
[null,null,null,{"$f":"SUMIF(Gifts!A$4:A$5000, Donors!A1759,Gifts!B$4:B$5000)","v":0}]
[null,null,null,{"$f":"SUMIF(Gifts!A$4:A$5000, Donors!A1760,Gifts!B$4:B$5000)","v":0}]
[null,null,null,{"$f":"SUMIF(Gifts!A$4:A$5000, Donors!A1761,Gifts!B$4:B$5000)","v":0}]
[null,null,null,{"$f":"SUMIF(Gifts!A$4:A$5000, Donors!A1762,Gifts!B$4:B$5000)","v":0}]
[null,null,null,{"$f":"SUMIF(Gifts!A$4:A$5000, Donors!A1763,Gifts!B$4:B$5000)","v":0}]
[null,null,null,{"$f":"SUMIF(Gifts!A$4:A$5000, Donors!A1764,Gifts!B$4:B$5000)","v":0}]
[null,null,null,{"$f":"SUMIF(Gifts!A$4:A$5000, Donors!A1765,Gifts!B$4:B$5000)","v":0}]
[null,null,null,{"$f":"SUMIF(Gifts!A$4:A$5000, Donors!A1766,Gifts!B$4:B$5000)","v":0}]
[null,null,null,{"$f":"SUMIF(Gifts!A$4:A$5000, Donors!A1767,Gifts!B$4:B$5000)","v":0}]
[null,null,null,{"$f":"SUMIF(Gifts!A$4:A$5000, Donors!A1768,Gifts!B$4:B$5000)","v":0}]
[null,null,null,{"$f":"SUMIF(Gifts!A$4:A$5000, Donors!A1769,Gifts!B$4:B$5000)","v":0}]
[null,null,null,{"$f":"SUMIF(Gifts!A$4:A$5000, Donors!A1770,Gifts!B$4:B$5000)","v":0}]
[null,null,null,{"$f":"SUMIF(Gifts!A$4:A$5000, Donors!A1771,Gifts!B$4:B$5000)","v":0}]
[null,null,null,{"$f":"SUMIF(Gifts!A$4:A$5000, Donors!A1772,Gifts!B$4:B$5000)","v":0}]
[null,null,null,{"$f":"SUMIF(Gifts!A$4:A$5000, Donors!A1773,Gifts!B$4:B$5000)","v":0}]
[null,null,null,{"$f":"SUMIF(Gifts!A$4:A$5000, Donors!A1774,Gifts!B$4:B$5000)","v":0}]
[null,null,null,{"$f":"SUMIF(Gifts!A$4:A$5000, Donors!A1775,Gifts!B$4:B$5000)","v":0}]
[null,null,null,{"$f":"SUMIF(Gifts!A$4:A$5000, Donors!A1776,Gifts!B$4:B$5000)","v":0}]
[null,null,null,{"$f":"SUMIF(Gifts!A$4:A$5000, Donors!A1777,Gifts!B$4:B$5000)","v":0}]
[null,null,null,{"$f":"SUMIF(Gifts!A$4:A$5000, Donors!A1778,Gifts!B$4:B$5000)","v":0}]
[null,null,null,{"$f":"SUMIF(Gifts!A$4:A$5000, Donors!A1779,Gifts!B$4:B$5000)","v":0}]
[null,null,null,{"$f":"SUMIF(Gifts!A$4:A$5000, Donors!A1780,Gifts!B$4:B$5000)","v":0}]
[null,null,null,{"$f":"SUMIF(Gifts!A$4:A$5000, Donors!A1781,Gifts!B$4:B$5000)","v":0}]
[null,null,null,{"$f":"SUMIF(Gifts!A$4:A$5000, Donors!A1782,Gifts!B$4:B$5000)","v":0}]
[null,null,null,{"$f":"SUMIF(Gifts!A$4:A$5000, Donors!A1783,Gifts!B$4:B$5000)","v":0}]
[null,null,null,{"$f":"SUMIF(Gifts!A$4:A$5000, Donors!A1784,Gifts!B$4:B$5000)","v":0}]
[null,null,null,{"$f":"SUMIF(Gifts!A$4:A$5000, Donors!A1785,Gifts!B$4:B$5000)","v":0}]
[null,null,null,{"$f":"SUMIF(Gifts!A$4:A$5000, Donors!A1786,Gifts!B$4:B$5000)","v":0}]
[null,null,null,{"$f":"SUMIF(Gifts!A$4:A$5000, Donors!A1787,Gifts!B$4:B$5000)","v":0}]
[null,null,null,{"$f":"SUMIF(Gifts!A$4:A$5000, Donors!A1788,Gifts!B$4:B$5000)","v":0}]
[null,null,null,{"$f":"SUMIF(Gifts!A$4:A$5000, Donors!A1789,Gifts!B$4:B$5000)","v":0}]
[null,null,null,{"$f":"SUMIF(Gifts!A$4:A$5000, Donors!A1790,Gifts!B$4:B$5000)","v":0}]
[null,null,null,{"$f":"SUMIF(Gifts!A$4:A$5000, Donors!A1791,Gifts!B$4:B$5000)","v":0}]
[null,null,null,{"$f":"SUMIF(Gifts!A$4:A$5000, Donors!A1792,Gifts!B$4:B$5000)","v":0}]
[null,null,null,{"$f":"SUMIF(Gifts!A$4:A$5000, Donors!A1793,Gifts!B$4:B$5000)","v":0}]
[null,null,null,{"$f":"SUMIF(Gifts!A$4:A$5000, Donors!A1794,Gifts!B$4:B$5000)","v":0}]
[null,null,null,{"$f":"SUMIF(Gifts!A$4:A$5000, Donors!A1795,Gifts!B$4:B$5000)","v":0}]
[null,null,null,{"$f":"SUMIF(Gifts!A$4:A$5000, Donors!A1796,Gifts!B$4:B$5000)","v":0}]
[null,null,null,{"$f":"SUMIF(Gifts!A$4:A$5000, Donors!A1797,Gifts!B$4:B$5000)","v":0}]
[null,null,null,{"$f":"SUMIF(Gifts!A$4:A$5000, Donors!A1798,Gifts!B$4:B$5000)","v":0}]
[null,null,null,{"$f":"SUMIF(Gifts!A$4:A$5000, Donors!A1799,Gifts!B$4:B$5000)","v":0}]
[null,null,null,{"$f":"SUMIF(Gifts!A$4:A$5000, Donors!A1800,Gifts!B$4:B$5000)","v":0}]
[null,null,null,{"$f":"SUMIF(Gifts!A$4:A$5000, Donors!A1801,Gifts!B$4:B$5000)","v":0}]
[null,null,null,{"$f":"SUMIF(Gifts!A$4:A$5000, Donors!A1802,Gifts!B$4:B$5000)","v":0}]
[null,null,null,{"$f":"SUMIF(Gifts!A$4:A$5000, Donors!A1803,Gifts!B$4:B$5000)","v":0}]
[null,null,null,{"$f":"SUMIF(Gifts!A$4:A$5000, Donors!A1804,Gifts!B$4:B$5000)","v":0}]
[null,null,null,{"$f":"SUMIF(Gifts!A$4:A$5000, Donors!A1805,Gifts!B$4:B$5000)","v":0}]
[null,null,null,{"$f":"SUMIF(Gifts!A$4:A$5000, Donors!A1806,Gifts!B$4:B$5000)","v":0}]
[null,null,null,{"$f":"SUMIF(Gifts!A$4:A$5000, Donors!A1807,Gifts!B$4:B$5000)","v":0}]
[null,null,null,{"$f":"SUMIF(Gifts!A$4:A$5000, Donors!A1808,Gifts!B$4:B$5000)","v":0}]
[null,null,null,{"$f":"SUMIF(Gifts!A$4:A$5000, Donors!A1809,Gifts!B$4:B$5000)","v":0}]
[null,null,null,{"$f":"SUMIF(Gifts!A$4:A$5000, Donors!A1810,Gifts!B$4:B$5000)","v":0}]
[null,null,null,{"$f":"SUMIF(Gifts!A$4:A$5000, Donors!A1811,Gifts!B$4:B$5000)","v":0}]
[null,null,null,{"$f":"SUMIF(Gifts!A$4:A$5000, Donors!A1812,Gifts!B$4:B$5000)","v":0}]
[null,null,null,{"$f":"SUMIF(Gifts!A$4:A$5000, Donors!A1813,Gifts!B$4:B$5000)","v":0}]
[null,null,null,{"$f":"SUMIF(Gifts!A$4:A$5000, Donors!A1814,Gifts!B$4:B$5000)","v":0}]
[null,null,null,{"$f":"SUMIF(Gifts!A$4:A$5000, Donors!A1815,Gifts!B$4:B$5000)","v":0}]
[null,null,null,{"$f":"SUMIF(Gifts!A$4:A$5000, Donors!A1816,Gifts!B$4:B$5000)","v":0}]
[null,null,null,{"$f":"SUMIF(Gifts!A$4:A$5000, Donors!A1817,Gifts!B$4:B$5000)","v":0}]
[null,null,null,{"$f":"SUMIF(Gifts!A$4:A$5000, Donors!A1818,Gifts!B$4:B$5000)","v":0}]
[null,null,null,{"$f":"SUMIF(Gifts!A$4:A$5000, Donors!A1819,Gifts!B$4:B$5000)","v":0}]
[null,null,null,{"$f":"SUMIF(Gifts!A$4:A$5000, Donors!A1820,Gifts!B$4:B$5000)","v":0}]
[null,null,null,{"$f":"SUMIF(Gifts!A$4:A$5000, Donors!A1821,Gifts!B$4:B$5000)","v":0}]
[null,null,null,{"$f":"SUMIF(Gifts!A$4:A$5000, Donors!A1822,Gifts!B$4:B$5000)","v":0}]
[null,null,null,{"$f":"SUMIF(Gifts!A$4:A$5000, Donors!A1823,Gifts!B$4:B$5000)","v":0}]
[null,null,null,{"$f":"SUMIF(Gifts!A$4:A$5000, Donors!A1824,Gifts!B$4:B$5000)","v":0}]
[null,null,null,{"$f":"SUMIF(Gifts!A$4:A$5000, Donors!A1825,Gifts!B$4:B$5000)","v":0}]
[null,null,null,{"$f":"SUMIF(Gifts!A$4:A$5000, Donors!A1826,Gifts!B$4:B$5000)","v":0}]
[null,null,null,{"$f":"SUMIF(Gifts!A$4:A$5000, Donors!A1827,Gifts!B$4:B$5000)","v":0}]
[null,null,null,{"$f":"SUMIF(Gifts!A$4:A$5000, Donors!A1828,Gifts!B$4:B$5000)","v":0}]
[null,null,null,{"$f":"SUMIF(Gifts!A$4:A$5000, Donors!A1829,Gifts!B$4:B$5000)","v":0}]
[null,null,null,{"$f":"SUMIF(Gifts!A$4:A$5000, Donors!A1830,Gifts!B$4:B$5000)","v":0}]
[null,null,null,{"$f":"SUMIF(Gifts!A$4:A$5000, Donors!A1831,Gifts!B$4:B$5000)","v":0}]
[null,null,null,{"$f":"SUMIF(Gifts!A$4:A$5000, Donors!A1832,Gifts!B$4:B$5000)","v":0}]
[null,null,null,{"$f":"SUMIF(Gifts!A$4:A$5000, Donors!A1833,Gifts!B$4:B$5000)","v":0}]
[null,null,null,{"$f":"SUMIF(Gifts!A$4:A$5000, Donors!A1834,Gifts!B$4:B$5000)","v":0}]
[null,null,null,{"$f":"SUMIF(Gifts!A$4:A$5000, Donors!A1835,Gifts!B$4:B$5000)","v":0}]
[null,null,null,{"$f":"SUMIF(Gifts!A$4:A$5000, Donors!A1836,Gifts!B$4:B$5000)","v":0}]
[null,null,null,{"$f":"SUMIF(Gifts!A$4:A$5000, Donors!A1837,Gifts!B$4:B$5000)","v":0}]
[null,null,null,{"$f":"SUMIF(Gifts!A$4:A$5000, Donors!A1838,Gifts!B$4:B$5000)","v":0}]
[null,null,null,{"$f":"SUMIF(Gifts!A$4:A$5000, Donors!A1839,Gifts!B$4:B$5000)","v":0}]
[null,null,null,{"$f":"SUMIF(Gifts!A$4:A$5000, Donors!A1840,Gifts!B$4:B$5000)","v":0}]
[null,null,null,{"$f":"SUMIF(Gifts!A$4:A$5000, Donors!A1841,Gifts!B$4:B$5000)","v":0}]
[null,null,null,{"$f":"SUMIF(Gifts!A$4:A$5000, Donors!A1842,Gifts!B$4:B$5000)","v":0}]
[null,null,null,{"$f":"SUMIF(Gifts!A$4:A$5000, Donors!A1843,Gifts!B$4:B$5000)","v":0}]
[null,null,null,{"$f":"SUMIF(Gifts!A$4:A$5000, Donors!A1844,Gifts!B$4:B$5000)","v":0}]
[null,null,null,{"$f":"SUMIF(Gifts!A$4:A$5000, Donors!A1845,Gifts!B$4:B$5000)","v":0}]
[null,null,null,{"$f":"SUMIF(Gifts!A$4:A$5000, Donors!A1846,Gifts!B$4:B$5000)","v":0}]
[null,null,null,{"$f":"SUMIF(Gifts!A$4:A$5000, Donors!A1847,Gifts!B$4:B$5000)","v":0}]
[null,null,null,{"$f":"SUMIF(Gifts!A$4:A$5000, Donors!A1848,Gifts!B$4:B$5000)","v":0}]
[null,null,null,{"$f":"SUMIF(Gifts!A$4:A$5000, Donors!A1849,Gifts!B$4:B$5000)","v":0}]
[null,null,null,{"$f":"SUMIF(Gifts!A$4:A$5000, Donors!A1850,Gifts!B$4:B$5000)","v":0}]
[null,null,null,{"$f":"SUMIF(Gifts!A$4:A$5000, Donors!A1851,Gifts!B$4:B$5000)","v":0}]
[null,null,null,{"$f":"SUMIF(Gifts!A$4:A$5000, Donors!A1852,Gifts!B$4:B$5000)","v":0}]
[null,null,null,{"$f":"SUMIF(Gifts!A$4:A$5000, Donors!A1853,Gifts!B$4:B$5000)","v":0}]
[null,null,null,{"$f":"SUMIF(Gifts!A$4:A$5000, Donors!A1854,Gifts!B$4:B$5000)","v":0}]
[null,null,null,{"$f":"SUMIF(Gifts!A$4:A$5000, Donors!A1855,Gifts!B$4:B$5000)","v":0}]
[null,null,null,{"$f":"SUMIF(Gifts!A$4:A$5000, Donors!A1856,Gifts!B$4:B$5000)","v":0}]
[null,null,null,{"$f":"SUMIF(Gifts!A$4:A$5000, Donors!A1857,Gifts!B$4:B$5000)","v":0}]
[null,null,null,{"$f":"SUMIF(Gifts!A$4:A$5000, Donors!A1858,Gifts!B$4:B$5000)","v":0}]
[null,null,null,{"$f":"SUMIF(Gifts!A$4:A$5000, Donors!A1859,Gifts!B$4:B$5000)","v":0}]
[null,null,null,{"$f":"SUMIF(Gifts!A$4:A$5000, Donors!A1860,Gifts!B$4:B$5000)","v":0}]
[null,null,null,{"$f":"SUMIF(Gifts!A$4:A$5000, Donors!A1861,Gifts!B$4:B$5000)","v":0}]
[null,null,null,{"$f":"SUMIF(Gifts!A$4:A$5000, Donors!A1862,Gifts!B$4:B$5000)","v":0}]
[null,null,null,{"$f":"SUMIF(Gifts!A$4:A$5000, Donors!A1863,Gifts!B$4:B$5000)","v":0}]
[null,null,null,{"$f":"SUMIF(Gifts!A$4:A$5000, Donors!A1864,Gifts!B$4:B$5000)","v":0}]
[null,null,null,{"$f":"SUMIF(Gifts!A$4:A$5000, Donors!A1865,Gifts!B$4:B$5000)","v":0}]
[null,null,null,{"$f":"SUMIF(Gifts!A$4:A$5000, Donors!A1866,Gifts!B$4:B$5000)","v":0}]
[null,null,null,{"$f":"SUMIF(Gifts!A$4:A$5000, Donors!A1867,Gifts!B$4:B$5000)","v":0}]
[null,null,null,{"$f":"SUMIF(Gifts!A$4:A$5000, Donors!A1868,Gifts!B$4:B$5000)","v":0}]
[null,null,null,{"$f":"SUMIF(Gifts!A$4:A$5000, Donors!A1869,Gifts!B$4:B$5000)","v":0}]
[null,null,null,{"$f":"SUMIF(Gifts!A$4:A$5000, Donors!A1870,Gifts!B$4:B$5000)","v":0}]
[null,null,null,{"$f":"SUMIF(Gifts!A$4:A$5000, Donors!A1871,Gifts!B$4:B$5000)","v":0}]
[null,null,null,{"$f":"SUMIF(Gifts!A$4:A$5000, Donors!A1872,Gifts!B$4:B$5000)","v":0}]
[null,null,null,{"$f":"SUMIF(Gifts!A$4:A$5000, Donors!A1873,Gifts!B$4:B$5000)","v":0}]
[null,null,null,{"$f":"SUMIF(Gifts!A$4:A$5000, Donors!A1874,Gifts!B$4:B$5000)","v":0}]
[null,null,null,{"$f":"SUMIF(Gifts!A$4:A$5000, Donors!A1875,Gifts!B$4:B$5000)","v":0}]
[null,null,null,{"$f":"SUMIF(Gifts!A$4:A$5000, Donors!A1876,Gifts!B$4:B$5000)","v":0}]
[null,null,null,{"$f":"SUMIF(Gifts!A$4:A$5000, Donors!A1877,Gifts!B$4:B$5000)","v":0}]
[null,null,null,{"$f":"SUMIF(Gifts!A$4:A$5000, Donors!A1878,Gifts!B$4:B$5000)","v":0}]
[null,null,null,{"$f":"SUMIF(Gifts!A$4:A$5000, Donors!A1879,Gifts!B$4:B$5000)","v":0}]
[null,null,null,{"$f":"SUMIF(Gifts!A$4:A$5000, Donors!A1880,Gifts!B$4:B$5000)","v":0}]
[null,null,null,{"$f":"SUMIF(Gifts!A$4:A$5000, Donors!A1881,Gifts!B$4:B$5000)","v":0}]
[null,null,null,{"$f":"SUMIF(Gifts!A$4:A$5000, Donors!A1882,Gifts!B$4:B$5000)","v":0}]
[null,null,null,{"$f":"SUMIF(Gifts!A$4:A$5000, Donors!A1883,Gifts!B$4:B$5000)","v":0}]
[null,null,null,{"$f":"SUMIF(Gifts!A$4:A$5000, Donors!A1884,Gifts!B$4:B$5000)","v":0}]
[null,null,null,{"$f":"SUMIF(Gifts!A$4:A$5000, Donors!A1885,Gifts!B$4:B$5000)","v":0}]
[null,null,null,{"$f":"SUMIF(Gifts!A$4:A$5000, Donors!A1886,Gifts!B$4:B$5000)","v":0}]
[null,null,null,{"$f":"SUMIF(Gifts!A$4:A$5000, Donors!A1887,Gifts!B$4:B$5000)","v":0}]
[null,null,null,{"$f":"SUMIF(Gifts!A$4:A$5000, Donors!A1888,Gifts!B$4:B$5000)","v":0}]
[null,null,null,{"$f":"SUMIF(Gifts!A$4:A$5000, Donors!A1889,Gifts!B$4:B$5000)","v":0}]
[null,null,null,{"$f":"SUMIF(Gifts!A$4:A$5000, Donors!A1890,Gifts!B$4:B$5000)","v":0}]
[null,null,null,{"$f":"SUMIF(Gifts!A$4:A$5000, Donors!A1891,Gifts!B$4:B$5000)","v":0}]
[null,null,null,{"$f":"SUMIF(Gifts!A$4:A$5000, Donors!A1892,Gifts!B$4:B$5000)","v":0}]
[null,null,null,{"$f":"SUMIF(Gifts!A$4:A$5000, Donors!A1893,Gifts!B$4:B$5000)","v":0}]
[null,null,null,{"$f":"SUMIF(Gifts!A$4:A$5000, Donors!A1894,Gifts!B$4:B$5000)","v":0}]
[null,null,null,{"$f":"SUMIF(Gifts!A$4:A$5000, Donors!A1895,Gifts!B$4:B$5000)","v":0}]
[null,null,null,{"$f":"SUMIF(Gifts!A$4:A$5000, Donors!A1896,Gifts!B$4:B$5000)","v":0}]
[null,null,null,{"$f":"SUMIF(Gifts!A$4:A$5000, Donors!A1897,Gifts!B$4:B$5000)","v":0}]
[null,null,null,{"$f":"SUMIF(Gifts!A$4:A$5000, Donors!A1898,Gifts!B$4:B$5000)","v":0}]
[null,null,null,{"$f":"SUMIF(Gifts!A$4:A$5000, Donors!A1899,Gifts!B$4:B$5000)","v":0}]
[null,null,null,{"$f":"SUMIF(Gifts!A$4:A$5000, Donors!A1900,Gifts!B$4:B$5000)","v":0}]
[null,null,null,{"$f":"SUMIF(Gifts!A$4:A$5000, Donors!A1901,Gifts!B$4:B$5000)","v":0}]
[null,null,null,{"$f":"SUMIF(Gifts!A$4:A$5000, Donors!A1902,Gifts!B$4:B$5000)","v":0}]
[null,null,null,{"$f":"SUMIF(Gifts!A$4:A$5000, Donors!A1903,Gifts!B$4:B$5000)","v":0}]
[null,null,null,{"$f":"SUMIF(Gifts!A$4:A$5000, Donors!A1904,Gifts!B$4:B$5000)","v":0}]
[null,null,null,{"$f":"SUMIF(Gifts!A$4:A$5000, Donors!A1905,Gifts!B$4:B$5000)","v":0}]
[null,null,null,{"$f":"SUMIF(Gifts!A$4:A$5000, Donors!A1906,Gifts!B$4:B$5000)","v":0}]
[null,null,null,{"$f":"SUMIF(Gifts!A$4:A$5000, Donors!A1907,Gifts!B$4:B$5000)","v":0}]
[null,null,null,{"$f":"SUMIF(Gifts!A$4:A$5000, Donors!A1908,Gifts!B$4:B$5000)","v":0}]
[null,null,null,{"$f":"SUMIF(Gifts!A$4:A$5000, Donors!A1909,Gifts!B$4:B$5000)","v":0}]
[null,null,null,{"$f":"SUMIF(Gifts!A$4:A$5000, Donors!A1910,Gifts!B$4:B$5000)","v":0}]
[null,null,null,{"$f":"SUMIF(Gifts!A$4:A$5000, Donors!A1911,Gifts!B$4:B$5000)","v":0}]
[null,null,null,{"$f":"SUMIF(Gifts!A$4:A$5000, Donors!A1912,Gifts!B$4:B$5000)","v":0}]
[null,null,null,{"$f":"SUMIF(Gifts!A$4:A$5000, Donors!A1913,Gifts!B$4:B$5000)","v":0}]
[null,null,null,{"$f":"SUMIF(Gifts!A$4:A$5000, Donors!A1914,Gifts!B$4:B$5000)","v":0}]
[null,null,null,{"$f":"SUMIF(Gifts!A$4:A$5000, Donors!A1915,Gifts!B$4:B$5000)","v":0}]
[null,null,null,{"$f":"SUMIF(Gifts!A$4:A$5000, Donors!A1916,Gifts!B$4:B$5000)","v":0}]
[null,null,null,{"$f":"SUMIF(Gifts!A$4:A$5000, Donors!A1917,Gifts!B$4:B$5000)","v":0}]
[null,null,null,{"$f":"SUMIF(Gifts!A$4:A$5000, Donors!A1918,Gifts!B$4:B$5000)","v":0}]
[null,null,null,{"$f":"SUMIF(Gifts!A$4:A$5000, Donors!A1919,Gifts!B$4:B$5000)","v":0}]
[null,null,null,{"$f":"SUMIF(Gifts!A$4:A$5000, Donors!A1920,Gifts!B$4:B$5000)","v":0}]
[null,null,null,{"$f":"SUMIF(Gifts!A$4:A$5000, Donors!A1921,Gifts!B$4:B$5000)","v":0}]
[null,null,null,{"$f":"SUMIF(Gifts!A$4:A$5000, Donors!A1922,Gifts!B$4:B$5000)","v":0}]
[null,null,null,{"$f":"SUMIF(Gifts!A$4:A$5000, Donors!A1923,Gifts!B$4:B$5000)","v":0}]
[null,null,null,{"$f":"SUMIF(Gifts!A$4:A$5000, Donors!A1924,Gifts!B$4:B$5000)","v":0}]
[null,null,null,{"$f":"SUMIF(Gifts!A$4:A$5000, Donors!A1925,Gifts!B$4:B$5000)","v":0}]
[null,null,null,{"$f":"SUMIF(Gifts!A$4:A$5000, Donors!A1926,Gifts!B$4:B$5000)","v":0}]
[null,null,null,{"$f":"SUMIF(Gifts!A$4:A$5000, Donors!A1927,Gifts!B$4:B$5000)","v":0}]
[null,null,null,{"$f":"SUMIF(Gifts!A$4:A$5000, Donors!A1928,Gifts!B$4:B$5000)","v":0}]
[null,null,null,{"$f":"SUMIF(Gifts!A$4:A$5000, Donors!A1929,Gifts!B$4:B$5000)","v":0}]
[null,null,null,{"$f":"SUMIF(Gifts!A$4:A$5000, Donors!A1930,Gifts!B$4:B$5000)","v":0}]
[null,null,null,{"$f":"SUMIF(Gifts!A$4:A$5000, Donors!A1931,Gifts!B$4:B$5000)","v":0}]
[null,null,null,{"$f":"SUMIF(Gifts!A$4:A$5000, Donors!A1932,Gifts!B$4:B$5000)","v":0}]
[null,null,null,{"$f":"SUMIF(Gifts!A$4:A$5000, Donors!A1933,Gifts!B$4:B$5000)","v":0}]
[null,null,null,{"$f":"SUMIF(Gifts!A$4:A$5000, Donors!A1934,Gifts!B$4:B$5000)","v":0}]
[null,null,null,{"$f":"SUMIF(Gifts!A$4:A$5000, Donors!A1935,Gifts!B$4:B$5000)","v":0}]
[null,null,null,{"$f":"SUMIF(Gifts!A$4:A$5000, Donors!A1936,Gifts!B$4:B$5000)","v":0}]
[null,null,null,{"$f":"SUMIF(Gifts!A$4:A$5000, Donors!A1937,Gifts!B$4:B$5000)","v":0}]
[null,null,null,{"$f":"SUMIF(Gifts!A$4:A$5000, Donors!A1938,Gifts!B$4:B$5000)","v":0}]
[null,null,null,{"$f":"SUMIF(Gifts!A$4:A$5000, Donors!A1939,Gifts!B$4:B$5000)","v":0}]
[null,null,null,{"$f":"SUMIF(Gifts!A$4:A$5000, Donors!A1940,Gifts!B$4:B$5000)","v":0}]
[null,null,null,{"$f":"SUMIF(Gifts!A$4:A$5000, Donors!A1941,Gifts!B$4:B$5000)","v":0}]
[null,null,null,{"$f":"SUMIF(Gifts!A$4:A$5000, Donors!A1942,Gifts!B$4:B$5000)","v":0}]
[null,null,null,{"$f":"SUMIF(Gifts!A$4:A$5000, Donors!A1943,Gifts!B$4:B$5000)","v":0}]
[null,null,null,{"$f":"SUMIF(Gifts!A$4:A$5000, Donors!A1944,Gifts!B$4:B$5000)","v":0}]
[null,null,null,{"$f":"SUMIF(Gifts!A$4:A$5000, Donors!A1945,Gifts!B$4:B$5000)","v":0}]
[null,null,null,{"$f":"SUMIF(Gifts!A$4:A$5000, Donors!A1946,Gifts!B$4:B$5000)","v":0}]
[null,null,null,{"$f":"SUMIF(Gifts!A$4:A$5000, Donors!A1947,Gifts!B$4:B$5000)","v":0}]
[null,null,null,{"$f":"SUMIF(Gifts!A$4:A$5000, Donors!A1948,Gifts!B$4:B$5000)","v":0}]
[null,null,null,{"$f":"SUMIF(Gifts!A$4:A$5000, Donors!A1949,Gifts!B$4:B$5000)","v":0}]
[null,null,null,{"$f":"SUMIF(Gifts!A$4:A$5000, Donors!A1950,Gifts!B$4:B$5000)","v":0}]
[null,null,null,{"$f":"SUMIF(Gifts!A$4:A$5000, Donors!A1951,Gifts!B$4:B$5000)","v":0}]
[null,null,null,{"$f":"SUMIF(Gifts!A$4:A$5000, Donors!A1952,Gifts!B$4:B$5000)","v":0}]
[null,null,null,{"$f":"SUMIF(Gifts!A$4:A$5000, Donors!A1953,Gifts!B$4:B$5000)","v":0}]
[null,null,null,{"$f":"SUMIF(Gifts!A$4:A$5000, Donors!A1954,Gifts!B$4:B$5000)","v":0}]
[null,null,null,{"$f":"SUMIF(Gifts!A$4:A$5000, Donors!A1955,Gifts!B$4:B$5000)","v":0}]
[null,null,null,{"$f":"SUMIF(Gifts!A$4:A$5000, Donors!A1956,Gifts!B$4:B$5000)","v":0}]
[null,null,null,{"$f":"SUMIF(Gifts!A$4:A$5000, Donors!A1957,Gifts!B$4:B$5000)","v":0}]
[null,null,null,{"$f":"SUMIF(Gifts!A$4:A$5000, Donors!A1958,Gifts!B$4:B$5000)","v":0}]
[null,null,null,{"$f":"SUMIF(Gifts!A$4:A$5000, Donors!A1959,Gifts!B$4:B$5000)","v":0}]
[null,null,null,{"$f":"SUMIF(Gifts!A$4:A$5000, Donors!A1960,Gifts!B$4:B$5000)","v":0}]
[null,null,null,{"$f":"SUMIF(Gifts!A$4:A$5000, Donors!A1961,Gifts!B$4:B$5000)","v":0}]
[null,null,null,{"$f":"SUMIF(Gifts!A$4:A$5000, Donors!A1962,Gifts!B$4:B$5000)","v":0}]
[null,null,null,{"$f":"SUMIF(Gifts!A$4:A$5000, Donors!A1963,Gifts!B$4:B$5000)","v":0}]
[null,null,null,{"$f":"SUMIF(Gifts!A$4:A$5000, Donors!A1964,Gifts!B$4:B$5000)","v":0}]
[null,null,null,{"$f":"SUMIF(Gifts!A$4:A$5000, Donors!A1965,Gifts!B$4:B$5000)","v":0}]
[null,null,null,{"$f":"SUMIF(Gifts!A$4:A$5000, Donors!A1966,Gifts!B$4:B$5000)","v":0}]
[null,null,null,{"$f":"SUMIF(Gifts!A$4:A$5000, Donors!A1967,Gifts!B$4:B$5000)","v":0}]
[null,null,null,{"$f":"SUMIF(Gifts!A$4:A$5000, Donors!A1968,Gifts!B$4:B$5000)","v":0}]
[null,null,null,{"$f":"SUMIF(Gifts!A$4:A$5000, Donors!A1969,Gifts!B$4:B$5000)","v":0}]
[null,null,null,{"$f":"SUMIF(Gifts!A$4:A$5000, Donors!A1970,Gifts!B$4:B$5000)","v":0}]
[null,null,null,{"$f":"SUMIF(Gifts!A$4:A$5000, Donors!A1971,Gifts!B$4:B$5000)","v":0}]
[null,null,null,{"$f":"SUMIF(Gifts!A$4:A$5000, Donors!A1972,Gifts!B$4:B$5000)","v":0}]
[null,null,null,{"$f":"SUMIF(Gifts!A$4:A$5000, Donors!A1973,Gifts!B$4:B$5000)","v":0}]
[null,null,null,{"$f":"SUMIF(Gifts!A$4:A$5000, Donors!A1974,Gifts!B$4:B$5000)","v":0}]
[null,null,null,{"$f":"SUMIF(Gifts!A$4:A$5000, Donors!A1975,Gifts!B$4:B$5000)","v":0}]
[null,null,null,{"$f":"SUMIF(Gifts!A$4:A$5000, Donors!A1976,Gifts!B$4:B$5000)","v":0}]
[null,null,null,{"$f":"SUMIF(Gifts!A$4:A$5000, Donors!A1977,Gifts!B$4:B$5000)","v":0}]
[null,null,null,{"$f":"SUMIF(Gifts!A$4:A$5000, Donors!A1978,Gifts!B$4:B$5000)","v":0}]
[null,null,null,{"$f":"SUMIF(Gifts!A$4:A$5000, Donors!A1979,Gifts!B$4:B$5000)","v":0}]
[null,null,null,{"$f":"SUMIF(Gifts!A$4:A$5000, Donors!A1980,Gifts!B$4:B$5000)","v":0}]
[null,null,null,{"$f":"SUMIF(Gifts!A$4:A$5000, Donors!A1981,Gifts!B$4:B$5000)","v":0}]
[null,null,null,{"$f":"SUMIF(Gifts!A$4:A$5000, Donors!A1982,Gifts!B$4:B$5000)","v":0}]
[null,null,null,{"$f":"SUMIF(Gifts!A$4:A$5000, Donors!A1983,Gifts!B$4:B$5000)","v":0}]
[null,null,null,{"$f":"SUMIF(Gifts!A$4:A$5000, Donors!A1984,Gifts!B$4:B$5000)","v":0}]
[null,null,null,{"$f":"SUMIF(Gifts!A$4:A$5000, Donors!A1985,Gifts!B$4:B$5000)","v":0}]
[null,null,null,{"$f":"SUMIF(Gifts!A$4:A$5000, Donors!A1986,Gifts!B$4:B$5000)","v":0}]
[null,null,null,{"$f":"SUMIF(Gifts!A$4:A$5000, Donors!A1987,Gifts!B$4:B$5000)","v":0}]
[null,null,null,{"$f":"SUMIF(Gifts!A$4:A$5000, Donors!A1988,Gifts!B$4:B$5000)","v":0}]
[null,null,null,{"$f":"SUMIF(Gifts!A$4:A$5000, Donors!A1989,Gifts!B$4:B$5000)","v":0}]
[null,null,null,{"$f":"SUMIF(Gifts!A$4:A$5000, Donors!A1990,Gifts!B$4:B$5000)","v":0}]
[null,null,null,{"$f":"SUMIF(Gifts!A$4:A$5000, Donors!A1991,Gifts!B$4:B$5000)","v":0}]
[null,null,null,{"$f":"SUMIF(Gifts!A$4:A$5000, Donors!A1992,Gifts!B$4:B$5000)","v":0}]
[null,null,null,{"$f":"SUMIF(Gifts!A$4:A$5000, Donors!A1993,Gifts!B$4:B$5000)","v":0}]
[null,null,null,{"$f":"SUMIF(Gifts!A$4:A$5000, Donors!A1994,Gifts!B$4:B$5000)","v":0}]
[null,null,null,{"$f":"SUMIF(Gifts!A$4:A$5000, Donors!A1995,Gifts!B$4:B$5000)","v":0}]
[null,null,null,{"$f":"SUMIF(Gifts!A$4:A$5000, Donors!A1996,Gifts!B$4:B$5000)","v":0}]
[null,null,null,{"$f":"SUMIF(Gifts!A$4:A$5000, Donors!A1997,Gifts!B$4:B$5000)","v":0}]
[null,null,null,{"$f":"SUMIF(Gifts!A$4:A$5000, Donors!A1998,Gifts!B$4:B$5000)","v":0}]
[null,null,null,{"$f":"SUMIF(Gifts!A$4:A$5000, Donors!A1999,Gifts!B$4:B$5000)","v":0}]
[null,null,null,{"$f":"SUMIF(Gifts!A$4:A$5000, Donors!A2000,Gifts!B$4:B$5000)","v":0}]
[null,null,null,{"$f":"SUMIF(Gifts!A$4:A$5000, Donors!A2001,Gifts!B$4:B$5000)","v":0}]
[null,null,null,{"$f":"SUMIF(Gifts!A$4:A$5000, Donors!A2002,Gifts!B$4:B$5000)","v":0}]
[null,null,null,{"$f":"SUMIF(Gifts!A$4:A$5000, Donors!A2003,Gifts!B$4:B$5000)","v":0}]
[null,null,null,{"$f":"SUMIF(Gifts!A$4:A$5000, Donors!A2004,Gifts!B$4:B$5000)","v":0}]
[null,null,null,{"$f":"SUMIF(Gifts!A$4:A$5000, Donors!A2005,Gifts!B$4:B$5000)","v":0}]
[null,null,null,{"$f":"SUMIF(Gifts!A$4:A$5000, Donors!A2006,Gifts!B$4:B$5000)","v":0}]
[null,null,null,{"$f":"SUMIF(Gifts!A$4:A$5000, Donors!A2007,Gifts!B$4:B$5000)","v":0}]
[null,null,null,{"$f":"SUMIF(Gifts!A$4:A$5000, Donors!A2008,Gifts!B$4:B$5000)","v":0}]
[null,null,null,{"$f":"SUMIF(Gifts!A$4:A$5000, Donors!A2009,Gifts!B$4:B$5000)","v":0}]
[null,null,null,{"$f":"SUMIF(Gifts!A$4:A$5000, Donors!A2010,Gifts!B$4:B$5000)","v":0}]
[null,null,null,{"$f":"SUMIF(Gifts!A$4:A$5000, Donors!A2011,Gifts!B$4:B$5000)","v":0}]
[null,null,null,{"$f":"SUMIF(Gifts!A$4:A$5000, Donors!A2012,Gifts!B$4:B$5000)","v":0}]
[null,null,null,{"$f":"SUMIF(Gifts!A$4:A$5000, Donors!A2013,Gifts!B$4:B$5000)","v":0}]
[null,null,null,{"$f":"SUMIF(Gifts!A$4:A$5000, Donors!A2014,Gifts!B$4:B$5000)","v":0}]
[null,null,null,{"$f":"SUMIF(Gifts!A$4:A$5000, Donors!A2015,Gifts!B$4:B$5000)","v":0}]
[null,null,null,{"$f":"SUMIF(Gifts!A$4:A$5000, Donors!A2016,Gifts!B$4:B$5000)","v":0}]
[null,null,null,{"$f":"SUMIF(Gifts!A$4:A$5000, Donors!A2017,Gifts!B$4:B$5000)","v":0}]
[null,null,null,{"$f":"SUMIF(Gifts!A$4:A$5000, Donors!A2018,Gifts!B$4:B$5000)","v":0}]
[null,null,null,{"$f":"SUMIF(Gifts!A$4:A$5000, Donors!A2019,Gifts!B$4:B$5000)","v":0}]
[null,null,null,{"$f":"SUMIF(Gifts!A$4:A$5000, Donors!A2020,Gifts!B$4:B$5000)","v":0}]
[null,null,null,{"$f":"SUMIF(Gifts!A$4:A$5000, Donors!A2021,Gifts!B$4:B$5000)","v":0}]
[null,null,null,{"$f":"SUMIF(Gifts!A$4:A$5000, Donors!A2022,Gifts!B$4:B$5000)","v":0}]
[null,null,null,{"$f":"SUMIF(Gifts!A$4:A$5000, Donors!A2023,Gifts!B$4:B$5000)","v":0}]
[null,null,null,{"$f":"SUMIF(Gifts!A$4:A$5000, Donors!A2024,Gifts!B$4:B$5000)","v":0}]
[null,null,null,{"$f":"SUMIF(Gifts!A$4:A$5000, Donors!A2025,Gifts!B$4:B$5000)","v":0}]
[null,null,null,{"$f":"SUMIF(Gifts!A$4:A$5000, Donors!A2026,Gifts!B$4:B$5000)","v":0}]
[null,null,null,{"$f":"SUMIF(Gifts!A$4:A$5000, Donors!A2027,Gifts!B$4:B$5000)","v":0}]
[null,null,null,{"$f":"SUMIF(Gifts!A$4:A$5000, Donors!A2028,Gifts!B$4:B$5000)","v":0}]
[null,null,null,{"$f":"SUMIF(Gifts!A$4:A$5000, Donors!A2029,Gifts!B$4:B$5000)","v":0}]
[null,null,null,{"$f":"SUMIF(Gifts!A$4:A$5000, Donors!A2030,Gifts!B$4:B$5000)","v":0}]
[null,null,null,{"$f":"SUMIF(Gifts!A$4:A$5000, Donors!A2031,Gifts!B$4:B$5000)","v":0}]
[null,null,null,{"$f":"SUMIF(Gifts!A$4:A$5000, Donors!A2032,Gifts!B$4:B$5000)","v":0}]
[null,null,null,{"$f":"SUMIF(Gifts!A$4:A$5000, Donors!A2033,Gifts!B$4:B$5000)","v":0}]
[null,null,null,{"$f":"SUMIF(Gifts!A$4:A$5000, Donors!A2034,Gifts!B$4:B$5000)","v":0}]
[null,null,null,{"$f":"SUMIF(Gifts!A$4:A$5000, Donors!A2035,Gifts!B$4:B$5000)","v":0}]
[null,null,null,{"$f":"SUMIF(Gifts!A$4:A$5000, Donors!A2036,Gifts!B$4:B$5000)","v":0}]
[null,null,null,{"$f":"SUMIF(Gifts!A$4:A$5000, Donors!A2037,Gifts!B$4:B$5000)","v":0}]
[null,null,null,{"$f":"SUMIF(Gifts!A$4:A$5000, Donors!A2038,Gifts!B$4:B$5000)","v":0}]
[null,null,null,{"$f":"SUMIF(Gifts!A$4:A$5000, Donors!A2039,Gifts!B$4:B$5000)","v":0}]
[null,null,null,{"$f":"SUMIF(Gifts!A$4:A$5000, Donors!A2040,Gifts!B$4:B$5000)","v":0}]
[null,null,null,{"$f":"SUMIF(Gifts!A$4:A$5000, Donors!A2041,Gifts!B$4:B$5000)","v":0}]
[null,null,null,{"$f":"SUMIF(Gifts!A$4:A$5000, Donors!A2042,Gifts!B$4:B$5000)","v":0}]
[null,null,null,{"$f":"SUMIF(Gifts!A$4:A$5000, Donors!A2043,Gifts!B$4:B$5000)","v":0}]
[null,null,null,{"$f":"SUMIF(Gifts!A$4:A$5000, Donors!A2044,Gifts!B$4:B$5000)","v":0}]
[null,null,null,{"$f":"SUMIF(Gifts!A$4:A$5000, Donors!A2045,Gifts!B$4:B$5000)","v":0}]
[null,null,null,{"$f":"SUMIF(Gifts!A$4:A$5000, Donors!A2046,Gifts!B$4:B$5000)","v":0}]
[null,null,null,{"$f":"SUMIF(Gifts!A$4:A$5000, Donors!A2047,Gifts!B$4:B$5000)","v":0}]
[null,null,null,{"$f":"SUMIF(Gifts!A$4:A$5000, Donors!A2048,Gifts!B$4:B$5000)","v":0}]
[null,null,null,{"$f":"SUMIF(Gifts!A$4:A$5000, Donors!A2049,Gifts!B$4:B$5000)","v":0}]
[null,null,null,{"$f":"SUMIF(Gifts!A$4:A$5000, Donors!A2050,Gifts!B$4:B$5000)","v":0}]
[null,null,null,{"$f":"SUMIF(Gifts!A$4:A$5000, Donors!A2051,Gifts!B$4:B$5000)","v":0}]
[null,null,null,{"$f":"SUMIF(Gifts!A$4:A$5000, Donors!A2052,Gifts!B$4:B$5000)","v":0}]
[null,null,null,{"$f":"SUMIF(Gifts!A$4:A$5000, Donors!A2053,Gifts!B$4:B$5000)","v":0}]
[null,null,null,{"$f":"SUMIF(Gifts!A$4:A$5000, Donors!A2054,Gifts!B$4:B$5000)","v":0}]
[null,null,null,{"$f":"SUMIF(Gifts!A$4:A$5000, Donors!A2055,Gifts!B$4:B$5000)","v":0}]
[null,null,null,{"$f":"SUMIF(Gifts!A$4:A$5000, Donors!A2056,Gifts!B$4:B$5000)","v":0}]
[null,null,null,{"$f":"SUMIF(Gifts!A$4:A$5000, Donors!A2057,Gifts!B$4:B$5000)","v":0}]
[null,null,null,{"$f":"SUMIF(Gifts!A$4:A$5000, Donors!A2058,Gifts!B$4:B$5000)","v":0}]
[null,null,null,{"$f":"SUMIF(Gifts!A$4:A$5000, Donors!A2059,Gifts!B$4:B$5000)","v":0}]
[null,null,null,{"$f":"SUMIF(Gifts!A$4:A$5000, Donors!A2060,Gifts!B$4:B$5000)","v":0}]
[null,null,null,{"$f":"SUMIF(Gifts!A$4:A$5000, Donors!A2061,Gifts!B$4:B$5000)","v":0}]
[null,null,null,{"$f":"SUMIF(Gifts!A$4:A$5000, Donors!A2062,Gifts!B$4:B$5000)","v":0}]
[null,null,null,{"$f":"SUMIF(Gifts!A$4:A$5000, Donors!A2063,Gifts!B$4:B$5000)","v":0}]
[null,null,null,{"$f":"SUMIF(Gifts!A$4:A$5000, Donors!A2064,Gifts!B$4:B$5000)","v":0}]
[null,null,null,{"$f":"SUMIF(Gifts!A$4:A$5000, Donors!A2065,Gifts!B$4:B$5000)","v":0}]
[null,null,null,{"$f":"SUMIF(Gifts!A$4:A$5000, Donors!A2066,Gifts!B$4:B$5000)","v":0}]
[null,null,null,{"$f":"SUMIF(Gifts!A$4:A$5000, Donors!A2067,Gifts!B$4:B$5000)","v":0}]
[null,null,null,{"$f":"SUMIF(Gifts!A$4:A$5000, Donors!A2068,Gifts!B$4:B$5000)","v":0}]
[null,null,null,{"$f":"SUMIF(Gifts!A$4:A$5000, Donors!A2069,Gifts!B$4:B$5000)","v":0}]
[null,null,null,{"$f":"SUMIF(Gifts!A$4:A$5000, Donors!A2070,Gifts!B$4:B$5000)","v":0}]
[null,null,null,{"$f":"SUMIF(Gifts!A$4:A$5000, Donors!A2071,Gifts!B$4:B$5000)","v":0}]
[null,null,null,{"$f":"SUMIF(Gifts!A$4:A$5000, Donors!A2072,Gifts!B$4:B$5000)","v":0}]
[null,null,null,{"$f":"SUMIF(Gifts!A$4:A$5000, Donors!A2073,Gifts!B$4:B$5000)","v":0}]
[null,null,null,{"$f":"SUMIF(Gifts!A$4:A$5000, Donors!A2074,Gifts!B$4:B$5000)","v":0}]
[null,null,null,{"$f":"SUMIF(Gifts!A$4:A$5000, Donors!A2075,Gifts!B$4:B$5000)","v":0}]
[null,null,null,{"$f":"SUMIF(Gifts!A$4:A$5000, Donors!A2076,Gifts!B$4:B$5000)","v":0}]
[null,null,null,{"$f":"SUMIF(Gifts!A$4:A$5000, Donors!A2077,Gifts!B$4:B$5000)","v":0}]
[null,null,null,{"$f":"SUMIF(Gifts!A$4:A$5000, Donors!A2078,Gifts!B$4:B$5000)","v":0}]
[null,null,null,{"$f":"SUMIF(Gifts!A$4:A$5000, Donors!A2079,Gifts!B$4:B$5000)","v":0}]
[null,null,null,{"$f":"SUMIF(Gifts!A$4:A$5000, Donors!A2080,Gifts!B$4:B$5000)","v":0}]
[null,null,null,{"$f":"SUMIF(Gifts!A$4:A$5000, Donors!A2081,Gifts!B$4:B$5000)","v":0}]
[null,null,null,{"$f":"SUMIF(Gifts!A$4:A$5000, Donors!A2082,Gifts!B$4:B$5000)","v":0}]
[null,null,null,{"$f":"SUMIF(Gifts!A$4:A$5000, Donors!A2083,Gifts!B$4:B$5000)","v":0}]
[null,null,null,{"$f":"SUMIF(Gifts!A$4:A$5000, Donors!A2084,Gifts!B$4:B$5000)","v":0}]
[null,null,null,{"$f":"SUMIF(Gifts!A$4:A$5000, Donors!A2085,Gifts!B$4:B$5000)","v":0}]
[null,null,null,{"$f":"SUMIF(Gifts!A$4:A$5000, Donors!A2086,Gifts!B$4:B$5000)","v":0}]
[null,null,null,{"$f":"SUMIF(Gifts!A$4:A$5000, Donors!A2087,Gifts!B$4:B$5000)","v":0}]
[null,null,null,{"$f":"SUMIF(Gifts!A$4:A$5000, Donors!A2088,Gifts!B$4:B$5000)","v":0}]
[null,null,null,{"$f":"SUMIF(Gifts!A$4:A$5000, Donors!A2089,Gifts!B$4:B$5000)","v":0}]
[null,null,null,{"$f":"SUMIF(Gifts!A$4:A$5000, Donors!A2090,Gifts!B$4:B$5000)","v":0}]
[null,null,null,{"$f":"SUMIF(Gifts!A$4:A$5000, Donors!A2091,Gifts!B$4:B$5000)","v":0}]
[null,null,null,{"$f":"SUMIF(Gifts!A$4:A$5000, Donors!A2092,Gifts!B$4:B$5000)","v":0}]
[null,null,null,{"$f":"SUMIF(Gifts!A$4:A$5000, Donors!A2093,Gifts!B$4:B$5000)","v":0}]
[null,null,null,{"$f":"SUMIF(Gifts!A$4:A$5000, Donors!A2094,Gifts!B$4:B$5000)","v":0}]
[null,null,null,{"$f":"SUMIF(Gifts!A$4:A$5000, Donors!A2095,Gifts!B$4:B$5000)","v":0}]
[null,null,null,{"$f":"SUMIF(Gifts!A$4:A$5000, Donors!A2096,Gifts!B$4:B$5000)","v":0}]
[null,null,null,{"$f":"SUMIF(Gifts!A$4:A$5000, Donors!A2097,Gifts!B$4:B$5000)","v":0}]
[null,null,null,{"$f":"SUMIF(Gifts!A$4:A$5000, Donors!A2098,Gifts!B$4:B$5000)","v":0}]
[null,null,null,{"$f":"SUMIF(Gifts!A$4:A$5000, Donors!A2099,Gifts!B$4:B$5000)","v":0}]
[null,null,null,{"$f":"SUMIF(Gifts!A$4:A$5000, Donors!A2100,Gifts!B$4:B$5000)","v":0}]
[null,null,null,{"$f":"SUMIF(Gifts!A$4:A$5000, Donors!A2101,Gifts!B$4:B$5000)","v":0}]
[null,null,null,{"$f":"SUMIF(Gifts!A$4:A$5000, Donors!A2102,Gifts!B$4:B$5000)","v":0}]
[null,null,null,{"$f":"SUMIF(Gifts!A$4:A$5000, Donors!A2103,Gifts!B$4:B$5000)","v":0}]
[null,null,null,{"$f":"SUMIF(Gifts!A$4:A$5000, Donors!A2104,Gifts!B$4:B$5000)","v":0}]
[null,null,null,{"$f":"SUMIF(Gifts!A$4:A$5000, Donors!A2105,Gifts!B$4:B$5000)","v":0}]
[null,null,null,{"$f":"SUMIF(Gifts!A$4:A$5000, Donors!A2106,Gifts!B$4:B$5000)","v":0}]
[null,null,null,{"$f":"SUMIF(Gifts!A$4:A$5000, Donors!A2107,Gifts!B$4:B$5000)","v":0}]
[null,null,null,{"$f":"SUMIF(Gifts!A$4:A$5000, Donors!A2108,Gifts!B$4:B$5000)","v":0}]
[null,null,null,{"$f":"SUMIF(Gifts!A$4:A$5000, Donors!A2109,Gifts!B$4:B$5000)","v":0}]
[null,null,null,{"$f":"SUMIF(Gifts!A$4:A$5000, Donors!A2110,Gifts!B$4:B$5000)","v":0}]
[null,null,null,{"$f":"SUMIF(Gifts!A$4:A$5000, Donors!A2111,Gifts!B$4:B$5000)","v":0}]
[null,null,null,{"$f":"SUMIF(Gifts!A$4:A$5000, Donors!A2112,Gifts!B$4:B$5000)","v":0}]
[null,null,null,{"$f":"SUMIF(Gifts!A$4:A$5000, Donors!A2113,Gifts!B$4:B$5000)","v":0}]
[null,null,null,{"$f":"SUMIF(Gifts!A$4:A$5000, Donors!A2114,Gifts!B$4:B$5000)","v":0}]
[null,null,null,{"$f":"SUMIF(Gifts!A$4:A$5000, Donors!A2115,Gifts!B$4:B$5000)","v":0}]
[null,null,null,{"$f":"SUMIF(Gifts!A$4:A$5000, Donors!A2116,Gifts!B$4:B$5000)","v":0}]
[null,null,null,{"$f":"SUMIF(Gifts!A$4:A$5000, Donors!A2117,Gifts!B$4:B$5000)","v":0}]
[null,null,null,{"$f":"SUMIF(Gifts!A$4:A$5000, Donors!A2118,Gifts!B$4:B$5000)","v":0}]
[null,null,null,{"$f":"SUMIF(Gifts!A$4:A$5000, Donors!A2119,Gifts!B$4:B$5000)","v":0}]
[null,null,null,{"$f":"SUMIF(Gifts!A$4:A$5000, Donors!A2120,Gifts!B$4:B$5000)","v":0}]
[null,null,null,{"$f":"SUMIF(Gifts!A$4:A$5000, Donors!A2121,Gifts!B$4:B$5000)","v":0}]
[null,null,null,{"$f":"SUMIF(Gifts!A$4:A$5000, Donors!A2122,Gifts!B$4:B$5000)","v":0}]
[null,null,null,{"$f":"SUMIF(Gifts!A$4:A$5000, Donors!A2123,Gifts!B$4:B$5000)","v":0}]
[null,null,null,{"$f":"SUMIF(Gifts!A$4:A$5000, Donors!A2124,Gifts!B$4:B$5000)","v":0}]
[null,null,null,{"$f":"SUMIF(Gifts!A$4:A$5000, Donors!A2125,Gifts!B$4:B$5000)","v":0}]
[null,null,null,{"$f":"SUMIF(Gifts!A$4:A$5000, Donors!A2126,Gifts!B$4:B$5000)","v":0}]
[null,null,null,{"$f":"SUMIF(Gifts!A$4:A$5000, Donors!A2127,Gifts!B$4:B$5000)","v":0}]
[null,null,null,{"$f":"SUMIF(Gifts!A$4:A$5000, Donors!A2128,Gifts!B$4:B$5000)","v":0}]
[null,null,null,{"$f":"SUMIF(Gifts!A$4:A$5000, Donors!A2129,Gifts!B$4:B$5000)","v":0}]
[null,null,null,{"$f":"SUMIF(Gifts!A$4:A$5000, Donors!A2130,Gifts!B$4:B$5000)","v":0}]
[null,null,null,{"$f":"SUMIF(Gifts!A$4:A$5000, Donors!A2131,Gifts!B$4:B$5000)","v":0}]
[null,null,null,{"$f":"SUMIF(Gifts!A$4:A$5000, Donors!A2132,Gifts!B$4:B$5000)","v":0}]
[null,null,null,{"$f":"SUMIF(Gifts!A$4:A$5000, Donors!A2133,Gifts!B$4:B$5000)","v":0}]
[null,null,null,{"$f":"SUMIF(Gifts!A$4:A$5000, Donors!A2134,Gifts!B$4:B$5000)","v":0}]
[null,null,null,{"$f":"SUMIF(Gifts!A$4:A$5000, Donors!A2135,Gifts!B$4:B$5000)","v":0}]
[null,null,null,{"$f":"SUMIF(Gifts!A$4:A$5000, Donors!A2136,Gifts!B$4:B$5000)","v":0}]
[null,null,null,{"$f":"SUMIF(Gifts!A$4:A$5000, Donors!A2137,Gifts!B$4:B$5000)","v":0}]
[null,null,null,{"$f":"SUMIF(Gifts!A$4:A$5000, Donors!A2138,Gifts!B$4:B$5000)","v":0}]
[null,null,null,{"$f":"SUMIF(Gifts!A$4:A$5000, Donors!A2139,Gifts!B$4:B$5000)","v":0}]
[null,null,null,{"$f":"SUMIF(Gifts!A$4:A$5000, Donors!A2140,Gifts!B$4:B$5000)","v":0}]
[null,null,null,{"$f":"SUMIF(Gifts!A$4:A$5000, Donors!A2141,Gifts!B$4:B$5000)","v":0}]
[null,null,null,{"$f":"SUMIF(Gifts!A$4:A$5000, Donors!A2142,Gifts!B$4:B$5000)","v":0}]
[null,null,null,{"$f":"SUMIF(Gifts!A$4:A$5000, Donors!A2143,Gifts!B$4:B$5000)","v":0}]
[null,null,null,{"$f":"SUMIF(Gifts!A$4:A$5000, Donors!A2144,Gifts!B$4:B$5000)","v":0}]
[null,null,null,{"$f":"SUMIF(Gifts!A$4:A$5000, Donors!A2145,Gifts!B$4:B$5000)","v":0}]
[null,null,null,{"$f":"SUMIF(Gifts!A$4:A$5000, Donors!A2146,Gifts!B$4:B$5000)","v":0}]
[null,null,null,{"$f":"SUMIF(Gifts!A$4:A$5000, Donors!A2147,Gifts!B$4:B$5000)","v":0}]
[null,null,null,{"$f":"SUMIF(Gifts!A$4:A$5000, Donors!A2148,Gifts!B$4:B$5000)","v":0}]
[null,null,null,{"$f":"SUMIF(Gifts!A$4:A$5000, Donors!A2149,Gifts!B$4:B$5000)","v":0}]
[null,null,null,{"$f":"SUMIF(Gifts!A$4:A$5000, Donors!A2150,Gifts!B$4:B$5000)","v":0}]
[null,null,null,{"$f":"SUMIF(Gifts!A$4:A$5000, Donors!A2151,Gifts!B$4:B$5000)","v":0}]
[null,null,null,{"$f":"SUMIF(Gifts!A$4:A$5000, Donors!A2152,Gifts!B$4:B$5000)","v":0}]
[null,null,null,{"$f":"SUMIF(Gifts!A$4:A$5000, Donors!A2153,Gifts!B$4:B$5000)","v":0}]
[null,null,null,{"$f":"SUMIF(Gifts!A$4:A$5000, Donors!A2154,Gifts!B$4:B$5000)","v":0}]
[null,null,null,{"$f":"SUMIF(Gifts!A$4:A$5000, Donors!A2155,Gifts!B$4:B$5000)","v":0}]
[null,null,null,{"$f":"SUMIF(Gifts!A$4:A$5000, Donors!A2156,Gifts!B$4:B$5000)","v":0}]
[null,null,null,{"$f":"SUMIF(Gifts!A$4:A$5000, Donors!A2157,Gifts!B$4:B$5000)","v":0}]
[null,null,null,{"$f":"SUMIF(Gifts!A$4:A$5000, Donors!A2158,Gifts!B$4:B$5000)","v":0}]
[null,null,null,{"$f":"SUMIF(Gifts!A$4:A$5000, Donors!A2159,Gifts!B$4:B$5000)","v":0}]
[null,null,null,{"$f":"SUMIF(Gifts!A$4:A$5000, Donors!A2160,Gifts!B$4:B$5000)","v":0}]
[null,null,null,{"$f":"SUMIF(Gifts!A$4:A$5000, Donors!A2161,Gifts!B$4:B$5000)","v":0}]
[null,null,null,{"$f":"SUMIF(Gifts!A$4:A$5000, Donors!A2162,Gifts!B$4:B$5000)","v":0}]
[null,null,null,{"$f":"SUMIF(Gifts!A$4:A$5000, Donors!A2163,Gifts!B$4:B$5000)","v":0}]
[null,null,null,{"$f":"SUMIF(Gifts!A$4:A$5000, Donors!A2164,Gifts!B$4:B$5000)","v":0}]
[null,null,null,{"$f":"SUMIF(Gifts!A$4:A$5000, Donors!A2165,Gifts!B$4:B$5000)","v":0}]
[null,null,null,{"$f":"SUMIF(Gifts!A$4:A$5000, Donors!A2166,Gifts!B$4:B$5000)","v":0}]
[null,null,null,{"$f":"SUMIF(Gifts!A$4:A$5000, Donors!A2167,Gifts!B$4:B$5000)","v":0}]
[null,null,null,{"$f":"SUMIF(Gifts!A$4:A$5000, Donors!A2168,Gifts!B$4:B$5000)","v":0}]
[null,null,null,{"$f":"SUMIF(Gifts!A$4:A$5000, Donors!A2169,Gifts!B$4:B$5000)","v":0}]
[null,null,null,{"$f":"SUMIF(Gifts!A$4:A$5000, Donors!A2170,Gifts!B$4:B$5000)","v":0}]
[null,null,null,{"$f":"SUMIF(Gifts!A$4:A$5000, Donors!A2171,Gifts!B$4:B$5000)","v":0}]
[null,null,null,{"$f":"SUMIF(Gifts!A$4:A$5000, Donors!A2172,Gifts!B$4:B$5000)","v":0}]
[null,null,null,{"$f":"SUMIF(Gifts!A$4:A$5000, Donors!A2173,Gifts!B$4:B$5000)","v":0}]
[null,null,null,{"$f":"SUMIF(Gifts!A$4:A$5000, Donors!A2174,Gifts!B$4:B$5000)","v":0}]
[null,null,null,{"$f":"SUMIF(Gifts!A$4:A$5000, Donors!A2175,Gifts!B$4:B$5000)","v":0}]
[null,null,null,{"$f":"SUMIF(Gifts!A$4:A$5000, Donors!A2176,Gifts!B$4:B$5000)","v":0}]
[null,null,null,{"$f":"SUMIF(Gifts!A$4:A$5000, Donors!A2177,Gifts!B$4:B$5000)","v":0}]
[null,null,null,{"$f":"SUMIF(Gifts!A$4:A$5000, Donors!A2178,Gifts!B$4:B$5000)","v":0}]
[null,null,null,{"$f":"SUMIF(Gifts!A$4:A$5000, Donors!A2179,Gifts!B$4:B$5000)","v":0}]
[null,null,null,{"$f":"SUMIF(Gifts!A$4:A$5000, Donors!A2180,Gifts!B$4:B$5000)","v":0}]
[null,null,null,{"$f":"SUMIF(Gifts!A$4:A$5000, Donors!A2181,Gifts!B$4:B$5000)","v":0}]
[null,null,null,{"$f":"SUMIF(Gifts!A$4:A$5000, Donors!A2182,Gifts!B$4:B$5000)","v":0}]
[null,null,null,{"$f":"SUMIF(Gifts!A$4:A$5000, Donors!A2183,Gifts!B$4:B$5000)","v":0}]
[null,null,null,{"$f":"SUMIF(Gifts!A$4:A$5000, Donors!A2184,Gifts!B$4:B$5000)","v":0}]
[null,null,null,{"$f":"SUMIF(Gifts!A$4:A$5000, Donors!A2185,Gifts!B$4:B$5000)","v":0}]
[null,null,null,{"$f":"SUMIF(Gifts!A$4:A$5000, Donors!A2186,Gifts!B$4:B$5000)","v":0}]
[null,null,null,{"$f":"SUMIF(Gifts!A$4:A$5000, Donors!A2187,Gifts!B$4:B$5000)","v":0}]
[null,null,null,{"$f":"SUMIF(Gifts!A$4:A$5000, Donors!A2188,Gifts!B$4:B$5000)","v":0}]
[null,null,null,{"$f":"SUMIF(Gifts!A$4:A$5000, Donors!A2189,Gifts!B$4:B$5000)","v":0}]
[null,null,null,{"$f":"SUMIF(Gifts!A$4:A$5000, Donors!A2190,Gifts!B$4:B$5000)","v":0}]
[null,null,null,{"$f":"SUMIF(Gifts!A$4:A$5000, Donors!A2191,Gifts!B$4:B$5000)","v":0}]
[null,null,null,{"$f":"SUMIF(Gifts!A$4:A$5000, Donors!A2192,Gifts!B$4:B$5000)","v":0}]
[null,null,null,{"$f":"SUMIF(Gifts!A$4:A$5000, Donors!A2193,Gifts!B$4:B$5000)","v":0}]
[null,null,null,{"$f":"SUMIF(Gifts!A$4:A$5000, Donors!A2194,Gifts!B$4:B$5000)","v":0}]
[null,null,null,{"$f":"SUMIF(Gifts!A$4:A$5000, Donors!A2195,Gifts!B$4:B$5000)","v":0}]
[null,null,null,{"$f":"SUMIF(Gifts!A$4:A$5000, Donors!A2196,Gifts!B$4:B$5000)","v":0}]
[null,null,null,{"$f":"SUMIF(Gifts!A$4:A$5000, Donors!A2197,Gifts!B$4:B$5000)","v":0}]
[null,null,null,{"$f":"SUMIF(Gifts!A$4:A$5000, Donors!A2198,Gifts!B$4:B$5000)","v":0}]
[null,null,null,{"$f":"SUMIF(Gifts!A$4:A$5000, Donors!A2199,Gifts!B$4:B$5000)","v":0}]
[null,null,null,{"$f":"SUMIF(Gifts!A$4:A$5000, Donors!A2200,Gifts!B$4:B$5000)","v":0}]
[null,null,null,{"$f":"SUMIF(Gifts!A$4:A$5000, Donors!A2201,Gifts!B$4:B$5000)","v":0}]
[null,null,null,{"$f":"SUMIF(Gifts!A$4:A$5000, Donors!A2202,Gifts!B$4:B$5000)","v":0}]
[null,null,null,{"$f":"SUMIF(Gifts!A$4:A$5000, Donors!A2203,Gifts!B$4:B$5000)","v":0}]
[null,null,null,{"$f":"SUMIF(Gifts!A$4:A$5000, Donors!A2204,Gifts!B$4:B$5000)","v":0}]
[null,null,null,{"$f":"SUMIF(Gifts!A$4:A$5000, Donors!A2205,Gifts!B$4:B$5000)","v":0}]
[null,null,null,{"$f":"SUMIF(Gifts!A$4:A$5000, Donors!A2206,Gifts!B$4:B$5000)","v":0}]
[null,null,null,{"$f":"SUMIF(Gifts!A$4:A$5000, Donors!A2207,Gifts!B$4:B$5000)","v":0}]
[null,null,null,{"$f":"SUMIF(Gifts!A$4:A$5000, Donors!A2208,Gifts!B$4:B$5000)","v":0}]
[null,null,null,{"$f":"SUMIF(Gifts!A$4:A$5000, Donors!A2209,Gifts!B$4:B$5000)","v":0}]
[null,null,null,{"$f":"SUMIF(Gifts!A$4:A$5000, Donors!A2210,Gifts!B$4:B$5000)","v":0}]
[null,null,null,{"$f":"SUMIF(Gifts!A$4:A$5000, Donors!A2211,Gifts!B$4:B$5000)","v":0}]
[null,null,null,{"$f":"SUMIF(Gifts!A$4:A$5000, Donors!A2212,Gifts!B$4:B$5000)","v":0}]
[null,null,null,{"$f":"SUMIF(Gifts!A$4:A$5000, Donors!A2213,Gifts!B$4:B$5000)","v":0}]
[null,null,null,{"$f":"SUMIF(Gifts!A$4:A$5000, Donors!A2214,Gifts!B$4:B$5000)","v":0}]
[null,null,null,{"$f":"SUMIF(Gifts!A$4:A$5000, Donors!A2215,Gifts!B$4:B$5000)","v":0}]
[null,null,null,{"$f":"SUMIF(Gifts!A$4:A$5000, Donors!A2216,Gifts!B$4:B$5000)","v":0}]
[null,null,null,{"$f":"SUMIF(Gifts!A$4:A$5000, Donors!A2217,Gifts!B$4:B$5000)","v":0}]
[null,null,null,{"$f":"SUMIF(Gifts!A$4:A$5000, Donors!A2218,Gifts!B$4:B$5000)","v":0}]
[null,null,null,{"$f":"SUMIF(Gifts!A$4:A$5000, Donors!A2219,Gifts!B$4:B$5000)","v":0}]
[null,null,null,{"$f":"SUMIF(Gifts!A$4:A$5000, Donors!A2220,Gifts!B$4:B$5000)","v":0}]
[null,null,null,{"$f":"SUMIF(Gifts!A$4:A$5000, Donors!A2221,Gifts!B$4:B$5000)","v":0}]
[null,null,null,{"$f":"SUMIF(Gifts!A$4:A$5000, Donors!A2222,Gifts!B$4:B$5000)","v":0}]
[null,null,null,{"$f":"SUMIF(Gifts!A$4:A$5000, Donors!A2223,Gifts!B$4:B$5000)","v":0}]
[null,null,null,{"$f":"SUMIF(Gifts!A$4:A$5000, Donors!A2224,Gifts!B$4:B$5000)","v":0}]
[null,null,null,{"$f":"SUMIF(Gifts!A$4:A$5000, Donors!A2225,Gifts!B$4:B$5000)","v":0}]
[null,null,null,{"$f":"SUMIF(Gifts!A$4:A$5000, Donors!A2226,Gifts!B$4:B$5000)","v":0}]
[null,null,null,{"$f":"SUMIF(Gifts!A$4:A$5000, Donors!A2227,Gifts!B$4:B$5000)","v":0}]
[null,null,null,{"$f":"SUMIF(Gifts!A$4:A$5000, Donors!A2228,Gifts!B$4:B$5000)","v":0}]
[null,null,null,{"$f":"SUMIF(Gifts!A$4:A$5000, Donors!A2229,Gifts!B$4:B$5000)","v":0}]
[null,null,null,{"$f":"SUMIF(Gifts!A$4:A$5000, Donors!A2230,Gifts!B$4:B$5000)","v":0}]
[null,null,null,{"$f":"SUMIF(Gifts!A$4:A$5000, Donors!A2231,Gifts!B$4:B$5000)","v":0}]
[null,null,null,{"$f":"SUMIF(Gifts!A$4:A$5000, Donors!A2232,Gifts!B$4:B$5000)","v":0}]
[null,null,null,{"$f":"SUMIF(Gifts!A$4:A$5000, Donors!A2233,Gifts!B$4:B$5000)","v":0}]
[null,null,null,{"$f":"SUMIF(Gifts!A$4:A$5000, Donors!A2234,Gifts!B$4:B$5000)","v":0}]
[null,null,null,{"$f":"SUMIF(Gifts!A$4:A$5000, Donors!A2235,Gifts!B$4:B$5000)","v":0}]
[null,null,null,{"$f":"SUMIF(Gifts!A$4:A$5000, Donors!A2236,Gifts!B$4:B$5000)","v":0}]
[null,null,null,{"$f":"SUMIF(Gifts!A$4:A$5000, Donors!A2237,Gifts!B$4:B$5000)","v":0}]
[null,null,null,{"$f":"SUMIF(Gifts!A$4:A$5000, Donors!A2238,Gifts!B$4:B$5000)","v":0}]
[null,null,null,{"$f":"SUMIF(Gifts!A$4:A$5000, Donors!A2239,Gifts!B$4:B$5000)","v":0}]
[null,null,null,{"$f":"SUMIF(Gifts!A$4:A$5000, Donors!A2240,Gifts!B$4:B$5000)","v":0}]
[null,null,null,{"$f":"SUMIF(Gifts!A$4:A$5000, Donors!A2241,Gifts!B$4:B$5000)","v":0}]
[null,null,null,{"$f":"SUMIF(Gifts!A$4:A$5000, Donors!A2242,Gifts!B$4:B$5000)","v":0}]
[null,null,null,{"$f":"SUMIF(Gifts!A$4:A$5000, Donors!A2243,Gifts!B$4:B$5000)","v":0}]
[null,null,null,{"$f":"SUMIF(Gifts!A$4:A$5000, Donors!A2244,Gifts!B$4:B$5000)","v":0}]
[null,null,null,{"$f":"SUMIF(Gifts!A$4:A$5000, Donors!A2245,Gifts!B$4:B$5000)","v":0}]
[null,null,null,{"$f":"SUMIF(Gifts!A$4:A$5000, Donors!A2246,Gifts!B$4:B$5000)","v":0}]
[null,null,null,{"$f":"SUMIF(Gifts!A$4:A$5000, Donors!A2247,Gifts!B$4:B$5000)","v":0}]
[null,null,null,{"$f":"SUMIF(Gifts!A$4:A$5000, Donors!A2248,Gifts!B$4:B$5000)","v":0}]
[null,null,null,{"$f":"SUMIF(Gifts!A$4:A$5000, Donors!A2249,Gifts!B$4:B$5000)","v":0}]
[null,null,null,{"$f":"SUMIF(Gifts!A$4:A$5000, Donors!A2250,Gifts!B$4:B$5000)","v":0}]
[null,null,null,{"$f":"SUMIF(Gifts!A$4:A$5000, Donors!A2251,Gifts!B$4:B$5000)","v":0}]
[null,null,null,{"$f":"SUMIF(Gifts!A$4:A$5000, Donors!A2252,Gifts!B$4:B$5000)","v":0}]
[null,null,null,{"$f":"SUMIF(Gifts!A$4:A$5000, Donors!A2253,Gifts!B$4:B$5000)","v":0}]
[null,null,null,{"$f":"SUMIF(Gifts!A$4:A$5000, Donors!A2254,Gifts!B$4:B$5000)","v":0}]
[null,null,null,{"$f":"SUMIF(Gifts!A$4:A$5000, Donors!A2255,Gifts!B$4:B$5000)","v":0}]
[null,null,null,{"$f":"SUMIF(Gifts!A$4:A$5000, Donors!A2256,Gifts!B$4:B$5000)","v":0}]
[null,null,null,{"$f":"SUMIF(Gifts!A$4:A$5000, Donors!A2257,Gifts!B$4:B$5000)","v":0}]
[null,null,null,{"$f":"SUMIF(Gifts!A$4:A$5000, Donors!A2258,Gifts!B$4:B$5000)","v":0}]
[null,null,null,{"$f":"SUMIF(Gifts!A$4:A$5000, Donors!A2259,Gifts!B$4:B$5000)","v":0}]
[null,null,null,{"$f":"SUMIF(Gifts!A$4:A$5000, Donors!A2260,Gifts!B$4:B$5000)","v":0}]
[null,null,null,{"$f":"SUMIF(Gifts!A$4:A$5000, Donors!A2261,Gifts!B$4:B$5000)","v":0}]
[null,null,null,{"$f":"SUMIF(Gifts!A$4:A$5000, Donors!A2262,Gifts!B$4:B$5000)","v":0}]
[null,null,null,{"$f":"SUMIF(Gifts!A$4:A$5000, Donors!A2263,Gifts!B$4:B$5000)","v":0}]
[null,null,null,{"$f":"SUMIF(Gifts!A$4:A$5000, Donors!A2264,Gifts!B$4:B$5000)","v":0}]
[null,null,null,{"$f":"SUMIF(Gifts!A$4:A$5000, Donors!A2265,Gifts!B$4:B$5000)","v":0}]
[null,null,null,{"$f":"SUMIF(Gifts!A$4:A$5000, Donors!A2266,Gifts!B$4:B$5000)","v":0}]
[null,null,null,{"$f":"SUMIF(Gifts!A$4:A$5000, Donors!A2267,Gifts!B$4:B$5000)","v":0}]
[null,null,null,{"$f":"SUMIF(Gifts!A$4:A$5000, Donors!A2268,Gifts!B$4:B$5000)","v":0}]
[null,null,null,{"$f":"SUMIF(Gifts!A$4:A$5000, Donors!A2269,Gifts!B$4:B$5000)","v":0}]
[null,null,null,{"$f":"SUMIF(Gifts!A$4:A$5000, Donors!A2270,Gifts!B$4:B$5000)","v":0}]
[null,null,null,{"$f":"SUMIF(Gifts!A$4:A$5000, Donors!A2271,Gifts!B$4:B$5000)","v":0}]
[null,null,null,{"$f":"SUMIF(Gifts!A$4:A$5000, Donors!A2272,Gifts!B$4:B$5000)","v":0}]
[null,null,null,{"$f":"SUMIF(Gifts!A$4:A$5000, Donors!A2273,Gifts!B$4:B$5000)","v":0}]
[null,null,null,{"$f":"SUMIF(Gifts!A$4:A$5000, Donors!A2274,Gifts!B$4:B$5000)","v":0}]
[null,null,null,{"$f":"SUMIF(Gifts!A$4:A$5000, Donors!A2275,Gifts!B$4:B$5000)","v":0}]
[null,null,null,{"$f":"SUMIF(Gifts!A$4:A$5000, Donors!A2276,Gifts!B$4:B$5000)","v":0}]
[null,null,null,{"$f":"SUMIF(Gifts!A$4:A$5000, Donors!A2277,Gifts!B$4:B$5000)","v":0}]
[null,null,null,{"$f":"SUMIF(Gifts!A$4:A$5000, Donors!A2278,Gifts!B$4:B$5000)","v":0}]
[null,null,null,{"$f":"SUMIF(Gifts!A$4:A$5000, Donors!A2279,Gifts!B$4:B$5000)","v":0}]
[null,null,null,{"$f":"SUMIF(Gifts!A$4:A$5000, Donors!A2280,Gifts!B$4:B$5000)","v":0}]
[null,null,null,{"$f":"SUMIF(Gifts!A$4:A$5000, Donors!A2281,Gifts!B$4:B$5000)","v":0}]
[null,null,null,{"$f":"SUMIF(Gifts!A$4:A$5000, Donors!A2282,Gifts!B$4:B$5000)","v":0}]
[null,null,null,{"$f":"SUMIF(Gifts!A$4:A$5000, Donors!A2283,Gifts!B$4:B$5000)","v":0}]
[null,null,null,{"$f":"SUMIF(Gifts!A$4:A$5000, Donors!A2284,Gifts!B$4:B$5000)","v":0}]
[null,null,null,{"$f":"SUMIF(Gifts!A$4:A$5000, Donors!A2285,Gifts!B$4:B$5000)","v":0}]
[null,null,null,{"$f":"SUMIF(Gifts!A$4:A$5000, Donors!A2286,Gifts!B$4:B$5000)","v":0}]
[null,null,null,{"$f":"SUMIF(Gifts!A$4:A$5000, Donors!A2287,Gifts!B$4:B$5000)","v":0}]
[null,null,null,{"$f":"SUMIF(Gifts!A$4:A$5000, Donors!A2288,Gifts!B$4:B$5000)","v":0}]
[null,null,null,{"$f":"SUMIF(Gifts!A$4:A$5000, Donors!A2289,Gifts!B$4:B$5000)","v":0}]
[null,null,null,{"$f":"SUMIF(Gifts!A$4:A$5000, Donors!A2290,Gifts!B$4:B$5000)","v":0}]
[null,null,null,{"$f":"SUMIF(Gifts!A$4:A$5000, Donors!A2291,Gifts!B$4:B$5000)","v":0}]
[null,null,null,{"$f":"SUMIF(Gifts!A$4:A$5000, Donors!A2292,Gifts!B$4:B$5000)","v":0}]
[null,null,null,{"$f":"SUMIF(Gifts!A$4:A$5000, Donors!A2293,Gifts!B$4:B$5000)","v":0}]
[null,null,null,{"$f":"SUMIF(Gifts!A$4:A$5000, Donors!A2294,Gifts!B$4:B$5000)","v":0}]
[null,null,null,{"$f":"SUMIF(Gifts!A$4:A$5000, Donors!A2295,Gifts!B$4:B$5000)","v":0}]
[null,null,null,{"$f":"SUMIF(Gifts!A$4:A$5000, Donors!A2296,Gifts!B$4:B$5000)","v":0}]
[null,null,null,{"$f":"SUMIF(Gifts!A$4:A$5000, Donors!A2297,Gifts!B$4:B$5000)","v":0}]
[null,null,null,{"$f":"SUMIF(Gifts!A$4:A$5000, Donors!A2298,Gifts!B$4:B$5000)","v":0}]
[null,null,null,{"$f":"SUMIF(Gifts!A$4:A$5000, Donors!A2299,Gifts!B$4:B$5000)","v":0}]
[null,null,null,{"$f":"SUMIF(Gifts!A$4:A$5000, Donors!A2300,Gifts!B$4:B$5000)","v":0}]
[null,null,null,{"$f":"SUMIF(Gifts!A$4:A$5000, Donors!A2301,Gifts!B$4:B$5000)","v":0}]
[null,null,null,{"$f":"SUMIF(Gifts!A$4:A$5000, Donors!A2302,Gifts!B$4:B$5000)","v":0}]
[null,null,null,{"$f":"SUMIF(Gifts!A$4:A$5000, Donors!A2303,Gifts!B$4:B$5000)","v":0}]
[null,null,null,{"$f":"SUMIF(Gifts!A$4:A$5000, Donors!A2304,Gifts!B$4:B$5000)","v":0}]
[null,null,null,{"$f":"SUMIF(Gifts!A$4:A$5000, Donors!A2305,Gifts!B$4:B$5000)","v":0}]
[null,null,null,{"$f":"SUMIF(Gifts!A$4:A$5000, Donors!A2306,Gifts!B$4:B$5000)","v":0}]
[null,null,null,{"$f":"SUMIF(Gifts!A$4:A$5000, Donors!A2307,Gifts!B$4:B$5000)","v":0}]
[null,null,null,{"$f":"SUMIF(Gifts!A$4:A$5000, Donors!A2308,Gifts!B$4:B$5000)","v":0}]
[null,null,null,{"$f":"SUMIF(Gifts!A$4:A$5000, Donors!A2309,Gifts!B$4:B$5000)","v":0}]
[null,null,null,{"$f":"SUMIF(Gifts!A$4:A$5000, Donors!A2310,Gifts!B$4:B$5000)","v":0}]
[null,null,null,{"$f":"SUMIF(Gifts!A$4:A$5000, Donors!A2311,Gifts!B$4:B$5000)","v":0}]
[null,null,null,{"$f":"SUMIF(Gifts!A$4:A$5000, Donors!A2312,Gifts!B$4:B$5000)","v":0}]
[null,null,null,{"$f":"SUMIF(Gifts!A$4:A$5000, Donors!A2313,Gifts!B$4:B$5000)","v":0}]
[null,null,null,{"$f":"SUMIF(Gifts!A$4:A$5000, Donors!A2314,Gifts!B$4:B$5000)","v":0}]
[null,null,null,{"$f":"SUMIF(Gifts!A$4:A$5000, Donors!A2315,Gifts!B$4:B$5000)","v":0}]
[null,null,null,{"$f":"SUMIF(Gifts!A$4:A$5000, Donors!A2316,Gifts!B$4:B$5000)","v":0}]
[null,null,null,{"$f":"SUMIF(Gifts!A$4:A$5000, Donors!A2317,Gifts!B$4:B$5000)","v":0}]
[null,null,null,{"$f":"SUMIF(Gifts!A$4:A$5000, Donors!A2318,Gifts!B$4:B$5000)","v":0}]
[null,null,null,{"$f":"SUMIF(Gifts!A$4:A$5000, Donors!A2319,Gifts!B$4:B$5000)","v":0}]
[null,null,null,{"$f":"SUMIF(Gifts!A$4:A$5000, Donors!A2320,Gifts!B$4:B$5000)","v":0}]
[null,null,null,{"$f":"SUMIF(Gifts!A$4:A$5000, Donors!A2321,Gifts!B$4:B$5000)","v":0}]
[null,null,null,{"$f":"SUMIF(Gifts!A$4:A$5000, Donors!A2322,Gifts!B$4:B$5000)","v":0}]
[null,null,null,{"$f":"SUMIF(Gifts!A$4:A$5000, Donors!A2323,Gifts!B$4:B$5000)","v":0}]
[null,null,null,{"$f":"SUMIF(Gifts!A$4:A$5000, Donors!A2324,Gifts!B$4:B$5000)","v":0}]
[null,null,null,{"$f":"SUMIF(Gifts!A$4:A$5000, Donors!A2325,Gifts!B$4:B$5000)","v":0}]
[null,null,null,{"$f":"SUMIF(Gifts!A$4:A$5000, Donors!A2326,Gifts!B$4:B$5000)","v":0}]
[null,null,null,{"$f":"SUMIF(Gifts!A$4:A$5000, Donors!A2327,Gifts!B$4:B$5000)","v":0}]
[null,null,null,{"$f":"SUMIF(Gifts!A$4:A$5000, Donors!A2328,Gifts!B$4:B$5000)","v":0}]
[null,null,null,{"$f":"SUMIF(Gifts!A$4:A$5000, Donors!A2329,Gifts!B$4:B$5000)","v":0}]
[null,null,null,{"$f":"SUMIF(Gifts!A$4:A$5000, Donors!A2330,Gifts!B$4:B$5000)","v":0}]
[null,null,null,{"$f":"SUMIF(Gifts!A$4:A$5000, Donors!A2331,Gifts!B$4:B$5000)","v":0}]
[null,null,null,{"$f":"SUMIF(Gifts!A$4:A$5000, Donors!A2332,Gifts!B$4:B$5000)","v":0}]
[null,null,null,{"$f":"SUMIF(Gifts!A$4:A$5000, Donors!A2333,Gifts!B$4:B$5000)","v":0}]
[null,null,null,{"$f":"SUMIF(Gifts!A$4:A$5000, Donors!A2334,Gifts!B$4:B$5000)","v":0}]
[null,null,null,{"$f":"SUMIF(Gifts!A$4:A$5000, Donors!A2335,Gifts!B$4:B$5000)","v":0}]
[null,null,null,{"$f":"SUMIF(Gifts!A$4:A$5000, Donors!A2336,Gifts!B$4:B$5000)","v":0}]
[null,null,null,{"$f":"SUMIF(Gifts!A$4:A$5000, Donors!A2337,Gifts!B$4:B$5000)","v":0}]
[null,null,null,{"$f":"SUMIF(Gifts!A$4:A$5000, Donors!A2338,Gifts!B$4:B$5000)","v":0}]
[null,null,null,{"$f":"SUMIF(Gifts!A$4:A$5000, Donors!A2339,Gifts!B$4:B$5000)","v":0}]
[null,null,null,{"$f":"SUMIF(Gifts!A$4:A$5000, Donors!A2340,Gifts!B$4:B$5000)","v":0}]
[null,null,null,{"$f":"SUMIF(Gifts!A$4:A$5000, Donors!A2341,Gifts!B$4:B$5000)","v":0}]
[null,null,null,{"$f":"SUMIF(Gifts!A$4:A$5000, Donors!A2342,Gifts!B$4:B$5000)","v":0}]
[null,null,null,{"$f":"SUMIF(Gifts!A$4:A$5000, Donors!A2343,Gifts!B$4:B$5000)","v":0}]
[null,null,null,{"$f":"SUMIF(Gifts!A$4:A$5000, Donors!A2344,Gifts!B$4:B$5000)","v":0}]
[null,null,null,{"$f":"SUMIF(Gifts!A$4:A$5000, Donors!A2345,Gifts!B$4:B$5000)","v":0}]
[null,null,null,{"$f":"SUMIF(Gifts!A$4:A$5000, Donors!A2346,Gifts!B$4:B$5000)","v":0}]
[null,null,null,{"$f":"SUMIF(Gifts!A$4:A$5000, Donors!A2347,Gifts!B$4:B$5000)","v":0}]
[null,null,null,{"$f":"SUMIF(Gifts!A$4:A$5000, Donors!A2348,Gifts!B$4:B$5000)","v":0}]
[null,null,null,{"$f":"SUMIF(Gifts!A$4:A$5000, Donors!A2349,Gifts!B$4:B$5000)","v":0}]
[null,null,null,{"$f":"SUMIF(Gifts!A$4:A$5000, Donors!A2350,Gifts!B$4:B$5000)","v":0}]
[null,null,null,{"$f":"SUMIF(Gifts!A$4:A$5000, Donors!A2351,Gifts!B$4:B$5000)","v":0}]
[null,null,null,{"$f":"SUMIF(Gifts!A$4:A$5000, Donors!A2352,Gifts!B$4:B$5000)","v":0}]
[null,null,null,{"$f":"SUMIF(Gifts!A$4:A$5000, Donors!A2353,Gifts!B$4:B$5000)","v":0}]
[null,null,null,{"$f":"SUMIF(Gifts!A$4:A$5000, Donors!A2354,Gifts!B$4:B$5000)","v":0}]
[null,null,null,{"$f":"SUMIF(Gifts!A$4:A$5000, Donors!A2355,Gifts!B$4:B$5000)","v":0}]
[null,null,null,{"$f":"SUMIF(Gifts!A$4:A$5000, Donors!A2356,Gifts!B$4:B$5000)","v":0}]
[null,null,null,{"$f":"SUMIF(Gifts!A$4:A$5000, Donors!A2357,Gifts!B$4:B$5000)","v":0}]
[null,null,null,{"$f":"SUMIF(Gifts!A$4:A$5000, Donors!A2358,Gifts!B$4:B$5000)","v":0}]
[null,null,null,{"$f":"SUMIF(Gifts!A$4:A$5000, Donors!A2359,Gifts!B$4:B$5000)","v":0}]
[null,null,null,{"$f":"SUMIF(Gifts!A$4:A$5000, Donors!A2360,Gifts!B$4:B$5000)","v":0}]
[null,null,null,{"$f":"SUMIF(Gifts!A$4:A$5000, Donors!A2361,Gifts!B$4:B$5000)","v":0}]
[null,null,null,{"$f":"SUMIF(Gifts!A$4:A$5000, Donors!A2362,Gifts!B$4:B$5000)","v":0}]
[null,null,null,{"$f":"SUMIF(Gifts!A$4:A$5000, Donors!A2363,Gifts!B$4:B$5000)","v":0}]
[null,null,null,{"$f":"SUMIF(Gifts!A$4:A$5000, Donors!A2364,Gifts!B$4:B$5000)","v":0}]
[null,null,null,{"$f":"SUMIF(Gifts!A$4:A$5000, Donors!A2365,Gifts!B$4:B$5000)","v":0}]
[null,null,null,{"$f":"SUMIF(Gifts!A$4:A$5000, Donors!A2366,Gifts!B$4:B$5000)","v":0}]
[null,null,null,{"$f":"SUMIF(Gifts!A$4:A$5000, Donors!A2367,Gifts!B$4:B$5000)","v":0}]
[null,null,null,{"$f":"SUMIF(Gifts!A$4:A$5000, Donors!A2368,Gifts!B$4:B$5000)","v":0}]
[null,null,null,{"$f":"SUMIF(Gifts!A$4:A$5000, Donors!A2369,Gifts!B$4:B$5000)","v":0}]
[null,null,null,{"$f":"SUMIF(Gifts!A$4:A$5000, Donors!A2370,Gifts!B$4:B$5000)","v":0}]
[null,null,null,{"$f":"SUMIF(Gifts!A$4:A$5000, Donors!A2371,Gifts!B$4:B$5000)","v":0}]
[null,null,null,{"$f":"SUMIF(Gifts!A$4:A$5000, Donors!A2372,Gifts!B$4:B$5000)","v":0}]
[null,null,null,{"$f":"SUMIF(Gifts!A$4:A$5000, Donors!A2373,Gifts!B$4:B$5000)","v":0}]
[null,null,null,{"$f":"SUMIF(Gifts!A$4:A$5000, Donors!A2374,Gifts!B$4:B$5000)","v":0}]
[null,null,null,{"$f":"SUMIF(Gifts!A$4:A$5000, Donors!A2375,Gifts!B$4:B$5000)","v":0}]
[null,null,null,{"$f":"SUMIF(Gifts!A$4:A$5000, Donors!A2376,Gifts!B$4:B$5000)","v":0}]
[null,null,null,{"$f":"SUMIF(Gifts!A$4:A$5000, Donors!A2377,Gifts!B$4:B$5000)","v":0}]
[null,null,null,{"$f":"SUMIF(Gifts!A$4:A$5000, Donors!A2378,Gifts!B$4:B$5000)","v":0}]
[null,null,null,{"$f":"SUMIF(Gifts!A$4:A$5000, Donors!A2379,Gifts!B$4:B$5000)","v":0}]
[null,null,null,{"$f":"SUMIF(Gifts!A$4:A$5000, Donors!A2380,Gifts!B$4:B$5000)","v":0}]
[null,null,null,{"$f":"SUMIF(Gifts!A$4:A$5000, Donors!A2381,Gifts!B$4:B$5000)","v":0}]
[null,null,null,{"$f":"SUMIF(Gifts!A$4:A$5000, Donors!A2382,Gifts!B$4:B$5000)","v":0}]
[null,null,null,{"$f":"SUMIF(Gifts!A$4:A$5000, Donors!A2383,Gifts!B$4:B$5000)","v":0}]
[null,null,null,{"$f":"SUMIF(Gifts!A$4:A$5000, Donors!A2384,Gifts!B$4:B$5000)","v":0}]
[null,null,null,{"$f":"SUMIF(Gifts!A$4:A$5000, Donors!A2385,Gifts!B$4:B$5000)","v":0}]
[null,null,null,{"$f":"SUMIF(Gifts!A$4:A$5000, Donors!A2386,Gifts!B$4:B$5000)","v":0}]
[null,null,null,{"$f":"SUMIF(Gifts!A$4:A$5000, Donors!A2387,Gifts!B$4:B$5000)","v":0}]
[null,null,null,{"$f":"SUMIF(Gifts!A$4:A$5000, Donors!A2388,Gifts!B$4:B$5000)","v":0}]
[null,null,null,{"$f":"SUMIF(Gifts!A$4:A$5000, Donors!A2389,Gifts!B$4:B$5000)","v":0}]
[null,null,null,{"$f":"SUMIF(Gifts!A$4:A$5000, Donors!A2390,Gifts!B$4:B$5000)","v":0}]
[null,null,null,{"$f":"SUMIF(Gifts!A$4:A$5000, Donors!A2391,Gifts!B$4:B$5000)","v":0}]
[null,null,null,{"$f":"SUMIF(Gifts!A$4:A$5000, Donors!A2392,Gifts!B$4:B$5000)","v":0}]
[null,null,null,{"$f":"SUMIF(Gifts!A$4:A$5000, Donors!A2393,Gifts!B$4:B$5000)","v":0}]
[null,null,null,{"$f":"SUMIF(Gifts!A$4:A$5000, Donors!A2394,Gifts!B$4:B$5000)","v":0}]
[null,null,null,{"$f":"SUMIF(Gifts!A$4:A$5000, Donors!A2395,Gifts!B$4:B$5000)","v":0}]
[null,null,null,{"$f":"SUMIF(Gifts!A$4:A$5000, Donors!A2396,Gifts!B$4:B$5000)","v":0}]
[null,null,null,{"$f":"SUMIF(Gifts!A$4:A$5000, Donors!A2397,Gifts!B$4:B$5000)","v":0}]
[null,null,null,{"$f":"SUMIF(Gifts!A$4:A$5000, Donors!A2398,Gifts!B$4:B$5000)","v":0}]
[null,null,null,{"$f":"SUMIF(Gifts!A$4:A$5000, Donors!A2399,Gifts!B$4:B$5000)","v":0}]
[null,null,null,{"$f":"SUMIF(Gifts!A$4:A$5000, Donors!A2400,Gifts!B$4:B$5000)","v":0}]
[null,null,null,{"$f":"SUMIF(Gifts!A$4:A$5000, Donors!A2401,Gifts!B$4:B$5000)","v":0}]
[null,null,null,{"$f":"SUMIF(Gifts!A$4:A$5000, Donors!A2402,Gifts!B$4:B$5000)","v":0}]
[null,null,null,{"$f":"SUMIF(Gifts!A$4:A$5000, Donors!A2403,Gifts!B$4:B$5000)","v":0}]
[null,null,null,{"$f":"SUMIF(Gifts!A$4:A$5000, Donors!A2404,Gifts!B$4:B$5000)","v":0}]
[null,null,null,{"$f":"SUMIF(Gifts!A$4:A$5000, Donors!A2405,Gifts!B$4:B$5000)","v":0}]
[null,null,null,{"$f":"SUMIF(Gifts!A$4:A$5000, Donors!A2406,Gifts!B$4:B$5000)","v":0}]
[null,null,null,{"$f":"SUMIF(Gifts!A$4:A$5000, Donors!A2407,Gifts!B$4:B$5000)","v":0}]
[null,null,null,{"$f":"SUMIF(Gifts!A$4:A$5000, Donors!A2408,Gifts!B$4:B$5000)","v":0}]
[null,null,null,{"$f":"SUMIF(Gifts!A$4:A$5000, Donors!A2409,Gifts!B$4:B$5000)","v":0}]
[null,null,null,{"$f":"SUMIF(Gifts!A$4:A$5000, Donors!A2410,Gifts!B$4:B$5000)","v":0}]
[null,null,null,{"$f":"SUMIF(Gifts!A$4:A$5000, Donors!A2411,Gifts!B$4:B$5000)","v":0}]
[null,null,null,{"$f":"SUMIF(Gifts!A$4:A$5000, Donors!A2412,Gifts!B$4:B$5000)","v":0}]
[null,null,null,{"$f":"SUMIF(Gifts!A$4:A$5000, Donors!A2413,Gifts!B$4:B$5000)","v":0}]
[null,null,null,{"$f":"SUMIF(Gifts!A$4:A$5000, Donors!A2414,Gifts!B$4:B$5000)","v":0}]
[null,null,null,{"$f":"SUMIF(Gifts!A$4:A$5000, Donors!A2415,Gifts!B$4:B$5000)","v":0}]
[null,null,null,{"$f":"SUMIF(Gifts!A$4:A$5000, Donors!A2416,Gifts!B$4:B$5000)","v":0}]
[null,null,null,{"$f":"SUMIF(Gifts!A$4:A$5000, Donors!A2417,Gifts!B$4:B$5000)","v":0}]
[null,null,null,{"$f":"SUMIF(Gifts!A$4:A$5000, Donors!A2418,Gifts!B$4:B$5000)","v":0}]
[null,null,null,{"$f":"SUMIF(Gifts!A$4:A$5000, Donors!A2419,Gifts!B$4:B$5000)","v":0}]
[null,null,null,{"$f":"SUMIF(Gifts!A$4:A$5000, Donors!A2420,Gifts!B$4:B$5000)","v":0}]
[null,null,null,{"$f":"SUMIF(Gifts!A$4:A$5000, Donors!A2421,Gifts!B$4:B$5000)","v":0}]
[null,null,null,{"$f":"SUMIF(Gifts!A$4:A$5000, Donors!A2422,Gifts!B$4:B$5000)","v":0}]
[null,null,null,{"$f":"SUMIF(Gifts!A$4:A$5000, Donors!A2423,Gifts!B$4:B$5000)","v":0}]
[null,null,null,{"$f":"SUMIF(Gifts!A$4:A$5000, Donors!A2424,Gifts!B$4:B$5000)","v":0}]
[null,null,null,{"$f":"SUMIF(Gifts!A$4:A$5000, Donors!A2425,Gifts!B$4:B$5000)","v":0}]
[null,null,null,{"$f":"SUMIF(Gifts!A$4:A$5000, Donors!A2426,Gifts!B$4:B$5000)","v":0}]
[null,null,null,{"$f":"SUMIF(Gifts!A$4:A$5000, Donors!A2427,Gifts!B$4:B$5000)","v":0}]
[null,null,null,{"$f":"SUMIF(Gifts!A$4:A$5000, Donors!A2428,Gifts!B$4:B$5000)","v":0}]
[null,null,null,{"$f":"SUMIF(Gifts!A$4:A$5000, Donors!A2429,Gifts!B$4:B$5000)","v":0}]
[null,null,null,{"$f":"SUMIF(Gifts!A$4:A$5000, Donors!A2430,Gifts!B$4:B$5000)","v":0}]
[null,null,null,{"$f":"SUMIF(Gifts!A$4:A$5000, Donors!A2431,Gifts!B$4:B$5000)","v":0}]
[null,null,null,{"$f":"SUMIF(Gifts!A$4:A$5000, Donors!A2432,Gifts!B$4:B$5000)","v":0}]
[null,null,null,{"$f":"SUMIF(Gifts!A$4:A$5000, Donors!A2433,Gifts!B$4:B$5000)","v":0}]
[null,null,null,{"$f":"SUMIF(Gifts!A$4:A$5000, Donors!A2434,Gifts!B$4:B$5000)","v":0}]
[null,null,null,{"$f":"SUMIF(Gifts!A$4:A$5000, Donors!A2435,Gifts!B$4:B$5000)","v":0}]
[null,null,null,{"$f":"SUMIF(Gifts!A$4:A$5000, Donors!A2436,Gifts!B$4:B$5000)","v":0}]
[null,null,null,{"$f":"SUMIF(Gifts!A$4:A$5000, Donors!A2437,Gifts!B$4:B$5000)","v":0}]
[null,null,null,{"$f":"SUMIF(Gifts!A$4:A$5000, Donors!A2438,Gifts!B$4:B$5000)","v":0}]
[null,null,null,{"$f":"SUMIF(Gifts!A$4:A$5000, Donors!A2439,Gifts!B$4:B$5000)","v":0}]
[null,null,null,{"$f":"SUMIF(Gifts!A$4:A$5000, Donors!A2440,Gifts!B$4:B$5000)","v":0}]
[null,null,null,{"$f":"SUMIF(Gifts!A$4:A$5000, Donors!A2441,Gifts!B$4:B$5000)","v":0}]
[null,null,null,{"$f":"SUMIF(Gifts!A$4:A$5000, Donors!A2442,Gifts!B$4:B$5000)","v":0}]
[null,null,null,{"$f":"SUMIF(Gifts!A$4:A$5000, Donors!A2443,Gifts!B$4:B$5000)","v":0}]
[null,null,null,{"$f":"SUMIF(Gifts!A$4:A$5000, Donors!A2444,Gifts!B$4:B$5000)","v":0}]
[null,null,null,{"$f":"SUMIF(Gifts!A$4:A$5000, Donors!A2445,Gifts!B$4:B$5000)","v":0}]
[null,null,null,{"$f":"SUMIF(Gifts!A$4:A$5000, Donors!A2446,Gifts!B$4:B$5000)","v":0}]
[null,null,null,{"$f":"SUMIF(Gifts!A$4:A$5000, Donors!A2447,Gifts!B$4:B$5000)","v":0}]
[null,null,null,{"$f":"SUMIF(Gifts!A$4:A$5000, Donors!A2448,Gifts!B$4:B$5000)","v":0}]
[null,null,null,{"$f":"SUMIF(Gifts!A$4:A$5000, Donors!A2449,Gifts!B$4:B$5000)","v":0}]
[null,null,null,{"$f":"SUMIF(Gifts!A$4:A$5000, Donors!A2450,Gifts!B$4:B$5000)","v":0}]
[null,null,null,{"$f":"SUMIF(Gifts!A$4:A$5000, Donors!A2451,Gifts!B$4:B$5000)","v":0}]
[null,null,null,{"$f":"SUMIF(Gifts!A$4:A$5000, Donors!A2452,Gifts!B$4:B$5000)","v":0}]
[null,null,null,{"$f":"SUMIF(Gifts!A$4:A$5000, Donors!A2453,Gifts!B$4:B$5000)","v":0}]
[null,null,null,{"$f":"SUMIF(Gifts!A$4:A$5000, Donors!A2454,Gifts!B$4:B$5000)","v":0}]
[null,null,null,{"$f":"SUMIF(Gifts!A$4:A$5000, Donors!A2455,Gifts!B$4:B$5000)","v":0}]
[null,null,null,{"$f":"SUMIF(Gifts!A$4:A$5000, Donors!A2456,Gifts!B$4:B$5000)","v":0}]
[null,null,null,{"$f":"SUMIF(Gifts!A$4:A$5000, Donors!A2457,Gifts!B$4:B$5000)","v":0}]
[null,null,null,{"$f":"SUMIF(Gifts!A$4:A$5000, Donors!A2458,Gifts!B$4:B$5000)","v":0}]
[null,null,null,{"$f":"SUMIF(Gifts!A$4:A$5000, Donors!A2459,Gifts!B$4:B$5000)","v":0}]
[null,null,null,{"$f":"SUMIF(Gifts!A$4:A$5000, Donors!A2460,Gifts!B$4:B$5000)","v":0}]
[null,null,null,{"$f":"SUMIF(Gifts!A$4:A$5000, Donors!A2461,Gifts!B$4:B$5000)","v":0}]
[null,null,null,{"$f":"SUMIF(Gifts!A$4:A$5000, Donors!A2462,Gifts!B$4:B$5000)","v":0}]
[null,null,null,{"$f":"SUMIF(Gifts!A$4:A$5000, Donors!A2463,Gifts!B$4:B$5000)","v":0}]
[null,null,null,{"$f":"SUMIF(Gifts!A$4:A$5000, Donors!A2464,Gifts!B$4:B$5000)","v":0}]
[null,null,null,{"$f":"SUMIF(Gifts!A$4:A$5000, Donors!A2465,Gifts!B$4:B$5000)","v":0}]
[null,null,null,{"$f":"SUMIF(Gifts!A$4:A$5000, Donors!A2466,Gifts!B$4:B$5000)","v":0}]
[null,null,null,{"$f":"SUMIF(Gifts!A$4:A$5000, Donors!A2467,Gifts!B$4:B$5000)","v":0}]
[null,null,null,{"$f":"SUMIF(Gifts!A$4:A$5000, Donors!A2468,Gifts!B$4:B$5000)","v":0}]
[null,null,null,{"$f":"SUMIF(Gifts!A$4:A$5000, Donors!A2469,Gifts!B$4:B$5000)","v":0}]
[null,null,null,{"$f":"SUMIF(Gifts!A$4:A$5000, Donors!A2470,Gifts!B$4:B$5000)","v":0}]
[null,null,null,{"$f":"SUMIF(Gifts!A$4:A$5000, Donors!A2471,Gifts!B$4:B$5000)","v":0}]
[null,null,null,{"$f":"SUMIF(Gifts!A$4:A$5000, Donors!A2472,Gifts!B$4:B$5000)","v":0}]
[null,null,null,{"$f":"SUMIF(Gifts!A$4:A$5000, Donors!A2473,Gifts!B$4:B$5000)","v":0}]
[null,null,null,{"$f":"SUMIF(Gifts!A$4:A$5000, Donors!A2474,Gifts!B$4:B$5000)","v":0}]
[null,null,null,{"$f":"SUMIF(Gifts!A$4:A$5000, Donors!A2475,Gifts!B$4:B$5000)","v":0}]
[null,null,null,{"$f":"SUMIF(Gifts!A$4:A$5000, Donors!A2476,Gifts!B$4:B$5000)","v":0}]
[null,null,null,{"$f":"SUMIF(Gifts!A$4:A$5000, Donors!A2477,Gifts!B$4:B$5000)","v":0}]
[null,null,null,{"$f":"SUMIF(Gifts!A$4:A$5000, Donors!A2478,Gifts!B$4:B$5000)","v":0}]
[null,null,null,{"$f":"SUMIF(Gifts!A$4:A$5000, Donors!A2479,Gifts!B$4:B$5000)","v":0}]
[null,null,null,{"$f":"SUMIF(Gifts!A$4:A$5000, Donors!A2480,Gifts!B$4:B$5000)","v":0}]
[null,null,null,{"$f":"SUMIF(Gifts!A$4:A$5000, Donors!A2481,Gifts!B$4:B$5000)","v":0}]
[null,null,null,{"$f":"SUMIF(Gifts!A$4:A$5000, Donors!A2482,Gifts!B$4:B$5000)","v":0}]
[null,null,null,{"$f":"SUMIF(Gifts!A$4:A$5000, Donors!A2483,Gifts!B$4:B$5000)","v":0}]
[null,null,null,{"$f":"SUMIF(Gifts!A$4:A$5000, Donors!A2484,Gifts!B$4:B$5000)","v":0}]
[null,null,null,{"$f":"SUMIF(Gifts!A$4:A$5000, Donors!A2485,Gifts!B$4:B$5000)","v":0}]
[null,null,null,{"$f":"SUMIF(Gifts!A$4:A$5000, Donors!A2486,Gifts!B$4:B$5000)","v":0}]
[null,null,null,{"$f":"SUMIF(Gifts!A$4:A$5000, Donors!A2487,Gifts!B$4:B$5000)","v":0}]
[null,null,null,{"$f":"SUMIF(Gifts!A$4:A$5000, Donors!A2488,Gifts!B$4:B$5000)","v":0}]
[null,null,null,{"$f":"SUMIF(Gifts!A$4:A$5000, Donors!A2489,Gifts!B$4:B$5000)","v":0}]
[null,null,null,{"$f":"SUMIF(Gifts!A$4:A$5000, Donors!A2490,Gifts!B$4:B$5000)","v":0}]
[null,null,null,{"$f":"SUMIF(Gifts!A$4:A$5000, Donors!A2491,Gifts!B$4:B$5000)","v":0}]
[null,null,null,{"$f":"SUMIF(Gifts!A$4:A$5000, Donors!A2492,Gifts!B$4:B$5000)","v":0}]
[null,null,null,{"$f":"SUMIF(Gifts!A$4:A$5000, Donors!A2493,Gifts!B$4:B$5000)","v":0}]
[null,null,null,{"$f":"SUMIF(Gifts!A$4:A$5000, Donors!A2494,Gifts!B$4:B$5000)","v":0}]
[null,null,null,{"$f":"SUMIF(Gifts!A$4:A$5000, Donors!A2495,Gifts!B$4:B$5000)","v":0}]
[null,null,null,{"$f":"SUMIF(Gifts!A$4:A$5000, Donors!A2496,Gifts!B$4:B$5000)","v":0}]
[null,null,null,{"$f":"SUMIF(Gifts!A$4:A$5000, Donors!A2497,Gifts!B$4:B$5000)","v":0}]
[null,null,null,{"$f":"SUMIF(Gifts!A$4:A$5000, Donors!A2498,Gifts!B$4:B$5000)","v":0}]
[null,null,null,{"$f":"SUMIF(Gifts!A$4:A$5000, Donors!A2499,Gifts!B$4:B$5000)","v":0}]
[null,null,null,{"$f":"SUMIF(Gifts!A$4:A$5000, Donors!A2500,Gifts!B$4:B$5000)","v":0}]
[null,null,null,{"$f":"SUMIF(Gifts!A$4:A$5000, Donors!A2501,Gifts!B$4:B$5000)","v":0}]
[null,null,null,{"$f":"SUMIF(Gifts!A$4:A$5000, Donors!A2502,Gifts!B$4:B$5000)","v":0}]
[null,null,null,{"$f":"SUMIF(Gifts!A$4:A$5000, Donors!A2503,Gifts!B$4:B$5000)","v":0}]
[null,null,null,{"$f":"SUMIF(Gifts!A$4:A$5000, Donors!A2504,Gifts!B$4:B$5000)","v":0}]
[null,null,null,{"$f":"SUMIF(Gifts!A$4:A$5000, Donors!A2505,Gifts!B$4:B$5000)","v":0}]
[null,null,null,{"$f":"SUMIF(Gifts!A$4:A$5000, Donors!A2506,Gifts!B$4:B$5000)","v":0}]
[null,null,null,{"$f":"SUMIF(Gifts!A$4:A$5000, Donors!A2507,Gifts!B$4:B$5000)","v":0}]
[null,null,null,{"$f":"SUMIF(Gifts!A$4:A$5000, Donors!A2508,Gifts!B$4:B$5000)","v":0}]
[null,null,null,{"$f":"SUMIF(Gifts!A$4:A$5000, Donors!A2509,Gifts!B$4:B$5000)","v":0}]
[null,null,null,{"$f":"SUMIF(Gifts!A$4:A$5000, Donors!A2510,Gifts!B$4:B$5000)","v":0}]
[null,null,null,{"$f":"SUMIF(Gifts!A$4:A$5000, Donors!A2511,Gifts!B$4:B$5000)","v":0}]
[null,null,null,{"$f":"SUMIF(Gifts!A$4:A$5000, Donors!A2512,Gifts!B$4:B$5000)","v":0}]
[null,null,null,{"$f":"SUMIF(Gifts!A$4:A$5000, Donors!A2513,Gifts!B$4:B$5000)","v":0}]
[null,null,null,{"$f":"SUMIF(Gifts!A$4:A$5000, Donors!A2514,Gifts!B$4:B$5000)","v":0}]
[null,null,null,{"$f":"SUMIF(Gifts!A$4:A$5000, Donors!A2515,Gifts!B$4:B$5000)","v":0}]
[null,null,null,{"$f":"SUMIF(Gifts!A$4:A$5000, Donors!A2516,Gifts!B$4:B$5000)","v":0}]
[null,null,null,{"$f":"SUMIF(Gifts!A$4:A$5000, Donors!A2517,Gifts!B$4:B$5000)","v":0}]
[null,null,null,{"$f":"SUMIF(Gifts!A$4:A$5000, Donors!A2518,Gifts!B$4:B$5000)","v":0}]
[null,null,null,{"$f":"SUMIF(Gifts!A$4:A$5000, Donors!A2519,Gifts!B$4:B$5000)","v":0}]
[null,null,null,{"$f":"SUMIF(Gifts!A$4:A$5000, Donors!A2520,Gifts!B$4:B$5000)","v":0}]
[null,null,null,{"$f":"SUMIF(Gifts!A$4:A$5000, Donors!A2521,Gifts!B$4:B$5000)","v":0}]
[null,null,null,{"$f":"SUMIF(Gifts!A$4:A$5000, Donors!A2522,Gifts!B$4:B$5000)","v":0}]
[null,null,null,{"$f":"SUMIF(Gifts!A$4:A$5000, Donors!A2523,Gifts!B$4:B$5000)","v":0}]
[null,null,null,{"$f":"SUMIF(Gifts!A$4:A$5000, Donors!A2524,Gifts!B$4:B$5000)","v":0}]
[null,null,null,{"$f":"SUMIF(Gifts!A$4:A$5000, Donors!A2525,Gifts!B$4:B$5000)","v":0}]
[null,null,null,{"$f":"SUMIF(Gifts!A$4:A$5000, Donors!A2526,Gifts!B$4:B$5000)","v":0}]
[null,null,null,{"$f":"SUMIF(Gifts!A$4:A$5000, Donors!A2527,Gifts!B$4:B$5000)","v":0}]
[null,null,null,{"$f":"SUMIF(Gifts!A$4:A$5000, Donors!A2528,Gifts!B$4:B$5000)","v":0}]
[null,null,null,{"$f":"SUMIF(Gifts!A$4:A$5000, Donors!A2529,Gifts!B$4:B$5000)","v":0}]
[null,null,null,{"$f":"SUMIF(Gifts!A$4:A$5000, Donors!A2530,Gifts!B$4:B$5000)","v":0}]
[null,null,null,{"$f":"SUMIF(Gifts!A$4:A$5000, Donors!A2531,Gifts!B$4:B$5000)","v":0}]
[null,null,null,{"$f":"SUMIF(Gifts!A$4:A$5000, Donors!A2532,Gifts!B$4:B$5000)","v":0}]
[null,null,null,{"$f":"SUMIF(Gifts!A$4:A$5000, Donors!A2533,Gifts!B$4:B$5000)","v":0}]
[null,null,null,{"$f":"SUMIF(Gifts!A$4:A$5000, Donors!A2534,Gifts!B$4:B$5000)","v":0}]
[null,null,null,{"$f":"SUMIF(Gifts!A$4:A$5000, Donors!A2535,Gifts!B$4:B$5000)","v":0}]
[null,null,null,{"$f":"SUMIF(Gifts!A$4:A$5000, Donors!A2536,Gifts!B$4:B$5000)","v":0}]
[null,null,null,{"$f":"SUMIF(Gifts!A$4:A$5000, Donors!A2537,Gifts!B$4:B$5000)","v":0}]
[null,null,null,{"$f":"SUMIF(Gifts!A$4:A$5000, Donors!A2538,Gifts!B$4:B$5000)","v":0}]
[null,null,null,{"$f":"SUMIF(Gifts!A$4:A$5000, Donors!A2539,Gifts!B$4:B$5000)","v":0}]
[null,null,null,{"$f":"SUMIF(Gifts!A$4:A$5000, Donors!A2540,Gifts!B$4:B$5000)","v":0}]
[null,null,null,{"$f":"SUMIF(Gifts!A$4:A$5000, Donors!A2541,Gifts!B$4:B$5000)","v":0}]
[null,null,null,{"$f":"SUMIF(Gifts!A$4:A$5000, Donors!A2542,Gifts!B$4:B$5000)","v":0}]
[null,null,null,{"$f":"SUMIF(Gifts!A$4:A$5000, Donors!A2543,Gifts!B$4:B$5000)","v":0}]
[null,null,null,{"$f":"SUMIF(Gifts!A$4:A$5000, Donors!A2544,Gifts!B$4:B$5000)","v":0}]
[null,null,null,{"$f":"SUMIF(Gifts!A$4:A$5000, Donors!A2545,Gifts!B$4:B$5000)","v":0}]
[null,null,null,{"$f":"SUMIF(Gifts!A$4:A$5000, Donors!A2546,Gifts!B$4:B$5000)","v":0}]
[null,null,null,{"$f":"SUMIF(Gifts!A$4:A$5000, Donors!A2547,Gifts!B$4:B$5000)","v":0}]
[null,null,null,{"$f":"SUMIF(Gifts!A$4:A$5000, Donors!A2548,Gifts!B$4:B$5000)","v":0}]
[null,null,null,{"$f":"SUMIF(Gifts!A$4:A$5000, Donors!A2549,Gifts!B$4:B$5000)","v":0}]
[null,null,null,{"$f":"SUMIF(Gifts!A$4:A$5000, Donors!A2550,Gifts!B$4:B$5000)","v":0}]
[null,null,null,{"$f":"SUMIF(Gifts!A$4:A$5000, Donors!A2551,Gifts!B$4:B$5000)","v":0}]
[null,null,null,{"$f":"SUMIF(Gifts!A$4:A$5000, Donors!A2552,Gifts!B$4:B$5000)","v":0}]
[null,null,null,{"$f":"SUMIF(Gifts!A$4:A$5000, Donors!A2553,Gifts!B$4:B$5000)","v":0}]
[null,null,null,{"$f":"SUMIF(Gifts!A$4:A$5000, Donors!A2554,Gifts!B$4:B$5000)","v":0}]
[null,null,null,{"$f":"SUMIF(Gifts!A$4:A$5000, Donors!A2555,Gifts!B$4:B$5000)","v":0}]
[null,null,null,{"$f":"SUMIF(Gifts!A$4:A$5000, Donors!A2556,Gifts!B$4:B$5000)","v":0}]
[null,null,null,{"$f":"SUMIF(Gifts!A$4:A$5000, Donors!A2557,Gifts!B$4:B$5000)","v":0}]
[null,null,null,{"$f":"SUMIF(Gifts!A$4:A$5000, Donors!A2558,Gifts!B$4:B$5000)","v":0}]
[null,null,null,{"$f":"SUMIF(Gifts!A$4:A$5000, Donors!A2559,Gifts!B$4:B$5000)","v":0}]
[null,null,null,{"$f":"SUMIF(Gifts!A$4:A$5000, Donors!A2560,Gifts!B$4:B$5000)","v":0}]
[null,null,null,{"$f":"SUMIF(Gifts!A$4:A$5000, Donors!A2561,Gifts!B$4:B$5000)","v":0}]
[null,null,null,{"$f":"SUMIF(Gifts!A$4:A$5000, Donors!A2562,Gifts!B$4:B$5000)","v":0}]
[null,null,null,{"$f":"SUMIF(Gifts!A$4:A$5000, Donors!A2563,Gifts!B$4:B$5000)","v":0}]
[null,null,null,{"$f":"SUMIF(Gifts!A$4:A$5000, Donors!A2564,Gifts!B$4:B$5000)","v":0}]
[null,null,null,{"$f":"SUMIF(Gifts!A$4:A$5000, Donors!A2565,Gifts!B$4:B$5000)","v":0}]
[null,null,null,{"$f":"SUMIF(Gifts!A$4:A$5000, Donors!A2566,Gifts!B$4:B$5000)","v":0}]
[null,null,null,{"$f":"SUMIF(Gifts!A$4:A$5000, Donors!A2567,Gifts!B$4:B$5000)","v":0}]
[null,null,null,{"$f":"SUMIF(Gifts!A$4:A$5000, Donors!A2568,Gifts!B$4:B$5000)","v":0}]
[null,null,null,{"$f":"SUMIF(Gifts!A$4:A$5000, Donors!A2569,Gifts!B$4:B$5000)","v":0}]
[null,null,null,{"$f":"SUMIF(Gifts!A$4:A$5000, Donors!A2570,Gifts!B$4:B$5000)","v":0}]
[null,null,null,{"$f":"SUMIF(Gifts!A$4:A$5000, Donors!A2571,Gifts!B$4:B$5000)","v":0}]
[null,null,null,{"$f":"SUMIF(Gifts!A$4:A$5000, Donors!A2572,Gifts!B$4:B$5000)","v":0}]
[null,null,null,{"$f":"SUMIF(Gifts!A$4:A$5000, Donors!A2573,Gifts!B$4:B$5000)","v":0}]
[null,null,null,{"$f":"SUMIF(Gifts!A$4:A$5000, Donors!A2574,Gifts!B$4:B$5000)","v":0}]
[null,null,null,{"$f":"SUMIF(Gifts!A$4:A$5000, Donors!A2575,Gifts!B$4:B$5000)","v":0}]
[null,null,null,{"$f":"SUMIF(Gifts!A$4:A$5000, Donors!A2576,Gifts!B$4:B$5000)","v":0}]
[null,null,null,{"$f":"SUMIF(Gifts!A$4:A$5000, Donors!A2577,Gifts!B$4:B$5000)","v":0}]
[null,null,null,{"$f":"SUMIF(Gifts!A$4:A$5000, Donors!A2578,Gifts!B$4:B$5000)","v":0}]
[null,null,null,{"$f":"SUMIF(Gifts!A$4:A$5000, Donors!A2579,Gifts!B$4:B$5000)","v":0}]
[null,null,null,{"$f":"SUMIF(Gifts!A$4:A$5000, Donors!A2580,Gifts!B$4:B$5000)","v":0}]
[null,null,null,{"$f":"SUMIF(Gifts!A$4:A$5000, Donors!A2581,Gifts!B$4:B$5000)","v":0}]
[null,null,null,{"$f":"SUMIF(Gifts!A$4:A$5000, Donors!A2582,Gifts!B$4:B$5000)","v":0}]
[null,null,null,{"$f":"SUMIF(Gifts!A$4:A$5000, Donors!A2583,Gifts!B$4:B$5000)","v":0}]
[null,null,null,{"$f":"SUMIF(Gifts!A$4:A$5000, Donors!A2584,Gifts!B$4:B$5000)","v":0}]
[null,null,null,{"$f":"SUMIF(Gifts!A$4:A$5000, Donors!A2585,Gifts!B$4:B$5000)","v":0}]
[null,null,null,{"$f":"SUMIF(Gifts!A$4:A$5000, Donors!A2586,Gifts!B$4:B$5000)","v":0}]
[null,null,null,{"$f":"SUMIF(Gifts!A$4:A$5000, Donors!A2587,Gifts!B$4:B$5000)","v":0}]
[null,null,null,{"$f":"SUMIF(Gifts!A$4:A$5000, Donors!A2588,Gifts!B$4:B$5000)","v":0}]
[null,null,null,{"$f":"SUMIF(Gifts!A$4:A$5000, Donors!A2589,Gifts!B$4:B$5000)","v":0}]
[null,null,null,{"$f":"SUMIF(Gifts!A$4:A$5000, Donors!A2590,Gifts!B$4:B$5000)","v":0}]
[null,null,null,{"$f":"SUMIF(Gifts!A$4:A$5000, Donors!A2591,Gifts!B$4:B$5000)","v":0}]
[null,null,null,{"$f":"SUMIF(Gifts!A$4:A$5000, Donors!A2592,Gifts!B$4:B$5000)","v":0}]
[null,null,null,{"$f":"SUMIF(Gifts!A$4:A$5000, Donors!A2593,Gifts!B$4:B$5000)","v":0}]
[null,null,null,{"$f":"SUMIF(Gifts!A$4:A$5000, Donors!A2594,Gifts!B$4:B$5000)","v":0}]
[null,null,null,{"$f":"SUMIF(Gifts!A$4:A$5000, Donors!A2595,Gifts!B$4:B$5000)","v":0}]
[null,null,null,{"$f":"SUMIF(Gifts!A$4:A$5000, Donors!A2596,Gifts!B$4:B$5000)","v":0}]
[null,null,null,{"$f":"SUMIF(Gifts!A$4:A$5000, Donors!A2597,Gifts!B$4:B$5000)","v":0}]
[null,null,null,{"$f":"SUMIF(Gifts!A$4:A$5000, Donors!A2598,Gifts!B$4:B$5000)","v":0}]
[null,null,null,{"$f":"SUMIF(Gifts!A$4:A$5000, Donors!A2599,Gifts!B$4:B$5000)","v":0}]
[null,null,null,{"$f":"SUMIF(Gifts!A$4:A$5000, Donors!A2600,Gifts!B$4:B$5000)","v":0}]
[null,null,null,{"$f":"SUMIF(Gifts!A$4:A$5000, Donors!A2601,Gifts!B$4:B$5000)","v":0}]
[null,null,null,{"$f":"SUMIF(Gifts!A$4:A$5000, Donors!A2602,Gifts!B$4:B$5000)","v":0}]
[null,null,null,{"$f":"SUMIF(Gifts!A$4:A$5000, Donors!A2603,Gifts!B$4:B$5000)","v":0}]
[null,null,null,{"$f":"SUMIF(Gifts!A$4:A$5000, Donors!A2604,Gifts!B$4:B$5000)","v":0}]
[null,null,null,{"$f":"SUMIF(Gifts!A$4:A$5000, Donors!A2605,Gifts!B$4:B$5000)","v":0}]
[null,null,null,{"$f":"SUMIF(Gifts!A$4:A$5000, Donors!A2606,Gifts!B$4:B$5000)","v":0}]
[null,null,null,{"$f":"SUMIF(Gifts!A$4:A$5000, Donors!A2607,Gifts!B$4:B$5000)","v":0}]
[null,null,null,{"$f":"SUMIF(Gifts!A$4:A$5000, Donors!A2608,Gifts!B$4:B$5000)","v":0}]
[null,null,null,{"$f":"SUMIF(Gifts!A$4:A$5000, Donors!A2609,Gifts!B$4:B$5000)","v":0}]
[null,null,null,{"$f":"SUMIF(Gifts!A$4:A$5000, Donors!A2610,Gifts!B$4:B$5000)","v":0}]
[null,null,null,{"$f":"SUMIF(Gifts!A$4:A$5000, Donors!A2611,Gifts!B$4:B$5000)","v":0}]
[null,null,null,{"$f":"SUMIF(Gifts!A$4:A$5000, Donors!A2612,Gifts!B$4:B$5000)","v":0}]
[null,null,null,{"$f":"SUMIF(Gifts!A$4:A$5000, Donors!A2613,Gifts!B$4:B$5000)","v":0}]
[null,null,null,{"$f":"SUMIF(Gifts!A$4:A$5000, Donors!A2614,Gifts!B$4:B$5000)","v":0}]
[null,null,null,{"$f":"SUMIF(Gifts!A$4:A$5000, Donors!A2615,Gifts!B$4:B$5000)","v":0}]
[null,null,null,{"$f":"SUMIF(Gifts!A$4:A$5000, Donors!A2616,Gifts!B$4:B$5000)","v":0}]
[null,null,null,{"$f":"SUMIF(Gifts!A$4:A$5000, Donors!A2617,Gifts!B$4:B$5000)","v":0}]
[null,null,null,{"$f":"SUMIF(Gifts!A$4:A$5000, Donors!A2618,Gifts!B$4:B$5000)","v":0}]
[null,null,null,{"$f":"SUMIF(Gifts!A$4:A$5000, Donors!A2619,Gifts!B$4:B$5000)","v":0}]
[null,null,null,{"$f":"SUMIF(Gifts!A$4:A$5000, Donors!A2620,Gifts!B$4:B$5000)","v":0}]
[null,null,null,{"$f":"SUMIF(Gifts!A$4:A$5000, Donors!A2621,Gifts!B$4:B$5000)","v":0}]
[null,null,null,{"$f":"SUMIF(Gifts!A$4:A$5000, Donors!A2622,Gifts!B$4:B$5000)","v":0}]
[null,null,null,{"$f":"SUMIF(Gifts!A$4:A$5000, Donors!A2623,Gifts!B$4:B$5000)","v":0}]
[null,null,null,{"$f":"SUMIF(Gifts!A$4:A$5000, Donors!A2624,Gifts!B$4:B$5000)","v":0}]
[null,null,null,{"$f":"SUMIF(Gifts!A$4:A$5000, Donors!A2625,Gifts!B$4:B$5000)","v":0}]
[null,null,null,{"$f":"SUMIF(Gifts!A$4:A$5000, Donors!A2626,Gifts!B$4:B$5000)","v":0}]
[null,null,null,{"$f":"SUMIF(Gifts!A$4:A$5000, Donors!A2627,Gifts!B$4:B$5000)","v":0}]
[null,null,null,{"$f":"SUMIF(Gifts!A$4:A$5000, Donors!A2628,Gifts!B$4:B$5000)","v":0}]
[null,null,null,{"$f":"SUMIF(Gifts!A$4:A$5000, Donors!A2629,Gifts!B$4:B$5000)","v":0}]
[null,null,null,{"$f":"SUMIF(Gifts!A$4:A$5000, Donors!A2630,Gifts!B$4:B$5000)","v":0}]
[null,null,null,{"$f":"SUMIF(Gifts!A$4:A$5000, Donors!A2631,Gifts!B$4:B$5000)","v":0}]
[null,null,null,{"$f":"SUMIF(Gifts!A$4:A$5000, Donors!A2632,Gifts!B$4:B$5000)","v":0}]
[null,null,null,{"$f":"SUMIF(Gifts!A$4:A$5000, Donors!A2633,Gifts!B$4:B$5000)","v":0}]
[null,null,null,{"$f":"SUMIF(Gifts!A$4:A$5000, Donors!A2634,Gifts!B$4:B$5000)","v":0}]
[null,null,null,{"$f":"SUMIF(Gifts!A$4:A$5000, Donors!A2635,Gifts!B$4:B$5000)","v":0}]
[null,null,null,{"$f":"SUMIF(Gifts!A$4:A$5000, Donors!A2636,Gifts!B$4:B$5000)","v":0}]
[null,null,null,{"$f":"SUMIF(Gifts!A$4:A$5000, Donors!A2637,Gifts!B$4:B$5000)","v":0}]
[null,null,null,{"$f":"SUMIF(Gifts!A$4:A$5000, Donors!A2638,Gifts!B$4:B$5000)","v":0}]
[null,null,null,{"$f":"SUMIF(Gifts!A$4:A$5000, Donors!A2639,Gifts!B$4:B$5000)","v":0}]
[null,null,null,{"$f":"SUMIF(Gifts!A$4:A$5000, Donors!A2640,Gifts!B$4:B$5000)","v":0}]
[null,null,null,{"$f":"SUMIF(Gifts!A$4:A$5000, Donors!A2641,Gifts!B$4:B$5000)","v":0}]
[null,null,null,{"$f":"SUMIF(Gifts!A$4:A$5000, Donors!A2642,Gifts!B$4:B$5000)","v":0}]
[null,null,null,{"$f":"SUMIF(Gifts!A$4:A$5000, Donors!A2643,Gifts!B$4:B$5000)","v":0}]
[null,null,null,{"$f":"SUMIF(Gifts!A$4:A$5000, Donors!A2644,Gifts!B$4:B$5000)","v":0}]
[null,null,null,{"$f":"SUMIF(Gifts!A$4:A$5000, Donors!A2645,Gifts!B$4:B$5000)","v":0}]
[null,null,null,{"$f":"SUMIF(Gifts!A$4:A$5000, Donors!A2646,Gifts!B$4:B$5000)","v":0}]
[null,null,null,{"$f":"SUMIF(Gifts!A$4:A$5000, Donors!A2647,Gifts!B$4:B$5000)","v":0}]
[null,null,null,{"$f":"SUMIF(Gifts!A$4:A$5000, Donors!A2648,Gifts!B$4:B$5000)","v":0}]
[null,null,null,{"$f":"SUMIF(Gifts!A$4:A$5000, Donors!A2649,Gifts!B$4:B$5000)","v":0}]
[null,null,null,{"$f":"SUMIF(Gifts!A$4:A$5000, Donors!A2650,Gifts!B$4:B$5000)","v":0}]
[null,null,null,{"$f":"SUMIF(Gifts!A$4:A$5000, Donors!A2651,Gifts!B$4:B$5000)","v":0}]
[null,null,null,{"$f":"SUMIF(Gifts!A$4:A$5000, Donors!A2652,Gifts!B$4:B$5000)","v":0}]
[null,null,null,{"$f":"SUMIF(Gifts!A$4:A$5000, Donors!A2653,Gifts!B$4:B$5000)","v":0}]
[null,null,null,{"$f":"SUMIF(Gifts!A$4:A$5000, Donors!A2654,Gifts!B$4:B$5000)","v":0}]
[null,null,null,{"$f":"SUMIF(Gifts!A$4:A$5000, Donors!A2655,Gifts!B$4:B$5000)","v":0}]
[null,null,null,{"$f":"SUMIF(Gifts!A$4:A$5000, Donors!A2656,Gifts!B$4:B$5000)","v":0}]
[null,null,null,{"$f":"SUMIF(Gifts!A$4:A$5000, Donors!A2657,Gifts!B$4:B$5000)","v":0}]
[null,null,null,{"$f":"SUMIF(Gifts!A$4:A$5000, Donors!A2658,Gifts!B$4:B$5000)","v":0}]
[null,null,null,{"$f":"SUMIF(Gifts!A$4:A$5000, Donors!A2659,Gifts!B$4:B$5000)","v":0}]
[null,null,null,{"$f":"SUMIF(Gifts!A$4:A$5000, Donors!A2660,Gifts!B$4:B$5000)","v":0}]
[null,null,null,{"$f":"SUMIF(Gifts!A$4:A$5000, Donors!A2661,Gifts!B$4:B$5000)","v":0}]
[null,null,null,{"$f":"SUMIF(Gifts!A$4:A$5000, Donors!A2662,Gifts!B$4:B$5000)","v":0}]
[null,null,null,{"$f":"SUMIF(Gifts!A$4:A$5000, Donors!A2663,Gifts!B$4:B$5000)","v":0}]
[null,null,null,{"$f":"SUMIF(Gifts!A$4:A$5000, Donors!A2664,Gifts!B$4:B$5000)","v":0}]
[null,null,null,{"$f":"SUMIF(Gifts!A$4:A$5000, Donors!A2665,Gifts!B$4:B$5000)","v":0}]
[null,null,null,{"$f":"SUMIF(Gifts!A$4:A$5000, Donors!A2666,Gifts!B$4:B$5000)","v":0}]
[null,null,null,{"$f":"SUMIF(Gifts!A$4:A$5000, Donors!A2667,Gifts!B$4:B$5000)","v":0}]
[null,null,null,{"$f":"SUMIF(Gifts!A$4:A$5000, Donors!A2668,Gifts!B$4:B$5000)","v":0}]
[null,null,null,{"$f":"SUMIF(Gifts!A$4:A$5000, Donors!A2669,Gifts!B$4:B$5000)","v":0}]
[null,null,null,{"$f":"SUMIF(Gifts!A$4:A$5000, Donors!A2670,Gifts!B$4:B$5000)","v":0}]
[null,null,null,{"$f":"SUMIF(Gifts!A$4:A$5000, Donors!A2671,Gifts!B$4:B$5000)","v":0}]
[null,null,null,{"$f":"SUMIF(Gifts!A$4:A$5000, Donors!A2672,Gifts!B$4:B$5000)","v":0}]
[null,null,null,{"$f":"SUMIF(Gifts!A$4:A$5000, Donors!A2673,Gifts!B$4:B$5000)","v":0}]
[null,null,null,{"$f":"SUMIF(Gifts!A$4:A$5000, Donors!A2674,Gifts!B$4:B$5000)","v":0}]
[null,null,null,{"$f":"SUMIF(Gifts!A$4:A$5000, Donors!A2675,Gifts!B$4:B$5000)","v":0}]
[null,null,null,{"$f":"SUMIF(Gifts!A$4:A$5000, Donors!A2676,Gifts!B$4:B$5000)","v":0}]
[null,null,null,{"$f":"SUMIF(Gifts!A$4:A$5000, Donors!A2677,Gifts!B$4:B$5000)","v":0}]
[null,null,null,{"$f":"SUMIF(Gifts!A$4:A$5000, Donors!A2678,Gifts!B$4:B$5000)","v":0}]
[null,null,null,{"$f":"SUMIF(Gifts!A$4:A$5000, Donors!A2679,Gifts!B$4:B$5000)","v":0}]
[null,null,null,{"$f":"SUMIF(Gifts!A$4:A$5000, Donors!A2680,Gifts!B$4:B$5000)","v":0}]
[null,null,null,{"$f":"SUMIF(Gifts!A$4:A$5000, Donors!A2681,Gifts!B$4:B$5000)","v":0}]
[null,null,null,{"$f":"SUMIF(Gifts!A$4:A$5000, Donors!A2682,Gifts!B$4:B$5000)","v":0}]
[null,null,null,{"$f":"SUMIF(Gifts!A$4:A$5000, Donors!A2683,Gifts!B$4:B$5000)","v":0}]
[null,null,null,{"$f":"SUMIF(Gifts!A$4:A$5000, Donors!A2684,Gifts!B$4:B$5000)","v":0}]
[null,null,null,{"$f":"SUMIF(Gifts!A$4:A$5000, Donors!A2685,Gifts!B$4:B$5000)","v":0}]
[null,null,null,{"$f":"SUMIF(Gifts!A$4:A$5000, Donors!A2686,Gifts!B$4:B$5000)","v":0}]
[null,null,null,{"$f":"SUMIF(Gifts!A$4:A$5000, Donors!A2687,Gifts!B$4:B$5000)","v":0}]
[null,null,null,{"$f":"SUMIF(Gifts!A$4:A$5000, Donors!A2688,Gifts!B$4:B$5000)","v":0}]
[null,null,null,{"$f":"SUMIF(Gifts!A$4:A$5000, Donors!A2689,Gifts!B$4:B$5000)","v":0}]
[null,null,null,{"$f":"SUMIF(Gifts!A$4:A$5000, Donors!A2690,Gifts!B$4:B$5000)","v":0}]
[null,null,null,{"$f":"SUMIF(Gifts!A$4:A$5000, Donors!A2691,Gifts!B$4:B$5000)","v":0}]
[null,null,null,{"$f":"SUMIF(Gifts!A$4:A$5000, Donors!A2692,Gifts!B$4:B$5000)","v":0}]
[null,null,null,{"$f":"SUMIF(Gifts!A$4:A$5000, Donors!A2693,Gifts!B$4:B$5000)","v":0}]
[null,null,null,{"$f":"SUMIF(Gifts!A$4:A$5000, Donors!A2694,Gifts!B$4:B$5000)","v":0}]
[null,null,null,{"$f":"SUMIF(Gifts!A$4:A$5000, Donors!A2695,Gifts!B$4:B$5000)","v":0}]
[null,null,null,{"$f":"SUMIF(Gifts!A$4:A$5000, Donors!A2696,Gifts!B$4:B$5000)","v":0}]
[null,null,null,{"$f":"SUMIF(Gifts!A$4:A$5000, Donors!A2697,Gifts!B$4:B$5000)","v":0}]
[null,null,null,{"$f":"SUMIF(Gifts!A$4:A$5000, Donors!A2698,Gifts!B$4:B$5000)","v":0}]
[null,null,null,{"$f":"SUMIF(Gifts!A$4:A$5000, Donors!A2699,Gifts!B$4:B$5000)","v":0}]
[null,null,null,{"$f":"SUMIF(Gifts!A$4:A$5000, Donors!A2700,Gifts!B$4:B$5000)","v":0}]
[null,null,null,{"$f":"SUMIF(Gifts!A$4:A$5000, Donors!A2701,Gifts!B$4:B$5000)","v":0}]
[null,null,null,{"$f":"SUMIF(Gifts!A$4:A$5000, Donors!A2702,Gifts!B$4:B$5000)","v":0}]
[null,null,null,{"$f":"SUMIF(Gifts!A$4:A$5000, Donors!A2703,Gifts!B$4:B$5000)","v":0}]
[null,null,null,{"$f":"SUMIF(Gifts!A$4:A$5000, Donors!A2704,Gifts!B$4:B$5000)","v":0}]
[null,null,null,{"$f":"SUMIF(Gifts!A$4:A$5000, Donors!A2705,Gifts!B$4:B$5000)","v":0}]
[null,null,null,{"$f":"SUMIF(Gifts!A$4:A$5000, Donors!A2706,Gifts!B$4:B$5000)","v":0}]
[null,null,null,{"$f":"SUMIF(Gifts!A$4:A$5000, Donors!A2707,Gifts!B$4:B$5000)","v":0}]
[null,null,null,{"$f":"SUMIF(Gifts!A$4:A$5000, Donors!A2708,Gifts!B$4:B$5000)","v":0}]
[null,null,null,{"$f":"SUMIF(Gifts!A$4:A$5000, Donors!A2709,Gifts!B$4:B$5000)","v":0}]
[null,null,null,{"$f":"SUMIF(Gifts!A$4:A$5000, Donors!A2710,Gifts!B$4:B$5000)","v":0}]
[null,null,null,{"$f":"SUMIF(Gifts!A$4:A$5000, Donors!A2711,Gifts!B$4:B$5000)","v":0}]
[null,null,null,{"$f":"SUMIF(Gifts!A$4:A$5000, Donors!A2712,Gifts!B$4:B$5000)","v":0}]
[null,null,null,{"$f":"SUMIF(Gifts!A$4:A$5000, Donors!A2713,Gifts!B$4:B$5000)","v":0}]
[null,null,null,{"$f":"SUMIF(Gifts!A$4:A$5000, Donors!A2714,Gifts!B$4:B$5000)","v":0}]
[null,null,null,{"$f":"SUMIF(Gifts!A$4:A$5000, Donors!A2715,Gifts!B$4:B$5000)","v":0}]
[null,null,null,{"$f":"SUMIF(Gifts!A$4:A$5000, Donors!A2716,Gifts!B$4:B$5000)","v":0}]
[null,null,null,{"$f":"SUMIF(Gifts!A$4:A$5000, Donors!A2717,Gifts!B$4:B$5000)","v":0}]
[null,null,null,{"$f":"SUMIF(Gifts!A$4:A$5000, Donors!A2718,Gifts!B$4:B$5000)","v":0}]
[null,null,null,{"$f":"SUMIF(Gifts!A$4:A$5000, Donors!A2719,Gifts!B$4:B$5000)","v":0}]
[null,null,null,{"$f":"SUMIF(Gifts!A$4:A$5000, Donors!A2720,Gifts!B$4:B$5000)","v":0}]
[null,null,null,{"$f":"SUMIF(Gifts!A$4:A$5000, Donors!A2721,Gifts!B$4:B$5000)","v":0}]
[null,null,null,{"$f":"SUMIF(Gifts!A$4:A$5000, Donors!A2722,Gifts!B$4:B$5000)","v":0}]
[null,null,null,{"$f":"SUMIF(Gifts!A$4:A$5000, Donors!A2723,Gifts!B$4:B$5000)","v":0}]
[null,null,null,{"$f":"SUMIF(Gifts!A$4:A$5000, Donors!A2724,Gifts!B$4:B$5000)","v":0}]
[null,null,null,{"$f":"SUMIF(Gifts!A$4:A$5000, Donors!A2725,Gifts!B$4:B$5000)","v":0}]
[null,null,null,{"$f":"SUMIF(Gifts!A$4:A$5000, Donors!A2726,Gifts!B$4:B$5000)","v":0}]
[null,null,null,{"$f":"SUMIF(Gifts!A$4:A$5000, Donors!A2727,Gifts!B$4:B$5000)","v":0}]
[null,null,null,{"$f":"SUMIF(Gifts!A$4:A$5000, Donors!A2728,Gifts!B$4:B$5000)","v":0}]
[null,null,null,{"$f":"SUMIF(Gifts!A$4:A$5000, Donors!A2729,Gifts!B$4:B$5000)","v":0}]
[null,null,null,{"$f":"SUMIF(Gifts!A$4:A$5000, Donors!A2730,Gifts!B$4:B$5000)","v":0}]
[null,null,null,{"$f":"SUMIF(Gifts!A$4:A$5000, Donors!A2731,Gifts!B$4:B$5000)","v":0}]
[null,null,null,{"$f":"SUMIF(Gifts!A$4:A$5000, Donors!A2732,Gifts!B$4:B$5000)","v":0}]
[null,null,null,{"$f":"SUMIF(Gifts!A$4:A$5000, Donors!A2733,Gifts!B$4:B$5000)","v":0}]
[null,null,null,{"$f":"SUMIF(Gifts!A$4:A$5000, Donors!A2734,Gifts!B$4:B$5000)","v":0}]
[null,null,null,{"$f":"SUMIF(Gifts!A$4:A$5000, Donors!A2735,Gifts!B$4:B$5000)","v":0}]
[null,null,null,{"$f":"SUMIF(Gifts!A$4:A$5000, Donors!A2736,Gifts!B$4:B$5000)","v":0}]
[null,null,null,{"$f":"SUMIF(Gifts!A$4:A$5000, Donors!A2737,Gifts!B$4:B$5000)","v":0}]
[null,null,null,{"$f":"SUMIF(Gifts!A$4:A$5000, Donors!A2738,Gifts!B$4:B$5000)","v":0}]
[null,null,null,{"$f":"SUMIF(Gifts!A$4:A$5000, Donors!A2739,Gifts!B$4:B$5000)","v":0}]
[null,null,null,{"$f":"SUMIF(Gifts!A$4:A$5000, Donors!A2740,Gifts!B$4:B$5000)","v":0}]
[null,null,null,{"$f":"SUMIF(Gifts!A$4:A$5000, Donors!A2741,Gifts!B$4:B$5000)","v":0}]
[null,null,null,{"$f":"SUMIF(Gifts!A$4:A$5000, Donors!A2742,Gifts!B$4:B$5000)","v":0}]
[null,null,null,{"$f":"SUMIF(Gifts!A$4:A$5000, Donors!A2743,Gifts!B$4:B$5000)","v":0}]
[null,null,null,{"$f":"SUMIF(Gifts!A$4:A$5000, Donors!A2744,Gifts!B$4:B$5000)","v":0}]
[null,null,null,{"$f":"SUMIF(Gifts!A$4:A$5000, Donors!A2745,Gifts!B$4:B$5000)","v":0}]
[null,null,null,{"$f":"SUMIF(Gifts!A$4:A$5000, Donors!A2746,Gifts!B$4:B$5000)","v":0}]
[null,null,null,{"$f":"SUMIF(Gifts!A$4:A$5000, Donors!A2747,Gifts!B$4:B$5000)","v":0}]
[null,null,null,{"$f":"SUMIF(Gifts!A$4:A$5000, Donors!A2748,Gifts!B$4:B$5000)","v":0}]
[null,null,null,{"$f":"SUMIF(Gifts!A$4:A$5000, Donors!A2749,Gifts!B$4:B$5000)","v":0}]
[null,null,null,{"$f":"SUMIF(Gifts!A$4:A$5000, Donors!A2750,Gifts!B$4:B$5000)","v":0}]
[null,null,null,{"$f":"SUMIF(Gifts!A$4:A$5000, Donors!A2751,Gifts!B$4:B$5000)","v":0}]
[null,null,null,{"$f":"SUMIF(Gifts!A$4:A$5000, Donors!A2752,Gifts!B$4:B$5000)","v":0}]
[null,null,null,{"$f":"SUMIF(Gifts!A$4:A$5000, Donors!A2753,Gifts!B$4:B$5000)","v":0}]
[null,null,null,{"$f":"SUMIF(Gifts!A$4:A$5000, Donors!A2754,Gifts!B$4:B$5000)","v":0}]
[null,null,null,{"$f":"SUMIF(Gifts!A$4:A$5000, Donors!A2755,Gifts!B$4:B$5000)","v":0}]
[null,null,null,{"$f":"SUMIF(Gifts!A$4:A$5000, Donors!A2756,Gifts!B$4:B$5000)","v":0}]
[null,null,null,{"$f":"SUMIF(Gifts!A$4:A$5000, Donors!A2757,Gifts!B$4:B$5000)","v":0}]
[null,null,null,{"$f":"SUMIF(Gifts!A$4:A$5000, Donors!A2758,Gifts!B$4:B$5000)","v":0}]
[null,null,null,{"$f":"SUMIF(Gifts!A$4:A$5000, Donors!A2759,Gifts!B$4:B$5000)","v":0}]
[null,null,null,{"$f":"SUMIF(Gifts!A$4:A$5000, Donors!A2760,Gifts!B$4:B$5000)","v":0}]
[null,null,null,{"$f":"SUMIF(Gifts!A$4:A$5000, Donors!A2761,Gifts!B$4:B$5000)","v":0}]
[null,null,null,{"$f":"SUMIF(Gifts!A$4:A$5000, Donors!A2762,Gifts!B$4:B$5000)","v":0}]
[null,null,null,{"$f":"SUMIF(Gifts!A$4:A$5000, Donors!A2763,Gifts!B$4:B$5000)","v":0}]
[null,null,null,{"$f":"SUMIF(Gifts!A$4:A$5000, Donors!A2764,Gifts!B$4:B$5000)","v":0}]
[null,null,null,{"$f":"SUMIF(Gifts!A$4:A$5000, Donors!A2765,Gifts!B$4:B$5000)","v":0}]
[null,null,null,{"$f":"SUMIF(Gifts!A$4:A$5000, Donors!A2766,Gifts!B$4:B$5000)","v":0}]
[null,null,null,{"$f":"SUMIF(Gifts!A$4:A$5000, Donors!A2767,Gifts!B$4:B$5000)","v":0}]
[null,null,null,{"$f":"SUMIF(Gifts!A$4:A$5000, Donors!A2768,Gifts!B$4:B$5000)","v":0}]
[null,null,null,{"$f":"SUMIF(Gifts!A$4:A$5000, Donors!A2769,Gifts!B$4:B$5000)","v":0}]
[null,null,null,{"$f":"SUMIF(Gifts!A$4:A$5000, Donors!A2770,Gifts!B$4:B$5000)","v":0}]
[null,null,null,{"$f":"SUMIF(Gifts!A$4:A$5000, Donors!A2771,Gifts!B$4:B$5000)","v":0}]
[null,null,null,{"$f":"SUMIF(Gifts!A$4:A$5000, Donors!A2772,Gifts!B$4:B$5000)","v":0}]
[null,null,null,{"$f":"SUMIF(Gifts!A$4:A$5000, Donors!A2773,Gifts!B$4:B$5000)","v":0}]
[null,null,null,{"$f":"SUMIF(Gifts!A$4:A$5000, Donors!A2774,Gifts!B$4:B$5000)","v":0}]
[null,null,null,{"$f":"SUMIF(Gifts!A$4:A$5000, Donors!A2775,Gifts!B$4:B$5000)","v":0}]
[null,null,null,{"$f":"SUMIF(Gifts!A$4:A$5000, Donors!A2776,Gifts!B$4:B$5000)","v":0}]
[null,null,null,{"$f":"SUMIF(Gifts!A$4:A$5000, Donors!A2777,Gifts!B$4:B$5000)","v":0}]
[null,null,null,{"$f":"SUMIF(Gifts!A$4:A$5000, Donors!A2778,Gifts!B$4:B$5000)","v":0}]
[null,null,null,{"$f":"SUMIF(Gifts!A$4:A$5000, Donors!A2779,Gifts!B$4:B$5000)","v":0}]
[null,null,null,{"$f":"SUMIF(Gifts!A$4:A$5000, Donors!A2780,Gifts!B$4:B$5000)","v":0}]
[null,null,null,{"$f":"SUMIF(Gifts!A$4:A$5000, Donors!A2781,Gifts!B$4:B$5000)","v":0}]
[null,null,null,{"$f":"SUMIF(Gifts!A$4:A$5000, Donors!A2782,Gifts!B$4:B$5000)","v":0}]
[null,null,null,{"$f":"SUMIF(Gifts!A$4:A$5000, Donors!A2783,Gifts!B$4:B$5000)","v":0}]
[null,null,null,{"$f":"SUMIF(Gifts!A$4:A$5000, Donors!A2784,Gifts!B$4:B$5000)","v":0}]
[null,null,null,{"$f":"SUMIF(Gifts!A$4:A$5000, Donors!A2785,Gifts!B$4:B$5000)","v":0}]
[null,null,null,{"$f":"SUMIF(Gifts!A$4:A$5000, Donors!A2786,Gifts!B$4:B$5000)","v":0}]
[null,null,null,{"$f":"SUMIF(Gifts!A$4:A$5000, Donors!A2787,Gifts!B$4:B$5000)","v":0}]
[null,null,null,{"$f":"SUMIF(Gifts!A$4:A$5000, Donors!A2788,Gifts!B$4:B$5000)","v":0}]
[null,null,null,{"$f":"SUMIF(Gifts!A$4:A$5000, Donors!A2789,Gifts!B$4:B$5000)","v":0}]
[null,null,null,{"$f":"SUMIF(Gifts!A$4:A$5000, Donors!A2790,Gifts!B$4:B$5000)","v":0}]
[null,null,null,{"$f":"SUMIF(Gifts!A$4:A$5000, Donors!A2791,Gifts!B$4:B$5000)","v":0}]
[null,null,null,{"$f":"SUMIF(Gifts!A$4:A$5000, Donors!A2792,Gifts!B$4:B$5000)","v":0}]
[null,null,null,{"$f":"SUMIF(Gifts!A$4:A$5000, Donors!A2793,Gifts!B$4:B$5000)","v":0}]
[null,null,null,{"$f":"SUMIF(Gifts!A$4:A$5000, Donors!A2794,Gifts!B$4:B$5000)","v":0}]
[null,null,null,{"$f":"SUMIF(Gifts!A$4:A$5000, Donors!A2795,Gifts!B$4:B$5000)","v":0}]
[null,null,null,{"$f":"SUMIF(Gifts!A$4:A$5000, Donors!A2796,Gifts!B$4:B$5000)","v":0}]
[null,null,null,{"$f":"SUMIF(Gifts!A$4:A$5000, Donors!A2797,Gifts!B$4:B$5000)","v":0}]
[null,null,null,{"$f":"SUMIF(Gifts!A$4:A$5000, Donors!A2798,Gifts!B$4:B$5000)","v":0}]
[null,null,null,{"$f":"SUMIF(Gifts!A$4:A$5000, Donors!A2799,Gifts!B$4:B$5000)","v":0}]
[null,null,null,{"$f":"SUMIF(Gifts!A$4:A$5000, Donors!A2800,Gifts!B$4:B$5000)","v":0}]
[null,null,null,{"$f":"SUMIF(Gifts!A$4:A$5000, Donors!A2801,Gifts!B$4:B$5000)","v":0}]
[null,null,null,{"$f":"SUMIF(Gifts!A$4:A$5000, Donors!A2802,Gifts!B$4:B$5000)","v":0}]
[null,null,null,{"$f":"SUMIF(Gifts!A$4:A$5000, Donors!A2803,Gifts!B$4:B$5000)","v":0}]
[null,null,null,{"$f":"SUMIF(Gifts!A$4:A$5000, Donors!A2804,Gifts!B$4:B$5000)","v":0}]
[null,null,null,{"$f":"SUMIF(Gifts!A$4:A$5000, Donors!A2805,Gifts!B$4:B$5000)","v":0}]
[null,null,null,{"$f":"SUMIF(Gifts!A$4:A$5000, Donors!A2806,Gifts!B$4:B$5000)","v":0}]
[null,null,null,{"$f":"SUMIF(Gifts!A$4:A$5000, Donors!A2807,Gifts!B$4:B$5000)","v":0}]
[null,null,null,{"$f":"SUMIF(Gifts!A$4:A$5000, Donors!A2808,Gifts!B$4:B$5000)","v":0}]
[null,null,null,{"$f":"SUMIF(Gifts!A$4:A$5000, Donors!A2809,Gifts!B$4:B$5000)","v":0}]
[null,null,null,{"$f":"SUMIF(Gifts!A$4:A$5000, Donors!A2810,Gifts!B$4:B$5000)","v":0}]
[null,null,null,{"$f":"SUMIF(Gifts!A$4:A$5000, Donors!A2811,Gifts!B$4:B$5000)","v":0}]
[null,null,null,{"$f":"SUMIF(Gifts!A$4:A$5000, Donors!A2812,Gifts!B$4:B$5000)","v":0}]
[null,null,null,{"$f":"SUMIF(Gifts!A$4:A$5000, Donors!A2813,Gifts!B$4:B$5000)","v":0}]
[null,null,null,{"$f":"SUMIF(Gifts!A$4:A$5000, Donors!A2814,Gifts!B$4:B$5000)","v":0}]
[null,null,null,{"$f":"SUMIF(Gifts!A$4:A$5000, Donors!A2815,Gifts!B$4:B$5000)","v":0}]
[null,null,null,{"$f":"SUMIF(Gifts!A$4:A$5000, Donors!A2816,Gifts!B$4:B$5000)","v":0}]
[null,null,null,{"$f":"SUMIF(Gifts!A$4:A$5000, Donors!A2817,Gifts!B$4:B$5000)","v":0}]
[null,null,null,{"$f":"SUMIF(Gifts!A$4:A$5000, Donors!A2818,Gifts!B$4:B$5000)","v":0}]
[null,null,null,{"$f":"SUMIF(Gifts!A$4:A$5000, Donors!A2819,Gifts!B$4:B$5000)","v":0}]
[null,null,null,{"$f":"SUMIF(Gifts!A$4:A$5000, Donors!A2820,Gifts!B$4:B$5000)","v":0}]
[null,null,null,{"$f":"SUMIF(Gifts!A$4:A$5000, Donors!A2821,Gifts!B$4:B$5000)","v":0}]
[null,null,null,{"$f":"SUMIF(Gifts!A$4:A$5000, Donors!A2822,Gifts!B$4:B$5000)","v":0}]
[null,null,null,{"$f":"SUMIF(Gifts!A$4:A$5000, Donors!A2823,Gifts!B$4:B$5000)","v":0}]
[null,null,null,{"$f":"SUMIF(Gifts!A$4:A$5000, Donors!A2824,Gifts!B$4:B$5000)","v":0}]
[null,null,null,{"$f":"SUMIF(Gifts!A$4:A$5000, Donors!A2825,Gifts!B$4:B$5000)","v":0}]
[null,null,null,{"$f":"SUMIF(Gifts!A$4:A$5000, Donors!A2826,Gifts!B$4:B$5000)","v":0}]
[null,null,null,{"$f":"SUMIF(Gifts!A$4:A$5000, Donors!A2827,Gifts!B$4:B$5000)","v":0}]
[null,null,null,{"$f":"SUMIF(Gifts!A$4:A$5000, Donors!A2828,Gifts!B$4:B$5000)","v":0}]
[null,null,null,{"$f":"SUMIF(Gifts!A$4:A$5000, Donors!A2829,Gifts!B$4:B$5000)","v":0}]
[null,null,null,{"$f":"SUMIF(Gifts!A$4:A$5000, Donors!A2830,Gifts!B$4:B$5000)","v":0}]
[null,null,null,{"$f":"SUMIF(Gifts!A$4:A$5000, Donors!A2831,Gifts!B$4:B$5000)","v":0}]
[null,null,null,{"$f":"SUMIF(Gifts!A$4:A$5000, Donors!A2832,Gifts!B$4:B$5000)","v":0}]
[null,null,null,{"$f":"SUMIF(Gifts!A$4:A$5000, Donors!A2833,Gifts!B$4:B$5000)","v":0}]
[null,null,null,{"$f":"SUMIF(Gifts!A$4:A$5000, Donors!A2834,Gifts!B$4:B$5000)","v":0}]
[null,null,null,{"$f":"SUMIF(Gifts!A$4:A$5000, Donors!A2835,Gifts!B$4:B$5000)","v":0}]
[null,null,null,{"$f":"SUMIF(Gifts!A$4:A$5000, Donors!A2836,Gifts!B$4:B$5000)","v":0}]
[null,null,null,{"$f":"SUMIF(Gifts!A$4:A$5000, Donors!A2837,Gifts!B$4:B$5000)","v":0}]
[null,null,null,{"$f":"SUMIF(Gifts!A$4:A$5000, Donors!A2838,Gifts!B$4:B$5000)","v":0}]
[null,null,null,{"$f":"SUMIF(Gifts!A$4:A$5000, Donors!A2839,Gifts!B$4:B$5000)","v":0}]
[null,null,null,{"$f":"SUMIF(Gifts!A$4:A$5000, Donors!A2840,Gifts!B$4:B$5000)","v":0}]
[null,null,null,{"$f":"SUMIF(Gifts!A$4:A$5000, Donors!A2841,Gifts!B$4:B$5000)","v":0}]
[null,null,null,{"$f":"SUMIF(Gifts!A$4:A$5000, Donors!A2842,Gifts!B$4:B$5000)","v":0}]
[null,null,null,{"$f":"SUMIF(Gifts!A$4:A$5000, Donors!A2843,Gifts!B$4:B$5000)","v":0}]
[null,null,null,{"$f":"SUMIF(Gifts!A$4:A$5000, Donors!A2844,Gifts!B$4:B$5000)","v":0}]
[null,null,null,{"$f":"SUMIF(Gifts!A$4:A$5000, Donors!A2845,Gifts!B$4:B$5000)","v":0}]
[null,null,null,{"$f":"SUMIF(Gifts!A$4:A$5000, Donors!A2846,Gifts!B$4:B$5000)","v":0}]
[null,null,null,{"$f":"SUMIF(Gifts!A$4:A$5000, Donors!A2847,Gifts!B$4:B$5000)","v":0}]
[null,null,null,{"$f":"SUMIF(Gifts!A$4:A$5000, Donors!A2848,Gifts!B$4:B$5000)","v":0}]
[null,null,null,{"$f":"SUMIF(Gifts!A$4:A$5000, Donors!A2849,Gifts!B$4:B$5000)","v":0}]
[null,null,null,{"$f":"SUMIF(Gifts!A$4:A$5000, Donors!A2850,Gifts!B$4:B$5000)","v":0}]
[null,null,null,{"$f":"SUMIF(Gifts!A$4:A$5000, Donors!A2851,Gifts!B$4:B$5000)","v":0}]
[null,null,null,{"$f":"SUMIF(Gifts!A$4:A$5000, Donors!A2852,Gifts!B$4:B$5000)","v":0}]
[null,null,null,{"$f":"SUMIF(Gifts!A$4:A$5000, Donors!A2853,Gifts!B$4:B$5000)","v":0}]
[null,null,null,{"$f":"SUMIF(Gifts!A$4:A$5000, Donors!A2854,Gifts!B$4:B$5000)","v":0}]
[null,null,null,{"$f":"SUMIF(Gifts!A$4:A$5000, Donors!A2855,Gifts!B$4:B$5000)","v":0}]
[null,null,null,{"$f":"SUMIF(Gifts!A$4:A$5000, Donors!A2856,Gifts!B$4:B$5000)","v":0}]
[null,null,null,{"$f":"SUMIF(Gifts!A$4:A$5000, Donors!A2857,Gifts!B$4:B$5000)","v":0}]
[null,null,null,{"$f":"SUMIF(Gifts!A$4:A$5000, Donors!A2858,Gifts!B$4:B$5000)","v":0}]
[null,null,null,{"$f":"SUMIF(Gifts!A$4:A$5000, Donors!A2859,Gifts!B$4:B$5000)","v":0}]
[null,null,null,{"$f":"SUMIF(Gifts!A$4:A$5000, Donors!A2860,Gifts!B$4:B$5000)","v":0}]
[null,null,null,{"$f":"SUMIF(Gifts!A$4:A$5000, Donors!A2861,Gifts!B$4:B$5000)","v":0}]
[null,null,null,{"$f":"SUMIF(Gifts!A$4:A$5000, Donors!A2862,Gifts!B$4:B$5000)","v":0}]
[null,null,null,{"$f":"SUMIF(Gifts!A$4:A$5000, Donors!A2863,Gifts!B$4:B$5000)","v":0}]
[null,null,null,{"$f":"SUMIF(Gifts!A$4:A$5000, Donors!A2864,Gifts!B$4:B$5000)","v":0}]
[null,null,null,{"$f":"SUMIF(Gifts!A$4:A$5000, Donors!A2865,Gifts!B$4:B$5000)","v":0}]
[null,null,null,{"$f":"SUMIF(Gifts!A$4:A$5000, Donors!A2866,Gifts!B$4:B$5000)","v":0}]
[null,null,null,{"$f":"SUMIF(Gifts!A$4:A$5000, Donors!A2867,Gifts!B$4:B$5000)","v":0}]
[null,null,null,{"$f":"SUMIF(Gifts!A$4:A$5000, Donors!A2868,Gifts!B$4:B$5000)","v":0}]
[null,null,null,{"$f":"SUMIF(Gifts!A$4:A$5000, Donors!A2869,Gifts!B$4:B$5000)","v":0}]
[null,null,null,{"$f":"SUMIF(Gifts!A$4:A$5000, Donors!A2870,Gifts!B$4:B$5000)","v":0}]
[null,null,null,{"$f":"SUMIF(Gifts!A$4:A$5000, Donors!A2871,Gifts!B$4:B$5000)","v":0}]
[null,null,null,{"$f":"SUMIF(Gifts!A$4:A$5000, Donors!A2872,Gifts!B$4:B$5000)","v":0}]
[null,null,null,{"$f":"SUMIF(Gifts!A$4:A$5000, Donors!A2873,Gifts!B$4:B$5000)","v":0}]
[null,null,null,{"$f":"SUMIF(Gifts!A$4:A$5000, Donors!A2874,Gifts!B$4:B$5000)","v":0}]
[null,null,null,{"$f":"SUMIF(Gifts!A$4:A$5000, Donors!A2875,Gifts!B$4:B$5000)","v":0}]
[null,null,null,{"$f":"SUMIF(Gifts!A$4:A$5000, Donors!A2876,Gifts!B$4:B$5000)","v":0}]
[null,null,null,{"$f":"SUMIF(Gifts!A$4:A$5000, Donors!A2877,Gifts!B$4:B$5000)","v":0}]
[null,null,null,{"$f":"SUMIF(Gifts!A$4:A$5000, Donors!A2878,Gifts!B$4:B$5000)","v":0}]
[null,null,null,{"$f":"SUMIF(Gifts!A$4:A$5000, Donors!A2879,Gifts!B$4:B$5000)","v":0}]
[null,null,null,{"$f":"SUMIF(Gifts!A$4:A$5000, Donors!A2880,Gifts!B$4:B$5000)","v":0}]
[null,null,null,{"$f":"SUMIF(Gifts!A$4:A$5000, Donors!A2881,Gifts!B$4:B$5000)","v":0}]
[null,null,null,{"$f":"SUMIF(Gifts!A$4:A$5000, Donors!A2882,Gifts!B$4:B$5000)","v":0}]
[null,null,null,{"$f":"SUMIF(Gifts!A$4:A$5000, Donors!A2883,Gifts!B$4:B$5000)","v":0}]
[null,null,null,{"$f":"SUMIF(Gifts!A$4:A$5000, Donors!A2884,Gifts!B$4:B$5000)","v":0}]
[null,null,null,{"$f":"SUMIF(Gifts!A$4:A$5000, Donors!A2885,Gifts!B$4:B$5000)","v":0}]
[null,null,null,{"$f":"SUMIF(Gifts!A$4:A$5000, Donors!A2886,Gifts!B$4:B$5000)","v":0}]
[null,null,null,{"$f":"SUMIF(Gifts!A$4:A$5000, Donors!A2887,Gifts!B$4:B$5000)","v":0}]
[null,null,null,{"$f":"SUMIF(Gifts!A$4:A$5000, Donors!A2888,Gifts!B$4:B$5000)","v":0}]
[null,null,null,{"$f":"SUMIF(Gifts!A$4:A$5000, Donors!A2889,Gifts!B$4:B$5000)","v":0}]
[null,null,null,{"$f":"SUMIF(Gifts!A$4:A$5000, Donors!A2890,Gifts!B$4:B$5000)","v":0}]
[null,null,null,{"$f":"SUMIF(Gifts!A$4:A$5000, Donors!A2891,Gifts!B$4:B$5000)","v":0}]
[null,null,null,{"$f":"SUMIF(Gifts!A$4:A$5000, Donors!A2892,Gifts!B$4:B$5000)","v":0}]
[null,null,null,{"$f":"SUMIF(Gifts!A$4:A$5000, Donors!A2893,Gifts!B$4:B$5000)","v":0}]
[null,null,null,{"$f":"SUMIF(Gifts!A$4:A$5000, Donors!A2894,Gifts!B$4:B$5000)","v":0}]
[null,null,null,{"$f":"SUMIF(Gifts!A$4:A$5000, Donors!A2895,Gifts!B$4:B$5000)","v":0}]
[null,null,null,{"$f":"SUMIF(Gifts!A$4:A$5000, Donors!A2896,Gifts!B$4:B$5000)","v":0}]
[null,null,null,{"$f":"SUMIF(Gifts!A$4:A$5000, Donors!A2897,Gifts!B$4:B$5000)","v":0}]
[null,null,null,{"$f":"SUMIF(Gifts!A$4:A$5000, Donors!A2898,Gifts!B$4:B$5000)","v":0}]
[null,null,null,{"$f":"SUMIF(Gifts!A$4:A$5000, Donors!A2899,Gifts!B$4:B$5000)","v":0}]
[null,null,null,{"$f":"SUMIF(Gifts!A$4:A$5000, Donors!A2900,Gifts!B$4:B$5000)","v":0}]
[null,null,null,{"$f":"SUMIF(Gifts!A$4:A$5000, Donors!A2901,Gifts!B$4:B$5000)","v":0}]
[null,null,null,{"$f":"SUMIF(Gifts!A$4:A$5000, Donors!A2902,Gifts!B$4:B$5000)","v":0}]
[null,null,null,{"$f":"SUMIF(Gifts!A$4:A$5000, Donors!A2903,Gifts!B$4:B$5000)","v":0}]
[null,null,null,{"$f":"SUMIF(Gifts!A$4:A$5000, Donors!A2904,Gifts!B$4:B$5000)","v":0}]
[null,null,null,{"$f":"SUMIF(Gifts!A$4:A$5000, Donors!A2905,Gifts!B$4:B$5000)","v":0}]
[null,null,null,{"$f":"SUMIF(Gifts!A$4:A$5000, Donors!A2906,Gifts!B$4:B$5000)","v":0}]
[null,null,null,{"$f":"SUMIF(Gifts!A$4:A$5000, Donors!A2907,Gifts!B$4:B$5000)","v":0}]
[null,null,null,{"$f":"SUMIF(Gifts!A$4:A$5000, Donors!A2908,Gifts!B$4:B$5000)","v":0}]
[null,null,null,{"$f":"SUMIF(Gifts!A$4:A$5000, Donors!A2909,Gifts!B$4:B$5000)","v":0}]
[null,null,null,{"$f":"SUMIF(Gifts!A$4:A$5000, Donors!A2910,Gifts!B$4:B$5000)","v":0}]
[null,null,null,{"$f":"SUMIF(Gifts!A$4:A$5000, Donors!A2911,Gifts!B$4:B$5000)","v":0}]
[null,null,null,{"$f":"SUMIF(Gifts!A$4:A$5000, Donors!A2912,Gifts!B$4:B$5000)","v":0}]
[null,null,null,{"$f":"SUMIF(Gifts!A$4:A$5000, Donors!A2913,Gifts!B$4:B$5000)","v":0}]
[null,null,null,{"$f":"SUMIF(Gifts!A$4:A$5000, Donors!A2914,Gifts!B$4:B$5000)","v":0}]
[null,null,null,{"$f":"SUMIF(Gifts!A$4:A$5000, Donors!A2915,Gifts!B$4:B$5000)","v":0}]
[null,null,null,{"$f":"SUMIF(Gifts!A$4:A$5000, Donors!A2916,Gifts!B$4:B$5000)","v":0}]
[null,null,null,{"$f":"SUMIF(Gifts!A$4:A$5000, Donors!A2917,Gifts!B$4:B$5000)","v":0}]
[null,null,null,{"$f":"SUMIF(Gifts!A$4:A$5000, Donors!A2918,Gifts!B$4:B$5000)","v":0}]
[null,null,null,{"$f":"SUMIF(Gifts!A$4:A$5000, Donors!A2919,Gifts!B$4:B$5000)","v":0}]
[null,null,null,{"$f":"SUMIF(Gifts!A$4:A$5000, Donors!A2920,Gifts!B$4:B$5000)","v":0}]
[null,null,null,{"$f":"SUMIF(Gifts!A$4:A$5000, Donors!A2921,Gifts!B$4:B$5000)","v":0}]
[null,null,null,{"$f":"SUMIF(Gifts!A$4:A$5000, Donors!A2922,Gifts!B$4:B$5000)","v":0}]
[null,null,null,{"$f":"SUMIF(Gifts!A$4:A$5000, Donors!A2923,Gifts!B$4:B$5000)","v":0}]
[null,null,null,{"$f":"SUMIF(Gifts!A$4:A$5000, Donors!A2924,Gifts!B$4:B$5000)","v":0}]
[null,null,null,{"$f":"SUMIF(Gifts!A$4:A$5000, Donors!A2925,Gifts!B$4:B$5000)","v":0}]
[null,null,null,{"$f":"SUMIF(Gifts!A$4:A$5000, Donors!A2926,Gifts!B$4:B$5000)","v":0}]
[null,null,null,{"$f":"SUMIF(Gifts!A$4:A$5000, Donors!A2927,Gifts!B$4:B$5000)","v":0}]
[null,null,null,{"$f":"SUMIF(Gifts!A$4:A$5000, Donors!A2928,Gifts!B$4:B$5000)","v":0}]
[null,null,null,{"$f":"SUMIF(Gifts!A$4:A$5000, Donors!A2929,Gifts!B$4:B$5000)","v":0}]
[null,null,null,{"$f":"SUMIF(Gifts!A$4:A$5000, Donors!A2930,Gifts!B$4:B$5000)","v":0}]
[null,null,null,{"$f":"SUMIF(Gifts!A$4:A$5000, Donors!A2931,Gifts!B$4:B$5000)","v":0}]
[null,null,null,{"$f":"SUMIF(Gifts!A$4:A$5000, Donors!A2932,Gifts!B$4:B$5000)","v":0}]
[null,null,null,{"$f":"SUMIF(Gifts!A$4:A$5000, Donors!A2933,Gifts!B$4:B$5000)","v":0}]
[null,null,null,{"$f":"SUMIF(Gifts!A$4:A$5000, Donors!A2934,Gifts!B$4:B$5000)","v":0}]
[null,null,null,{"$f":"SUMIF(Gifts!A$4:A$5000, Donors!A2935,Gifts!B$4:B$5000)","v":0}]
[null,null,null,{"$f":"SUMIF(Gifts!A$4:A$5000, Donors!A2936,Gifts!B$4:B$5000)","v":0}]
[null,null,null,{"$f":"SUMIF(Gifts!A$4:A$5000, Donors!A2937,Gifts!B$4:B$5000)","v":0}]
[null,null,null,{"$f":"SUMIF(Gifts!A$4:A$5000, Donors!A2938,Gifts!B$4:B$5000)","v":0}]
[null,null,null,{"$f":"SUMIF(Gifts!A$4:A$5000, Donors!A2939,Gifts!B$4:B$5000)","v":0}]
[null,null,null,{"$f":"SUMIF(Gifts!A$4:A$5000, Donors!A2940,Gifts!B$4:B$5000)","v":0}]
[null,null,null,{"$f":"SUMIF(Gifts!A$4:A$5000, Donors!A2941,Gifts!B$4:B$5000)","v":0}]
[null,null,null,{"$f":"SUMIF(Gifts!A$4:A$5000, Donors!A2942,Gifts!B$4:B$5000)","v":0}]
[null,null,null,{"$f":"SUMIF(Gifts!A$4:A$5000, Donors!A2943,Gifts!B$4:B$5000)","v":0}]
[null,null,null,{"$f":"SUMIF(Gifts!A$4:A$5000, Donors!A2944,Gifts!B$4:B$5000)","v":0}]
[null,null,null,{"$f":"SUMIF(Gifts!A$4:A$5000, Donors!A2945,Gifts!B$4:B$5000)","v":0}]
[null,null,null,{"$f":"SUMIF(Gifts!A$4:A$5000, Donors!A2946,Gifts!B$4:B$5000)","v":0}]
[null,null,null,{"$f":"SUMIF(Gifts!A$4:A$5000, Donors!A2947,Gifts!B$4:B$5000)","v":0}]
[null,null,null,{"$f":"SUMIF(Gifts!A$4:A$5000, Donors!A2948,Gifts!B$4:B$5000)","v":0}]
[null,null,null,{"$f":"SUMIF(Gifts!A$4:A$5000, Donors!A2949,Gifts!B$4:B$5000)","v":0}]
[null,null,null,{"$f":"SUMIF(Gifts!A$4:A$5000, Donors!A2950,Gifts!B$4:B$5000)","v":0}]
[null,null,null,{"$f":"SUMIF(Gifts!A$4:A$5000, Donors!A2951,Gifts!B$4:B$5000)","v":0}]
[null,null,null,{"$f":"SUMIF(Gifts!A$4:A$5000, Donors!A2952,Gifts!B$4:B$5000)","v":0}]
[null,null,null,{"$f":"SUMIF(Gifts!A$4:A$5000, Donors!A2953,Gifts!B$4:B$5000)","v":0}]
[null,null,null,{"$f":"SUMIF(Gifts!A$4:A$5000, Donors!A2954,Gifts!B$4:B$5000)","v":0}]
[null,null,null,{"$f":"SUMIF(Gifts!A$4:A$5000, Donors!A2955,Gifts!B$4:B$5000)","v":0}]
[null,null,null,{"$f":"SUMIF(Gifts!A$4:A$5000, Donors!A2956,Gifts!B$4:B$5000)","v":0}]
[null,null,null,{"$f":"SUMIF(Gifts!A$4:A$5000, Donors!A2957,Gifts!B$4:B$5000)","v":0}]
[null,null,null,{"$f":"SUMIF(Gifts!A$4:A$5000, Donors!A2958,Gifts!B$4:B$5000)","v":0}]
[null,null,null,{"$f":"SUMIF(Gifts!A$4:A$5000, Donors!A2959,Gifts!B$4:B$5000)","v":0}]
[null,null,null,{"$f":"SUMIF(Gifts!A$4:A$5000, Donors!A2960,Gifts!B$4:B$5000)","v":0}]
[null,null,null,{"$f":"SUMIF(Gifts!A$4:A$5000, Donors!A2961,Gifts!B$4:B$5000)","v":0}]
[null,null,null,{"$f":"SUMIF(Gifts!A$4:A$5000, Donors!A2962,Gifts!B$4:B$5000)","v":0}]
[null,null,null,{"$f":"SUMIF(Gifts!A$4:A$5000, Donors!A2963,Gifts!B$4:B$5000)","v":0}]
[null,null,null,{"$f":"SUMIF(Gifts!A$4:A$5000, Donors!A2964,Gifts!B$4:B$5000)","v":0}]
[null,null,null,{"$f":"SUMIF(Gifts!A$4:A$5000, Donors!A2965,Gifts!B$4:B$5000)","v":0}]
[null,null,null,{"$f":"SUMIF(Gifts!A$4:A$5000, Donors!A2966,Gifts!B$4:B$5000)","v":0}]
[null,null,null,{"$f":"SUMIF(Gifts!A$4:A$5000, Donors!A2967,Gifts!B$4:B$5000)","v":0}]
[null,null,null,{"$f":"SUMIF(Gifts!A$4:A$5000, Donors!A2968,Gifts!B$4:B$5000)","v":0}]
[null,null,null,{"$f":"SUMIF(Gifts!A$4:A$5000, Donors!A2969,Gifts!B$4:B$5000)","v":0}]
[null,null,null,{"$f":"SUMIF(Gifts!A$4:A$5000, Donors!A2970,Gifts!B$4:B$5000)","v":0}]
[null,null,null,{"$f":"SUMIF(Gifts!A$4:A$5000, Donors!A2971,Gifts!B$4:B$5000)","v":0}]
[null,null,null,{"$f":"SUMIF(Gifts!A$4:A$5000, Donors!A2972,Gifts!B$4:B$5000)","v":0}]
[null,null,null,{"$f":"SUMIF(Gifts!A$4:A$5000, Donors!A2973,Gifts!B$4:B$5000)","v":0}]
[null,null,null,{"$f":"SUMIF(Gifts!A$4:A$5000, Donors!A2974,Gifts!B$4:B$5000)","v":0}]
[null,null,null,{"$f":"SUMIF(Gifts!A$4:A$5000, Donors!A2975,Gifts!B$4:B$5000)","v":0}]
[null,null,null,{"$f":"SUMIF(Gifts!A$4:A$5000, Donors!A2976,Gifts!B$4:B$5000)","v":0}]
[null,null,null,{"$f":"SUMIF(Gifts!A$4:A$5000, Donors!A2977,Gifts!B$4:B$5000)","v":0}]
[null,null,null,{"$f":"SUMIF(Gifts!A$4:A$5000, Donors!A2978,Gifts!B$4:B$5000)","v":0}]
[null,null,null,{"$f":"SUMIF(Gifts!A$4:A$5000, Donors!A2979,Gifts!B$4:B$5000)","v":0}]
[null,null,null,{"$f":"SUMIF(Gifts!A$4:A$5000, Donors!A2980,Gifts!B$4:B$5000)","v":0}]
[null,null,null,{"$f":"SUMIF(Gifts!A$4:A$5000, Donors!A2981,Gifts!B$4:B$5000)","v":0}]
[null,null,null,{"$f":"SUMIF(Gifts!A$4:A$5000, Donors!A2982,Gifts!B$4:B$5000)","v":0}]
[null,null,null,{"$f":"SUMIF(Gifts!A$4:A$5000, Donors!A2983,Gifts!B$4:B$5000)","v":0}]
[null,null,null,{"$f":"SUMIF(Gifts!A$4:A$5000, Donors!A2984,Gifts!B$4:B$5000)","v":0}]
[null,null,null,{"$f":"SUMIF(Gifts!A$4:A$5000, Donors!A2985,Gifts!B$4:B$5000)","v":0}]
[null,null,null,{"$f":"SUMIF(Gifts!A$4:A$5000, Donors!A2986,Gifts!B$4:B$5000)","v":0}]
[null,null,null,{"$f":"SUMIF(Gifts!A$4:A$5000, Donors!A2987,Gifts!B$4:B$5000)","v":0}]
[null,null,null,{"$f":"SUMIF(Gifts!A$4:A$5000, Donors!A2988,Gifts!B$4:B$5000)","v":0}]
[null,null,null,{"$f":"SUMIF(Gifts!A$4:A$5000, Donors!A2989,Gifts!B$4:B$5000)","v":0}]
[null,null,null,{"$f":"SUMIF(Gifts!A$4:A$5000, Donors!A2990,Gifts!B$4:B$5000)","v":0}]
[null,null,null,{"$f":"SUMIF(Gifts!A$4:A$5000, Donors!A2991,Gifts!B$4:B$5000)","v":0}]
[null,null,null,{"$f":"SUMIF(Gifts!A$4:A$5000, Donors!A2992,Gifts!B$4:B$5000)","v":0}]
[null,null,null,{"$f":"SUMIF(Gifts!A$4:A$5000, Donors!A2993,Gifts!B$4:B$5000)","v":0}]
[null,null,null,{"$f":"SUMIF(Gifts!A$4:A$5000, Donors!A2994,Gifts!B$4:B$5000)","v":0}]
[null,null,null,{"$f":"SUMIF(Gifts!A$4:A$5000, Donors!A2995,Gifts!B$4:B$5000)","v":0}]
[null,null,null,{"$f":"SUMIF(Gifts!A$4:A$5000, Donors!A2996,Gifts!B$4:B$5000)","v":0}]
[null,null,null,{"$f":"SUMIF(Gifts!A$4:A$5000, Donors!A2997,Gifts!B$4:B$5000)","v":0}]
[null,null,null,{"$f":"SUMIF(Gifts!A$4:A$5000, Donors!A2998,Gifts!B$4:B$5000)","v":0}]
[null,null,null,{"$f":"SUMIF(Gifts!A$4:A$5000, Donors!A2999,Gifts!B$4:B$5000)","v":0}]
[null,null,null,{"$f":"SUMIF(Gifts!A$4:A$5000, Donors!A3000,Gifts!B$4:B$5000)","v":0}]
[null,null,null,{"$f":"SUMIF(Gifts!A$4:A$5000, Donors!A3001,Gifts!B$4:B$5000)","v":0}]
[null,null,null,{"$f":"SUMIF(Gifts!A$4:A$5000, Donors!A3002,Gifts!B$4:B$5000)","v":0}]
[null,null,null,{"$f":"SUMIF(Gifts!A$4:A$5000, Donors!A3003,Gifts!B$4:B$5000)","v":0}]
[null,null,null,{"$f":"SUMIF(Gifts!A$4:A$5000, Donors!A3004,Gifts!B$4:B$5000)","v":0}]
[null,null,null,{"$f":"SUMIF(Gifts!A$4:A$5000, Donors!A3005,Gifts!B$4:B$5000)","v":0}]
[null,null,null,{"$f":"SUMIF(Gifts!A$4:A$5000, Donors!A3006,Gifts!B$4:B$5000)","v":0}]
[null,null,null,{"$f":"SUMIF(Gifts!A$4:A$5000, Donors!A3007,Gifts!B$4:B$5000)","v":0}]
[null,null,null,{"$f":"SUMIF(Gifts!A$4:A$5000, Donors!A3008,Gifts!B$4:B$5000)","v":0}]
[null,null,null,{"$f":"SUMIF(Gifts!A$4:A$5000, Donors!A3009,Gifts!B$4:B$5000)","v":0}]
[null,null,null,{"$f":"SUMIF(Gifts!A$4:A$5000, Donors!A3010,Gifts!B$4:B$5000)","v":0}]
[null,null,null,{"$f":"SUMIF(Gifts!A$4:A$5000, Donors!A3011,Gifts!B$4:B$5000)","v":0}]
[null,null,null,{"$f":"SUMIF(Gifts!A$4:A$5000, Donors!A3012,Gifts!B$4:B$5000)","v":0}]
[null,null,null,{"$f":"SUMIF(Gifts!A$4:A$5000, Donors!A3013,Gifts!B$4:B$5000)","v":0}]
[null,null,null,{"$f":"SUMIF(Gifts!A$4:A$5000, Donors!A3014,Gifts!B$4:B$5000)","v":0}]
[null,null,null,{"$f":"SUMIF(Gifts!A$4:A$5000, Donors!A3015,Gifts!B$4:B$5000)","v":0}]
[null,null,null,{"$f":"SUMIF(Gifts!A$4:A$5000, Donors!A3016,Gifts!B$4:B$5000)","v":0}]
[null,null,null,{"$f":"SUMIF(Gifts!A$4:A$5000, Donors!A3017,Gifts!B$4:B$5000)","v":0}]
[null,null,null,{"$f":"SUMIF(Gifts!A$4:A$5000, Donors!A3018,Gifts!B$4:B$5000)","v":0}]
[null,null,null,{"$f":"SUMIF(Gifts!A$4:A$5000, Donors!A3019,Gifts!B$4:B$5000)","v":0}]
[null,null,null,{"$f":"SUMIF(Gifts!A$4:A$5000, Donors!A3020,Gifts!B$4:B$5000)","v":0}]
[null,null,null,{"$f":"SUMIF(Gifts!A$4:A$5000, Donors!A3021,Gifts!B$4:B$5000)","v":0}]
[null,null,null,{"$f":"SUMIF(Gifts!A$4:A$5000, Donors!A3022,Gifts!B$4:B$5000)","v":0}]
[null,null,null,{"$f":"SUMIF(Gifts!A$4:A$5000, Donors!A3023,Gifts!B$4:B$5000)","v":0}]
[null,null,null,{"$f":"SUMIF(Gifts!A$4:A$5000, Donors!A3024,Gifts!B$4:B$5000)","v":0}]
[null,null,null,{"$f":"SUMIF(Gifts!A$4:A$5000, Donors!A3025,Gifts!B$4:B$5000)","v":0}]
[null,null,null,{"$f":"SUMIF(Gifts!A$4:A$5000, Donors!A3026,Gifts!B$4:B$5000)","v":0}]
[null,null,null,{"$f":"SUMIF(Gifts!A$4:A$5000, Donors!A3027,Gifts!B$4:B$5000)","v":0}]
[null,null,null,{"$f":"SUMIF(Gifts!A$4:A$5000, Donors!A3028,Gifts!B$4:B$5000)","v":0}]
[null,null,null,{"$f":"SUMIF(Gifts!A$4:A$5000, Donors!A3029,Gifts!B$4:B$5000)","v":0}]
[null,null,null,{"$f":"SUMIF(Gifts!A$4:A$5000, Donors!A3030,Gifts!B$4:B$5000)","v":0}]
[null,null,null,{"$f":"SUMIF(Gifts!A$4:A$5000, Donors!A3031,Gifts!B$4:B$5000)","v":0}]
[null,null,null,{"$f":"SUMIF(Gifts!A$4:A$5000, Donors!A3032,Gifts!B$4:B$5000)","v":0}]
[null,null,null,{"$f":"SUMIF(Gifts!A$4:A$5000, Donors!A3033,Gifts!B$4:B$5000)","v":0}]
[null,null,null,{"$f":"SUMIF(Gifts!A$4:A$5000, Donors!A3034,Gifts!B$4:B$5000)","v":0}]
[null,null,null,{"$f":"SUMIF(Gifts!A$4:A$5000, Donors!A3035,Gifts!B$4:B$5000)","v":0}]
[null,null,null,{"$f":"SUMIF(Gifts!A$4:A$5000, Donors!A3036,Gifts!B$4:B$5000)","v":0}]
[null,null,null,{"$f":"SUMIF(Gifts!A$4:A$5000, Donors!A3037,Gifts!B$4:B$5000)","v":0}]
[null,null,null,{"$f":"SUMIF(Gifts!A$4:A$5000, Donors!A3038,Gifts!B$4:B$5000)","v":0}]
[null,null,null,{"$f":"SUMIF(Gifts!A$4:A$5000, Donors!A3039,Gifts!B$4:B$5000)","v":0}]
[null,null,null,{"$f":"SUMIF(Gifts!A$4:A$5000, Donors!A3040,Gifts!B$4:B$5000)","v":0}]
[null,null,null,{"$f":"SUMIF(Gifts!A$4:A$5000, Donors!A3041,Gifts!B$4:B$5000)","v":0}]
[null,null,null,{"$f":"SUMIF(Gifts!A$4:A$5000, Donors!A3042,Gifts!B$4:B$5000)","v":0}]
[null,null,null,{"$f":"SUMIF(Gifts!A$4:A$5000, Donors!A3043,Gifts!B$4:B$5000)","v":0}]
[null,null,null,{"$f":"SUMIF(Gifts!A$4:A$5000, Donors!A3044,Gifts!B$4:B$5000)","v":0}]
[null,null,null,{"$f":"SUMIF(Gifts!A$4:A$5000, Donors!A3045,Gifts!B$4:B$5000)","v":0}]
[null,null,null,{"$f":"SUMIF(Gifts!A$4:A$5000, Donors!A3046,Gifts!B$4:B$5000)","v":0}]
[null,null,null,{"$f":"SUMIF(Gifts!A$4:A$5000, Donors!A3047,Gifts!B$4:B$5000)","v":0}]
[null,null,null,{"$f":"SUMIF(Gifts!A$4:A$5000, Donors!A3048,Gifts!B$4:B$5000)","v":0}]
[null,null,null,{"$f":"SUMIF(Gifts!A$4:A$5000, Donors!A3049,Gifts!B$4:B$5000)","v":0}]
[null,null,null,{"$f":"SUMIF(Gifts!A$4:A$5000, Donors!A3050,Gifts!B$4:B$5000)","v":0}]
[null,null,null,{"$f":"SUMIF(Gifts!A$4:A$5000, Donors!A3051,Gifts!B$4:B$5000)","v":0}]
[null,null,null,{"$f":"SUMIF(Gifts!A$4:A$5000, Donors!A3052,Gifts!B$4:B$5000)","v":0}]
[null,null,null,{"$f":"SUMIF(Gifts!A$4:A$5000, Donors!A3053,Gifts!B$4:B$5000)","v":0}]
[null,null,null,{"$f":"SUMIF(Gifts!A$4:A$5000, Donors!A3054,Gifts!B$4:B$5000)","v":0}]
[null,null,null,{"$f":"SUMIF(Gifts!A$4:A$5000, Donors!A3055,Gifts!B$4:B$5000)","v":0}]
[null,null,null,{"$f":"SUMIF(Gifts!A$4:A$5000, Donors!A3056,Gifts!B$4:B$5000)","v":0}]
[null,null,null,{"$f":"SUMIF(Gifts!A$4:A$5000, Donors!A3057,Gifts!B$4:B$5000)","v":0}]
[null,null,null,{"$f":"SUMIF(Gifts!A$4:A$5000, Donors!A3058,Gifts!B$4:B$5000)","v":0}]
[null,null,null,{"$f":"SUMIF(Gifts!A$4:A$5000, Donors!A3059,Gifts!B$4:B$5000)","v":0}]
[null,null,null,{"$f":"SUMIF(Gifts!A$4:A$5000, Donors!A3060,Gifts!B$4:B$5000)","v":0}]
[null,null,null,{"$f":"SUMIF(Gifts!A$4:A$5000, Donors!A3061,Gifts!B$4:B$5000)","v":0}]
[null,null,null,{"$f":"SUMIF(Gifts!A$4:A$5000, Donors!A3062,Gifts!B$4:B$5000)","v":0}]
[null,null,null,{"$f":"SUMIF(Gifts!A$4:A$5000, Donors!A3063,Gifts!B$4:B$5000)","v":0}]
[null,null,null,{"$f":"SUMIF(Gifts!A$4:A$5000, Donors!A3064,Gifts!B$4:B$5000)","v":0}]
[null,null,null,{"$f":"SUMIF(Gifts!A$4:A$5000, Donors!A3065,Gifts!B$4:B$5000)","v":0}]
[null,null,null,{"$f":"SUMIF(Gifts!A$4:A$5000, Donors!A3066,Gifts!B$4:B$5000)","v":0}]
[null,null,null,{"$f":"SUMIF(Gifts!A$4:A$5000, Donors!A3067,Gifts!B$4:B$5000)","v":0}]
[null,null,null,{"$f":"SUMIF(Gifts!A$4:A$5000, Donors!A3068,Gifts!B$4:B$5000)","v":0}]
[null,null,null,{"$f":"SUMIF(Gifts!A$4:A$5000, Donors!A3069,Gifts!B$4:B$5000)","v":0}]
[null,null,null,{"$f":"SUMIF(Gifts!A$4:A$5000, Donors!A3070,Gifts!B$4:B$5000)","v":0}]
[null,null,null,{"$f":"SUMIF(Gifts!A$4:A$5000, Donors!A3071,Gifts!B$4:B$5000)","v":0}]
[null,null,null,{"$f":"SUMIF(Gifts!A$4:A$5000, Donors!A3072,Gifts!B$4:B$5000)","v":0}]
[null,null,null,{"$f":"SUMIF(Gifts!A$4:A$5000, Donors!A3073,Gifts!B$4:B$5000)","v":0}]
[null,null,null,{"$f":"SUMIF(Gifts!A$4:A$5000, Donors!A3074,Gifts!B$4:B$5000)","v":0}]
[null,null,null,{"$f":"SUMIF(Gifts!A$4:A$5000, Donors!A3075,Gifts!B$4:B$5000)","v":0}]
[null,null,null,{"$f":"SUMIF(Gifts!A$4:A$5000, Donors!A3076,Gifts!B$4:B$5000)","v":0}]
[null,null,null,{"$f":"SUMIF(Gifts!A$4:A$5000, Donors!A3077,Gifts!B$4:B$5000)","v":0}]
[null,null,null,{"$f":"SUMIF(Gifts!A$4:A$5000, Donors!A3078,Gifts!B$4:B$5000)","v":0}]
[null,null,null,{"$f":"SUMIF(Gifts!A$4:A$5000, Donors!A3079,Gifts!B$4:B$5000)","v":0}]
[null,null,null,{"$f":"SUMIF(Gifts!A$4:A$5000, Donors!A3080,Gifts!B$4:B$5000)","v":0}]
[null,null,null,{"$f":"SUMIF(Gifts!A$4:A$5000, Donors!A3081,Gifts!B$4:B$5000)","v":0}]
[null,null,null,{"$f":"SUMIF(Gifts!A$4:A$5000, Donors!A3082,Gifts!B$4:B$5000)","v":0}]
[null,null,null,{"$f":"SUMIF(Gifts!A$4:A$5000, Donors!A3083,Gifts!B$4:B$5000)","v":0}]
[null,null,null,{"$f":"SUMIF(Gifts!A$4:A$5000, Donors!A3084,Gifts!B$4:B$5000)","v":0}]
[null,null,null,{"$f":"SUMIF(Gifts!A$4:A$5000, Donors!A3085,Gifts!B$4:B$5000)","v":0}]
[null,null,null,{"$f":"SUMIF(Gifts!A$4:A$5000, Donors!A3086,Gifts!B$4:B$5000)","v":0}]
[null,null,null,{"$f":"SUMIF(Gifts!A$4:A$5000, Donors!A3087,Gifts!B$4:B$5000)","v":0}]
[null,null,null,{"$f":"SUMIF(Gifts!A$4:A$5000, Donors!A3088,Gifts!B$4:B$5000)","v":0}]
[null,null,null,{"$f":"SUMIF(Gifts!A$4:A$5000, Donors!A3089,Gifts!B$4:B$5000)","v":0}]
[null,null,null,{"$f":"SUMIF(Gifts!A$4:A$5000, Donors!A3090,Gifts!B$4:B$5000)","v":0}]
[null,null,null,{"$f":"SUMIF(Gifts!A$4:A$5000, Donors!A3091,Gifts!B$4:B$5000)","v":0}]
[null,null,null,{"$f":"SUMIF(Gifts!A$4:A$5000, Donors!A3092,Gifts!B$4:B$5000)","v":0}]
[null,null,null,{"$f":"SUMIF(Gifts!A$4:A$5000, Donors!A3093,Gifts!B$4:B$5000)","v":0}]
[null,null,null,{"$f":"SUMIF(Gifts!A$4:A$5000, Donors!A3094,Gifts!B$4:B$5000)","v":0}]
[null,null,null,{"$f":"SUMIF(Gifts!A$4:A$5000, Donors!A3095,Gifts!B$4:B$5000)","v":0}]
[null,null,null,{"$f":"SUMIF(Gifts!A$4:A$5000, Donors!A3096,Gifts!B$4:B$5000)","v":0}]
[null,null,null,{"$f":"SUMIF(Gifts!A$4:A$5000, Donors!A3097,Gifts!B$4:B$5000)","v":0}]
[null,null,null,{"$f":"SUMIF(Gifts!A$4:A$5000, Donors!A3098,Gifts!B$4:B$5000)","v":0}]
[null,null,null,{"$f":"SUMIF(Gifts!A$4:A$5000, Donors!A3099,Gifts!B$4:B$5000)","v":0}]
[null,null,null,{"$f":"SUMIF(Gifts!A$4:A$5000, Donors!A3100,Gifts!B$4:B$5000)","v":0}]
[null,null,null,{"$f":"SUMIF(Gifts!A$4:A$5000, Donors!A3101,Gifts!B$4:B$5000)","v":0}]
[null,null,null,{"$f":"SUMIF(Gifts!A$4:A$5000, Donors!A3102,Gifts!B$4:B$5000)","v":0}]
[null,null,null,{"$f":"SUMIF(Gifts!A$4:A$5000, Donors!A3103,Gifts!B$4:B$5000)","v":0}]
[null,null,null,{"$f":"SUMIF(Gifts!A$4:A$5000, Donors!A3104,Gifts!B$4:B$5000)","v":0}]
[null,null,null,{"$f":"SUMIF(Gifts!A$4:A$5000, Donors!A3105,Gifts!B$4:B$5000)","v":0}]
[null,null,null,{"$f":"SUMIF(Gifts!A$4:A$5000, Donors!A3106,Gifts!B$4:B$5000)","v":0}]
[null,null,null,{"$f":"SUMIF(Gifts!A$4:A$5000, Donors!A3107,Gifts!B$4:B$5000)","v":0}]
[null,null,null,{"$f":"SUMIF(Gifts!A$4:A$5000, Donors!A3108,Gifts!B$4:B$5000)","v":0}]
[null,null,null,{"$f":"SUMIF(Gifts!A$4:A$5000, Donors!A3109,Gifts!B$4:B$5000)","v":0}]
[null,null,null,{"$f":"SUMIF(Gifts!A$4:A$5000, Donors!A3110,Gifts!B$4:B$5000)","v":0}]
[null,null,null,{"$f":"SUMIF(Gifts!A$4:A$5000, Donors!A3111,Gifts!B$4:B$5000)","v":0}]
[null,null,null,{"$f":"SUMIF(Gifts!A$4:A$5000, Donors!A3112,Gifts!B$4:B$5000)","v":0}]
[null,null,null,{"$f":"SUMIF(Gifts!A$4:A$5000, Donors!A3113,Gifts!B$4:B$5000)","v":0}]
[null,null,null,{"$f":"SUMIF(Gifts!A$4:A$5000, Donors!A3114,Gifts!B$4:B$5000)","v":0}]
[null,null,null,{"$f":"SUMIF(Gifts!A$4:A$5000, Donors!A3115,Gifts!B$4:B$5000)","v":0}]
[null,null,null,{"$f":"SUMIF(Gifts!A$4:A$5000, Donors!A3116,Gifts!B$4:B$5000)","v":0}]
[null,null,null,{"$f":"SUMIF(Gifts!A$4:A$5000, Donors!A3117,Gifts!B$4:B$5000)","v":0}]
[null,null,null,{"$f":"SUMIF(Gifts!A$4:A$5000, Donors!A3118,Gifts!B$4:B$5000)","v":0}]
[null,null,null,{"$f":"SUMIF(Gifts!A$4:A$5000, Donors!A3119,Gifts!B$4:B$5000)","v":0}]
[null,null,null,{"$f":"SUMIF(Gifts!A$4:A$5000, Donors!A3120,Gifts!B$4:B$5000)","v":0}]
[null,null,null,{"$f":"SUMIF(Gifts!A$4:A$5000, Donors!A3121,Gifts!B$4:B$5000)","v":0}]
[null,null,null,{"$f":"SUMIF(Gifts!A$4:A$5000, Donors!A3122,Gifts!B$4:B$5000)","v":0}]
[null,null,null,{"$f":"SUMIF(Gifts!A$4:A$5000, Donors!A3123,Gifts!B$4:B$5000)","v":0}]
[null,null,null,{"$f":"SUMIF(Gifts!A$4:A$5000, Donors!A3124,Gifts!B$4:B$5000)","v":0}]
[null,null,null,{"$f":"SUMIF(Gifts!A$4:A$5000, Donors!A3125,Gifts!B$4:B$5000)","v":0}]
[null,null,null,{"$f":"SUMIF(Gifts!A$4:A$5000, Donors!A3126,Gifts!B$4:B$5000)","v":0}]
[null,null,null,{"$f":"SUMIF(Gifts!A$4:A$5000, Donors!A3127,Gifts!B$4:B$5000)","v":0}]
[null,null,null,{"$f":"SUMIF(Gifts!A$4:A$5000, Donors!A3128,Gifts!B$4:B$5000)","v":0}]
[null,null,null,{"$f":"SUMIF(Gifts!A$4:A$5000, Donors!A3129,Gifts!B$4:B$5000)","v":0}]
[null,null,null,{"$f":"SUMIF(Gifts!A$4:A$5000, Donors!A3130,Gifts!B$4:B$5000)","v":0}]
[null,null,null,{"$f":"SUMIF(Gifts!A$4:A$5000, Donors!A3131,Gifts!B$4:B$5000)","v":0}]
[null,null,null,{"$f":"SUMIF(Gifts!A$4:A$5000, Donors!A3132,Gifts!B$4:B$5000)","v":0}]
[null,null,null,{"$f":"SUMIF(Gifts!A$4:A$5000, Donors!A3133,Gifts!B$4:B$5000)","v":0}]
[null,null,null,{"$f":"SUMIF(Gifts!A$4:A$5000, Donors!A3134,Gifts!B$4:B$5000)","v":0}]
[null,null,null,{"$f":"SUMIF(Gifts!A$4:A$5000, Donors!A3135,Gifts!B$4:B$5000)","v":0}]
[null,null,null,{"$f":"SUMIF(Gifts!A$4:A$5000, Donors!A3136,Gifts!B$4:B$5000)","v":0}]
[null,null,null,{"$f":"SUMIF(Gifts!A$4:A$5000, Donors!A3137,Gifts!B$4:B$5000)","v":0}]
[null,null,null,{"$f":"SUMIF(Gifts!A$4:A$5000, Donors!A3138,Gifts!B$4:B$5000)","v":0}]
[null,null,null,{"$f":"SUMIF(Gifts!A$4:A$5000, Donors!A3139,Gifts!B$4:B$5000)","v":0}]
[null,null,null,{"$f":"SUMIF(Gifts!A$4:A$5000, Donors!A3140,Gifts!B$4:B$5000)","v":0}]
[null,null,null,{"$f":"SUMIF(Gifts!A$4:A$5000, Donors!A3141,Gifts!B$4:B$5000)","v":0}]
[null,null,null,{"$f":"SUMIF(Gifts!A$4:A$5000, Donors!A3142,Gifts!B$4:B$5000)","v":0}]
[null,null,null,{"$f":"SUMIF(Gifts!A$4:A$5000, Donors!A3143,Gifts!B$4:B$5000)","v":0}]
[null,null,null,{"$f":"SUMIF(Gifts!A$4:A$5000, Donors!A3144,Gifts!B$4:B$5000)","v":0}]
[null,null,null,{"$f":"SUMIF(Gifts!A$4:A$5000, Donors!A3145,Gifts!B$4:B$5000)","v":0}]
[null,null,null,{"$f":"SUMIF(Gifts!A$4:A$5000, Donors!A3146,Gifts!B$4:B$5000)","v":0}]
[null,null,null,{"$f":"SUMIF(Gifts!A$4:A$5000, Donors!A3147,Gifts!B$4:B$5000)","v":0}]
[null,null,null,{"$f":"SUMIF(Gifts!A$4:A$5000, Donors!A3148,Gifts!B$4:B$5000)","v":0}]
[null,null,null,{"$f":"SUMIF(Gifts!A$4:A$5000, Donors!A3149,Gifts!B$4:B$5000)","v":0}]
[null,null,null,{"$f":"SUMIF(Gifts!A$4:A$5000, Donors!A3150,Gifts!B$4:B$5000)","v":0}]
[null,null,null,{"$f":"SUMIF(Gifts!A$4:A$5000, Donors!A3151,Gifts!B$4:B$5000)","v":0}]
[null,null,null,{"$f":"SUMIF(Gifts!A$4:A$5000, Donors!A3152,Gifts!B$4:B$5000)","v":0}]
[null,null,null,{"$f":"SUMIF(Gifts!A$4:A$5000, Donors!A3153,Gifts!B$4:B$5000)","v":0}]
[null,null,null,{"$f":"SUMIF(Gifts!A$4:A$5000, Donors!A3154,Gifts!B$4:B$5000)","v":0}]
[null,null,null,{"$f":"SUMIF(Gifts!A$4:A$5000, Donors!A3155,Gifts!B$4:B$5000)","v":0}]
[null,null,null,{"$f":"SUMIF(Gifts!A$4:A$5000, Donors!A3156,Gifts!B$4:B$5000)","v":0}]
[null,null,null,{"$f":"SUMIF(Gifts!A$4:A$5000, Donors!A3157,Gifts!B$4:B$5000)","v":0}]
[null,null,null,{"$f":"SUMIF(Gifts!A$4:A$5000, Donors!A3158,Gifts!B$4:B$5000)","v":0}]
[null,null,null,{"$f":"SUMIF(Gifts!A$4:A$5000, Donors!A3159,Gifts!B$4:B$5000)","v":0}]
[null,null,null,{"$f":"SUMIF(Gifts!A$4:A$5000, Donors!A3160,Gifts!B$4:B$5000)","v":0}]
[null,null,null,{"$f":"SUMIF(Gifts!A$4:A$5000, Donors!A3161,Gifts!B$4:B$5000)","v":0}]
[null,null,null,{"$f":"SUMIF(Gifts!A$4:A$5000, Donors!A3162,Gifts!B$4:B$5000)","v":0}]
[null,null,null,{"$f":"SUMIF(Gifts!A$4:A$5000, Donors!A3163,Gifts!B$4:B$5000)","v":0}]
[null,null,null,{"$f":"SUMIF(Gifts!A$4:A$5000, Donors!A3164,Gifts!B$4:B$5000)","v":0}]
[null,null,null,{"$f":"SUMIF(Gifts!A$4:A$5000, Donors!A3165,Gifts!B$4:B$5000)","v":0}]
[null,null,null,{"$f":"SUMIF(Gifts!A$4:A$5000, Donors!A3166,Gifts!B$4:B$5000)","v":0}]
[null,null,null,{"$f":"SUMIF(Gifts!A$4:A$5000, Donors!A3167,Gifts!B$4:B$5000)","v":0}]
[null,null,null,{"$f":"SUMIF(Gifts!A$4:A$5000, Donors!A3168,Gifts!B$4:B$5000)","v":0}]
[null,null,null,{"$f":"SUMIF(Gifts!A$4:A$5000, Donors!A3169,Gifts!B$4:B$5000)","v":0}]
[null,null,null,{"$f":"SUMIF(Gifts!A$4:A$5000, Donors!A3170,Gifts!B$4:B$5000)","v":0}]
[null,null,null,{"$f":"SUMIF(Gifts!A$4:A$5000, Donors!A3171,Gifts!B$4:B$5000)","v":0}]
[null,null,null,{"$f":"SUMIF(Gifts!A$4:A$5000, Donors!A3172,Gifts!B$4:B$5000)","v":0}]
[null,null,null,{"$f":"SUMIF(Gifts!A$4:A$5000, Donors!A3173,Gifts!B$4:B$5000)","v":0}]
[null,null,null,{"$f":"SUMIF(Gifts!A$4:A$5000, Donors!A3174,Gifts!B$4:B$5000)","v":0}]
[null,null,null,{"$f":"SUMIF(Gifts!A$4:A$5000, Donors!A3175,Gifts!B$4:B$5000)","v":0}]
[null,null,null,{"$f":"SUMIF(Gifts!A$4:A$5000, Donors!A3176,Gifts!B$4:B$5000)","v":0}]
[null,null,null,{"$f":"SUMIF(Gifts!A$4:A$5000, Donors!A3177,Gifts!B$4:B$5000)","v":0}]
[null,null,null,{"$f":"SUMIF(Gifts!A$4:A$5000, Donors!A3178,Gifts!B$4:B$5000)","v":0}]
[null,null,null,{"$f":"SUMIF(Gifts!A$4:A$5000, Donors!A3179,Gifts!B$4:B$5000)","v":0}]
[null,null,null,{"$f":"SUMIF(Gifts!A$4:A$5000, Donors!A3180,Gifts!B$4:B$5000)","v":0}]
[null,null,null,{"$f":"SUMIF(Gifts!A$4:A$5000, Donors!A3181,Gifts!B$4:B$5000)","v":0}]
[null,null,null,{"$f":"SUMIF(Gifts!A$4:A$5000, Donors!A3182,Gifts!B$4:B$5000)","v":0}]
[null,null,null,{"$f":"SUMIF(Gifts!A$4:A$5000, Donors!A3183,Gifts!B$4:B$5000)","v":0}]
[null,null,null,{"$f":"SUMIF(Gifts!A$4:A$5000, Donors!A3184,Gifts!B$4:B$5000)","v":0}]
[null,null,null,{"$f":"SUMIF(Gifts!A$4:A$5000, Donors!A3185,Gifts!B$4:B$5000)","v":0}]
[null,null,null,{"$f":"SUMIF(Gifts!A$4:A$5000, Donors!A3186,Gifts!B$4:B$5000)","v":0}]
[null,null,null,{"$f":"SUMIF(Gifts!A$4:A$5000, Donors!A3187,Gifts!B$4:B$5000)","v":0}]
[null,null,null,{"$f":"SUMIF(Gifts!A$4:A$5000, Donors!A3188,Gifts!B$4:B$5000)","v":0}]
[null,null,null,{"$f":"SUMIF(Gifts!A$4:A$5000, Donors!A3189,Gifts!B$4:B$5000)","v":0}]
[null,null,null,{"$f":"SUMIF(Gifts!A$4:A$5000, Donors!A3190,Gifts!B$4:B$5000)","v":0}]
[null,null,null,{"$f":"SUMIF(Gifts!A$4:A$5000, Donors!A3191,Gifts!B$4:B$5000)","v":0}]
[null,null,null,{"$f":"SUMIF(Gifts!A$4:A$5000, Donors!A3192,Gifts!B$4:B$5000)","v":0}]
[null,null,null,{"$f":"SUMIF(Gifts!A$4:A$5000, Donors!A3193,Gifts!B$4:B$5000)","v":0}]
[null,null,null,{"$f":"SUMIF(Gifts!A$4:A$5000, Donors!A3194,Gifts!B$4:B$5000)","v":0}]
[null,null,null,{"$f":"SUMIF(Gifts!A$4:A$5000, Donors!A3195,Gifts!B$4:B$5000)","v":0}]
[null,null,null,{"$f":"SUMIF(Gifts!A$4:A$5000, Donors!A3196,Gifts!B$4:B$5000)","v":0}]
[null,null,null,{"$f":"SUMIF(Gifts!A$4:A$5000, Donors!A3197,Gifts!B$4:B$5000)","v":0}]
[null,null,null,{"$f":"SUMIF(Gifts!A$4:A$5000, Donors!A3198,Gifts!B$4:B$5000)","v":0}]
[null,null,null,{"$f":"SUMIF(Gifts!A$4:A$5000, Donors!A3199,Gifts!B$4:B$5000)","v":0}]
[null,null,null,{"$f":"SUMIF(Gifts!A$4:A$5000, Donors!A3200,Gifts!B$4:B$5000)","v":0}]
[null,null,null,{"$f":"SUMIF(Gifts!A$4:A$5000, Donors!A3201,Gifts!B$4:B$5000)","v":0}]
[null,null,null,{"$f":"SUMIF(Gifts!A$4:A$5000, Donors!A3202,Gifts!B$4:B$5000)","v":0}]
[null,null,null,{"$f":"SUMIF(Gifts!A$4:A$5000, Donors!A3203,Gifts!B$4:B$5000)","v":0}]
[null,null,null,{"$f":"SUMIF(Gifts!A$4:A$5000, Donors!A3204,Gifts!B$4:B$5000)","v":0}]
[null,null,null,{"$f":"SUMIF(Gifts!A$4:A$5000, Donors!A3205,Gifts!B$4:B$5000)","v":0}]
[null,null,null,{"$f":"SUMIF(Gifts!A$4:A$5000, Donors!A3206,Gifts!B$4:B$5000)","v":0}]
[null,null,null,{"$f":"SUMIF(Gifts!A$4:A$5000, Donors!A3207,Gifts!B$4:B$5000)","v":0}]
[null,null,null,{"$f":"SUMIF(Gifts!A$4:A$5000, Donors!A3208,Gifts!B$4:B$5000)","v":0}]
[null,null,null,{"$f":"SUMIF(Gifts!A$4:A$5000, Donors!A3209,Gifts!B$4:B$5000)","v":0}]
[null,null,null,{"$f":"SUMIF(Gifts!A$4:A$5000, Donors!A3210,Gifts!B$4:B$5000)","v":0}]
[null,null,null,{"$f":"SUMIF(Gifts!A$4:A$5000, Donors!A3211,Gifts!B$4:B$5000)","v":0}]
[null,null,null,{"$f":"SUMIF(Gifts!A$4:A$5000, Donors!A3212,Gifts!B$4:B$5000)","v":0}]
[null,null,null,{"$f":"SUMIF(Gifts!A$4:A$5000, Donors!A3213,Gifts!B$4:B$5000)","v":0}]
[null,null,null,{"$f":"SUMIF(Gifts!A$4:A$5000, Donors!A3214,Gifts!B$4:B$5000)","v":0}]
[null,null,null,{"$f":"SUMIF(Gifts!A$4:A$5000, Donors!A3215,Gifts!B$4:B$5000)","v":0}]
[null,null,null,{"$f":"SUMIF(Gifts!A$4:A$5000, Donors!A3216,Gifts!B$4:B$5000)","v":0}]
[null,null,null,{"$f":"SUMIF(Gifts!A$4:A$5000, Donors!A3217,Gifts!B$4:B$5000)","v":0}]
[null,null,null,{"$f":"SUMIF(Gifts!A$4:A$5000, Donors!A3218,Gifts!B$4:B$5000)","v":0}]
[null,null,null,{"$f":"SUMIF(Gifts!A$4:A$5000, Donors!A3219,Gifts!B$4:B$5000)","v":0}]
[null,null,null,{"$f":"SUMIF(Gifts!A$4:A$5000, Donors!A3220,Gifts!B$4:B$5000)","v":0}]
[null,null,null,{"$f":"SUMIF(Gifts!A$4:A$5000, Donors!A3221,Gifts!B$4:B$5000)","v":0}]
[null,null,null,{"$f":"SUMIF(Gifts!A$4:A$5000, Donors!A3222,Gifts!B$4:B$5000)","v":0}]
[null,null,null,{"$f":"SUMIF(Gifts!A$4:A$5000, Donors!A3223,Gifts!B$4:B$5000)","v":0}]
[null,null,null,{"$f":"SUMIF(Gifts!A$4:A$5000, Donors!A3224,Gifts!B$4:B$5000)","v":0}]
[null,null,null,{"$f":"SUMIF(Gifts!A$4:A$5000, Donors!A3225,Gifts!B$4:B$5000)","v":0}]
[null,null,null,{"$f":"SUMIF(Gifts!A$4:A$5000, Donors!A3226,Gifts!B$4:B$5000)","v":0}]
[null,null,null,{"$f":"SUMIF(Gifts!A$4:A$5000, Donors!A3227,Gifts!B$4:B$5000)","v":0}]
[null,null,null,{"$f":"SUMIF(Gifts!A$4:A$5000, Donors!A3228,Gifts!B$4:B$5000)","v":0}]
[null,null,null,{"$f":"SUMIF(Gifts!A$4:A$5000, Donors!A3229,Gifts!B$4:B$5000)","v":0}]
[null,null,null,{"$f":"SUMIF(Gifts!A$4:A$5000, Donors!A3230,Gifts!B$4:B$5000)","v":0}]
[null,null,null,{"$f":"SUMIF(Gifts!A$4:A$5000, Donors!A3231,Gifts!B$4:B$5000)","v":0}]
[null,null,null,{"$f":"SUMIF(Gifts!A$4:A$5000, Donors!A3232,Gifts!B$4:B$5000)","v":0}]
[null,null,null,{"$f":"SUMIF(Gifts!A$4:A$5000, Donors!A3233,Gifts!B$4:B$5000)","v":0}]
[null,null,null,{"$f":"SUMIF(Gifts!A$4:A$5000, Donors!A3234,Gifts!B$4:B$5000)","v":0}]
[null,null,null,{"$f":"SUMIF(Gifts!A$4:A$5000, Donors!A3235,Gifts!B$4:B$5000)","v":0}]
[null,null,null,{"$f":"SUMIF(Gifts!A$4:A$5000, Donors!A3236,Gifts!B$4:B$5000)","v":0}]
[null,null,null,{"$f":"SUMIF(Gifts!A$4:A$5000, Donors!A3237,Gifts!B$4:B$5000)","v":0}]
[null,null,null,{"$f":"SUMIF(Gifts!A$4:A$5000, Donors!A3238,Gifts!B$4:B$5000)","v":0}]
[null,null,null,{"$f":"SUMIF(Gifts!A$4:A$5000, Donors!A3239,Gifts!B$4:B$5000)","v":0}]
[null,null,null,{"$f":"SUMIF(Gifts!A$4:A$5000, Donors!A3240,Gifts!B$4:B$5000)","v":0}]
[null,null,null,{"$f":"SUMIF(Gifts!A$4:A$5000, Donors!A3241,Gifts!B$4:B$5000)","v":0}]
[null,null,null,{"$f":"SUMIF(Gifts!A$4:A$5000, Donors!A3242,Gifts!B$4:B$5000)","v":0}]
[null,null,null,{"$f":"SUMIF(Gifts!A$4:A$5000, Donors!A3243,Gifts!B$4:B$5000)","v":0}]
[null,null,null,{"$f":"SUMIF(Gifts!A$4:A$5000, Donors!A3244,Gifts!B$4:B$5000)","v":0}]
[null,null,null,{"$f":"SUMIF(Gifts!A$4:A$5000, Donors!A3245,Gifts!B$4:B$5000)","v":0}]
[null,null,null,{"$f":"SUMIF(Gifts!A$4:A$5000, Donors!A3246,Gifts!B$4:B$5000)","v":0}]
[null,null,null,{"$f":"SUMIF(Gifts!A$4:A$5000, Donors!A3247,Gifts!B$4:B$5000)","v":0}]
[null,null,null,{"$f":"SUMIF(Gifts!A$4:A$5000, Donors!A3248,Gifts!B$4:B$5000)","v":0}]
[null,null,null,{"$f":"SUMIF(Gifts!A$4:A$5000, Donors!A3249,Gifts!B$4:B$5000)","v":0}]
[null,null,null,{"$f":"SUMIF(Gifts!A$4:A$5000, Donors!A3250,Gifts!B$4:B$5000)","v":0}]
[null,null,null,{"$f":"SUMIF(Gifts!A$4:A$5000, Donors!A3251,Gifts!B$4:B$5000)","v":0}]
[null,null,null,{"$f":"SUMIF(Gifts!A$4:A$5000, Donors!A3252,Gifts!B$4:B$5000)","v":0}]
[null,null,null,{"$f":"SUMIF(Gifts!A$4:A$5000, Donors!A3253,Gifts!B$4:B$5000)","v":0}]
[null,null,null,{"$f":"SUMIF(Gifts!A$4:A$5000, Donors!A3254,Gifts!B$4:B$5000)","v":0}]
[null,null,null,{"$f":"SUMIF(Gifts!A$4:A$5000, Donors!A3255,Gifts!B$4:B$5000)","v":0}]
[null,null,null,{"$f":"SUMIF(Gifts!A$4:A$5000, Donors!A3256,Gifts!B$4:B$5000)","v":0}]
[null,null,null,{"$f":"SUMIF(Gifts!A$4:A$5000, Donors!A3257,Gifts!B$4:B$5000)","v":0}]
[null,null,null,{"$f":"SUMIF(Gifts!A$4:A$5000, Donors!A3258,Gifts!B$4:B$5000)","v":0}]
[null,null,null,{"$f":"SUMIF(Gifts!A$4:A$5000, Donors!A3259,Gifts!B$4:B$5000)","v":0}]
[null,null,null,{"$f":"SUMIF(Gifts!A$4:A$5000, Donors!A3260,Gifts!B$4:B$5000)","v":0}]
[null,null,null,{"$f":"SUMIF(Gifts!A$4:A$5000, Donors!A3261,Gifts!B$4:B$5000)","v":0}]
[null,null,null,{"$f":"SUMIF(Gifts!A$4:A$5000, Donors!A3262,Gifts!B$4:B$5000)","v":0}]
[null,null,null,{"$f":"SUMIF(Gifts!A$4:A$5000, Donors!A3263,Gifts!B$4:B$5000)","v":0}]
[null,null,null,{"$f":"SUMIF(Gifts!A$4:A$5000, Donors!A3264,Gifts!B$4:B$5000)","v":0}]
[null,null,null,{"$f":"SUMIF(Gifts!A$4:A$5000, Donors!A3265,Gifts!B$4:B$5000)","v":0}]
[null,null,null,{"$f":"SUMIF(Gifts!A$4:A$5000, Donors!A3266,Gifts!B$4:B$5000)","v":0}]
[null,null,null,{"$f":"SUMIF(Gifts!A$4:A$5000, Donors!A3267,Gifts!B$4:B$5000)","v":0}]
[null,null,null,{"$f":"SUMIF(Gifts!A$4:A$5000, Donors!A3268,Gifts!B$4:B$5000)","v":0}]
[null,null,null,{"$f":"SUMIF(Gifts!A$4:A$5000, Donors!A3269,Gifts!B$4:B$5000)","v":0}]
[null,null,null,{"$f":"SUMIF(Gifts!A$4:A$5000, Donors!A3270,Gifts!B$4:B$5000)","v":0}]
[null,null,null,{"$f":"SUMIF(Gifts!A$4:A$5000, Donors!A3271,Gifts!B$4:B$5000)","v":0}]
[null,null,null,{"$f":"SUMIF(Gifts!A$4:A$5000, Donors!A3272,Gifts!B$4:B$5000)","v":0}]
[null,null,null,{"$f":"SUMIF(Gifts!A$4:A$5000, Donors!A3273,Gifts!B$4:B$5000)","v":0}]
[null,null,null,{"$f":"SUMIF(Gifts!A$4:A$5000, Donors!A3274,Gifts!B$4:B$5000)","v":0}]
[null,null,null,{"$f":"SUMIF(Gifts!A$4:A$5000, Donors!A3275,Gifts!B$4:B$5000)","v":0}]
[null,null,null,{"$f":"SUMIF(Gifts!A$4:A$5000, Donors!A3276,Gifts!B$4:B$5000)","v":0}]
[null,null,null,{"$f":"SUMIF(Gifts!A$4:A$5000, Donors!A3277,Gifts!B$4:B$5000)","v":0}]
[null,null,null,{"$f":"SUMIF(Gifts!A$4:A$5000, Donors!A3278,Gifts!B$4:B$5000)","v":0}]
[null,null,null,{"$f":"SUMIF(Gifts!A$4:A$5000, Donors!A3279,Gifts!B$4:B$5000)","v":0}]
[null,null,null,{"$f":"SUMIF(Gifts!A$4:A$5000, Donors!A3280,Gifts!B$4:B$5000)","v":0}]
[null,null,null,{"$f":"SUMIF(Gifts!A$4:A$5000, Donors!A3281,Gifts!B$4:B$5000)","v":0}]
[null,null,null,{"$f":"SUMIF(Gifts!A$4:A$5000, Donors!A3282,Gifts!B$4:B$5000)","v":0}]
[null,null,null,{"$f":"SUMIF(Gifts!A$4:A$5000, Donors!A3283,Gifts!B$4:B$5000)","v":0}]
[null,null,null,{"$f":"SUMIF(Gifts!A$4:A$5000, Donors!A3284,Gifts!B$4:B$5000)","v":0}]
[null,null,null,{"$f":"SUMIF(Gifts!A$4:A$5000, Donors!A3285,Gifts!B$4:B$5000)","v":0}]
[null,null,null,{"$f":"SUMIF(Gifts!A$4:A$5000, Donors!A3286,Gifts!B$4:B$5000)","v":0}]
[null,null,null,{"$f":"SUMIF(Gifts!A$4:A$5000, Donors!A3287,Gifts!B$4:B$5000)","v":0}]
[null,null,null,{"$f":"SUMIF(Gifts!A$4:A$5000, Donors!A3288,Gifts!B$4:B$5000)","v":0}]
[null,null,null,{"$f":"SUMIF(Gifts!A$4:A$5000, Donors!A3289,Gifts!B$4:B$5000)","v":0}]
[null,null,null,{"$f":"SUMIF(Gifts!A$4:A$5000, Donors!A3290,Gifts!B$4:B$5000)","v":0}]
[null,null,null,{"$f":"SUMIF(Gifts!A$4:A$5000, Donors!A3291,Gifts!B$4:B$5000)","v":0}]
[null,null,null,{"$f":"SUMIF(Gifts!A$4:A$5000, Donors!A3292,Gifts!B$4:B$5000)","v":0}]
[null,null,null,{"$f":"SUMIF(Gifts!A$4:A$5000, Donors!A3293,Gifts!B$4:B$5000)","v":0}]
[null,null,null,{"$f":"SUMIF(Gifts!A$4:A$5000, Donors!A3294,Gifts!B$4:B$5000)","v":0}]
[null,null,null,{"$f":"SUMIF(Gifts!A$4:A$5000, Donors!A3295,Gifts!B$4:B$5000)","v":0}]
[null,null,null,{"$f":"SUMIF(Gifts!A$4:A$5000, Donors!A3296,Gifts!B$4:B$5000)","v":0}]
[null,null,null,{"$f":"SUMIF(Gifts!A$4:A$5000, Donors!A3297,Gifts!B$4:B$5000)","v":0}]
[null,null,null,{"$f":"SUMIF(Gifts!A$4:A$5000, Donors!A3298,Gifts!B$4:B$5000)","v":0}]
[null,null,null,{"$f":"SUMIF(Gifts!A$4:A$5000, Donors!A3299,Gifts!B$4:B$5000)","v":0}]
[null,null,null,{"$f":"SUMIF(Gifts!A$4:A$5000, Donors!A3300,Gifts!B$4:B$5000)","v":0}]
[null,null,null,{"$f":"SUMIF(Gifts!A$4:A$5000, Donors!A3301,Gifts!B$4:B$5000)","v":0}]
[null,null,null,{"$f":"SUMIF(Gifts!A$4:A$5000, Donors!A3302,Gifts!B$4:B$5000)","v":0}]
[null,null,null,{"$f":"SUMIF(Gifts!A$4:A$5000, Donors!A3303,Gifts!B$4:B$5000)","v":0}]
[null,null,null,{"$f":"SUMIF(Gifts!A$4:A$5000, Donors!A3304,Gifts!B$4:B$5000)","v":0}]
[null,null,null,{"$f":"SUMIF(Gifts!A$4:A$5000, Donors!A3305,Gifts!B$4:B$5000)","v":0}]
[null,null,null,{"$f":"SUMIF(Gifts!A$4:A$5000, Donors!A3306,Gifts!B$4:B$5000)","v":0}]
[null,null,null,{"$f":"SUMIF(Gifts!A$4:A$5000, Donors!A3307,Gifts!B$4:B$5000)","v":0}]
[null,null,null,{"$f":"SUMIF(Gifts!A$4:A$5000, Donors!A3308,Gifts!B$4:B$5000)","v":0}]
[null,null,null,{"$f":"SUMIF(Gifts!A$4:A$5000, Donors!A3309,Gifts!B$4:B$5000)","v":0}]
[null,null,null,{"$f":"SUMIF(Gifts!A$4:A$5000, Donors!A3310,Gifts!B$4:B$5000)","v":0}]
[null,null,null,{"$f":"SUMIF(Gifts!A$4:A$5000, Donors!A3311,Gifts!B$4:B$5000)","v":0}]
[null,null,null,{"$f":"SUMIF(Gifts!A$4:A$5000, Donors!A3312,Gifts!B$4:B$5000)","v":0}]
[null,null,null,{"$f":"SUMIF(Gifts!A$4:A$5000, Donors!A3313,Gifts!B$4:B$5000)","v":0}]
[null,null,null,{"$f":"SUMIF(Gifts!A$4:A$5000, Donors!A3314,Gifts!B$4:B$5000)","v":0}]
[null,null,null,{"$f":"SUMIF(Gifts!A$4:A$5000, Donors!A3315,Gifts!B$4:B$5000)","v":0}]
[null,null,null,{"$f":"SUMIF(Gifts!A$4:A$5000, Donors!A3316,Gifts!B$4:B$5000)","v":0}]
[null,null,null,{"$f":"SUMIF(Gifts!A$4:A$5000, Donors!A3317,Gifts!B$4:B$5000)","v":0}]
[null,null,null,{"$f":"SUMIF(Gifts!A$4:A$5000, Donors!A3318,Gifts!B$4:B$5000)","v":0}]
[null,null,null,{"$f":"SUMIF(Gifts!A$4:A$5000, Donors!A3319,Gifts!B$4:B$5000)","v":0}]
[null,null,null,{"$f":"SUMIF(Gifts!A$4:A$5000, Donors!A3320,Gifts!B$4:B$5000)","v":0}]
[null,null,null,{"$f":"SUMIF(Gifts!A$4:A$5000, Donors!A3321,Gifts!B$4:B$5000)","v":0}]
[null,null,null,{"$f":"SUMIF(Gifts!A$4:A$5000, Donors!A3322,Gifts!B$4:B$5000)","v":0}]
[null,null,null,{"$f":"SUMIF(Gifts!A$4:A$5000, Donors!A3323,Gifts!B$4:B$5000)","v":0}]
[null,null,null,{"$f":"SUMIF(Gifts!A$4:A$5000, Donors!A3324,Gifts!B$4:B$5000)","v":0}]
[null,null,null,{"$f":"SUMIF(Gifts!A$4:A$5000, Donors!A3325,Gifts!B$4:B$5000)","v":0}]
[null,null,null,{"$f":"SUMIF(Gifts!A$4:A$5000, Donors!A3326,Gifts!B$4:B$5000)","v":0}]
[null,null,null,{"$f":"SUMIF(Gifts!A$4:A$5000, Donors!A3327,Gifts!B$4:B$5000)","v":0}]
[null,null,null,{"$f":"SUMIF(Gifts!A$4:A$5000, Donors!A3328,Gifts!B$4:B$5000)","v":0}]
[null,null,null,{"$f":"SUMIF(Gifts!A$4:A$5000, Donors!A3329,Gifts!B$4:B$5000)","v":0}]
[null,null,null,{"$f":"SUMIF(Gifts!A$4:A$5000, Donors!A3330,Gifts!B$4:B$5000)","v":0}]
[null,null,null,{"$f":"SUMIF(Gifts!A$4:A$5000, Donors!A3331,Gifts!B$4:B$5000)","v":0}]
[null,null,null,{"$f":"SUMIF(Gifts!A$4:A$5000, Donors!A3332,Gifts!B$4:B$5000)","v":0}]
[null,null,null,{"$f":"SUMIF(Gifts!A$4:A$5000, Donors!A3333,Gifts!B$4:B$5000)","v":0}]
[null,null,null,{"$f":"SUMIF(Gifts!A$4:A$5000, Donors!A3334,Gifts!B$4:B$5000)","v":0}]
[null,null,null,{"$f":"SUMIF(Gifts!A$4:A$5000, Donors!A3335,Gifts!B$4:B$5000)","v":0}]
[null,null,null,{"$f":"SUMIF(Gifts!A$4:A$5000, Donors!A3336,Gifts!B$4:B$5000)","v":0}]
[null,null,null,{"$f":"SUMIF(Gifts!A$4:A$5000, Donors!A3337,Gifts!B$4:B$5000)","v":0}]
[null,null,null,{"$f":"SUMIF(Gifts!A$4:A$5000, Donors!A3338,Gifts!B$4:B$5000)","v":0}]
[null,null,null,{"$f":"SUMIF(Gifts!A$4:A$5000, Donors!A3339,Gifts!B$4:B$5000)","v":0}]
[null,null,null,{"$f":"SUMIF(Gifts!A$4:A$5000, Donors!A3340,Gifts!B$4:B$5000)","v":0}]
[null,null,null,{"$f":"SUMIF(Gifts!A$4:A$5000, Donors!A3341,Gifts!B$4:B$5000)","v":0}]
[null,null,null,{"$f":"SUMIF(Gifts!A$4:A$5000, Donors!A3342,Gifts!B$4:B$5000)","v":0}]
[null,null,null,{"$f":"SUMIF(Gifts!A$4:A$5000, Donors!A3343,Gifts!B$4:B$5000)","v":0}]
[null,null,null,{"$f":"SUMIF(Gifts!A$4:A$5000, Donors!A3344,Gifts!B$4:B$5000)","v":0}]
[null,null,null,{"$f":"SUMIF(Gifts!A$4:A$5000, Donors!A3345,Gifts!B$4:B$5000)","v":0}]
[null,null,null,{"$f":"SUMIF(Gifts!A$4:A$5000, Donors!A3346,Gifts!B$4:B$5000)","v":0}]
[null,null,null,{"$f":"SUMIF(Gifts!A$4:A$5000, Donors!A3347,Gifts!B$4:B$5000)","v":0}]
[null,null,null,{"$f":"SUMIF(Gifts!A$4:A$5000, Donors!A3348,Gifts!B$4:B$5000)","v":0}]
[null,null,null,{"$f":"SUMIF(Gifts!A$4:A$5000, Donors!A3349,Gifts!B$4:B$5000)","v":0}]
[null,null,null,{"$f":"SUMIF(Gifts!A$4:A$5000, Donors!A3350,Gifts!B$4:B$5000)","v":0}]
[null,null,null,{"$f":"SUMIF(Gifts!A$4:A$5000, Donors!A3351,Gifts!B$4:B$5000)","v":0}]
[null,null,null,{"$f":"SUMIF(Gifts!A$4:A$5000, Donors!A3352,Gifts!B$4:B$5000)","v":0}]
[null,null,null,{"$f":"SUMIF(Gifts!A$4:A$5000, Donors!A3353,Gifts!B$4:B$5000)","v":0}]
[null,null,null,{"$f":"SUMIF(Gifts!A$4:A$5000, Donors!A3354,Gifts!B$4:B$5000)","v":0}]
[null,null,null,{"$f":"SUMIF(Gifts!A$4:A$5000, Donors!A3355,Gifts!B$4:B$5000)","v":0}]
[null,null,null,{"$f":"SUMIF(Gifts!A$4:A$5000, Donors!A3356,Gifts!B$4:B$5000)","v":0}]
[null,null,null,{"$f":"SUMIF(Gifts!A$4:A$5000, Donors!A3357,Gifts!B$4:B$5000)","v":0}]
[null,null,null,{"$f":"SUMIF(Gifts!A$4:A$5000, Donors!A3358,Gifts!B$4:B$5000)","v":0}]
[null,null,null,{"$f":"SUMIF(Gifts!A$4:A$5000, Donors!A3359,Gifts!B$4:B$5000)","v":0}]
[null,null,null,{"$f":"SUMIF(Gifts!A$4:A$5000, Donors!A3360,Gifts!B$4:B$5000)","v":0}]
[null,null,null,{"$f":"SUMIF(Gifts!A$4:A$5000, Donors!A3361,Gifts!B$4:B$5000)","v":0}]
[null,null,null,{"$f":"SUMIF(Gifts!A$4:A$5000, Donors!A3362,Gifts!B$4:B$5000)","v":0}]
[null,null,null,{"$f":"SUMIF(Gifts!A$4:A$5000, Donors!A3363,Gifts!B$4:B$5000)","v":0}]
[null,null,null,{"$f":"SUMIF(Gifts!A$4:A$5000, Donors!A3364,Gifts!B$4:B$5000)","v":0}]
[null,null,null,{"$f":"SUMIF(Gifts!A$4:A$5000, Donors!A3365,Gifts!B$4:B$5000)","v":0}]
[null,null,null,{"$f":"SUMIF(Gifts!A$4:A$5000, Donors!A3366,Gifts!B$4:B$5000)","v":0}]
[null,null,null,{"$f":"SUMIF(Gifts!A$4:A$5000, Donors!A3367,Gifts!B$4:B$5000)","v":0}]
[null,null,null,{"$f":"SUMIF(Gifts!A$4:A$5000, Donors!A3368,Gifts!B$4:B$5000)","v":0}]
[null,null,null,{"$f":"SUMIF(Gifts!A$4:A$5000, Donors!A3369,Gifts!B$4:B$5000)","v":0}]
[null,null,null,{"$f":"SUMIF(Gifts!A$4:A$5000, Donors!A3370,Gifts!B$4:B$5000)","v":0}]
[null,null,null,{"$f":"SUMIF(Gifts!A$4:A$5000, Donors!A3371,Gifts!B$4:B$5000)","v":0}]
[null,null,null,{"$f":"SUMIF(Gifts!A$4:A$5000, Donors!A3372,Gifts!B$4:B$5000)","v":0}]
[null,null,null,{"$f":"SUMIF(Gifts!A$4:A$5000, Donors!A3373,Gifts!B$4:B$5000)","v":0}]
[null,null,null,{"$f":"SUMIF(Gifts!A$4:A$5000, Donors!A3374,Gifts!B$4:B$5000)","v":0}]
[null,null,null,{"$f":"SUMIF(Gifts!A$4:A$5000, Donors!A3375,Gifts!B$4:B$5000)","v":0}]
[null,null,null,{"$f":"SUMIF(Gifts!A$4:A$5000, Donors!A3376,Gifts!B$4:B$5000)","v":0}]
[null,null,null,{"$f":"SUMIF(Gifts!A$4:A$5000, Donors!A3377,Gifts!B$4:B$5000)","v":0}]
[null,null,null,{"$f":"SUMIF(Gifts!A$4:A$5000, Donors!A3378,Gifts!B$4:B$5000)","v":0}]
[null,null,null,{"$f":"SUMIF(Gifts!A$4:A$5000, Donors!A3379,Gifts!B$4:B$5000)","v":0}]
[null,null,null,{"$f":"SUMIF(Gifts!A$4:A$5000, Donors!A3380,Gifts!B$4:B$5000)","v":0}]
[null,null,null,{"$f":"SUMIF(Gifts!A$4:A$5000, Donors!A3381,Gifts!B$4:B$5000)","v":0}]
[null,null,null,{"$f":"SUMIF(Gifts!A$4:A$5000, Donors!A3382,Gifts!B$4:B$5000)","v":0}]
[null,null,null,{"$f":"SUMIF(Gifts!A$4:A$5000, Donors!A3383,Gifts!B$4:B$5000)","v":0}]
[null,null,null,{"$f":"SUMIF(Gifts!A$4:A$5000, Donors!A3384,Gifts!B$4:B$5000)","v":0}]
[null,null,null,{"$f":"SUMIF(Gifts!A$4:A$5000, Donors!A3385,Gifts!B$4:B$5000)","v":0}]
[null,null,null,{"$f":"SUMIF(Gifts!A$4:A$5000, Donors!A3386,Gifts!B$4:B$5000)","v":0}]
[null,null,null,{"$f":"SUMIF(Gifts!A$4:A$5000, Donors!A3387,Gifts!B$4:B$5000)","v":0}]
[null,null,null,{"$f":"SUMIF(Gifts!A$4:A$5000, Donors!A3388,Gifts!B$4:B$5000)","v":0}]
[null,null,null,{"$f":"SUMIF(Gifts!A$4:A$5000, Donors!A3389,Gifts!B$4:B$5000)","v":0}]
[null,null,null,{"$f":"SUMIF(Gifts!A$4:A$5000, Donors!A3390,Gifts!B$4:B$5000)","v":0}]
[null,null,null,{"$f":"SUMIF(Gifts!A$4:A$5000, Donors!A3391,Gifts!B$4:B$5000)","v":0}]
[null,null,null,{"$f":"SUMIF(Gifts!A$4:A$5000, Donors!A3392,Gifts!B$4:B$5000)","v":0}]
[null,null,null,{"$f":"SUMIF(Gifts!A$4:A$5000, Donors!A3393,Gifts!B$4:B$5000)","v":0}]
[null,null,null,{"$f":"SUMIF(Gifts!A$4:A$5000, Donors!A3394,Gifts!B$4:B$5000)","v":0}]
[null,null,null,{"$f":"SUMIF(Gifts!A$4:A$5000, Donors!A3395,Gifts!B$4:B$5000)","v":0}]
[null,null,null,{"$f":"SUMIF(Gifts!A$4:A$5000, Donors!A3396,Gifts!B$4:B$5000)","v":0}]
[null,null,null,{"$f":"SUMIF(Gifts!A$4:A$5000, Donors!A3397,Gifts!B$4:B$5000)","v":0}]
[null,null,null,{"$f":"SUMIF(Gifts!A$4:A$5000, Donors!A3398,Gifts!B$4:B$5000)","v":0}]
[null,null,null,{"$f":"SUMIF(Gifts!A$4:A$5000, Donors!A3399,Gifts!B$4:B$5000)","v":0}]
[null,null,null,{"$f":"SUMIF(Gifts!A$4:A$5000, Donors!A3400,Gifts!B$4:B$5000)","v":0}]
[null,null,null,{"$f":"SUMIF(Gifts!A$4:A$5000, Donors!A3401,Gifts!B$4:B$5000)","v":0}]
[null,null,null,{"$f":"SUMIF(Gifts!A$4:A$5000, Donors!A3402,Gifts!B$4:B$5000)","v":0}]
[null,null,null,{"$f":"SUMIF(Gifts!A$4:A$5000, Donors!A3403,Gifts!B$4:B$5000)","v":0}]
[null,null,null,{"$f":"SUMIF(Gifts!A$4:A$5000, Donors!A3404,Gifts!B$4:B$5000)","v":0}]
[null,null,null,{"$f":"SUMIF(Gifts!A$4:A$5000, Donors!A3405,Gifts!B$4:B$5000)","v":0}]
[null,null,null,{"$f":"SUMIF(Gifts!A$4:A$5000, Donors!A3406,Gifts!B$4:B$5000)","v":0}]
[null,null,null,{"$f":"SUMIF(Gifts!A$4:A$5000, Donors!A3407,Gifts!B$4:B$5000)","v":0}]
[null,null,null,{"$f":"SUMIF(Gifts!A$4:A$5000, Donors!A3408,Gifts!B$4:B$5000)","v":0}]
[null,null,null,{"$f":"SUMIF(Gifts!A$4:A$5000, Donors!A3409,Gifts!B$4:B$5000)","v":0}]
[null,null,null,{"$f":"SUMIF(Gifts!A$4:A$5000, Donors!A3410,Gifts!B$4:B$5000)","v":0}]
[null,null,null,{"$f":"SUMIF(Gifts!A$4:A$5000, Donors!A3411,Gifts!B$4:B$5000)","v":0}]
[null,null,null,{"$f":"SUMIF(Gifts!A$4:A$5000, Donors!A3412,Gifts!B$4:B$5000)","v":0}]
[null,null,null,{"$f":"SUMIF(Gifts!A$4:A$5000, Donors!A3413,Gifts!B$4:B$5000)","v":0}]
[null,null,null,{"$f":"SUMIF(Gifts!A$4:A$5000, Donors!A3414,Gifts!B$4:B$5000)","v":0}]
[null,null,null,{"$f":"SUMIF(Gifts!A$4:A$5000, Donors!A3415,Gifts!B$4:B$5000)","v":0}]
[null,null,null,{"$f":"SUMIF(Gifts!A$4:A$5000, Donors!A3416,Gifts!B$4:B$5000)","v":0}]
[null,null,null,{"$f":"SUMIF(Gifts!A$4:A$5000, Donors!A3417,Gifts!B$4:B$5000)","v":0}]
[null,null,null,{"$f":"SUMIF(Gifts!A$4:A$5000, Donors!A3418,Gifts!B$4:B$5000)","v":0}]
[null,null,null,{"$f":"SUMIF(Gifts!A$4:A$5000, Donors!A3419,Gifts!B$4:B$5000)","v":0}]
[null,null,null,{"$f":"SUMIF(Gifts!A$4:A$5000, Donors!A3420,Gifts!B$4:B$5000)","v":0}]
[null,null,null,{"$f":"SUMIF(Gifts!A$4:A$5000, Donors!A3421,Gifts!B$4:B$5000)","v":0}]
[null,null,null,{"$f":"SUMIF(Gifts!A$4:A$5000, Donors!A3422,Gifts!B$4:B$5000)","v":0}]
[null,null,null,{"$f":"SUMIF(Gifts!A$4:A$5000, Donors!A3423,Gifts!B$4:B$5000)","v":0}]
[null,null,null,{"$f":"SUMIF(Gifts!A$4:A$5000, Donors!A3424,Gifts!B$4:B$5000)","v":0}]
[null,null,null,{"$f":"SUMIF(Gifts!A$4:A$5000, Donors!A3425,Gifts!B$4:B$5000)","v":0}]
[null,null,null,{"$f":"SUMIF(Gifts!A$4:A$5000, Donors!A3426,Gifts!B$4:B$5000)","v":0}]
[null,null,null,{"$f":"SUMIF(Gifts!A$4:A$5000, Donors!A3427,Gifts!B$4:B$5000)","v":0}]
[null,null,null,{"$f":"SUMIF(Gifts!A$4:A$5000, Donors!A3428,Gifts!B$4:B$5000)","v":0}]
[null,null,null,{"$f":"SUMIF(Gifts!A$4:A$5000, Donors!A3429,Gifts!B$4:B$5000)","v":0}]
[null,null,null,{"$f":"SUMIF(Gifts!A$4:A$5000, Donors!A3430,Gifts!B$4:B$5000)","v":0}]
[null,null,null,{"$f":"SUMIF(Gifts!A$4:A$5000, Donors!A3431,Gifts!B$4:B$5000)","v":0}]
[null,null,null,{"$f":"SUMIF(Gifts!A$4:A$5000, Donors!A3432,Gifts!B$4:B$5000)","v":0}]
[null,null,null,{"$f":"SUMIF(Gifts!A$4:A$5000, Donors!A3433,Gifts!B$4:B$5000)","v":0}]
[null,null,null,{"$f":"SUMIF(Gifts!A$4:A$5000, Donors!A3434,Gifts!B$4:B$5000)","v":0}]
[null,null,null,{"$f":"SUMIF(Gifts!A$4:A$5000, Donors!A3435,Gifts!B$4:B$5000)","v":0}]
[null,null,null,{"$f":"SUMIF(Gifts!A$4:A$5000, Donors!A3436,Gifts!B$4:B$5000)","v":0}]
[null,null,null,{"$f":"SUMIF(Gifts!A$4:A$5000, Donors!A3437,Gifts!B$4:B$5000)","v":0}]
[null,null,null,{"$f":"SUMIF(Gifts!A$4:A$5000, Donors!A3438,Gifts!B$4:B$5000)","v":0}]
[null,null,null,{"$f":"SUMIF(Gifts!A$4:A$5000, Donors!A3439,Gifts!B$4:B$5000)","v":0}]
[null,null,null,{"$f":"SUMIF(Gifts!A$4:A$5000, Donors!A3440,Gifts!B$4:B$5000)","v":0}]
[null,null,null,{"$f":"SUMIF(Gifts!A$4:A$5000, Donors!A3441,Gifts!B$4:B$5000)","v":0}]
[null,null,null,{"$f":"SUMIF(Gifts!A$4:A$5000, Donors!A3442,Gifts!B$4:B$5000)","v":0}]
[null,null,null,{"$f":"SUMIF(Gifts!A$4:A$5000, Donors!A3443,Gifts!B$4:B$5000)","v":0}]
[null,null,null,{"$f":"SUMIF(Gifts!A$4:A$5000, Donors!A3444,Gifts!B$4:B$5000)","v":0}]
[null,null,null,{"$f":"SUMIF(Gifts!A$4:A$5000, Donors!A3445,Gifts!B$4:B$5000)","v":0}]
[null,null,null,{"$f":"SUMIF(Gifts!A$4:A$5000, Donors!A3446,Gifts!B$4:B$5000)","v":0}]
[null,null,null,{"$f":"SUMIF(Gifts!A$4:A$5000, Donors!A3447,Gifts!B$4:B$5000)","v":0}]
[null,null,null,{"$f":"SUMIF(Gifts!A$4:A$5000, Donors!A3448,Gifts!B$4:B$5000)","v":0}]
[null,null,null,{"$f":"SUMIF(Gifts!A$4:A$5000, Donors!A3449,Gifts!B$4:B$5000)","v":0}]
[null,null,null,{"$f":"SUMIF(Gifts!A$4:A$5000, Donors!A3450,Gifts!B$4:B$5000)","v":0}]
[null,null,null,{"$f":"SUMIF(Gifts!A$4:A$5000, Donors!A3451,Gifts!B$4:B$5000)","v":0}]
[null,null,null,{"$f":"SUMIF(Gifts!A$4:A$5000, Donors!A3452,Gifts!B$4:B$5000)","v":0}]
[null,null,null,{"$f":"SUMIF(Gifts!A$4:A$5000, Donors!A3453,Gifts!B$4:B$5000)","v":0}]
[null,null,null,{"$f":"SUMIF(Gifts!A$4:A$5000, Donors!A3454,Gifts!B$4:B$5000)","v":0}]
[null,null,null,{"$f":"SUMIF(Gifts!A$4:A$5000, Donors!A3455,Gifts!B$4:B$5000)","v":0}]
[null,null,null,{"$f":"SUMIF(Gifts!A$4:A$5000, Donors!A3456,Gifts!B$4:B$5000)","v":0}]
[null,null,null,{"$f":"SUMIF(Gifts!A$4:A$5000, Donors!A3457,Gifts!B$4:B$5000)","v":0}]
[null,null,null,{"$f":"SUMIF(Gifts!A$4:A$5000, Donors!A3458,Gifts!B$4:B$5000)","v":0}]
[null,null,null,{"$f":"SUMIF(Gifts!A$4:A$5000, Donors!A3459,Gifts!B$4:B$5000)","v":0}]
[null,null,null,{"$f":"SUMIF(Gifts!A$4:A$5000, Donors!A3460,Gifts!B$4:B$5000)","v":0}]
[null,null,null,{"$f":"SUMIF(Gifts!A$4:A$5000, Donors!A3461,Gifts!B$4:B$5000)","v":0}]
[null,null,null,{"$f":"SUMIF(Gifts!A$4:A$5000, Donors!A3462,Gifts!B$4:B$5000)","v":0}]
[null,null,null,{"$f":"SUMIF(Gifts!A$4:A$5000, Donors!A3463,Gifts!B$4:B$5000)","v":0}]
[null,null,null,{"$f":"SUMIF(Gifts!A$4:A$5000, Donors!A3464,Gifts!B$4:B$5000)","v":0}]
[null,null,null,{"$f":"SUMIF(Gifts!A$4:A$5000, Donors!A3465,Gifts!B$4:B$5000)","v":0}]
[null,null,null,{"$f":"SUMIF(Gifts!A$4:A$5000, Donors!A3466,Gifts!B$4:B$5000)","v":0}]
[null,null,null,{"$f":"SUMIF(Gifts!A$4:A$5000, Donors!A3467,Gifts!B$4:B$5000)","v":0}]
[null,null,null,{"$f":"SUMIF(Gifts!A$4:A$5000, Donors!A3468,Gifts!B$4:B$5000)","v":0}]
[null,null,null,{"$f":"SUMIF(Gifts!A$4:A$5000, Donors!A3469,Gifts!B$4:B$5000)","v":0}]
[null,null,null,{"$f":"SUMIF(Gifts!A$4:A$5000, Donors!A3470,Gifts!B$4:B$5000)","v":0}]
[null,null,null,{"$f":"SUMIF(Gifts!A$4:A$5000, Donors!A3471,Gifts!B$4:B$5000)","v":0}]
[null,null,null,{"$f":"SUMIF(Gifts!A$4:A$5000, Donors!A3472,Gifts!B$4:B$5000)","v":0}]
[null,null,null,{"$f":"SUMIF(Gifts!A$4:A$5000, Donors!A3473,Gifts!B$4:B$5000)","v":0}]
[null,null,null,{"$f":"SUMIF(Gifts!A$4:A$5000, Donors!A3474,Gifts!B$4:B$5000)","v":0}]
[null,null,null,{"$f":"SUMIF(Gifts!A$4:A$5000, Donors!A3475,Gifts!B$4:B$5000)","v":0}]
[null,null,null,{"$f":"SUMIF(Gifts!A$4:A$5000, Donors!A3476,Gifts!B$4:B$5000)","v":0}]
[null,null,null,{"$f":"SUMIF(Gifts!A$4:A$5000, Donors!A3477,Gifts!B$4:B$5000)","v":0}]
[null,null,null,{"$f":"SUMIF(Gifts!A$4:A$5000, Donors!A3478,Gifts!B$4:B$5000)","v":0}]
[null,null,null,{"$f":"SUMIF(Gifts!A$4:A$5000, Donors!A3479,Gifts!B$4:B$5000)","v":0}]
[null,null,null,{"$f":"SUMIF(Gifts!A$4:A$5000, Donors!A3480,Gifts!B$4:B$5000)","v":0}]
[null,null,null,{"$f":"SUMIF(Gifts!A$4:A$5000, Donors!A3481,Gifts!B$4:B$5000)","v":0}]
[null,null,null,{"$f":"SUMIF(Gifts!A$4:A$5000, Donors!A3482,Gifts!B$4:B$5000)","v":0}]
[null,null,null,{"$f":"SUMIF(Gifts!A$4:A$5000, Donors!A3483,Gifts!B$4:B$5000)","v":0}]
[null,null,null,{"$f":"SUMIF(Gifts!A$4:A$5000, Donors!A3484,Gifts!B$4:B$5000)","v":0}]
[null,null,null,{"$f":"SUMIF(Gifts!A$4:A$5000, Donors!A3485,Gifts!B$4:B$5000)","v":0}]
[null,null,null,{"$f":"SUMIF(Gifts!A$4:A$5000, Donors!A3486,Gifts!B$4:B$5000)","v":0}]
[null,null,null,{"$f":"SUMIF(Gifts!A$4:A$5000, Donors!A3487,Gifts!B$4:B$5000)","v":0}]
[null,null,null,{"$f":"SUMIF(Gifts!A$4:A$5000, Donors!A3488,Gifts!B$4:B$5000)","v":0}]
[null,null,null,{"$f":"SUMIF(Gifts!A$4:A$5000, Donors!A3489,Gifts!B$4:B$5000)","v":0}]
[null,null,null,{"$f":"SUMIF(Gifts!A$4:A$5000, Donors!A3490,Gifts!B$4:B$5000)","v":0}]
[null,null,null,{"$f":"SUMIF(Gifts!A$4:A$5000, Donors!A3491,Gifts!B$4:B$5000)","v":0}]
[null,null,null,{"$f":"SUMIF(Gifts!A$4:A$5000, Donors!A3492,Gifts!B$4:B$5000)","v":0}]
[null,null,null,{"$f":"SUMIF(Gifts!A$4:A$5000, Donors!A3493,Gifts!B$4:B$5000)","v":0}]
[null,null,null,{"$f":"SUMIF(Gifts!A$4:A$5000, Donors!A3494,Gifts!B$4:B$5000)","v":0}]
[null,null,null,{"$f":"SUMIF(Gifts!A$4:A$5000, Donors!A3495,Gifts!B$4:B$5000)","v":0}]
[null,null,null,{"$f":"SUMIF(Gifts!A$4:A$5000, Donors!A3496,Gifts!B$4:B$5000)","v":0}]
[null,null,null,{"$f":"SUMIF(Gifts!A$4:A$5000, Donors!A3497,Gifts!B$4:B$5000)","v":0}]
[null,null,null,{"$f":"SUMIF(Gifts!A$4:A$5000, Donors!A3498,Gifts!B$4:B$5000)","v":0}]
[null,null,null,{"$f":"SUMIF(Gifts!A$4:A$5000, Donors!A3499,Gifts!B$4:B$5000)","v":0}]
[null,null,null,{"$f":"SUMIF(Gifts!A$4:A$5000, Donors!A3500,Gifts!B$4:B$5000)","v":0}]
[null,null,null,{"$f":"SUMIF(Gifts!A$4:A$5000, Donors!A3501,Gifts!B$4:B$5000)","v":0}]
[null,null,null,{"$f":"SUMIF(Gifts!A$4:A$5000, Donors!A3502,Gifts!B$4:B$5000)","v":0}]
[null,null,null,{"$f":"SUMIF(Gifts!A$4:A$5000, Donors!A3503,Gifts!B$4:B$5000)","v":0}]
[null,null,null,{"$f":"SUMIF(Gifts!A$4:A$5000, Donors!A3504,Gifts!B$4:B$5000)","v":0}]
[null,null,null,{"$f":"SUMIF(Gifts!A$4:A$5000, Donors!A3505,Gifts!B$4:B$5000)","v":0}]
[null,null,null,{"$f":"SUMIF(Gifts!A$4:A$5000, Donors!A3506,Gifts!B$4:B$5000)","v":0}]
[null,null,null,{"$f":"SUMIF(Gifts!A$4:A$5000, Donors!A3507,Gifts!B$4:B$5000)","v":0}]
[null,null,null,{"$f":"SUMIF(Gifts!A$4:A$5000, Donors!A3508,Gifts!B$4:B$5000)","v":0}]
[null,null,null,{"$f":"SUMIF(Gifts!A$4:A$5000, Donors!A3509,Gifts!B$4:B$5000)","v":0}]
[null,null,null,{"$f":"SUMIF(Gifts!A$4:A$5000, Donors!A3510,Gifts!B$4:B$5000)","v":0}]
[null,null,null,{"$f":"SUMIF(Gifts!A$4:A$5000, Donors!A3511,Gifts!B$4:B$5000)","v":0}]
[null,null,null,{"$f":"SUMIF(Gifts!A$4:A$5000, Donors!A3512,Gifts!B$4:B$5000)","v":0}]
[null,null,null,{"$f":"SUMIF(Gifts!A$4:A$5000, Donors!A3513,Gifts!B$4:B$5000)","v":0}]
[null,null,null,{"$f":"SUMIF(Gifts!A$4:A$5000, Donors!A3514,Gifts!B$4:B$5000)","v":0}]
[null,null,null,{"$f":"SUMIF(Gifts!A$4:A$5000, Donors!A3515,Gifts!B$4:B$5000)","v":0}]
[null,null,null,{"$f":"SUMIF(Gifts!A$4:A$5000, Donors!A3516,Gifts!B$4:B$5000)","v":0}]
[null,null,null,{"$f":"SUMIF(Gifts!A$4:A$5000, Donors!A3517,Gifts!B$4:B$5000)","v":0}]
[null,null,null,{"$f":"SUMIF(Gifts!A$4:A$5000, Donors!A3518,Gifts!B$4:B$5000)","v":0}]
[null,null,null,{"$f":"SUMIF(Gifts!A$4:A$5000, Donors!A3519,Gifts!B$4:B$5000)","v":0}]
[null,null,null,{"$f":"SUMIF(Gifts!A$4:A$5000, Donors!A3520,Gifts!B$4:B$5000)","v":0}]
[null,null,null,{"$f":"SUMIF(Gifts!A$4:A$5000, Donors!A3521,Gifts!B$4:B$5000)","v":0}]
[null,null,null,{"$f":"SUMIF(Gifts!A$4:A$5000, Donors!A3522,Gifts!B$4:B$5000)","v":0}]
[null,null,null,{"$f":"SUMIF(Gifts!A$4:A$5000, Donors!A3523,Gifts!B$4:B$5000)","v":0}]
[null,null,null,{"$f":"SUMIF(Gifts!A$4:A$5000, Donors!A3524,Gifts!B$4:B$5000)","v":0}]
[null,null,null,{"$f":"SUMIF(Gifts!A$4:A$5000, Donors!A3525,Gifts!B$4:B$5000)","v":0}]
[null,null,null,{"$f":"SUMIF(Gifts!A$4:A$5000, Donors!A3526,Gifts!B$4:B$5000)","v":0}]
[null,null,null,{"$f":"SUMIF(Gifts!A$4:A$5000, Donors!A3527,Gifts!B$4:B$5000)","v":0}]
[null,null,null,{"$f":"SUMIF(Gifts!A$4:A$5000, Donors!A3528,Gifts!B$4:B$5000)","v":0}]
[null,null,null,{"$f":"SUMIF(Gifts!A$4:A$5000, Donors!A3529,Gifts!B$4:B$5000)","v":0}]
[null,null,null,{"$f":"SUMIF(Gifts!A$4:A$5000, Donors!A3530,Gifts!B$4:B$5000)","v":0}]
[null,null,null,{"$f":"SUMIF(Gifts!A$4:A$5000, Donors!A3531,Gifts!B$4:B$5000)","v":0}]
[null,null,null,{"$f":"SUMIF(Gifts!A$4:A$5000, Donors!A3532,Gifts!B$4:B$5000)","v":0}]
[null,null,null,{"$f":"SUMIF(Gifts!A$4:A$5000, Donors!A3533,Gifts!B$4:B$5000)","v":0}]
[null,null,null,{"$f":"SUMIF(Gifts!A$4:A$5000, Donors!A3534,Gifts!B$4:B$5000)","v":0}]
[null,null,null,{"$f":"SUMIF(Gifts!A$4:A$5000, Donors!A3535,Gifts!B$4:B$5000)","v":0}]
[null,null,null,{"$f":"SUMIF(Gifts!A$4:A$5000, Donors!A3536,Gifts!B$4:B$5000)","v":0}]
[null,null,null,{"$f":"SUMIF(Gifts!A$4:A$5000, Donors!A3537,Gifts!B$4:B$5000)","v":0}]
[null,null,null,{"$f":"SUMIF(Gifts!A$4:A$5000, Donors!A3538,Gifts!B$4:B$5000)","v":0}]
[null,null,null,{"$f":"SUMIF(Gifts!A$4:A$5000, Donors!A3539,Gifts!B$4:B$5000)","v":0}]
[null,null,null,{"$f":"SUMIF(Gifts!A$4:A$5000, Donors!A3540,Gifts!B$4:B$5000)","v":0}]
[null,null,null,{"$f":"SUMIF(Gifts!A$4:A$5000, Donors!A3541,Gifts!B$4:B$5000)","v":0}]
[null,null,null,{"$f":"SUMIF(Gifts!A$4:A$5000, Donors!A3542,Gifts!B$4:B$5000)","v":0}]
[null,null,null,{"$f":"SUMIF(Gifts!A$4:A$5000, Donors!A3543,Gifts!B$4:B$5000)","v":0}]
[null,null,null,{"$f":"SUMIF(Gifts!A$4:A$5000, Donors!A3544,Gifts!B$4:B$5000)","v":0}]
[null,null,null,{"$f":"SUMIF(Gifts!A$4:A$5000, Donors!A3545,Gifts!B$4:B$5000)","v":0}]
[null,null,null,{"$f":"SUMIF(Gifts!A$4:A$5000, Donors!A3546,Gifts!B$4:B$5000)","v":0}]
[null,null,null,{"$f":"SUMIF(Gifts!A$4:A$5000, Donors!A3547,Gifts!B$4:B$5000)","v":0}]
[null,null,null,{"$f":"SUMIF(Gifts!A$4:A$5000, Donors!A3548,Gifts!B$4:B$5000)","v":0}]
[null,null,null,{"$f":"SUMIF(Gifts!A$4:A$5000, Donors!A3549,Gifts!B$4:B$5000)","v":0}]
[null,null,null,{"$f":"SUMIF(Gifts!A$4:A$5000, Donors!A3550,Gifts!B$4:B$5000)","v":0}]
[null,null,null,{"$f":"SUMIF(Gifts!A$4:A$5000, Donors!A3551,Gifts!B$4:B$5000)","v":0}]
[null,null,null,{"$f":"SUMIF(Gifts!A$4:A$5000, Donors!A3552,Gifts!B$4:B$5000)","v":0}]
[null,null,null,{"$f":"SUMIF(Gifts!A$4:A$5000, Donors!A3553,Gifts!B$4:B$5000)","v":0}]
[null,null,null,{"$f":"SUMIF(Gifts!A$4:A$5000, Donors!A3554,Gifts!B$4:B$5000)","v":0}]
[null,null,null,{"$f":"SUMIF(Gifts!A$4:A$5000, Donors!A3555,Gifts!B$4:B$5000)","v":0}]
[null,null,null,{"$f":"SUMIF(Gifts!A$4:A$5000, Donors!A3556,Gifts!B$4:B$5000)","v":0}]
[null,null,null,{"$f":"SUMIF(Gifts!A$4:A$5000, Donors!A3557,Gifts!B$4:B$5000)","v":0}]
[null,null,null,{"$f":"SUMIF(Gifts!A$4:A$5000, Donors!A3558,Gifts!B$4:B$5000)","v":0}]
[null,null,null,{"$f":"SUMIF(Gifts!A$4:A$5000, Donors!A3559,Gifts!B$4:B$5000)","v":0}]
[null,null,null,{"$f":"SUMIF(Gifts!A$4:A$5000, Donors!A3560,Gifts!B$4:B$5000)","v":0}]
[null,null,null,{"$f":"SUMIF(Gifts!A$4:A$5000, Donors!A3561,Gifts!B$4:B$5000)","v":0}]
[null,null,null,{"$f":"SUMIF(Gifts!A$4:A$5000, Donors!A3562,Gifts!B$4:B$5000)","v":0}]
[null,null,null,{"$f":"SUMIF(Gifts!A$4:A$5000, Donors!A3563,Gifts!B$4:B$5000)","v":0}]
[null,null,null,{"$f":"SUMIF(Gifts!A$4:A$5000, Donors!A3564,Gifts!B$4:B$5000)","v":0}]
[null,null,null,{"$f":"SUMIF(Gifts!A$4:A$5000, Donors!A3565,Gifts!B$4:B$5000)","v":0}]
[null,null,null,{"$f":"SUMIF(Gifts!A$4:A$5000, Donors!A3566,Gifts!B$4:B$5000)","v":0}]
[null,null,null,{"$f":"SUMIF(Gifts!A$4:A$5000, Donors!A3567,Gifts!B$4:B$5000)","v":0}]
[null,null,null,{"$f":"SUMIF(Gifts!A$4:A$5000, Donors!A3568,Gifts!B$4:B$5000)","v":0}]
[null,null,null,{"$f":"SUMIF(Gifts!A$4:A$5000, Donors!A3569,Gifts!B$4:B$5000)","v":0}]
[null,null,null,{"$f":"SUMIF(Gifts!A$4:A$5000, Donors!A3570,Gifts!B$4:B$5000)","v":0}]
[null,null,null,{"$f":"SUMIF(Gifts!A$4:A$5000, Donors!A3571,Gifts!B$4:B$5000)","v":0}]
[null,null,null,{"$f":"SUMIF(Gifts!A$4:A$5000, Donors!A3572,Gifts!B$4:B$5000)","v":0}]
[null,null,null,{"$f":"SUMIF(Gifts!A$4:A$5000, Donors!A3573,Gifts!B$4:B$5000)","v":0}]
[null,null,null,{"$f":"SUMIF(Gifts!A$4:A$5000, Donors!A3574,Gifts!B$4:B$5000)","v":0}]
[null,null,null,{"$f":"SUMIF(Gifts!A$4:A$5000, Donors!A3575,Gifts!B$4:B$5000)","v":0}]
[null,null,null,{"$f":"SUMIF(Gifts!A$4:A$5000, Donors!A3576,Gifts!B$4:B$5000)","v":0}]
[null,null,null,{"$f":"SUMIF(Gifts!A$4:A$5000, Donors!A3577,Gifts!B$4:B$5000)","v":0}]
[null,null,null,{"$f":"SUMIF(Gifts!A$4:A$5000, Donors!A3578,Gifts!B$4:B$5000)","v":0}]
[null,null,null,{"$f":"SUMIF(Gifts!A$4:A$5000, Donors!A3579,Gifts!B$4:B$5000)","v":0}]
[null,null,null,{"$f":"SUMIF(Gifts!A$4:A$5000, Donors!A3580,Gifts!B$4:B$5000)","v":0}]
[null,null,null,{"$f":"SUMIF(Gifts!A$4:A$5000, Donors!A3581,Gifts!B$4:B$5000)","v":0}]
[null,null,null,{"$f":"SUMIF(Gifts!A$4:A$5000, Donors!A3582,Gifts!B$4:B$5000)","v":0}]
[null,null,null,{"$f":"SUMIF(Gifts!A$4:A$5000, Donors!A3583,Gifts!B$4:B$5000)","v":0}]
[null,null,null,{"$f":"SUMIF(Gifts!A$4:A$5000, Donors!A3584,Gifts!B$4:B$5000)","v":0}]
[null,null,null,{"$f":"SUMIF(Gifts!A$4:A$5000, Donors!A3585,Gifts!B$4:B$5000)","v":0}]
[null,null,null,{"$f":"SUMIF(Gifts!A$4:A$5000, Donors!A3586,Gifts!B$4:B$5000)","v":0}]
[null,null,null,{"$f":"SUMIF(Gifts!A$4:A$5000, Donors!A3587,Gifts!B$4:B$5000)","v":0}]
[null,null,null,{"$f":"SUMIF(Gifts!A$4:A$5000, Donors!A3588,Gifts!B$4:B$5000)","v":0}]
[null,null,null,{"$f":"SUMIF(Gifts!A$4:A$5000, Donors!A3589,Gifts!B$4:B$5000)","v":0}]
[null,null,null,{"$f":"SUMIF(Gifts!A$4:A$5000, Donors!A3590,Gifts!B$4:B$5000)","v":0}]
[null,null,null,{"$f":"SUMIF(Gifts!A$4:A$5000, Donors!A3591,Gifts!B$4:B$5000)","v":0}]
[null,null,null,{"$f":"SUMIF(Gifts!A$4:A$5000, Donors!A3592,Gifts!B$4:B$5000)","v":0}]
[null,null,null,{"$f":"SUMIF(Gifts!A$4:A$5000, Donors!A3593,Gifts!B$4:B$5000)","v":0}]
[null,null,null,{"$f":"SUMIF(Gifts!A$4:A$5000, Donors!A3594,Gifts!B$4:B$5000)","v":0}]
[null,null,null,{"$f":"SUMIF(Gifts!A$4:A$5000, Donors!A3595,Gifts!B$4:B$5000)","v":0}]
[null,null,null,{"$f":"SUMIF(Gifts!A$4:A$5000, Donors!A3596,Gifts!B$4:B$5000)","v":0}]
[null,null,null,{"$f":"SUMIF(Gifts!A$4:A$5000, Donors!A3597,Gifts!B$4:B$5000)","v":0}]
[null,null,null,{"$f":"SUMIF(Gifts!A$4:A$5000, Donors!A3598,Gifts!B$4:B$5000)","v":0}]
[null,null,null,{"$f":"SUMIF(Gifts!A$4:A$5000, Donors!A3599,Gifts!B$4:B$5000)","v":0}]
[null,null,null,{"$f":"SUMIF(Gifts!A$4:A$5000, Donors!A3600,Gifts!B$4:B$5000)","v":0}]
[null,null,null,{"$f":"SUMIF(Gifts!A$4:A$5000, Donors!A3601,Gifts!B$4:B$5000)","v":0}]
[null,null,null,{"$f":"SUMIF(Gifts!A$4:A$5000, Donors!A3602,Gifts!B$4:B$5000)","v":0}]
[null,null,null,{"$f":"SUMIF(Gifts!A$4:A$5000, Donors!A3603,Gifts!B$4:B$5000)","v":0}]
[null,null,null,{"$f":"SUMIF(Gifts!A$4:A$5000, Donors!A3604,Gifts!B$4:B$5000)","v":0}]
[null,null,null,{"$f":"SUMIF(Gifts!A$4:A$5000, Donors!A3605,Gifts!B$4:B$5000)","v":0}]
[null,null,null,{"$f":"SUMIF(Gifts!A$4:A$5000, Donors!A3606,Gifts!B$4:B$5000)","v":0}]
[null,null,null,{"$f":"SUMIF(Gifts!A$4:A$5000, Donors!A3607,Gifts!B$4:B$5000)","v":0}]
[null,null,null,{"$f":"SUMIF(Gifts!A$4:A$5000, Donors!A3608,Gifts!B$4:B$5000)","v":0}]
[null,null,null,{"$f":"SUMIF(Gifts!A$4:A$5000, Donors!A3609,Gifts!B$4:B$5000)","v":0}]
[null,null,null,{"$f":"SUMIF(Gifts!A$4:A$5000, Donors!A3610,Gifts!B$4:B$5000)","v":0}]
[null,null,null,{"$f":"SUMIF(Gifts!A$4:A$5000, Donors!A3611,Gifts!B$4:B$5000)","v":0}]
[null,null,null,{"$f":"SUMIF(Gifts!A$4:A$5000, Donors!A3612,Gifts!B$4:B$5000)","v":0}]
[null,null,null,{"$f":"SUMIF(Gifts!A$4:A$5000, Donors!A3613,Gifts!B$4:B$5000)","v":0}]
[null,null,null,{"$f":"SUMIF(Gifts!A$4:A$5000, Donors!A3614,Gifts!B$4:B$5000)","v":0}]
[null,null,null,{"$f":"SUMIF(Gifts!A$4:A$5000, Donors!A3615,Gifts!B$4:B$5000)","v":0}]
[null,null,null,{"$f":"SUMIF(Gifts!A$4:A$5000, Donors!A3616,Gifts!B$4:B$5000)","v":0}]
[null,null,null,{"$f":"SUMIF(Gifts!A$4:A$5000, Donors!A3617,Gifts!B$4:B$5000)","v":0}]
[null,null,null,{"$f":"SUMIF(Gifts!A$4:A$5000, Donors!A3618,Gifts!B$4:B$5000)","v":0}]
[null,null,null,{"$f":"SUMIF(Gifts!A$4:A$5000, Donors!A3619,Gifts!B$4:B$5000)","v":0}]
[null,null,null,{"$f":"SUMIF(Gifts!A$4:A$5000, Donors!A3620,Gifts!B$4:B$5000)","v":0}]
[null,null,null,{"$f":"SUMIF(Gifts!A$4:A$5000, Donors!A3621,Gifts!B$4:B$5000)","v":0}]
[null,null,null,{"$f":"SUMIF(Gifts!A$4:A$5000, Donors!A3622,Gifts!B$4:B$5000)","v":0}]
[null,null,null,{"$f":"SUMIF(Gifts!A$4:A$5000, Donors!A3623,Gifts!B$4:B$5000)","v":0}]
[null,null,null,{"$f":"SUMIF(Gifts!A$4:A$5000, Donors!A3624,Gifts!B$4:B$5000)","v":0}]
[null,null,null,{"$f":"SUMIF(Gifts!A$4:A$5000, Donors!A3625,Gifts!B$4:B$5000)","v":0}]
[null,null,null,{"$f":"SUMIF(Gifts!A$4:A$5000, Donors!A3626,Gifts!B$4:B$5000)","v":0}]
[null,null,null,{"$f":"SUMIF(Gifts!A$4:A$5000, Donors!A3627,Gifts!B$4:B$5000)","v":0}]
[null,null,null,{"$f":"SUMIF(Gifts!A$4:A$5000, Donors!A3628,Gifts!B$4:B$5000)","v":0}]
[null,null,null,{"$f":"SUMIF(Gifts!A$4:A$5000, Donors!A3629,Gifts!B$4:B$5000)","v":0}]
[null,null,null,{"$f":"SUMIF(Gifts!A$4:A$5000, Donors!A3630,Gifts!B$4:B$5000)","v":0}]
[null,null,null,{"$f":"SUMIF(Gifts!A$4:A$5000, Donors!A3631,Gifts!B$4:B$5000)","v":0}]
[null,null,null,{"$f":"SUMIF(Gifts!A$4:A$5000, Donors!A3632,Gifts!B$4:B$5000)","v":0}]
[null,null,null,{"$f":"SUMIF(Gifts!A$4:A$5000, Donors!A3633,Gifts!B$4:B$5000)","v":0}]
[null,null,null,{"$f":"SUMIF(Gifts!A$4:A$5000, Donors!A3634,Gifts!B$4:B$5000)","v":0}]
[null,null,null,{"$f":"SUMIF(Gifts!A$4:A$5000, Donors!A3635,Gifts!B$4:B$5000)","v":0}]
[null,null,null,{"$f":"SUMIF(Gifts!A$4:A$5000, Donors!A3636,Gifts!B$4:B$5000)","v":0}]
[null,null,null,{"$f":"SUMIF(Gifts!A$4:A$5000, Donors!A3637,Gifts!B$4:B$5000)","v":0}]
[null,null,null,{"$f":"SUMIF(Gifts!A$4:A$5000, Donors!A3638,Gifts!B$4:B$5000)","v":0}]
[null,null,null,{"$f":"SUMIF(Gifts!A$4:A$5000, Donors!A3639,Gifts!B$4:B$5000)","v":0}]
[null,null,null,{"$f":"SUMIF(Gifts!A$4:A$5000, Donors!A3640,Gifts!B$4:B$5000)","v":0}]
[null,null,null,{"$f":"SUMIF(Gifts!A$4:A$5000, Donors!A3641,Gifts!B$4:B$5000)","v":0}]
[null,null,null,{"$f":"SUMIF(Gifts!A$4:A$5000, Donors!A3642,Gifts!B$4:B$5000)","v":0}]
[null,null,null,{"$f":"SUMIF(Gifts!A$4:A$5000, Donors!A3643,Gifts!B$4:B$5000)","v":0}]
[null,null,null,{"$f":"SUMIF(Gifts!A$4:A$5000, Donors!A3644,Gifts!B$4:B$5000)","v":0}]
[null,null,null,{"$f":"SUMIF(Gifts!A$4:A$5000, Donors!A3645,Gifts!B$4:B$5000)","v":0}]
[null,null,null,{"$f":"SUMIF(Gifts!A$4:A$5000, Donors!A3646,Gifts!B$4:B$5000)","v":0}]
[null,null,null,{"$f":"SUMIF(Gifts!A$4:A$5000, Donors!A3647,Gifts!B$4:B$5000)","v":0}]
[null,null,null,{"$f":"SUMIF(Gifts!A$4:A$5000, Donors!A3648,Gifts!B$4:B$5000)","v":0}]
[null,null,null,{"$f":"SUMIF(Gifts!A$4:A$5000, Donors!A3649,Gifts!B$4:B$5000)","v":0}]
[null,null,null,{"$f":"SUMIF(Gifts!A$4:A$5000, Donors!A3650,Gifts!B$4:B$5000)","v":0}]
[null,null,null,{"$f":"SUMIF(Gifts!A$4:A$5000, Donors!A3651,Gifts!B$4:B$5000)","v":0}]
[null,null,null,{"$f":"SUMIF(Gifts!A$4:A$5000, Donors!A3652,Gifts!B$4:B$5000)","v":0}]
[null,null,null,{"$f":"SUMIF(Gifts!A$4:A$5000, Donors!A3653,Gifts!B$4:B$5000)","v":0}]
[null,null,null,{"$f":"SUMIF(Gifts!A$4:A$5000, Donors!A3654,Gifts!B$4:B$5000)","v":0}]
[null,null,null,{"$f":"SUMIF(Gifts!A$4:A$5000, Donors!A3655,Gifts!B$4:B$5000)","v":0}]
[null,null,null,{"$f":"SUMIF(Gifts!A$4:A$5000, Donors!A3656,Gifts!B$4:B$5000)","v":0}]
[null,null,null,{"$f":"SUMIF(Gifts!A$4:A$5000, Donors!A3657,Gifts!B$4:B$5000)","v":0}]
[null,null,null,{"$f":"SUMIF(Gifts!A$4:A$5000, Donors!A3658,Gifts!B$4:B$5000)","v":0}]
[null,null,null,{"$f":"SUMIF(Gifts!A$4:A$5000, Donors!A3659,Gifts!B$4:B$5000)","v":0}]
[null,null,null,{"$f":"SUMIF(Gifts!A$4:A$5000, Donors!A3660,Gifts!B$4:B$5000)","v":0}]
[null,null,null,{"$f":"SUMIF(Gifts!A$4:A$5000, Donors!A3661,Gifts!B$4:B$5000)","v":0}]
[null,null,null,{"$f":"SUMIF(Gifts!A$4:A$5000, Donors!A3662,Gifts!B$4:B$5000)","v":0}]
[null,null,null,{"$f":"SUMIF(Gifts!A$4:A$5000, Donors!A3663,Gifts!B$4:B$5000)","v":0}]
[null,null,null,{"$f":"SUMIF(Gifts!A$4:A$5000, Donors!A3664,Gifts!B$4:B$5000)","v":0}]
[null,null,null,{"$f":"SUMIF(Gifts!A$4:A$5000, Donors!A3665,Gifts!B$4:B$5000)","v":0}]
[null,null,null,{"$f":"SUMIF(Gifts!A$4:A$5000, Donors!A3666,Gifts!B$4:B$5000)","v":0}]
[null,null,null,{"$f":"SUMIF(Gifts!A$4:A$5000, Donors!A3667,Gifts!B$4:B$5000)","v":0}]
[null,null,null,{"$f":"SUMIF(Gifts!A$4:A$5000, Donors!A3668,Gifts!B$4:B$5000)","v":0}]
[null,null,null,{"$f":"SUMIF(Gifts!A$4:A$5000, Donors!A3669,Gifts!B$4:B$5000)","v":0}]
[null,null,null,{"$f":"SUMIF(Gifts!A$4:A$5000, Donors!A3670,Gifts!B$4:B$5000)","v":0}]
[null,null,null,{"$f":"SUMIF(Gifts!A$4:A$5000, Donors!A3671,Gifts!B$4:B$5000)","v":0}]
[null,null,null,{"$f":"SUMIF(Gifts!A$4:A$5000, Donors!A3672,Gifts!B$4:B$5000)","v":0}]
[null,null,null,{"$f":"SUMIF(Gifts!A$4:A$5000, Donors!A3673,Gifts!B$4:B$5000)","v":0}]
[null,null,null,{"$f":"SUMIF(Gifts!A$4:A$5000, Donors!A3674,Gifts!B$4:B$5000)","v":0}]
[null,null,null,{"$f":"SUMIF(Gifts!A$4:A$5000, Donors!A3675,Gifts!B$4:B$5000)","v":0}]
[null,null,null,{"$f":"SUMIF(Gifts!A$4:A$5000, Donors!A3676,Gifts!B$4:B$5000)","v":0}]
[null,null,null,{"$f":"SUMIF(Gifts!A$4:A$5000, Donors!A3677,Gifts!B$4:B$5000)","v":0}]
[null,null,null,{"$f":"SUMIF(Gifts!A$4:A$5000, Donors!A3678,Gifts!B$4:B$5000)","v":0}]
[null,null,null,{"$f":"SUMIF(Gifts!A$4:A$5000, Donors!A3679,Gifts!B$4:B$5000)","v":0}]
[null,null,null,{"$f":"SUMIF(Gifts!A$4:A$5000, Donors!A3680,Gifts!B$4:B$5000)","v":0}]
[null,null,null,{"$f":"SUMIF(Gifts!A$4:A$5000, Donors!A3681,Gifts!B$4:B$5000)","v":0}]
[null,null,null,{"$f":"SUMIF(Gifts!A$4:A$5000, Donors!A3682,Gifts!B$4:B$5000)","v":0}]
[null,null,null,{"$f":"SUMIF(Gifts!A$4:A$5000, Donors!A3683,Gifts!B$4:B$5000)","v":0}]
[null,null,null,{"$f":"SUMIF(Gifts!A$4:A$5000, Donors!A3684,Gifts!B$4:B$5000)","v":0}]
[null,null,null,{"$f":"SUMIF(Gifts!A$4:A$5000, Donors!A3685,Gifts!B$4:B$5000)","v":0}]
[null,null,null,{"$f":"SUMIF(Gifts!A$4:A$5000, Donors!A3686,Gifts!B$4:B$5000)","v":0}]
[null,null,null,{"$f":"SUMIF(Gifts!A$4:A$5000, Donors!A3687,Gifts!B$4:B$5000)","v":0}]
[null,null,null,{"$f":"SUMIF(Gifts!A$4:A$5000, Donors!A3688,Gifts!B$4:B$5000)","v":0}]
[null,null,null,{"$f":"SUMIF(Gifts!A$4:A$5000, Donors!A3689,Gifts!B$4:B$5000)","v":0}]
[null,null,null,{"$f":"SUMIF(Gifts!A$4:A$5000, Donors!A3690,Gifts!B$4:B$5000)","v":0}]
[null,null,null,{"$f":"SUMIF(Gifts!A$4:A$5000, Donors!A3691,Gifts!B$4:B$5000)","v":0}]
[null,null,null,{"$f":"SUMIF(Gifts!A$4:A$5000, Donors!A3692,Gifts!B$4:B$5000)","v":0}]
[null,null,null,{"$f":"SUMIF(Gifts!A$4:A$5000, Donors!A3693,Gifts!B$4:B$5000)","v":0}]
[null,null,null,{"$f":"SUMIF(Gifts!A$4:A$5000, Donors!A3694,Gifts!B$4:B$5000)","v":0}]
[null,null,null,{"$f":"SUMIF(Gifts!A$4:A$5000, Donors!A3695,Gifts!B$4:B$5000)","v":0}]
[null,null,null,{"$f":"SUMIF(Gifts!A$4:A$5000, Donors!A3696,Gifts!B$4:B$5000)","v":0}]
[null,null,null,{"$f":"SUMIF(Gifts!A$4:A$5000, Donors!A3697,Gifts!B$4:B$5000)","v":0}]
[null,null,null,{"$f":"SUMIF(Gifts!A$4:A$5000, Donors!A3698,Gifts!B$4:B$5000)","v":0}]
[null,null,null,{"$f":"SUMIF(Gifts!A$4:A$5000, Donors!A3699,Gifts!B$4:B$5000)","v":0}]
[null,null,null,{"$f":"SUMIF(Gifts!A$4:A$5000, Donors!A3700,Gifts!B$4:B$5000)","v":0}]
[null,null,null,{"$f":"SUMIF(Gifts!A$4:A$5000, Donors!A3701,Gifts!B$4:B$5000)","v":0}]
[null,null,null,{"$f":"SUMIF(Gifts!A$4:A$5000, Donors!A3702,Gifts!B$4:B$5000)","v":0}]
[null,null,null,{"$f":"SUMIF(Gifts!A$4:A$5000, Donors!A3703,Gifts!B$4:B$5000)","v":0}]
[null,null,null,{"$f":"SUMIF(Gifts!A$4:A$5000, Donors!A3704,Gifts!B$4:B$5000)","v":0}]
[null,null,null,{"$f":"SUMIF(Gifts!A$4:A$5000, Donors!A3705,Gifts!B$4:B$5000)","v":0}]
[null,null,null,{"$f":"SUMIF(Gifts!A$4:A$5000, Donors!A3706,Gifts!B$4:B$5000)","v":0}]
[null,null,null,{"$f":"SUMIF(Gifts!A$4:A$5000, Donors!A3707,Gifts!B$4:B$5000)","v":0}]
[null,null,null,{"$f":"SUMIF(Gifts!A$4:A$5000, Donors!A3708,Gifts!B$4:B$5000)","v":0}]
[null,null,null,{"$f":"SUMIF(Gifts!A$4:A$5000, Donors!A3709,Gifts!B$4:B$5000)","v":0}]
[null,null,null,{"$f":"SUMIF(Gifts!A$4:A$5000, Donors!A3710,Gifts!B$4:B$5000)","v":0}]
[null,null,null,{"$f":"SUMIF(Gifts!A$4:A$5000, Donors!A3711,Gifts!B$4:B$5000)","v":0}]
[null,null,null,{"$f":"SUMIF(Gifts!A$4:A$5000, Donors!A3712,Gifts!B$4:B$5000)","v":0}]
[null,null,null,{"$f":"SUMIF(Gifts!A$4:A$5000, Donors!A3713,Gifts!B$4:B$5000)","v":0}]
[null,null,null,{"$f":"SUMIF(Gifts!A$4:A$5000, Donors!A3714,Gifts!B$4:B$5000)","v":0}]
[null,null,null,{"$f":"SUMIF(Gifts!A$4:A$5000, Donors!A3715,Gifts!B$4:B$5000)","v":0}]
[null,null,null,{"$f":"SUMIF(Gifts!A$4:A$5000, Donors!A3716,Gifts!B$4:B$5000)","v":0}]
[null,null,null,{"$f":"SUMIF(Gifts!A$4:A$5000, Donors!A3717,Gifts!B$4:B$5000)","v":0}]
[null,null,null,{"$f":"SUMIF(Gifts!A$4:A$5000, Donors!A3718,Gifts!B$4:B$5000)","v":0}]
[null,null,null,{"$f":"SUMIF(Gifts!A$4:A$5000, Donors!A3719,Gifts!B$4:B$5000)","v":0}]
[null,null,null,{"$f":"SUMIF(Gifts!A$4:A$5000, Donors!A3720,Gifts!B$4:B$5000)","v":0}]
[null,null,null,{"$f":"SUMIF(Gifts!A$4:A$5000, Donors!A3721,Gifts!B$4:B$5000)","v":0}]
[null,null,null,{"$f":"SUMIF(Gifts!A$4:A$5000, Donors!A3722,Gifts!B$4:B$5000)","v":0}]
[null,null,null,{"$f":"SUMIF(Gifts!A$4:A$5000, Donors!A3723,Gifts!B$4:B$5000)","v":0}]
[null,null,null,{"$f":"SUMIF(Gifts!A$4:A$5000, Donors!A3724,Gifts!B$4:B$5000)","v":0}]
[null,null,null,{"$f":"SUMIF(Gifts!A$4:A$5000, Donors!A3725,Gifts!B$4:B$5000)","v":0}]
[null,null,null,{"$f":"SUMIF(Gifts!A$4:A$5000, Donors!A3726,Gifts!B$4:B$5000)","v":0}]
[null,null,null,{"$f":"SUMIF(Gifts!A$4:A$5000, Donors!A3727,Gifts!B$4:B$5000)","v":0}]
[null,null,null,{"$f":"SUMIF(Gifts!A$4:A$5000, Donors!A3728,Gifts!B$4:B$5000)","v":0}]
[null,null,null,{"$f":"SUMIF(Gifts!A$4:A$5000, Donors!A3729,Gifts!B$4:B$5000)","v":0}]
[null,null,null,{"$f":"SUMIF(Gifts!A$4:A$5000, Donors!A3730,Gifts!B$4:B$5000)","v":0}]
[null,null,null,{"$f":"SUMIF(Gifts!A$4:A$5000, Donors!A3731,Gifts!B$4:B$5000)","v":0}]
[null,null,null,{"$f":"SUMIF(Gifts!A$4:A$5000, Donors!A3732,Gifts!B$4:B$5000)","v":0}]
[null,null,null,{"$f":"SUMIF(Gifts!A$4:A$5000, Donors!A3733,Gifts!B$4:B$5000)","v":0}]
[null,null,null,{"$f":"SUMIF(Gifts!A$4:A$5000, Donors!A3734,Gifts!B$4:B$5000)","v":0}]
[null,null,null,{"$f":"SUMIF(Gifts!A$4:A$5000, Donors!A3735,Gifts!B$4:B$5000)","v":0}]
[null,null,null,{"$f":"SUMIF(Gifts!A$4:A$5000, Donors!A3736,Gifts!B$4:B$5000)","v":0}]
[null,null,null,{"$f":"SUMIF(Gifts!A$4:A$5000, Donors!A3737,Gifts!B$4:B$5000)","v":0}]
[null,null,null,{"$f":"SUMIF(Gifts!A$4:A$5000, Donors!A3738,Gifts!B$4:B$5000)","v":0}]
[null,null,null,{"$f":"SUMIF(Gifts!A$4:A$5000, Donors!A3739,Gifts!B$4:B$5000)","v":0}]
[null,null,null,{"$f":"SUMIF(Gifts!A$4:A$5000, Donors!A3740,Gifts!B$4:B$5000)","v":0}]
[null,null,null,{"$f":"SUMIF(Gifts!A$4:A$5000, Donors!A3741,Gifts!B$4:B$5000)","v":0}]
[null,null,null,{"$f":"SUMIF(Gifts!A$4:A$5000, Donors!A3742,Gifts!B$4:B$5000)","v":0}]
[null,null,null,{"$f":"SUMIF(Gifts!A$4:A$5000, Donors!A3743,Gifts!B$4:B$5000)","v":0}]
[null,null,null,{"$f":"SUMIF(Gifts!A$4:A$5000, Donors!A3744,Gifts!B$4:B$5000)","v":0}]
[null,null,null,{"$f":"SUMIF(Gifts!A$4:A$5000, Donors!A3745,Gifts!B$4:B$5000)","v":0}]
[null,null,null,{"$f":"SUMIF(Gifts!A$4:A$5000, Donors!A3746,Gifts!B$4:B$5000)","v":0}]
[null,null,null,{"$f":"SUMIF(Gifts!A$4:A$5000, Donors!A3747,Gifts!B$4:B$5000)","v":0}]
[null,null,null,{"$f":"SUMIF(Gifts!A$4:A$5000, Donors!A3748,Gifts!B$4:B$5000)","v":0}]
[null,null,null,{"$f":"SUMIF(Gifts!A$4:A$5000, Donors!A3749,Gifts!B$4:B$5000)","v":0}]
[null,null,null,{"$f":"SUMIF(Gifts!A$4:A$5000, Donors!A3750,Gifts!B$4:B$5000)","v":0}]
[null,null,null,{"$f":"SUMIF(Gifts!A$4:A$5000, Donors!A3751,Gifts!B$4:B$5000)","v":0}]
[null,null,null,{"$f":"SUMIF(Gifts!A$4:A$5000, Donors!A3752,Gifts!B$4:B$5000)","v":0}]
[null,null,null,{"$f":"SUMIF(Gifts!A$4:A$5000, Donors!A3753,Gifts!B$4:B$5000)","v":0}]
[null,null,null,{"$f":"SUMIF(Gifts!A$4:A$5000, Donors!A3754,Gifts!B$4:B$5000)","v":0}]
[null,null,null,{"$f":"SUMIF(Gifts!A$4:A$5000, Donors!A3755,Gifts!B$4:B$5000)","v":0}]
[null,null,null,{"$f":"SUMIF(Gifts!A$4:A$5000, Donors!A3756,Gifts!B$4:B$5000)","v":0}]
[null,null,null,{"$f":"SUMIF(Gifts!A$4:A$5000, Donors!A3757,Gifts!B$4:B$5000)","v":0}]
[null,null,null,{"$f":"SUMIF(Gifts!A$4:A$5000, Donors!A3758,Gifts!B$4:B$5000)","v":0}]
[null,null,null,{"$f":"SUMIF(Gifts!A$4:A$5000, Donors!A3759,Gifts!B$4:B$5000)","v":0}]
[null,null,null,{"$f":"SUMIF(Gifts!A$4:A$5000, Donors!A3760,Gifts!B$4:B$5000)","v":0}]
[null,null,null,{"$f":"SUMIF(Gifts!A$4:A$5000, Donors!A3761,Gifts!B$4:B$5000)","v":0}]
[null,null,null,{"$f":"SUMIF(Gifts!A$4:A$5000, Donors!A3762,Gifts!B$4:B$5000)","v":0}]
[null,null,null,{"$f":"SUMIF(Gifts!A$4:A$5000, Donors!A3763,Gifts!B$4:B$5000)","v":0}]
[null,null,null,{"$f":"SUMIF(Gifts!A$4:A$5000, Donors!A3764,Gifts!B$4:B$5000)","v":0}]
[null,null,null,{"$f":"SUMIF(Gifts!A$4:A$5000, Donors!A3765,Gifts!B$4:B$5000)","v":0}]
[null,null,null,{"$f":"SUMIF(Gifts!A$4:A$5000, Donors!A3766,Gifts!B$4:B$5000)","v":0}]
[null,null,null,{"$f":"SUMIF(Gifts!A$4:A$5000, Donors!A3767,Gifts!B$4:B$5000)","v":0}]
[null,null,null,{"$f":"SUMIF(Gifts!A$4:A$5000, Donors!A3768,Gifts!B$4:B$5000)","v":0}]
[null,null,null,{"$f":"SUMIF(Gifts!A$4:A$5000, Donors!A3769,Gifts!B$4:B$5000)","v":0}]
[null,null,null,{"$f":"SUMIF(Gifts!A$4:A$5000, Donors!A3770,Gifts!B$4:B$5000)","v":0}]
[null,null,null,{"$f":"SUMIF(Gifts!A$4:A$5000, Donors!A3771,Gifts!B$4:B$5000)","v":0}]
[null,null,null,{"$f":"SUMIF(Gifts!A$4:A$5000, Donors!A3772,Gifts!B$4:B$5000)","v":0}]
[null,null,null,{"$f":"SUMIF(Gifts!A$4:A$5000, Donors!A3773,Gifts!B$4:B$5000)","v":0}]
[null,null,null,{"$f":"SUMIF(Gifts!A$4:A$5000, Donors!A3774,Gifts!B$4:B$5000)","v":0}]
[null,null,null,{"$f":"SUMIF(Gifts!A$4:A$5000, Donors!A3775,Gifts!B$4:B$5000)","v":0}]
[null,null,null,{"$f":"SUMIF(Gifts!A$4:A$5000, Donors!A3776,Gifts!B$4:B$5000)","v":0}]
[null,null,null,{"$f":"SUMIF(Gifts!A$4:A$5000, Donors!A3777,Gifts!B$4:B$5000)","v":0}]
[null,null,null,{"$f":"SUMIF(Gifts!A$4:A$5000, Donors!A3778,Gifts!B$4:B$5000)","v":0}]
[null,null,null,{"$f":"SUMIF(Gifts!A$4:A$5000, Donors!A3779,Gifts!B$4:B$5000)","v":0}]
[null,null,null,{"$f":"SUMIF(Gifts!A$4:A$5000, Donors!A3780,Gifts!B$4:B$5000)","v":0}]
[null,null,null,{"$f":"SUMIF(Gifts!A$4:A$5000, Donors!A3781,Gifts!B$4:B$5000)","v":0}]
[null,null,null,{"$f":"SUMIF(Gifts!A$4:A$5000, Donors!A3782,Gifts!B$4:B$5000)","v":0}]
[null,null,null,{"$f":"SUMIF(Gifts!A$4:A$5000, Donors!A3783,Gifts!B$4:B$5000)","v":0}]
[null,null,null,{"$f":"SUMIF(Gifts!A$4:A$5000, Donors!A3784,Gifts!B$4:B$5000)","v":0}]
[null,null,null,{"$f":"SUMIF(Gifts!A$4:A$5000, Donors!A3785,Gifts!B$4:B$5000)","v":0}]
[null,null,null,{"$f":"SUMIF(Gifts!A$4:A$5000, Donors!A3786,Gifts!B$4:B$5000)","v":0}]
[null,null,null,{"$f":"SUMIF(Gifts!A$4:A$5000, Donors!A3787,Gifts!B$4:B$5000)","v":0}]
[null,null,null,{"$f":"SUMIF(Gifts!A$4:A$5000, Donors!A3788,Gifts!B$4:B$5000)","v":0}]
[null,null,null,{"$f":"SUMIF(Gifts!A$4:A$5000, Donors!A3789,Gifts!B$4:B$5000)","v":0}]
[null,null,null,{"$f":"SUMIF(Gifts!A$4:A$5000, Donors!A3790,Gifts!B$4:B$5000)","v":0}]
[null,null,null,{"$f":"SUMIF(Gifts!A$4:A$5000, Donors!A3791,Gifts!B$4:B$5000)","v":0}]
[null,null,null,{"$f":"SUMIF(Gifts!A$4:A$5000, Donors!A3792,Gifts!B$4:B$5000)","v":0}]
[null,null,null,{"$f":"SUMIF(Gifts!A$4:A$5000, Donors!A3793,Gifts!B$4:B$5000)","v":0}]
[null,null,null,{"$f":"SUMIF(Gifts!A$4:A$5000, Donors!A3794,Gifts!B$4:B$5000)","v":0}]
[null,null,null,{"$f":"SUMIF(Gifts!A$4:A$5000, Donors!A3795,Gifts!B$4:B$5000)","v":0}]
[null,null,null,{"$f":"SUMIF(Gifts!A$4:A$5000, Donors!A3796,Gifts!B$4:B$5000)","v":0}]
[null,null,null,{"$f":"SUMIF(Gifts!A$4:A$5000, Donors!A3797,Gifts!B$4:B$5000)","v":0}]
[null,null,null,{"$f":"SUMIF(Gifts!A$4:A$5000, Donors!A3798,Gifts!B$4:B$5000)","v":0}]
[null,null,null,{"$f":"SUMIF(Gifts!A$4:A$5000, Donors!A3799,Gifts!B$4:B$5000)","v":0}]
[null,null,null,{"$f":"SUMIF(Gifts!A$4:A$5000, Donors!A3800,Gifts!B$4:B$5000)","v":0}]
[null,null,null,{"$f":"SUMIF(Gifts!A$4:A$5000, Donors!A3801,Gifts!B$4:B$5000)","v":0}]
[null,null,null,{"$f":"SUMIF(Gifts!A$4:A$5000, Donors!A3802,Gifts!B$4:B$5000)","v":0}]
[null,null,null,{"$f":"SUMIF(Gifts!A$4:A$5000, Donors!A3803,Gifts!B$4:B$5000)","v":0}]
[null,null,null,{"$f":"SUMIF(Gifts!A$4:A$5000, Donors!A3804,Gifts!B$4:B$5000)","v":0}]
[null,null,null,{"$f":"SUMIF(Gifts!A$4:A$5000, Donors!A3805,Gifts!B$4:B$5000)","v":0}]
[null,null,null,{"$f":"SUMIF(Gifts!A$4:A$5000, Donors!A3806,Gifts!B$4:B$5000)","v":0}]
[null,null,null,{"$f":"SUMIF(Gifts!A$4:A$5000, Donors!A3807,Gifts!B$4:B$5000)","v":0}]
[null,null,null,{"$f":"SUMIF(Gifts!A$4:A$5000, Donors!A3808,Gifts!B$4:B$5000)","v":0}]
[null,null,null,{"$f":"SUMIF(Gifts!A$4:A$5000, Donors!A3809,Gifts!B$4:B$5000)","v":0}]
[null,null,null,{"$f":"SUMIF(Gifts!A$4:A$5000, Donors!A3810,Gifts!B$4:B$5000)","v":0}]
[null,null,null,{"$f":"SUMIF(Gifts!A$4:A$5000, Donors!A3811,Gifts!B$4:B$5000)","v":0}]
[null,null,null,{"$f":"SUMIF(Gifts!A$4:A$5000, Donors!A3812,Gifts!B$4:B$5000)","v":0}]
[null,null,null,{"$f":"SUMIF(Gifts!A$4:A$5000, Donors!A3813,Gifts!B$4:B$5000)","v":0}]
[null,null,null,{"$f":"SUMIF(Gifts!A$4:A$5000, Donors!A3814,Gifts!B$4:B$5000)","v":0}]
[null,null,null,{"$f":"SUMIF(Gifts!A$4:A$5000, Donors!A3815,Gifts!B$4:B$5000)","v":0}]
[null,null,null,{"$f":"SUMIF(Gifts!A$4:A$5000, Donors!A3816,Gifts!B$4:B$5000)","v":0}]
[null,null,null,{"$f":"SUMIF(Gifts!A$4:A$5000, Donors!A3817,Gifts!B$4:B$5000)","v":0}]
[null,null,null,{"$f":"SUMIF(Gifts!A$4:A$5000, Donors!A3818,Gifts!B$4:B$5000)","v":0}]
[null,null,null,{"$f":"SUMIF(Gifts!A$4:A$5000, Donors!A3819,Gifts!B$4:B$5000)","v":0}]
[null,null,null,{"$f":"SUMIF(Gifts!A$4:A$5000, Donors!A3820,Gifts!B$4:B$5000)","v":0}]
[null,null,null,{"$f":"SUMIF(Gifts!A$4:A$5000, Donors!A3821,Gifts!B$4:B$5000)","v":0}]
[null,null,null,{"$f":"SUMIF(Gifts!A$4:A$5000, Donors!A3822,Gifts!B$4:B$5000)","v":0}]
[null,null,null,{"$f":"SUMIF(Gifts!A$4:A$5000, Donors!A3823,Gifts!B$4:B$5000)","v":0}]
[null,null,null,{"$f":"SUMIF(Gifts!A$4:A$5000, Donors!A3824,Gifts!B$4:B$5000)","v":0}]
[null,null,null,{"$f":"SUMIF(Gifts!A$4:A$5000, Donors!A3825,Gifts!B$4:B$5000)","v":0}]
[null,null,null,{"$f":"SUMIF(Gifts!A$4:A$5000, Donors!A3826,Gifts!B$4:B$5000)","v":0}]
[null,null,null,{"$f":"SUMIF(Gifts!A$4:A$5000, Donors!A3827,Gifts!B$4:B$5000)","v":0}]
[null,null,null,{"$f":"SUMIF(Gifts!A$4:A$5000, Donors!A3828,Gifts!B$4:B$5000)","v":0}]
[null,null,null,{"$f":"SUMIF(Gifts!A$4:A$5000, Donors!A3829,Gifts!B$4:B$5000)","v":0}]
[null,null,null,{"$f":"SUMIF(Gifts!A$4:A$5000, Donors!A3830,Gifts!B$4:B$5000)","v":0}]
[null,null,null,{"$f":"SUMIF(Gifts!A$4:A$5000, Donors!A3831,Gifts!B$4:B$5000)","v":0}]
[null,null,null,{"$f":"SUMIF(Gifts!A$4:A$5000, Donors!A3832,Gifts!B$4:B$5000)","v":0}]
[null,null,null,{"$f":"SUMIF(Gifts!A$4:A$5000, Donors!A3833,Gifts!B$4:B$5000)","v":0}]
[null,null,null,{"$f":"SUMIF(Gifts!A$4:A$5000, Donors!A3834,Gifts!B$4:B$5000)","v":0}]
[null,null,null,{"$f":"SUMIF(Gifts!A$4:A$5000, Donors!A3835,Gifts!B$4:B$5000)","v":0}]
[null,null,null,{"$f":"SUMIF(Gifts!A$4:A$5000, Donors!A3836,Gifts!B$4:B$5000)","v":0}]
[null,null,null,{"$f":"SUMIF(Gifts!A$4:A$5000, Donors!A3837,Gifts!B$4:B$5000)","v":0}]
[null,null,null,{"$f":"SUMIF(Gifts!A$4:A$5000, Donors!A3838,Gifts!B$4:B$5000)","v":0}]
[null,null,null,{"$f":"SUMIF(Gifts!A$4:A$5000, Donors!A3839,Gifts!B$4:B$5000)","v":0}]
[null,null,null,{"$f":"SUMIF(Gifts!A$4:A$5000, Donors!A3840,Gifts!B$4:B$5000)","v":0}]
[null,null,null,{"$f":"SUMIF(Gifts!A$4:A$5000, Donors!A3841,Gifts!B$4:B$5000)","v":0}]
[null,null,null,{"$f":"SUMIF(Gifts!A$4:A$5000, Donors!A3842,Gifts!B$4:B$5000)","v":0}]
[null,null,null,{"$f":"SUMIF(Gifts!A$4:A$5000, Donors!A3843,Gifts!B$4:B$5000)","v":0}]
[null,null,null,{"$f":"SUMIF(Gifts!A$4:A$5000, Donors!A3844,Gifts!B$4:B$5000)","v":0}]
[null,null,null,{"$f":"SUMIF(Gifts!A$4:A$5000, Donors!A3845,Gifts!B$4:B$5000)","v":0}]
[null,null,null,{"$f":"SUMIF(Gifts!A$4:A$5000, Donors!A3846,Gifts!B$4:B$5000)","v":0}]
[null,null,null,{"$f":"SUMIF(Gifts!A$4:A$5000, Donors!A3847,Gifts!B$4:B$5000)","v":0}]
[null,null,null,{"$f":"SUMIF(Gifts!A$4:A$5000, Donors!A3848,Gifts!B$4:B$5000)","v":0}]
[null,null,null,{"$f":"SUMIF(Gifts!A$4:A$5000, Donors!A3849,Gifts!B$4:B$5000)","v":0}]
[null,null,null,{"$f":"SUMIF(Gifts!A$4:A$5000, Donors!A3850,Gifts!B$4:B$5000)","v":0}]
[null,null,null,{"$f":"SUMIF(Gifts!A$4:A$5000, Donors!A3851,Gifts!B$4:B$5000)","v":0}]
[null,null,null,{"$f":"SUMIF(Gifts!A$4:A$5000, Donors!A3852,Gifts!B$4:B$5000)","v":0}]
[null,null,null,{"$f":"SUMIF(Gifts!A$4:A$5000, Donors!A3853,Gifts!B$4:B$5000)","v":0}]
[null,null,null,{"$f":"SUMIF(Gifts!A$4:A$5000, Donors!A3854,Gifts!B$4:B$5000)","v":0}]
[null,null,null,{"$f":"SUMIF(Gifts!A$4:A$5000, Donors!A3855,Gifts!B$4:B$5000)","v":0}]
[null,null,null,{"$f":"SUMIF(Gifts!A$4:A$5000, Donors!A3856,Gifts!B$4:B$5000)","v":0}]
[null,null,null,{"$f":"SUMIF(Gifts!A$4:A$5000, Donors!A3857,Gifts!B$4:B$5000)","v":0}]
[null,null,null,{"$f":"SUMIF(Gifts!A$4:A$5000, Donors!A3858,Gifts!B$4:B$5000)","v":0}]
[null,null,null,{"$f":"SUMIF(Gifts!A$4:A$5000, Donors!A3859,Gifts!B$4:B$5000)","v":0}]
[null,null,null,{"$f":"SUMIF(Gifts!A$4:A$5000, Donors!A3860,Gifts!B$4:B$5000)","v":0}]
[null,null,null,{"$f":"SUMIF(Gifts!A$4:A$5000, Donors!A3861,Gifts!B$4:B$5000)","v":0}]
[null,null,null,{"$f":"SUMIF(Gifts!A$4:A$5000, Donors!A3862,Gifts!B$4:B$5000)","v":0}]
[null,null,null,{"$f":"SUMIF(Gifts!A$4:A$5000, Donors!A3863,Gifts!B$4:B$5000)","v":0}]
[null,null,null,{"$f":"SUMIF(Gifts!A$4:A$5000, Donors!A3864,Gifts!B$4:B$5000)","v":0}]
[null,null,null,{"$f":"SUMIF(Gifts!A$4:A$5000, Donors!A3865,Gifts!B$4:B$5000)","v":0}]
[null,null,null,{"$f":"SUMIF(Gifts!A$4:A$5000, Donors!A3866,Gifts!B$4:B$5000)","v":0}]
[null,null,null,{"$f":"SUMIF(Gifts!A$4:A$5000, Donors!A3867,Gifts!B$4:B$5000)","v":0}]
[null,null,null,{"$f":"SUMIF(Gifts!A$4:A$5000, Donors!A3868,Gifts!B$4:B$5000)","v":0}]
[null,null,null,{"$f":"SUMIF(Gifts!A$4:A$5000, Donors!A3869,Gifts!B$4:B$5000)","v":0}]
[null,null,null,{"$f":"SUMIF(Gifts!A$4:A$5000, Donors!A3870,Gifts!B$4:B$5000)","v":0}]
[null,null,null,{"$f":"SUMIF(Gifts!A$4:A$5000, Donors!A3871,Gifts!B$4:B$5000)","v":0}]
[null,null,null,{"$f":"SUMIF(Gifts!A$4:A$5000, Donors!A3872,Gifts!B$4:B$5000)","v":0}]
[null,null,null,{"$f":"SUMIF(Gifts!A$4:A$5000, Donors!A3873,Gifts!B$4:B$5000)","v":0}]
[null,null,null,{"$f":"SUMIF(Gifts!A$4:A$5000, Donors!A3874,Gifts!B$4:B$5000)","v":0}]
[null,null,null,{"$f":"SUMIF(Gifts!A$4:A$5000, Donors!A3875,Gifts!B$4:B$5000)","v":0}]
[null,null,null,{"$f":"SUMIF(Gifts!A$4:A$5000, Donors!A3876,Gifts!B$4:B$5000)","v":0}]
[null,null,null,{"$f":"SUMIF(Gifts!A$4:A$5000, Donors!A3877,Gifts!B$4:B$5000)","v":0}]
[null,null,null,{"$f":"SUMIF(Gifts!A$4:A$5000, Donors!A3878,Gifts!B$4:B$5000)","v":0}]
[null,null,null,{"$f":"SUMIF(Gifts!A$4:A$5000, Donors!A3879,Gifts!B$4:B$5000)","v":0}]
[null,null,null,{"$f":"SUMIF(Gifts!A$4:A$5000, Donors!A3880,Gifts!B$4:B$5000)","v":0}]
[null,null,null,{"$f":"SUMIF(Gifts!A$4:A$5000, Donors!A3881,Gifts!B$4:B$5000)","v":0}]
[null,null,null,{"$f":"SUMIF(Gifts!A$4:A$5000, Donors!A3882,Gifts!B$4:B$5000)","v":0}]
[null,null,null,{"$f":"SUMIF(Gifts!A$4:A$5000, Donors!A3883,Gifts!B$4:B$5000)","v":0}]
[null,null,null,{"$f":"SUMIF(Gifts!A$4:A$5000, Donors!A3884,Gifts!B$4:B$5000)","v":0}]
[null,null,null,{"$f":"SUMIF(Gifts!A$4:A$5000, Donors!A3885,Gifts!B$4:B$5000)","v":0}]
[null,null,null,{"$f":"SUMIF(Gifts!A$4:A$5000, Donors!A3886,Gifts!B$4:B$5000)","v":0}]
[null,null,null,{"$f":"SUMIF(Gifts!A$4:A$5000, Donors!A3887,Gifts!B$4:B$5000)","v":0}]
[null,null,null,{"$f":"SUMIF(Gifts!A$4:A$5000, Donors!A3888,Gifts!B$4:B$5000)","v":0}]
[null,null,null,{"$f":"SUMIF(Gifts!A$4:A$5000, Donors!A3889,Gifts!B$4:B$5000)","v":0}]
[null,null,null,{"$f":"SUMIF(Gifts!A$4:A$5000, Donors!A3890,Gifts!B$4:B$5000)","v":0}]
[null,null,null,{"$f":"SUMIF(Gifts!A$4:A$5000, Donors!A3891,Gifts!B$4:B$5000)","v":0}]
[null,null,null,{"$f":"SUMIF(Gifts!A$4:A$5000, Donors!A3892,Gifts!B$4:B$5000)","v":0}]
[null,null,null,{"$f":"SUMIF(Gifts!A$4:A$5000, Donors!A3893,Gifts!B$4:B$5000)","v":0}]
[null,null,null,{"$f":"SUMIF(Gifts!A$4:A$5000, Donors!A3894,Gifts!B$4:B$5000)","v":0}]
[null,null,null,{"$f":"SUMIF(Gifts!A$4:A$5000, Donors!A3895,Gifts!B$4:B$5000)","v":0}]
[null,null,null,{"$f":"SUMIF(Gifts!A$4:A$5000, Donors!A3896,Gifts!B$4:B$5000)","v":0}]
[null,null,null,{"$f":"SUMIF(Gifts!A$4:A$5000, Donors!A3897,Gifts!B$4:B$5000)","v":0}]
[null,null,null,{"$f":"SUMIF(Gifts!A$4:A$5000, Donors!A3898,Gifts!B$4:B$5000)","v":0}]
[null,null,null,{"$f":"SUMIF(Gifts!A$4:A$5000, Donors!A3899,Gifts!B$4:B$5000)","v":0}]
[null,null,null,{"$f":"SUMIF(Gifts!A$4:A$5000, Donors!A3900,Gifts!B$4:B$5000)","v":0}]
[null,null,null,{"$f":"SUMIF(Gifts!A$4:A$5000, Donors!A3901,Gifts!B$4:B$5000)","v":0}]
[null,null,null,{"$f":"SUMIF(Gifts!A$4:A$5000, Donors!A3902,Gifts!B$4:B$5000)","v":0}]
[null,null,null,{"$f":"SUMIF(Gifts!A$4:A$5000, Donors!A3903,Gifts!B$4:B$5000)","v":0}]
[null,null,null,{"$f":"SUMIF(Gifts!A$4:A$5000, Donors!A3904,Gifts!B$4:B$5000)","v":0}]
[null,null,null,{"$f":"SUMIF(Gifts!A$4:A$5000, Donors!A3905,Gifts!B$4:B$5000)","v":0}]
[null,null,null,{"$f":"SUMIF(Gifts!A$4:A$5000, Donors!A3906,Gifts!B$4:B$5000)","v":0}]
[null,null,null,{"$f":"SUMIF(Gifts!A$4:A$5000, Donors!A3907,Gifts!B$4:B$5000)","v":0}]
[null,null,null,{"$f":"SUMIF(Gifts!A$4:A$5000, Donors!A3908,Gifts!B$4:B$5000)","v":0}]
[null,null,null,{"$f":"SUMIF(Gifts!A$4:A$5000, Donors!A3909,Gifts!B$4:B$5000)","v":0}]
[null,null,null,{"$f":"SUMIF(Gifts!A$4:A$5000, Donors!A3910,Gifts!B$4:B$5000)","v":0}]
[null,null,null,{"$f":"SUMIF(Gifts!A$4:A$5000, Donors!A3911,Gifts!B$4:B$5000)","v":0}]
[null,null,null,{"$f":"SUMIF(Gifts!A$4:A$5000, Donors!A3912,Gifts!B$4:B$5000)","v":0}]
[null,null,null,{"$f":"SUMIF(Gifts!A$4:A$5000, Donors!A3913,Gifts!B$4:B$5000)","v":0}]
[null,null,null,{"$f":"SUMIF(Gifts!A$4:A$5000, Donors!A3914,Gifts!B$4:B$5000)","v":0}]
[null,null,null,{"$f":"SUMIF(Gifts!A$4:A$5000, Donors!A3915,Gifts!B$4:B$5000)","v":0}]
[null,null,null,{"$f":"SUMIF(Gifts!A$4:A$5000, Donors!A3916,Gifts!B$4:B$5000)","v":0}]
[null,null,null,{"$f":"SUMIF(Gifts!A$4:A$5000, Donors!A3917,Gifts!B$4:B$5000)","v":0}]
[null,null,null,{"$f":"SUMIF(Gifts!A$4:A$5000, Donors!A3918,Gifts!B$4:B$5000)","v":0}]
[null,null,null,{"$f":"SUMIF(Gifts!A$4:A$5000, Donors!A3919,Gifts!B$4:B$5000)","v":0}]
[null,null,null,{"$f":"SUMIF(Gifts!A$4:A$5000, Donors!A3920,Gifts!B$4:B$5000)","v":0}]
[null,null,null,{"$f":"SUMIF(Gifts!A$4:A$5000, Donors!A3921,Gifts!B$4:B$5000)","v":0}]
[null,null,null,{"$f":"SUMIF(Gifts!A$4:A$5000, Donors!A3922,Gifts!B$4:B$5000)","v":0}]
[null,null,null,{"$f":"SUMIF(Gifts!A$4:A$5000, Donors!A3923,Gifts!B$4:B$5000)","v":0}]
[null,null,null,{"$f":"SUMIF(Gifts!A$4:A$5000, Donors!A3924,Gifts!B$4:B$5000)","v":0}]
[null,null,null,{"$f":"SUMIF(Gifts!A$4:A$5000, Donors!A3925,Gifts!B$4:B$5000)","v":0}]
[null,null,null,{"$f":"SUMIF(Gifts!A$4:A$5000, Donors!A3926,Gifts!B$4:B$5000)","v":0}]
[null,null,null,{"$f":"SUMIF(Gifts!A$4:A$5000, Donors!A3927,Gifts!B$4:B$5000)","v":0}]
[null,null,null,{"$f":"SUMIF(Gifts!A$4:A$5000, Donors!A3928,Gifts!B$4:B$5000)","v":0}]
[null,null,null,{"$f":"SUMIF(Gifts!A$4:A$5000, Donors!A3929,Gifts!B$4:B$5000)","v":0}]
[null,null,null,{"$f":"SUMIF(Gifts!A$4:A$5000, Donors!A3930,Gifts!B$4:B$5000)","v":0}]
[null,null,null,{"$f":"SUMIF(Gifts!A$4:A$5000, Donors!A3931,Gifts!B$4:B$5000)","v":0}]
[null,null,null,{"$f":"SUMIF(Gifts!A$4:A$5000, Donors!A3932,Gifts!B$4:B$5000)","v":0}]
[null,null,null,{"$f":"SUMIF(Gifts!A$4:A$5000, Donors!A3933,Gifts!B$4:B$5000)","v":0}]
[null,null,null,{"$f":"SUMIF(Gifts!A$4:A$5000, Donors!A3934,Gifts!B$4:B$5000)","v":0}]
[null,null,null,{"$f":"SUMIF(Gifts!A$4:A$5000, Donors!A3935,Gifts!B$4:B$5000)","v":0}]
[null,null,null,{"$f":"SUMIF(Gifts!A$4:A$5000, Donors!A3936,Gifts!B$4:B$5000)","v":0}]
[null,null,null,{"$f":"SUMIF(Gifts!A$4:A$5000, Donors!A3937,Gifts!B$4:B$5000)","v":0}]
[null,null,null,{"$f":"SUMIF(Gifts!A$4:A$5000, Donors!A3938,Gifts!B$4:B$5000)","v":0}]
[null,null,null,{"$f":"SUMIF(Gifts!A$4:A$5000, Donors!A3939,Gifts!B$4:B$5000)","v":0}]
[null,null,null,{"$f":"SUMIF(Gifts!A$4:A$5000, Donors!A3940,Gifts!B$4:B$5000)","v":0}]
[null,null,null,{"$f":"SUMIF(Gifts!A$4:A$5000, Donors!A3941,Gifts!B$4:B$5000)","v":0}]
[null,null,null,{"$f":"SUMIF(Gifts!A$4:A$5000, Donors!A3942,Gifts!B$4:B$5000)","v":0}]
[null,null,null,{"$f":"SUMIF(Gifts!A$4:A$5000, Donors!A3943,Gifts!B$4:B$5000)","v":0}]
[null,null,null,{"$f":"SUMIF(Gifts!A$4:A$5000, Donors!A3944,Gifts!B$4:B$5000)","v":0}]
[null,null,null,{"$f":"SUMIF(Gifts!A$4:A$5000, Donors!A3945,Gifts!B$4:B$5000)","v":0}]
[null,null,null,{"$f":"SUMIF(Gifts!A$4:A$5000, Donors!A3946,Gifts!B$4:B$5000)","v":0}]
[null,null,null,{"$f":"SUMIF(Gifts!A$4:A$5000, Donors!A3947,Gifts!B$4:B$5000)","v":0}]
[null,null,null,{"$f":"SUMIF(Gifts!A$4:A$5000, Donors!A3948,Gifts!B$4:B$5000)","v":0}]
[null,null,null,{"$f":"SUMIF(Gifts!A$4:A$5000, Donors!A3949,Gifts!B$4:B$5000)","v":0}]
[null,null,null,{"$f":"SUMIF(Gifts!A$4:A$5000, Donors!A3950,Gifts!B$4:B$5000)","v":0}]
[null,null,null,{"$f":"SUMIF(Gifts!A$4:A$5000, Donors!A3951,Gifts!B$4:B$5000)","v":0}]
[null,null,null,{"$f":"SUMIF(Gifts!A$4:A$5000, Donors!A3952,Gifts!B$4:B$5000)","v":0}]
[null,null,null,{"$f":"SUMIF(Gifts!A$4:A$5000, Donors!A3953,Gifts!B$4:B$5000)","v":0}]
[null,null,null,{"$f":"SUMIF(Gifts!A$4:A$5000, Donors!A3954,Gifts!B$4:B$5000)","v":0}]
[null,null,null,{"$f":"SUMIF(Gifts!A$4:A$5000, Donors!A3955,Gifts!B$4:B$5000)","v":0}]
[null,null,null,{"$f":"SUMIF(Gifts!A$4:A$5000, Donors!A3956,Gifts!B$4:B$5000)","v":0}]
[null,null,null,{"$f":"SUMIF(Gifts!A$4:A$5000, Donors!A3957,Gifts!B$4:B$5000)","v":0}]
[null,null,null,{"$f":"SUMIF(Gifts!A$4:A$5000, Donors!A3958,Gifts!B$4:B$5000)","v":0}]
[null,null,null,{"$f":"SUMIF(Gifts!A$4:A$5000, Donors!A3959,Gifts!B$4:B$5000)","v":0}]
[null,null,null,{"$f":"SUMIF(Gifts!A$4:A$5000, Donors!A3960,Gifts!B$4:B$5000)","v":0}]
[null,null,null,{"$f":"SUMIF(Gifts!A$4:A$5000, Donors!A3961,Gifts!B$4:B$5000)","v":0}]
[null,null,null,{"$f":"SUMIF(Gifts!A$4:A$5000, Donors!A3962,Gifts!B$4:B$5000)","v":0}]
[null,null,null,{"$f":"SUMIF(Gifts!A$4:A$5000, Donors!A3963,Gifts!B$4:B$5000)","v":0}]
[null,null,null,{"$f":"SUMIF(Gifts!A$4:A$5000, Donors!A3964,Gifts!B$4:B$5000)","v":0}]
[null,null,null,{"$f":"SUMIF(Gifts!A$4:A$5000, Donors!A3965,Gifts!B$4:B$5000)","v":0}]
[null,null,null,{"$f":"SUMIF(Gifts!A$4:A$5000, Donors!A3966,Gifts!B$4:B$5000)","v":0}]
[null,null,null,{"$f":"SUMIF(Gifts!A$4:A$5000, Donors!A3967,Gifts!B$4:B$5000)","v":0}]
[null,null,null,{"$f":"SUMIF(Gifts!A$4:A$5000, Donors!A3968,Gifts!B$4:B$5000)","v":0}]
[null,null,null,{"$f":"SUMIF(Gifts!A$4:A$5000, Donors!A3969,Gifts!B$4:B$5000)","v":0}]
[null,null,null,{"$f":"SUMIF(Gifts!A$4:A$5000, Donors!A3970,Gifts!B$4:B$5000)","v":0}]
[null,null,null,{"$f":"SUMIF(Gifts!A$4:A$5000, Donors!A3971,Gifts!B$4:B$5000)","v":0}]
[null,null,null,{"$f":"SUMIF(Gifts!A$4:A$5000, Donors!A3972,Gifts!B$4:B$5000)","v":0}]
[null,null,null,{"$f":"SUMIF(Gifts!A$4:A$5000, Donors!A3973,Gifts!B$4:B$5000)","v":0}]
[null,null,null,{"$f":"SUMIF(Gifts!A$4:A$5000, Donors!A3974,Gifts!B$4:B$5000)","v":0}]
[null,null,null,{"$f":"SUMIF(Gifts!A$4:A$5000, Donors!A3975,Gifts!B$4:B$5000)","v":0}]
[null,null,null,{"$f":"SUMIF(Gifts!A$4:A$5000, Donors!A3976,Gifts!B$4:B$5000)","v":0}]
[null,null,null,{"$f":"SUMIF(Gifts!A$4:A$5000, Donors!A3977,Gifts!B$4:B$5000)","v":0}]
[null,null,null,{"$f":"SUMIF(Gifts!A$4:A$5000, Donors!A3978,Gifts!B$4:B$5000)","v":0}]
[null,null,null,{"$f":"SUMIF(Gifts!A$4:A$5000, Donors!A3979,Gifts!B$4:B$5000)","v":0}]
[null,null,null,{"$f":"SUMIF(Gifts!A$4:A$5000, Donors!A3980,Gifts!B$4:B$5000)","v":0}]
[null,null,null,{"$f":"SUMIF(Gifts!A$4:A$5000, Donors!A3981,Gifts!B$4:B$5000)","v":0}]
[null,null,null,{"$f":"SUMIF(Gifts!A$4:A$5000, Donors!A3982,Gifts!B$4:B$5000)","v":0}]
[null,null,null,{"$f":"SUMIF(Gifts!A$4:A$5000, Donors!A3983,Gifts!B$4:B$5000)","v":0}]
[null,null,null,{"$f":"SUMIF(Gifts!A$4:A$5000, Donors!A3984,Gifts!B$4:B$5000)","v":0}]
[null,null,null,{"$f":"SUMIF(Gifts!A$4:A$5000, Donors!A3985,Gifts!B$4:B$5000)","v":0}]
[null,null,null,{"$f":"SUMIF(Gifts!A$4:A$5000, Donors!A3986,Gifts!B$4:B$5000)","v":0}]
[null,null,null,{"$f":"SUMIF(Gifts!A$4:A$5000, Donors!A3987,Gifts!B$4:B$5000)","v":0}]
[null,null,null,{"$f":"SUMIF(Gifts!A$4:A$5000, Donors!A3988,Gifts!B$4:B$5000)","v":0}]
[null,null,null,{"$f":"SUMIF(Gifts!A$4:A$5000, Donors!A3989,Gifts!B$4:B$5000)","v":0}]
[null,null,null,{"$f":"SUMIF(Gifts!A$4:A$5000, Donors!A3990,Gifts!B$4:B$5000)","v":0}]
[null,null,null,{"$f":"SUMIF(Gifts!A$4:A$5000, Donors!A3991,Gifts!B$4:B$5000)","v":0}]
[null,null,null,{"$f":"SUMIF(Gifts!A$4:A$5000, Donors!A3992,Gifts!B$4:B$5000)","v":0}]
[null,null,null,{"$f":"SUMIF(Gifts!A$4:A$5000, Donors!A3993,Gifts!B$4:B$5000)","v":0}]
[null,null,null,{"$f":"SUMIF(Gifts!A$4:A$5000, Donors!A3994,Gifts!B$4:B$5000)","v":0}]
[null,null,null,{"$f":"SUMIF(Gifts!A$4:A$5000, Donors!A3995,Gifts!B$4:B$5000)","v":0}]
[null,null,null,{"$f":"SUMIF(Gifts!A$4:A$5000, Donors!A3996,Gifts!B$4:B$5000)","v":0}]
[null,null,null,{"$f":"SUMIF(Gifts!A$4:A$5000, Donors!A3997,Gifts!B$4:B$5000)","v":0}]
[null,null,null,{"$f":"SUMIF(Gifts!A$4:A$5000, Donors!A3998,Gifts!B$4:B$5000)","v":0}]
[null,null,null,{"$f":"SUMIF(Gifts!A$4:A$5000, Donors!A3999,Gifts!B$4:B$5000)","v":0}]
[null,null,null,{"$f":"SUMIF(Gifts!A$4:A$5000, Donors!A4000,Gifts!B$4:B$5000)","v":0}]
[null,null,null,{"$f":"SUMIF(Gifts!A$4:A$5000, Donors!A4001,Gifts!B$4:B$5000)","v":0}]
[null,null,null,{"$f":"SUMIF(Gifts!A$4:A$5000, Donors!A4002,Gifts!B$4:B$5000)","v":0}]
[null,null,null,{"$f":"SUMIF(Gifts!A$4:A$5000, Donors!A4003,Gifts!B$4:B$5000)","v":0}]
[null,null,null,{"$f":"SUMIF(Gifts!A$4:A$5000, Donors!A4004,Gifts!B$4:B$5000)","v":0}]
[null,null,null,{"$f":"SUMIF(Gifts!A$4:A$5000, Donors!A4005,Gifts!B$4:B$5000)","v":0}]
[null,null,null,{"$f":"SUMIF(Gifts!A$4:A$5000, Donors!A4006,Gifts!B$4:B$5000)","v":0}]
[null,null,null,{"$f":"SUMIF(Gifts!A$4:A$5000, Donors!A4007,Gifts!B$4:B$5000)","v":0}]
[null,null,null,{"$f":"SUMIF(Gifts!A$4:A$5000, Donors!A4008,Gifts!B$4:B$5000)","v":0}]
[null,null,null,{"$f":"SUMIF(Gifts!A$4:A$5000, Donors!A4009,Gifts!B$4:B$5000)","v":0}]
[null,null,null,{"$f":"SUMIF(Gifts!A$4:A$5000, Donors!A4010,Gifts!B$4:B$5000)","v":0}]
[null,null,null,{"$f":"SUMIF(Gifts!A$4:A$5000, Donors!A4011,Gifts!B$4:B$5000)","v":0}]
[null,null,null,{"$f":"SUMIF(Gifts!A$4:A$5000, Donors!A4012,Gifts!B$4:B$5000)","v":0}]
[null,null,null,{"$f":"SUMIF(Gifts!A$4:A$5000, Donors!A4013,Gifts!B$4:B$5000)","v":0}]
[null,null,null,{"$f":"SUMIF(Gifts!A$4:A$5000, Donors!A4014,Gifts!B$4:B$5000)","v":0}]
[null,null,null,{"$f":"SUMIF(Gifts!A$4:A$5000, Donors!A4015,Gifts!B$4:B$5000)","v":0}]
[null,null,null,{"$f":"SUMIF(Gifts!A$4:A$5000, Donors!A4016,Gifts!B$4:B$5000)","v":0}]
[null,null,null,{"$f":"SUMIF(Gifts!A$4:A$5000, Donors!A4017,Gifts!B$4:B$5000)","v":0}]
[null,null,null,{"$f":"SUMIF(Gifts!A$4:A$5000, Donors!A4018,Gifts!B$4:B$5000)","v":0}]
[null,null,null,{"$f":"SUMIF(Gifts!A$4:A$5000, Donors!A4019,Gifts!B$4:B$5000)","v":0}]
[null,null,null,{"$f":"SUMIF(Gifts!A$4:A$5000, Donors!A4020,Gifts!B$4:B$5000)","v":0}]
[null,null,null,{"$f":"SUMIF(Gifts!A$4:A$5000, Donors!A4021,Gifts!B$4:B$5000)","v":0}]
[null,null,null,{"$f":"SUMIF(Gifts!A$4:A$5000, Donors!A4022,Gifts!B$4:B$5000)","v":0}]
[null,null,null,{"$f":"SUMIF(Gifts!A$4:A$5000, Donors!A4023,Gifts!B$4:B$5000)","v":0}]
[null,null,null,{"$f":"SUMIF(Gifts!A$4:A$5000, Donors!A4024,Gifts!B$4:B$5000)","v":0}]
[null,null,null,{"$f":"SUMIF(Gifts!A$4:A$5000, Donors!A4025,Gifts!B$4:B$5000)","v":0}]
[null,null,null,{"$f":"SUMIF(Gifts!A$4:A$5000, Donors!A4026,Gifts!B$4:B$5000)","v":0}]
[null,null,null,{"$f":"SUMIF(Gifts!A$4:A$5000, Donors!A4027,Gifts!B$4:B$5000)","v":0}]
[null,null,null,{"$f":"SUMIF(Gifts!A$4:A$5000, Donors!A4028,Gifts!B$4:B$5000)","v":0}]
[null,null,null,{"$f":"SUMIF(Gifts!A$4:A$5000, Donors!A4029,Gifts!B$4:B$5000)","v":0}]
[null,null,null,{"$f":"SUMIF(Gifts!A$4:A$5000, Donors!A4030,Gifts!B$4:B$5000)","v":0}]
[null,null,null,{"$f":"SUMIF(Gifts!A$4:A$5000, Donors!A4031,Gifts!B$4:B$5000)","v":0}]
[null,null,null,{"$f":"SUMIF(Gifts!A$4:A$5000, Donors!A4032,Gifts!B$4:B$5000)","v":0}]
[null,null,null,{"$f":"SUMIF(Gifts!A$4:A$5000, Donors!A4033,Gifts!B$4:B$5000)","v":0}]
[null,null,null,{"$f":"SUMIF(Gifts!A$4:A$5000, Donors!A4034,Gifts!B$4:B$5000)","v":0}]
[null,null,null,{"$f":"SUMIF(Gifts!A$4:A$5000, Donors!A4035,Gifts!B$4:B$5000)","v":0}]
[null,null,null,{"$f":"SUMIF(Gifts!A$4:A$5000, Donors!A4036,Gifts!B$4:B$5000)","v":0}]
[null,null,null,{"$f":"SUMIF(Gifts!A$4:A$5000, Donors!A4037,Gifts!B$4:B$5000)","v":0}]
[null,null,null,{"$f":"SUMIF(Gifts!A$4:A$5000, Donors!A4038,Gifts!B$4:B$5000)","v":0}]
[null,null,null,{"$f":"SUMIF(Gifts!A$4:A$5000, Donors!A4039,Gifts!B$4:B$5000)","v":0}]
[null,null,null,{"$f":"SUMIF(Gifts!A$4:A$5000, Donors!A4040,Gifts!B$4:B$5000)","v":0}]
[null,null,null,{"$f":"SUMIF(Gifts!A$4:A$5000, Donors!A4041,Gifts!B$4:B$5000)","v":0}]
[null,null,null,{"$f":"SUMIF(Gifts!A$4:A$5000, Donors!A4042,Gifts!B$4:B$5000)","v":0}]
[null,null,null,{"$f":"SUMIF(Gifts!A$4:A$5000, Donors!A4043,Gifts!B$4:B$5000)","v":0}]
[null,null,null,{"$f":"SUMIF(Gifts!A$4:A$5000, Donors!A4044,Gifts!B$4:B$5000)","v":0}]
[null,null,null,{"$f":"SUMIF(Gifts!A$4:A$5000, Donors!A4045,Gifts!B$4:B$5000)","v":0}]
[null,null,null,{"$f":"SUMIF(Gifts!A$4:A$5000, Donors!A4046,Gifts!B$4:B$5000)","v":0}]
[null,null,null,{"$f":"SUMIF(Gifts!A$4:A$5000, Donors!A4047,Gifts!B$4:B$5000)","v":0}]
[null,null,null,{"$f":"SUMIF(Gifts!A$4:A$5000, Donors!A4048,Gifts!B$4:B$5000)","v":0}]
[null,null,null,{"$f":"SUMIF(Gifts!A$4:A$5000, Donors!A4049,Gifts!B$4:B$5000)","v":0}]
[null,null,null,{"$f":"SUMIF(Gifts!A$4:A$5000, Donors!A4050,Gifts!B$4:B$5000)","v":0}]
[null,null,null,{"$f":"SUMIF(Gifts!A$4:A$5000, Donors!A4051,Gifts!B$4:B$5000)","v":0}]
[null,null,null,{"$f":"SUMIF(Gifts!A$4:A$5000, Donors!A4052,Gifts!B$4:B$5000)","v":0}]
[null,null,null,{"$f":"SUMIF(Gifts!A$4:A$5000, Donors!A4053,Gifts!B$4:B$5000)","v":0}]
[null,null,null,{"$f":"SUMIF(Gifts!A$4:A$5000, Donors!A4054,Gifts!B$4:B$5000)","v":0}]
[null,null,null,{"$f":"SUMIF(Gifts!A$4:A$5000, Donors!A4055,Gifts!B$4:B$5000)","v":0}]
[null,null,null,{"$f":"SUMIF(Gifts!A$4:A$5000, Donors!A4056,Gifts!B$4:B$5000)","v":0}]
[null,null,null,{"$f":"SUMIF(Gifts!A$4:A$5000, Donors!A4057,Gifts!B$4:B$5000)","v":0}]
[null,null,null,{"$f":"SUMIF(Gifts!A$4:A$5000, Donors!A4058,Gifts!B$4:B$5000)","v":0}]
[null,null,null,{"$f":"SUMIF(Gifts!A$4:A$5000, Donors!A4059,Gifts!B$4:B$5000)","v":0}]
[null,null,null,{"$f":"SUMIF(Gifts!A$4:A$5000, Donors!A4060,Gifts!B$4:B$5000)","v":0}]
[null,null,null,{"$f":"SUMIF(Gifts!A$4:A$5000, Donors!A4061,Gifts!B$4:B$5000)","v":0}]
[null,null,null,{"$f":"SUMIF(Gifts!A$4:A$5000, Donors!A4062,Gifts!B$4:B$5000)","v":0}]
[null,null,null,{"$f":"SUMIF(Gifts!A$4:A$5000, Donors!A4063,Gifts!B$4:B$5000)","v":0}]
[null,null,null,{"$f":"SUMIF(Gifts!A$4:A$5000, Donors!A4064,Gifts!B$4:B$5000)","v":0}]
[null,null,null,{"$f":"SUMIF(Gifts!A$4:A$5000, Donors!A4065,Gifts!B$4:B$5000)","v":0}]
[null,null,null,{"$f":"SUMIF(Gifts!A$4:A$5000, Donors!A4066,Gifts!B$4:B$5000)","v":0}]
[null,null,null,{"$f":"SUMIF(Gifts!A$4:A$5000, Donors!A4067,Gifts!B$4:B$5000)","v":0}]
[null,null,null,{"$f":"SUMIF(Gifts!A$4:A$5000, Donors!A4068,Gifts!B$4:B$5000)","v":0}]
[null,null,null,{"$f":"SUMIF(Gifts!A$4:A$5000, Donors!A4069,Gifts!B$4:B$5000)","v":0}]
[null,null,null,{"$f":"SUMIF(Gifts!A$4:A$5000, Donors!A4070,Gifts!B$4:B$5000)","v":0}]
[null,null,null,{"$f":"SUMIF(Gifts!A$4:A$5000, Donors!A4071,Gifts!B$4:B$5000)","v":0}]
[null,null,null,{"$f":"SUMIF(Gifts!A$4:A$5000, Donors!A4072,Gifts!B$4:B$5000)","v":0}]
[null,null,null,{"$f":"SUMIF(Gifts!A$4:A$5000, Donors!A4073,Gifts!B$4:B$5000)","v":0}]
[null,null,null,{"$f":"SUMIF(Gifts!A$4:A$5000, Donors!A4074,Gifts!B$4:B$5000)","v":0}]
[null,null,null,{"$f":"SUMIF(Gifts!A$4:A$5000, Donors!A4075,Gifts!B$4:B$5000)","v":0}]
[null,null,null,{"$f":"SUMIF(Gifts!A$4:A$5000, Donors!A4076,Gifts!B$4:B$5000)","v":0}]
[null,null,null,{"$f":"SUMIF(Gifts!A$4:A$5000, Donors!A4077,Gifts!B$4:B$5000)","v":0}]
[null,null,null,{"$f":"SUMIF(Gifts!A$4:A$5000, Donors!A4078,Gifts!B$4:B$5000)","v":0}]
[null,null,null,{"$f":"SUMIF(Gifts!A$4:A$5000, Donors!A4079,Gifts!B$4:B$5000)","v":0}]
[null,null,null,{"$f":"SUMIF(Gifts!A$4:A$5000, Donors!A4080,Gifts!B$4:B$5000)","v":0}]
[null,null,null,{"$f":"SUMIF(Gifts!A$4:A$5000, Donors!A4081,Gifts!B$4:B$5000)","v":0}]
[null,null,null,{"$f":"SUMIF(Gifts!A$4:A$5000, Donors!A4082,Gifts!B$4:B$5000)","v":0}]
[null,null,null,{"$f":"SUMIF(Gifts!A$4:A$5000, Donors!A4083,Gifts!B$4:B$5000)","v":0}]
[null,null,null,{"$f":"SUMIF(Gifts!A$4:A$5000, Donors!A4084,Gifts!B$4:B$5000)","v":0}]
[null,null,null,{"$f":"SUMIF(Gifts!A$4:A$5000, Donors!A4085,Gifts!B$4:B$5000)","v":0}]
[null,null,null,{"$f":"SUMIF(Gifts!A$4:A$5000, Donors!A4086,Gifts!B$4:B$5000)","v":0}]
[null,null,null,{"$f":"SUMIF(Gifts!A$4:A$5000, Donors!A4087,Gifts!B$4:B$5000)","v":0}]
[null,null,null,{"$f":"SUMIF(Gifts!A$4:A$5000, Donors!A4088,Gifts!B$4:B$5000)","v":0}]
[null,null,null,{"$f":"SUMIF(Gifts!A$4:A$5000, Donors!A4089,Gifts!B$4:B$5000)","v":0}]
[null,null,null,{"$f":"SUMIF(Gifts!A$4:A$5000, Donors!A4090,Gifts!B$4:B$5000)","v":0}]
[null,null,null,{"$f":"SUMIF(Gifts!A$4:A$5000, Donors!A4091,Gifts!B$4:B$5000)","v":0}]
[null,null,null,{"$f":"SUMIF(Gifts!A$4:A$5000, Donors!A4092,Gifts!B$4:B$5000)","v":0}]
[null,null,null,{"$f":"SUMIF(Gifts!A$4:A$5000, Donors!A4093,Gifts!B$4:B$5000)","v":0}]
[null,null,null,{"$f":"SUMIF(Gifts!A$4:A$5000, Donors!A4094,Gifts!B$4:B$5000)","v":0}]
[null,null,null,{"$f":"SUMIF(Gifts!A$4:A$5000, Donors!A4095,Gifts!B$4:B$5000)","v":0}]
[null,null,null,{"$f":"SUMIF(Gifts!A$4:A$5000, Donors!A4096,Gifts!B$4:B$5000)","v":0}]
[null,null,null,{"$f":"SUMIF(Gifts!A$4:A$5000, Donors!A4097,Gifts!B$4:B$5000)","v":0}]
[null,null,null,{"$f":"SUMIF(Gifts!A$4:A$5000, Donors!A4098,Gifts!B$4:B$5000)","v":0}]
[null,null,null,{"$f":"SUMIF(Gifts!A$4:A$5000, Donors!A4099,Gifts!B$4:B$5000)","v":0}]
[null,null,null,{"$f":"SUMIF(Gifts!A$4:A$5000, Donors!A4100,Gifts!B$4:B$5000)","v":0}]
[null,null,null,{"$f":"SUMIF(Gifts!A$4:A$5000, Donors!A4101,Gifts!B$4:B$5000)","v":0}]
[null,null,null,{"$f":"SUMIF(Gifts!A$4:A$5000, Donors!A4102,Gifts!B$4:B$5000)","v":0}]
[null,null,null,{"$f":"SUMIF(Gifts!A$4:A$5000, Donors!A4103,Gifts!B$4:B$5000)","v":0}]
[null,null,null,{"$f":"SUMIF(Gifts!A$4:A$5000, Donors!A4104,Gifts!B$4:B$5000)","v":0}]
[null,null,null,{"$f":"SUMIF(Gifts!A$4:A$5000, Donors!A4105,Gifts!B$4:B$5000)","v":0}]
[null,null,null,{"$f":"SUMIF(Gifts!A$4:A$5000, Donors!A4106,Gifts!B$4:B$5000)","v":0}]
[null,null,null,{"$f":"SUMIF(Gifts!A$4:A$5000, Donors!A4107,Gifts!B$4:B$5000)","v":0}]
[null,null,null,{"$f":"SUMIF(Gifts!A$4:A$5000, Donors!A4108,Gifts!B$4:B$5000)","v":0}]
[null,null,null,{"$f":"SUMIF(Gifts!A$4:A$5000, Donors!A4109,Gifts!B$4:B$5000)","v":0}]
[null,null,null,{"$f":"SUMIF(Gifts!A$4:A$5000, Donors!A4110,Gifts!B$4:B$5000)","v":0}]
[null,null,null,{"$f":"SUMIF(Gifts!A$4:A$5000, Donors!A4111,Gifts!B$4:B$5000)","v":0}]
[null,null,null,{"$f":"SUMIF(Gifts!A$4:A$5000, Donors!A4112,Gifts!B$4:B$5000)","v":0}]
[null,null,null,{"$f":"SUMIF(Gifts!A$4:A$5000, Donors!A4113,Gifts!B$4:B$5000)","v":0}]
[null,null,null,{"$f":"SUMIF(Gifts!A$4:A$5000, Donors!A4114,Gifts!B$4:B$5000)","v":0}]
[null,null,null,{"$f":"SUMIF(Gifts!A$4:A$5000, Donors!A4115,Gifts!B$4:B$5000)","v":0}]
[null,null,null,{"$f":"SUMIF(Gifts!A$4:A$5000, Donors!A4116,Gifts!B$4:B$5000)","v":0}]
[null,null,null,{"$f":"SUMIF(Gifts!A$4:A$5000, Donors!A4117,Gifts!B$4:B$5000)","v":0}]
[null,null,null,{"$f":"SUMIF(Gifts!A$4:A$5000, Donors!A4118,Gifts!B$4:B$5000)","v":0}]
[null,null,null,{"$f":"SUMIF(Gifts!A$4:A$5000, Donors!A4119,Gifts!B$4:B$5000)","v":0}]
[null,null,null,{"$f":"SUMIF(Gifts!A$4:A$5000, Donors!A4120,Gifts!B$4:B$5000)","v":0}]
[null,null,null,{"$f":"SUMIF(Gifts!A$4:A$5000, Donors!A4121,Gifts!B$4:B$5000)","v":0}]
[null,null,null,{"$f":"SUMIF(Gifts!A$4:A$5000, Donors!A4122,Gifts!B$4:B$5000)","v":0}]
[null,null,null,{"$f":"SUMIF(Gifts!A$4:A$5000, Donors!A4123,Gifts!B$4:B$5000)","v":0}]
[null,null,null,{"$f":"SUMIF(Gifts!A$4:A$5000, Donors!A4124,Gifts!B$4:B$5000)","v":0}]
[null,null,null,{"$f":"SUMIF(Gifts!A$4:A$5000, Donors!A4125,Gifts!B$4:B$5000)","v":0}]
[null,null,null,{"$f":"SUMIF(Gifts!A$4:A$5000, Donors!A4126,Gifts!B$4:B$5000)","v":0}]
[null,null,null,{"$f":"SUMIF(Gifts!A$4:A$5000, Donors!A4127,Gifts!B$4:B$5000)","v":0}]
[null,null,null,{"$f":"SUMIF(Gifts!A$4:A$5000, Donors!A4128,Gifts!B$4:B$5000)","v":0}]
[null,null,null,{"$f":"SUMIF(Gifts!A$4:A$5000, Donors!A4129,Gifts!B$4:B$5000)","v":0}]
[null,null,null,{"$f":"SUMIF(Gifts!A$4:A$5000, Donors!A4130,Gifts!B$4:B$5000)","v":0}]
[null,null,null,{"$f":"SUMIF(Gifts!A$4:A$5000, Donors!A4131,Gifts!B$4:B$5000)","v":0}]
[null,null,null,{"$f":"SUMIF(Gifts!A$4:A$5000, Donors!A4132,Gifts!B$4:B$5000)","v":0}]
[null,null,null,{"$f":"SUMIF(Gifts!A$4:A$5000, Donors!A4133,Gifts!B$4:B$5000)","v":0}]
[null,null,null,{"$f":"SUMIF(Gifts!A$4:A$5000, Donors!A4134,Gifts!B$4:B$5000)","v":0}]
[null,null,null,{"$f":"SUMIF(Gifts!A$4:A$5000, Donors!A4135,Gifts!B$4:B$5000)","v":0}]
[null,null,null,{"$f":"SUMIF(Gifts!A$4:A$5000, Donors!A4136,Gifts!B$4:B$5000)","v":0}]
[null,null,null,{"$f":"SUMIF(Gifts!A$4:A$5000, Donors!A4137,Gifts!B$4:B$5000)","v":0}]
[null,null,null,{"$f":"SUMIF(Gifts!A$4:A$5000, Donors!A4138,Gifts!B$4:B$5000)","v":0}]
[null,null,null,{"$f":"SUMIF(Gifts!A$4:A$5000, Donors!A4139,Gifts!B$4:B$5000)","v":0}]
[null,null,null,{"$f":"SUMIF(Gifts!A$4:A$5000, Donors!A4140,Gifts!B$4:B$5000)","v":0}]
[null,null,null,{"$f":"SUMIF(Gifts!A$4:A$5000, Donors!A4141,Gifts!B$4:B$5000)","v":0}]
[null,null,null,{"$f":"SUMIF(Gifts!A$4:A$5000, Donors!A4142,Gifts!B$4:B$5000)","v":0}]
[null,null,null,{"$f":"SUMIF(Gifts!A$4:A$5000, Donors!A4143,Gifts!B$4:B$5000)","v":0}]
[null,null,null,{"$f":"SUMIF(Gifts!A$4:A$5000, Donors!A4144,Gifts!B$4:B$5000)","v":0}]
[null,null,null,{"$f":"SUMIF(Gifts!A$4:A$5000, Donors!A4145,Gifts!B$4:B$5000)","v":0}]
[null,null,null,{"$f":"SUMIF(Gifts!A$4:A$5000, Donors!A4146,Gifts!B$4:B$5000)","v":0}]
[null,null,null,{"$f":"SUMIF(Gifts!A$4:A$5000, Donors!A4147,Gifts!B$4:B$5000)","v":0}]
[null,null,null,{"$f":"SUMIF(Gifts!A$4:A$5000, Donors!A4148,Gifts!B$4:B$5000)","v":0}]
[null,null,null,{"$f":"SUMIF(Gifts!A$4:A$5000, Donors!A4149,Gifts!B$4:B$5000)","v":0}]
[null,null,null,{"$f":"SUMIF(Gifts!A$4:A$5000, Donors!A4150,Gifts!B$4:B$5000)","v":0}]
[null,null,null,{"$f":"SUMIF(Gifts!A$4:A$5000, Donors!A4151,Gifts!B$4:B$5000)","v":0}]
[null,null,null,{"$f":"SUMIF(Gifts!A$4:A$5000, Donors!A4152,Gifts!B$4:B$5000)","v":0}]
[null,null,null,{"$f":"SUMIF(Gifts!A$4:A$5000, Donors!A4153,Gifts!B$4:B$5000)","v":0}]
[null,null,null,{"$f":"SUMIF(Gifts!A$4:A$5000, Donors!A4154,Gifts!B$4:B$5000)","v":0}]
[null,null,null,{"$f":"SUMIF(Gifts!A$4:A$5000, Donors!A4155,Gifts!B$4:B$5000)","v":0}]
[null,null,null,{"$f":"SUMIF(Gifts!A$4:A$5000, Donors!A4156,Gifts!B$4:B$5000)","v":0}]
[null,null,null,{"$f":"SUMIF(Gifts!A$4:A$5000, Donors!A4157,Gifts!B$4:B$5000)","v":0}]
[null,null,null,{"$f":"SUMIF(Gifts!A$4:A$5000, Donors!A4158,Gifts!B$4:B$5000)","v":0}]
[null,null,null,{"$f":"SUMIF(Gifts!A$4:A$5000, Donors!A4159,Gifts!B$4:B$5000)","v":0}]
[null,null,null,{"$f":"SUMIF(Gifts!A$4:A$5000, Donors!A4160,Gifts!B$4:B$5000)","v":0}]
[null,null,null,{"$f":"SUMIF(Gifts!A$4:A$5000, Donors!A4161,Gifts!B$4:B$5000)","v":0}]
[null,null,null,{"$f":"SUMIF(Gifts!A$4:A$5000, Donors!A4162,Gifts!B$4:B$5000)","v":0}]
[null,null,null,{"$f":"SUMIF(Gifts!A$4:A$5000, Donors!A4163,Gifts!B$4:B$5000)","v":0}]
[null,null,null,{"$f":"SUMIF(Gifts!A$4:A$5000, Donors!A4164,Gifts!B$4:B$5000)","v":0}]
[null,null,null,{"$f":"SUMIF(Gifts!A$4:A$5000, Donors!A4165,Gifts!B$4:B$5000)","v":0}]
[null,null,null,{"$f":"SUMIF(Gifts!A$4:A$5000, Donors!A4166,Gifts!B$4:B$5000)","v":0}]
[null,null,null,{"$f":"SUMIF(Gifts!A$4:A$5000, Donors!A4167,Gifts!B$4:B$5000)","v":0}]
[null,null,null,{"$f":"SUMIF(Gifts!A$4:A$5000, Donors!A4168,Gifts!B$4:B$5000)","v":0}]
[null,null,null,{"$f":"SUMIF(Gifts!A$4:A$5000, Donors!A4169,Gifts!B$4:B$5000)","v":0}]
[null,null,null,{"$f":"SUMIF(Gifts!A$4:A$5000, Donors!A4170,Gifts!B$4:B$5000)","v":0}]
[null,null,null,{"$f":"SUMIF(Gifts!A$4:A$5000, Donors!A4171,Gifts!B$4:B$5000)","v":0}]
[null,null,null,{"$f":"SUMIF(Gifts!A$4:A$5000, Donors!A4172,Gifts!B$4:B$5000)","v":0}]
[null,null,null,{"$f":"SUMIF(Gifts!A$4:A$5000, Donors!A4173,Gifts!B$4:B$5000)","v":0}]
[null,null,null,{"$f":"SUMIF(Gifts!A$4:A$5000, Donors!A4174,Gifts!B$4:B$5000)","v":0}]
[null,null,null,{"$f":"SUMIF(Gifts!A$4:A$5000, Donors!A4175,Gifts!B$4:B$5000)","v":0}]
[null,null,null,{"$f":"SUMIF(Gifts!A$4:A$5000, Donors!A4176,Gifts!B$4:B$5000)","v":0}]
[null,null,null,{"$f":"SUMIF(Gifts!A$4:A$5000, Donors!A4177,Gifts!B$4:B$5000)","v":0}]
[null,null,null,{"$f":"SUMIF(Gifts!A$4:A$5000, Donors!A4178,Gifts!B$4:B$5000)","v":0}]
[null,null,null,{"$f":"SUMIF(Gifts!A$4:A$5000, Donors!A4179,Gifts!B$4:B$5000)","v":0}]
[null,null,null,{"$f":"SUMIF(Gifts!A$4:A$5000, Donors!A4180,Gifts!B$4:B$5000)","v":0}]
[null,null,null,{"$f":"SUMIF(Gifts!A$4:A$5000, Donors!A4181,Gifts!B$4:B$5000)","v":0}]
[null,null,null,{"$f":"SUMIF(Gifts!A$4:A$5000, Donors!A4182,Gifts!B$4:B$5000)","v":0}]
[null,null,null,{"$f":"SUMIF(Gifts!A$4:A$5000, Donors!A4183,Gifts!B$4:B$5000)","v":0}]
[null,null,null,{"$f":"SUMIF(Gifts!A$4:A$5000, Donors!A4184,Gifts!B$4:B$5000)","v":0}]
[null,null,null,{"$f":"SUMIF(Gifts!A$4:A$5000, Donors!A4185,Gifts!B$4:B$5000)","v":0}]
[null,null,null,{"$f":"SUMIF(Gifts!A$4:A$5000, Donors!A4186,Gifts!B$4:B$5000)","v":0}]
[null,null,null,{"$f":"SUMIF(Gifts!A$4:A$5000, Donors!A4187,Gifts!B$4:B$5000)","v":0}]
[null,null,null,{"$f":"SUMIF(Gifts!A$4:A$5000, Donors!A4188,Gifts!B$4:B$5000)","v":0}]
[null,null,null,{"$f":"SUMIF(Gifts!A$4:A$5000, Donors!A4189,Gifts!B$4:B$5000)","v":0}]
[null,null,null,{"$f":"SUMIF(Gifts!A$4:A$5000, Donors!A4190,Gifts!B$4:B$5000)","v":0}]
[null,null,null,{"$f":"SUMIF(Gifts!A$4:A$5000, Donors!A4191,Gifts!B$4:B$5000)","v":0}]
[null,null,null,{"$f":"SUMIF(Gifts!A$4:A$5000, Donors!A4192,Gifts!B$4:B$5000)","v":0}]
[null,null,null,{"$f":"SUMIF(Gifts!A$4:A$5000, Donors!A4193,Gifts!B$4:B$5000)","v":0}]
[null,null,null,{"$f":"SUMIF(Gifts!A$4:A$5000, Donors!A4194,Gifts!B$4:B$5000)","v":0}]
[null,null,null,{"$f":"SUMIF(Gifts!A$4:A$5000, Donors!A4195,Gifts!B$4:B$5000)","v":0}]
[null,null,null,{"$f":"SUMIF(Gifts!A$4:A$5000, Donors!A4196,Gifts!B$4:B$5000)","v":0}]
[null,null,null,{"$f":"SUMIF(Gifts!A$4:A$5000, Donors!A4197,Gifts!B$4:B$5000)","v":0}]
[null,null,null,{"$f":"SUMIF(Gifts!A$4:A$5000, Donors!A4198,Gifts!B$4:B$5000)","v":0}]
[null,null,null,{"$f":"SUMIF(Gifts!A$4:A$5000, Donors!A4199,Gifts!B$4:B$5000)","v":0}]
[null,null,null,{"$f":"SUMIF(Gifts!A$4:A$5000, Donors!A4200,Gifts!B$4:B$5000)","v":0}]
[null,null,null,{"$f":"SUMIF(Gifts!A$4:A$5000, Donors!A4201,Gifts!B$4:B$5000)","v":0}]
[null,null,null,{"$f":"SUMIF(Gifts!A$4:A$5000, Donors!A4202,Gifts!B$4:B$5000)","v":0}]
[null,null,null,{"$f":"SUMIF(Gifts!A$4:A$5000, Donors!A4203,Gifts!B$4:B$5000)","v":0}]
[null,null,null,{"$f":"SUMIF(Gifts!A$4:A$5000, Donors!A4204,Gifts!B$4:B$5000)","v":0}]
[null,null,null,{"$f":"SUMIF(Gifts!A$4:A$5000, Donors!A4205,Gifts!B$4:B$5000)","v":0}]
[null,null,null,{"$f":"SUMIF(Gifts!A$4:A$5000, Donors!A4206,Gifts!B$4:B$5000)","v":0}]
[null,null,null,{"$f":"SUMIF(Gifts!A$4:A$5000, Donors!A4207,Gifts!B$4:B$5000)","v":0}]
[null,null,null,{"$f":"SUMIF(Gifts!A$4:A$5000, Donors!A4208,Gifts!B$4:B$5000)","v":0}]
[null,null,null,{"$f":"SUMIF(Gifts!A$4:A$5000, Donors!A4209,Gifts!B$4:B$5000)","v":0}]
[null,null,null,{"$f":"SUMIF(Gifts!A$4:A$5000, Donors!A4210,Gifts!B$4:B$5000)","v":0}]
[null,null,null,{"$f":"SUMIF(Gifts!A$4:A$5000, Donors!A4211,Gifts!B$4:B$5000)","v":0}]
[null,null,null,{"$f":"SUMIF(Gifts!A$4:A$5000, Donors!A4212,Gifts!B$4:B$5000)","v":0}]
[null,null,null,{"$f":"SUMIF(Gifts!A$4:A$5000, Donors!A4213,Gifts!B$4:B$5000)","v":0}]
[null,null,null,{"$f":"SUMIF(Gifts!A$4:A$5000, Donors!A4214,Gifts!B$4:B$5000)","v":0}]
[null,null,null,{"$f":"SUMIF(Gifts!A$4:A$5000, Donors!A4215,Gifts!B$4:B$5000)","v":0}]
[null,null,null,{"$f":"SUMIF(Gifts!A$4:A$5000, Donors!A4216,Gifts!B$4:B$5000)","v":0}]
[null,null,null,{"$f":"SUMIF(Gifts!A$4:A$5000, Donors!A4217,Gifts!B$4:B$5000)","v":0}]
[null,null,null,{"$f":"SUMIF(Gifts!A$4:A$5000, Donors!A4218,Gifts!B$4:B$5000)","v":0}]
[null,null,null,{"$f":"SUMIF(Gifts!A$4:A$5000, Donors!A4219,Gifts!B$4:B$5000)","v":0}]
[null,null,null,{"$f":"SUMIF(Gifts!A$4:A$5000, Donors!A4220,Gifts!B$4:B$5000)","v":0}]
[null,null,null,{"$f":"SUMIF(Gifts!A$4:A$5000, Donors!A4221,Gifts!B$4:B$5000)","v":0}]
[null,null,null,{"$f":"SUMIF(Gifts!A$4:A$5000, Donors!A4222,Gifts!B$4:B$5000)","v":0}]
[null,null,null,{"$f":"SUMIF(Gifts!A$4:A$5000, Donors!A4223,Gifts!B$4:B$5000)","v":0}]
[null,null,null,{"$f":"SUMIF(Gifts!A$4:A$5000, Donors!A4224,Gifts!B$4:B$5000)","v":0}]
[null,null,null,{"$f":"SUMIF(Gifts!A$4:A$5000, Donors!A4225,Gifts!B$4:B$5000)","v":0}]
[null,null,null,{"$f":"SUMIF(Gifts!A$4:A$5000, Donors!A4226,Gifts!B$4:B$5000)","v":0}]
[null,null,null,{"$f":"SUMIF(Gifts!A$4:A$5000, Donors!A4227,Gifts!B$4:B$5000)","v":0}]
[null,null,null,{"$f":"SUMIF(Gifts!A$4:A$5000, Donors!A4228,Gifts!B$4:B$5000)","v":0}]
[null,null,null,{"$f":"SUMIF(Gifts!A$4:A$5000, Donors!A4229,Gifts!B$4:B$5000)","v":0}]
[null,null,null,{"$f":"SUMIF(Gifts!A$4:A$5000, Donors!A4230,Gifts!B$4:B$5000)","v":0}]
[null,null,null,{"$f":"SUMIF(Gifts!A$4:A$5000, Donors!A4231,Gifts!B$4:B$5000)","v":0}]
[null,null,null,{"$f":"SUMIF(Gifts!A$4:A$5000, Donors!A4232,Gifts!B$4:B$5000)","v":0}]
[null,null,null,{"$f":"SUMIF(Gifts!A$4:A$5000, Donors!A4233,Gifts!B$4:B$5000)","v":0}]
[null,null,null,{"$f":"SUMIF(Gifts!A$4:A$5000, Donors!A4234,Gifts!B$4:B$5000)","v":0}]
[null,null,null,{"$f":"SUMIF(Gifts!A$4:A$5000, Donors!A4235,Gifts!B$4:B$5000)","v":0}]
[null,null,null,{"$f":"SUMIF(Gifts!A$4:A$5000, Donors!A4236,Gifts!B$4:B$5000)","v":0}]
[null,null,null,{"$f":"SUMIF(Gifts!A$4:A$5000, Donors!A4237,Gifts!B$4:B$5000)","v":0}]
[null,null,null,{"$f":"SUMIF(Gifts!A$4:A$5000, Donors!A4238,Gifts!B$4:B$5000)","v":0}]
[null,null,null,{"$f":"SUMIF(Gifts!A$4:A$5000, Donors!A4239,Gifts!B$4:B$5000)","v":0}]
[null,null,null,{"$f":"SUMIF(Gifts!A$4:A$5000, Donors!A4240,Gifts!B$4:B$5000)","v":0}]
[null,null,null,{"$f":"SUMIF(Gifts!A$4:A$5000, Donors!A4241,Gifts!B$4:B$5000)","v":0}]
[null,null,null,{"$f":"SUMIF(Gifts!A$4:A$5000, Donors!A4242,Gifts!B$4:B$5000)","v":0}]
[null,null,null,{"$f":"SUMIF(Gifts!A$4:A$5000, Donors!A4243,Gifts!B$4:B$5000)","v":0}]
[null,null,null,{"$f":"SUMIF(Gifts!A$4:A$5000, Donors!A4244,Gifts!B$4:B$5000)","v":0}]
[null,null,null,{"$f":"SUMIF(Gifts!A$4:A$5000, Donors!A4245,Gifts!B$4:B$5000)","v":0}]
[null,null,null,{"$f":"SUMIF(Gifts!A$4:A$5000, Donors!A4246,Gifts!B$4:B$5000)","v":0}]
[null,null,null,{"$f":"SUMIF(Gifts!A$4:A$5000, Donors!A4247,Gifts!B$4:B$5000)","v":0}]
[null,null,null,{"$f":"SUMIF(Gifts!A$4:A$5000, Donors!A4248,Gifts!B$4:B$5000)","v":0}]
[null,null,null,{"$f":"SUMIF(Gifts!A$4:A$5000, Donors!A4249,Gifts!B$4:B$5000)","v":0}]
[null,null,null,{"$f":"SUMIF(Gifts!A$4:A$5000, Donors!A4250,Gifts!B$4:B$5000)","v":0}]
[null,null,null,{"$f":"SUMIF(Gifts!A$4:A$5000, Donors!A4251,Gifts!B$4:B$5000)","v":0}]
[null,null,null,{"$f":"SUMIF(Gifts!A$4:A$5000, Donors!A4252,Gifts!B$4:B$5000)","v":0}]
[null,null,null,{"$f":"SUMIF(Gifts!A$4:A$5000, Donors!A4253,Gifts!B$4:B$5000)","v":0}]
[null,null,null,{"$f":"SUMIF(Gifts!A$4:A$5000, Donors!A4254,Gifts!B$4:B$5000)","v":0}]
[null,null,null,{"$f":"SUMIF(Gifts!A$4:A$5000, Donors!A4255,Gifts!B$4:B$5000)","v":0}]
[null,null,null,{"$f":"SUMIF(Gifts!A$4:A$5000, Donors!A4256,Gifts!B$4:B$5000)","v":0}]
[null,null,null,{"$f":"SUMIF(Gifts!A$4:A$5000, Donors!A4257,Gifts!B$4:B$5000)","v":0}]
[null,null,null,{"$f":"SUMIF(Gifts!A$4:A$5000, Donors!A4258,Gifts!B$4:B$5000)","v":0}]
[null,null,null,{"$f":"SUMIF(Gifts!A$4:A$5000, Donors!A4259,Gifts!B$4:B$5000)","v":0}]
[null,null,null,{"$f":"SUMIF(Gifts!A$4:A$5000, Donors!A4260,Gifts!B$4:B$5000)","v":0}]
[null,null,null,{"$f":"SUMIF(Gifts!A$4:A$5000, Donors!A4261,Gifts!B$4:B$5000)","v":0}]
[null,null,null,{"$f":"SUMIF(Gifts!A$4:A$5000, Donors!A4262,Gifts!B$4:B$5000)","v":0}]
[null,null,null,{"$f":"SUMIF(Gifts!A$4:A$5000, Donors!A4263,Gifts!B$4:B$5000)","v":0}]
[null,null,null,{"$f":"SUMIF(Gifts!A$4:A$5000, Donors!A4264,Gifts!B$4:B$5000)","v":0}]
[null,null,null,{"$f":"SUMIF(Gifts!A$4:A$5000, Donors!A4265,Gifts!B$4:B$5000)","v":0}]
[null,null,null,{"$f":"SUMIF(Gifts!A$4:A$5000, Donors!A4266,Gifts!B$4:B$5000)","v":0}]
[null,null,null,{"$f":"SUMIF(Gifts!A$4:A$5000, Donors!A4267,Gifts!B$4:B$5000)","v":0}]
[null,null,null,{"$f":"SUMIF(Gifts!A$4:A$5000, Donors!A4268,Gifts!B$4:B$5000)","v":0}]
[null,null,null,{"$f":"SUMIF(Gifts!A$4:A$5000, Donors!A4269,Gifts!B$4:B$5000)","v":0}]
[null,null,null,{"$f":"SUMIF(Gifts!A$4:A$5000, Donors!A4270,Gifts!B$4:B$5000)","v":0}]
[null,null,null,{"$f":"SUMIF(Gifts!A$4:A$5000, Donors!A4271,Gifts!B$4:B$5000)","v":0}]
[null,null,null,{"$f":"SUMIF(Gifts!A$4:A$5000, Donors!A4272,Gifts!B$4:B$5000)","v":0}]
[null,null,null,{"$f":"SUMIF(Gifts!A$4:A$5000, Donors!A4273,Gifts!B$4:B$5000)","v":0}]
[null,null,null,{"$f":"SUMIF(Gifts!A$4:A$5000, Donors!A4274,Gifts!B$4:B$5000)","v":0}]
[null,null,null,{"$f":"SUMIF(Gifts!A$4:A$5000, Donors!A4275,Gifts!B$4:B$5000)","v":0}]
[null,null,null,{"$f":"SUMIF(Gifts!A$4:A$5000, Donors!A4276,Gifts!B$4:B$5000)","v":0}]
[null,null,null,{"$f":"SUMIF(Gifts!A$4:A$5000, Donors!A4277,Gifts!B$4:B$5000)","v":0}]
[null,null,null,{"$f":"SUMIF(Gifts!A$4:A$5000, Donors!A4278,Gifts!B$4:B$5000)","v":0}]
[null,null,null,{"$f":"SUMIF(Gifts!A$4:A$5000, Donors!A4279,Gifts!B$4:B$5000)","v":0}]
[null,null,null,{"$f":"SUMIF(Gifts!A$4:A$5000, Donors!A4280,Gifts!B$4:B$5000)","v":0}]
[null,null,null,{"$f":"SUMIF(Gifts!A$4:A$5000, Donors!A4281,Gifts!B$4:B$5000)","v":0}]
[null,null,null,{"$f":"SUMIF(Gifts!A$4:A$5000, Donors!A4282,Gifts!B$4:B$5000)","v":0}]
[null,null,null,{"$f":"SUMIF(Gifts!A$4:A$5000, Donors!A4283,Gifts!B$4:B$5000)","v":0}]
[null,null,null,{"$f":"SUMIF(Gifts!A$4:A$5000, Donors!A4284,Gifts!B$4:B$5000)","v":0}]
[null,null,null,{"$f":"SUMIF(Gifts!A$4:A$5000, Donors!A4285,Gifts!B$4:B$5000)","v":0}]
[null,null,null,{"$f":"SUMIF(Gifts!A$4:A$5000, Donors!A4286,Gifts!B$4:B$5000)","v":0}]
[null,null,null,{"$f":"SUMIF(Gifts!A$4:A$5000, Donors!A4287,Gifts!B$4:B$5000)","v":0}]
[null,null,null,{"$f":"SUMIF(Gifts!A$4:A$5000, Donors!A4288,Gifts!B$4:B$5000)","v":0}]
[null,null,null,{"$f":"SUMIF(Gifts!A$4:A$5000, Donors!A4289,Gifts!B$4:B$5000)","v":0}]
[null,null,null,{"$f":"SUMIF(Gifts!A$4:A$5000, Donors!A4290,Gifts!B$4:B$5000)","v":0}]
[null,null,null,{"$f":"SUMIF(Gifts!A$4:A$5000, Donors!A4291,Gifts!B$4:B$5000)","v":0}]
[null,null,null,{"$f":"SUMIF(Gifts!A$4:A$5000, Donors!A4292,Gifts!B$4:B$5000)","v":0}]
[null,null,null,{"$f":"SUMIF(Gifts!A$4:A$5000, Donors!A4293,Gifts!B$4:B$5000)","v":0}]
[null,null,null,{"$f":"SUMIF(Gifts!A$4:A$5000, Donors!A4294,Gifts!B$4:B$5000)","v":0}]
[null,null,null,{"$f":"SUMIF(Gifts!A$4:A$5000, Donors!A4295,Gifts!B$4:B$5000)","v":0}]
[null,null,null,{"$f":"SUMIF(Gifts!A$4:A$5000, Donors!A4296,Gifts!B$4:B$5000)","v":0}]
[null,null,null,{"$f":"SUMIF(Gifts!A$4:A$5000, Donors!A4297,Gifts!B$4:B$5000)","v":0}]
[null,null,null,{"$f":"SUMIF(Gifts!A$4:A$5000, Donors!A4298,Gifts!B$4:B$5000)","v":0}]
[null,null,null,{"$f":"SUMIF(Gifts!A$4:A$5000, Donors!A4299,Gifts!B$4:B$5000)","v":0}]
[null,null,null,{"$f":"SUMIF(Gifts!A$4:A$5000, Donors!A4300,Gifts!B$4:B$5000)","v":0}]
[null,null,null,{"$f":"SUMIF(Gifts!A$4:A$5000, Donors!A4301,Gifts!B$4:B$5000)","v":0}]
[null,null,null,{"$f":"SUMIF(Gifts!A$4:A$5000, Donors!A4302,Gifts!B$4:B$5000)","v":0}]
[null,null,null,{"$f":"SUMIF(Gifts!A$4:A$5000, Donors!A4303,Gifts!B$4:B$5000)","v":0}]
[null,null,null,{"$f":"SUMIF(Gifts!A$4:A$5000, Donors!A4304,Gifts!B$4:B$5000)","v":0}]
[null,null,null,{"$f":"SUMIF(Gifts!A$4:A$5000, Donors!A4305,Gifts!B$4:B$5000)","v":0}]
[null,null,null,{"$f":"SUMIF(Gifts!A$4:A$5000, Donors!A4306,Gifts!B$4:B$5000)","v":0}]
[null,null,null,{"$f":"SUMIF(Gifts!A$4:A$5000, Donors!A4307,Gifts!B$4:B$5000)","v":0}]
[null,null,null,{"$f":"SUMIF(Gifts!A$4:A$5000, Donors!A4308,Gifts!B$4:B$5000)","v":0}]
[null,null,null,{"$f":"SUMIF(Gifts!A$4:A$5000, Donors!A4309,Gifts!B$4:B$5000)","v":0}]
[null,null,null,{"$f":"SUMIF(Gifts!A$4:A$5000, Donors!A4310,Gifts!B$4:B$5000)","v":0}]
[null,null,null,{"$f":"SUMIF(Gifts!A$4:A$5000, Donors!A4311,Gifts!B$4:B$5000)","v":0}]
[null,null,null,{"$f":"SUMIF(Gifts!A$4:A$5000, Donors!A4312,Gifts!B$4:B$5000)","v":0}]
[null,null,null,{"$f":"SUMIF(Gifts!A$4:A$5000, Donors!A4313,Gifts!B$4:B$5000)","v":0}]
[null,null,null,{"$f":"SUMIF(Gifts!A$4:A$5000, Donors!A4314,Gifts!B$4:B$5000)","v":0}]
[null,null,null,{"$f":"SUMIF(Gifts!A$4:A$5000, Donors!A4315,Gifts!B$4:B$5000)","v":0}]
[null,null,null,{"$f":"SUMIF(Gifts!A$4:A$5000, Donors!A4316,Gifts!B$4:B$5000)","v":0}]
[null,null,null,{"$f":"SUMIF(Gifts!A$4:A$5000, Donors!A4317,Gifts!B$4:B$5000)","v":0}]
[null,null,null,{"$f":"SUMIF(Gifts!A$4:A$5000, Donors!A4318,Gifts!B$4:B$5000)","v":0}]
[null,null,null,{"$f":"SUMIF(Gifts!A$4:A$5000, Donors!A4319,Gifts!B$4:B$5000)","v":0}]
[null,null,null,{"$f":"SUMIF(Gifts!A$4:A$5000, Donors!A4320,Gifts!B$4:B$5000)","v":0}]
[null,null,null,{"$f":"SUMIF(Gifts!A$4:A$5000, Donors!A4321,Gifts!B$4:B$5000)","v":0}]
[null,null,null,{"$f":"SUMIF(Gifts!A$4:A$5000, Donors!A4322,Gifts!B$4:B$5000)","v":0}]
[null,null,null,{"$f":"SUMIF(Gifts!A$4:A$5000, Donors!A4323,Gifts!B$4:B$5000)","v":0}]
[null,null,null,{"$f":"SUMIF(Gifts!A$4:A$5000, Donors!A4324,Gifts!B$4:B$5000)","v":0}]
[null,null,null,{"$f":"SUMIF(Gifts!A$4:A$5000, Donors!A4325,Gifts!B$4:B$5000)","v":0}]
[null,null,null,{"$f":"SUMIF(Gifts!A$4:A$5000, Donors!A4326,Gifts!B$4:B$5000)","v":0}]
[null,null,null,{"$f":"SUMIF(Gifts!A$4:A$5000, Donors!A4327,Gifts!B$4:B$5000)","v":0}]
[null,null,null,{"$f":"SUMIF(Gifts!A$4:A$5000, Donors!A4328,Gifts!B$4:B$5000)","v":0}]
[null,null,null,{"$f":"SUMIF(Gifts!A$4:A$5000, Donors!A4329,Gifts!B$4:B$5000)","v":0}]
[null,null,null,{"$f":"SUMIF(Gifts!A$4:A$5000, Donors!A4330,Gifts!B$4:B$5000)","v":0}]
[null,null,null,{"$f":"SUMIF(Gifts!A$4:A$5000, Donors!A4331,Gifts!B$4:B$5000)","v":0}]
[null,null,null,{"$f":"SUMIF(Gifts!A$4:A$5000, Donors!A4332,Gifts!B$4:B$5000)","v":0}]
[null,null,null,{"$f":"SUMIF(Gifts!A$4:A$5000, Donors!A4333,Gifts!B$4:B$5000)","v":0}]
[null,null,null,{"$f":"SUMIF(Gifts!A$4:A$5000, Donors!A4334,Gifts!B$4:B$5000)","v":0}]
[null,null,null,{"$f":"SUMIF(Gifts!A$4:A$5000, Donors!A4335,Gifts!B$4:B$5000)","v":0}]
[null,null,null,{"$f":"SUMIF(Gifts!A$4:A$5000, Donors!A4336,Gifts!B$4:B$5000)","v":0}]
[null,null,null,{"$f":"SUMIF(Gifts!A$4:A$5000, Donors!A4337,Gifts!B$4:B$5000)","v":0}]
[null,null,null,{"$f":"SUMIF(Gifts!A$4:A$5000, Donors!A4338,Gifts!B$4:B$5000)","v":0}]
[null,null,null,{"$f":"SUMIF(Gifts!A$4:A$5000, Donors!A4339,Gifts!B$4:B$5000)","v":0}]
[null,null,null,{"$f":"SUMIF(Gifts!A$4:A$5000, Donors!A4340,Gifts!B$4:B$5000)","v":0}]
[null,null,null,{"$f":"SUMIF(Gifts!A$4:A$5000, Donors!A4341,Gifts!B$4:B$5000)","v":0}]
[null,null,null,{"$f":"SUMIF(Gifts!A$4:A$5000, Donors!A4342,Gifts!B$4:B$5000)","v":0}]
[null,null,null,{"$f":"SUMIF(Gifts!A$4:A$5000, Donors!A4343,Gifts!B$4:B$5000)","v":0}]
[null,null,null,{"$f":"SUMIF(Gifts!A$4:A$5000, Donors!A4344,Gifts!B$4:B$5000)","v":0}]
[null,null,null,{"$f":"SUMIF(Gifts!A$4:A$5000, Donors!A4345,Gifts!B$4:B$5000)","v":0}]
[null,null,null,{"$f":"SUMIF(Gifts!A$4:A$5000, Donors!A4346,Gifts!B$4:B$5000)","v":0}]
[null,null,null,{"$f":"SUMIF(Gifts!A$4:A$5000, Donors!A4347,Gifts!B$4:B$5000)","v":0}]
[null,null,null,{"$f":"SUMIF(Gifts!A$4:A$5000, Donors!A4348,Gifts!B$4:B$5000)","v":0}]
[null,null,null,{"$f":"SUMIF(Gifts!A$4:A$5000, Donors!A4349,Gifts!B$4:B$5000)","v":0}]
[null,null,null,{"$f":"SUMIF(Gifts!A$4:A$5000, Donors!A4350,Gifts!B$4:B$5000)","v":0}]
[null,null,null,{"$f":"SUMIF(Gifts!A$4:A$5000, Donors!A4351,Gifts!B$4:B$5000)","v":0}]
[null,null,null,{"$f":"SUMIF(Gifts!A$4:A$5000, Donors!A4352,Gifts!B$4:B$5000)","v":0}]
[null,null,null,{"$f":"SUMIF(Gifts!A$4:A$5000, Donors!A4353,Gifts!B$4:B$5000)","v":0}]
[null,null,null,{"$f":"SUMIF(Gifts!A$4:A$5000, Donors!A4354,Gifts!B$4:B$5000)","v":0}]
[null,null,null,{"$f":"SUMIF(Gifts!A$4:A$5000, Donors!A4355,Gifts!B$4:B$5000)","v":0}]
[null,null,null,{"$f":"SUMIF(Gifts!A$4:A$5000, Donors!A4356,Gifts!B$4:B$5000)","v":0}]
[null,null,null,{"$f":"SUMIF(Gifts!A$4:A$5000, Donors!A4357,Gifts!B$4:B$5000)","v":0}]
[null,null,null,{"$f":"SUMIF(Gifts!A$4:A$5000, Donors!A4358,Gifts!B$4:B$5000)","v":0}]
[null,null,null,{"$f":"SUMIF(Gifts!A$4:A$5000, Donors!A4359,Gifts!B$4:B$5000)","v":0}]
[null,null,null,{"$f":"SUMIF(Gifts!A$4:A$5000, Donors!A4360,Gifts!B$4:B$5000)","v":0}]
[null,null,null,{"$f":"SUMIF(Gifts!A$4:A$5000, Donors!A4361,Gifts!B$4:B$5000)","v":0}]
[null,null,null,{"$f":"SUMIF(Gifts!A$4:A$5000, Donors!A4362,Gifts!B$4:B$5000)","v":0}]
[null,null,null,{"$f":"SUMIF(Gifts!A$4:A$5000, Donors!A4363,Gifts!B$4:B$5000)","v":0}]
[null,null,null,{"$f":"SUMIF(Gifts!A$4:A$5000, Donors!A4364,Gifts!B$4:B$5000)","v":0}]
[null,null,null,{"$f":"SUMIF(Gifts!A$4:A$5000, Donors!A4365,Gifts!B$4:B$5000)","v":0}]
[null,null,null,{"$f":"SUMIF(Gifts!A$4:A$5000, Donors!A4366,Gifts!B$4:B$5000)","v":0}]
[null,null,null,{"$f":"SUMIF(Gifts!A$4:A$5000, Donors!A4367,Gifts!B$4:B$5000)","v":0}]
[null,null,null,{"$f":"SUMIF(Gifts!A$4:A$5000, Donors!A4368,Gifts!B$4:B$5000)","v":0}]
[null,null,null,{"$f":"SUMIF(Gifts!A$4:A$5000, Donors!A4369,Gifts!B$4:B$5000)","v":0}]
[null,null,null,{"$f":"SUMIF(Gifts!A$4:A$5000, Donors!A4370,Gifts!B$4:B$5000)","v":0}]
[null,null,null,{"$f":"SUMIF(Gifts!A$4:A$5000, Donors!A4371,Gifts!B$4:B$5000)","v":0}]
[null,null,null,{"$f":"SUMIF(Gifts!A$4:A$5000, Donors!A4372,Gifts!B$4:B$5000)","v":0}]
[null,null,null,{"$f":"SUMIF(Gifts!A$4:A$5000, Donors!A4373,Gifts!B$4:B$5000)","v":0}]
[null,null,null,{"$f":"SUMIF(Gifts!A$4:A$5000, Donors!A4374,Gifts!B$4:B$5000)","v":0}]
[null,null,null,{"$f":"SUMIF(Gifts!A$4:A$5000, Donors!A4375,Gifts!B$4:B$5000)","v":0}]
[null,null,null,{"$f":"SUMIF(Gifts!A$4:A$5000, Donors!A4376,Gifts!B$4:B$5000)","v":0}]
[null,null,null,{"$f":"SUMIF(Gifts!A$4:A$5000, Donors!A4377,Gifts!B$4:B$5000)","v":0}]
[null,null,null,{"$f":"SUMIF(Gifts!A$4:A$5000, Donors!A4378,Gifts!B$4:B$5000)","v":0}]
[null,null,null,{"$f":"SUMIF(Gifts!A$4:A$5000, Donors!A4379,Gifts!B$4:B$5000)","v":0}]
[null,null,null,{"$f":"SUMIF(Gifts!A$4:A$5000, Donors!A4380,Gifts!B$4:B$5000)","v":0}]
[null,null,null,{"$f":"SUMIF(Gifts!A$4:A$5000, Donors!A4381,Gifts!B$4:B$5000)","v":0}]
[null,null,null,{"$f":"SUMIF(Gifts!A$4:A$5000, Donors!A4382,Gifts!B$4:B$5000)","v":0}]
[null,null,null,{"$f":"SUMIF(Gifts!A$4:A$5000, Donors!A4383,Gifts!B$4:B$5000)","v":0}]
[null,null,null,{"$f":"SUMIF(Gifts!A$4:A$5000, Donors!A4384,Gifts!B$4:B$5000)","v":0}]
[null,null,null,{"$f":"SUMIF(Gifts!A$4:A$5000, Donors!A4385,Gifts!B$4:B$5000)","v":0}]
[null,null,null,{"$f":"SUMIF(Gifts!A$4:A$5000, Donors!A4386,Gifts!B$4:B$5000)","v":0}]
[null,null,null,{"$f":"SUMIF(Gifts!A$4:A$5000, Donors!A4387,Gifts!B$4:B$5000)","v":0}]
[null,null,null,{"$f":"SUMIF(Gifts!A$4:A$5000, Donors!A4388,Gifts!B$4:B$5000)","v":0}]
[null,null,null,{"$f":"SUMIF(Gifts!A$4:A$5000, Donors!A4389,Gifts!B$4:B$5000)","v":0}]
[null,null,null,{"$f":"SUMIF(Gifts!A$4:A$5000, Donors!A4390,Gifts!B$4:B$5000)","v":0}]
[null,null,null,{"$f":"SUMIF(Gifts!A$4:A$5000, Donors!A4391,Gifts!B$4:B$5000)","v":0}]
[null,null,null,{"$f":"SUMIF(Gifts!A$4:A$5000, Donors!A4392,Gifts!B$4:B$5000)","v":0}]
[null,null,null,{"$f":"SUMIF(Gifts!A$4:A$5000, Donors!A4393,Gifts!B$4:B$5000)","v":0}]
[null,null,null,{"$f":"SUMIF(Gifts!A$4:A$5000, Donors!A4394,Gifts!B$4:B$5000)","v":0}]
[null,null,null,{"$f":"SUMIF(Gifts!A$4:A$5000, Donors!A4395,Gifts!B$4:B$5000)","v":0}]
[null,null,null,{"$f":"SUMIF(Gifts!A$4:A$5000, Donors!A4396,Gifts!B$4:B$5000)","v":0}]
[null,null,null,{"$f":"SUMIF(Gifts!A$4:A$5000, Donors!A4397,Gifts!B$4:B$5000)","v":0}]
[null,null,null,{"$f":"SUMIF(Gifts!A$4:A$5000, Donors!A4398,Gifts!B$4:B$5000)","v":0}]
[null,null,null,{"$f":"SUMIF(Gifts!A$4:A$5000, Donors!A4399,Gifts!B$4:B$5000)","v":0}]
[null,null,null,{"$f":"SUMIF(Gifts!A$4:A$5000, Donors!A4400,Gifts!B$4:B$5000)","v":0}]
[null,null,null,{"$f":"SUMIF(Gifts!A$4:A$5000, Donors!A4401,Gifts!B$4:B$5000)","v":0}]
[null,null,null,{"$f":"SUMIF(Gifts!A$4:A$5000, Donors!A4402,Gifts!B$4:B$5000)","v":0}]
[null,null,null,{"$f":"SUMIF(Gifts!A$4:A$5000, Donors!A4403,Gifts!B$4:B$5000)","v":0}]
[null,null,null,{"$f":"SUMIF(Gifts!A$4:A$5000, Donors!A4404,Gifts!B$4:B$5000)","v":0}]
[null,null,null,{"$f":"SUMIF(Gifts!A$4:A$5000, Donors!A4405,Gifts!B$4:B$5000)","v":0}]
[null,null,null,{"$f":"SUMIF(Gifts!A$4:A$5000, Donors!A4406,Gifts!B$4:B$5000)","v":0}]
[null,null,null,{"$f":"SUMIF(Gifts!A$4:A$5000, Donors!A4407,Gifts!B$4:B$5000)","v":0}]
[null,null,null,{"$f":"SUMIF(Gifts!A$4:A$5000, Donors!A4408,Gifts!B$4:B$5000)","v":0}]
[null,null,null,{"$f":"SUMIF(Gifts!A$4:A$5000, Donors!A4409,Gifts!B$4:B$5000)","v":0}]
[null,null,null,{"$f":"SUMIF(Gifts!A$4:A$5000, Donors!A4410,Gifts!B$4:B$5000)","v":0}]
[null,null,null,{"$f":"SUMIF(Gifts!A$4:A$5000, Donors!A4411,Gifts!B$4:B$5000)","v":0}]
[null,null,null,{"$f":"SUMIF(Gifts!A$4:A$5000, Donors!A4412,Gifts!B$4:B$5000)","v":0}]
[null,null,null,{"$f":"SUMIF(Gifts!A$4:A$5000, Donors!A4413,Gifts!B$4:B$5000)","v":0}]
[null,null,null,{"$f":"SUMIF(Gifts!A$4:A$5000, Donors!A4414,Gifts!B$4:B$5000)","v":0}]
[null,null,null,{"$f":"SUMIF(Gifts!A$4:A$5000, Donors!A4415,Gifts!B$4:B$5000)","v":0}]
[null,null,null,{"$f":"SUMIF(Gifts!A$4:A$5000, Donors!A4416,Gifts!B$4:B$5000)","v":0}]
[null,null,null,{"$f":"SUMIF(Gifts!A$4:A$5000, Donors!A4417,Gifts!B$4:B$5000)","v":0}]
[null,null,null,{"$f":"SUMIF(Gifts!A$4:A$5000, Donors!A4418,Gifts!B$4:B$5000)","v":0}]
[null,null,null,{"$f":"SUMIF(Gifts!A$4:A$5000, Donors!A4419,Gifts!B$4:B$5000)","v":0}]
[null,null,null,{"$f":"SUMIF(Gifts!A$4:A$5000, Donors!A4420,Gifts!B$4:B$5000)","v":0}]
[null,null,null,{"$f":"SUMIF(Gifts!A$4:A$5000, Donors!A4421,Gifts!B$4:B$5000)","v":0}]
[null,null,null,{"$f":"SUMIF(Gifts!A$4:A$5000, Donors!A4422,Gifts!B$4:B$5000)","v":0}]
[null,null,null,{"$f":"SUMIF(Gifts!A$4:A$5000, Donors!A4423,Gifts!B$4:B$5000)","v":0}]
[null,null,null,{"$f":"SUMIF(Gifts!A$4:A$5000, Donors!A4424,Gifts!B$4:B$5000)","v":0}]
[null,null,null,{"$f":"SUMIF(Gifts!A$4:A$5000, Donors!A4425,Gifts!B$4:B$5000)","v":0}]
[null,null,null,{"$f":"SUMIF(Gifts!A$4:A$5000, Donors!A4426,Gifts!B$4:B$5000)","v":0}]
[null,null,null,{"$f":"SUMIF(Gifts!A$4:A$5000, Donors!A4427,Gifts!B$4:B$5000)","v":0}]
[null,null,null,{"$f":"SUMIF(Gifts!A$4:A$5000, Donors!A4428,Gifts!B$4:B$5000)","v":0}]
[null,null,null,{"$f":"SUMIF(Gifts!A$4:A$5000, Donors!A4429,Gifts!B$4:B$5000)","v":0}]
[null,null,null,{"$f":"SUMIF(Gifts!A$4:A$5000, Donors!A4430,Gifts!B$4:B$5000)","v":0}]
[null,null,null,{"$f":"SUMIF(Gifts!A$4:A$5000, Donors!A4431,Gifts!B$4:B$5000)","v":0}]
[null,null,null,{"$f":"SUMIF(Gifts!A$4:A$5000, Donors!A4432,Gifts!B$4:B$5000)","v":0}]
[null,null,null,{"$f":"SUMIF(Gifts!A$4:A$5000, Donors!A4433,Gifts!B$4:B$5000)","v":0}]
[null,null,null,{"$f":"SUMIF(Gifts!A$4:A$5000, Donors!A4434,Gifts!B$4:B$5000)","v":0}]
[null,null,null,{"$f":"SUMIF(Gifts!A$4:A$5000, Donors!A4435,Gifts!B$4:B$5000)","v":0}]
[null,null,null,{"$f":"SUMIF(Gifts!A$4:A$5000, Donors!A4436,Gifts!B$4:B$5000)","v":0}]
[null,null,null,{"$f":"SUMIF(Gifts!A$4:A$5000, Donors!A4437,Gifts!B$4:B$5000)","v":0}]
[null,null,null,{"$f":"SUMIF(Gifts!A$4:A$5000, Donors!A4438,Gifts!B$4:B$5000)","v":0}]
[null,null,null,{"$f":"SUMIF(Gifts!A$4:A$5000, Donors!A4439,Gifts!B$4:B$5000)","v":0}]
[null,null,null,{"$f":"SUMIF(Gifts!A$4:A$5000, Donors!A4440,Gifts!B$4:B$5000)","v":0}]
[null,null,null,{"$f":"SUMIF(Gifts!A$4:A$5000, Donors!A4441,Gifts!B$4:B$5000)","v":0}]
[null,null,null,{"$f":"SUMIF(Gifts!A$4:A$5000, Donors!A4442,Gifts!B$4:B$5000)","v":0}]
[null,null,null,{"$f":"SUMIF(Gifts!A$4:A$5000, Donors!A4443,Gifts!B$4:B$5000)","v":0}]
[null,null,null,{"$f":"SUMIF(Gifts!A$4:A$5000, Donors!A4444,Gifts!B$4:B$5000)","v":0}]
[null,null,null,{"$f":"SUMIF(Gifts!A$4:A$5000, Donors!A4445,Gifts!B$4:B$5000)","v":0}]
[null,null,null,{"$f":"SUMIF(Gifts!A$4:A$5000, Donors!A4446,Gifts!B$4:B$5000)","v":0}]
[null,null,null,{"$f":"SUMIF(Gifts!A$4:A$5000, Donors!A4447,Gifts!B$4:B$5000)","v":0}]
[null,null,null,{"$f":"SUMIF(Gifts!A$4:A$5000, Donors!A4448,Gifts!B$4:B$5000)","v":0}]
[null,null,null,{"$f":"SUMIF(Gifts!A$4:A$5000, Donors!A4449,Gifts!B$4:B$5000)","v":0}]
[null,null,null,{"$f":"SUMIF(Gifts!A$4:A$5000, Donors!A4450,Gifts!B$4:B$5000)","v":0}]
[null,null,null,{"$f":"SUMIF(Gifts!A$4:A$5000, Donors!A4451,Gifts!B$4:B$5000)","v":0}]
[null,null,null,{"$f":"SUMIF(Gifts!A$4:A$5000, Donors!A4452,Gifts!B$4:B$5000)","v":0}]
[null,null,null,{"$f":"SUMIF(Gifts!A$4:A$5000, Donors!A4453,Gifts!B$4:B$5000)","v":0}]
[null,null,null,{"$f":"SUMIF(Gifts!A$4:A$5000, Donors!A4454,Gifts!B$4:B$5000)","v":0}]
[null,null,null,{"$f":"SUMIF(Gifts!A$4:A$5000, Donors!A4455,Gifts!B$4:B$5000)","v":0}]
[null,null,null,{"$f":"SUMIF(Gifts!A$4:A$5000, Donors!A4456,Gifts!B$4:B$5000)","v":0}]
[null,null,null,{"$f":"SUMIF(Gifts!A$4:A$5000, Donors!A4457,Gifts!B$4:B$5000)","v":0}]
[null,null,null,{"$f":"SUMIF(Gifts!A$4:A$5000, Donors!A4458,Gifts!B$4:B$5000)","v":0}]
[null,null,null,{"$f":"SUMIF(Gifts!A$4:A$5000, Donors!A4459,Gifts!B$4:B$5000)","v":0}]
[null,null,null,{"$f":"SUMIF(Gifts!A$4:A$5000, Donors!A4460,Gifts!B$4:B$5000)","v":0}]
[null,null,null,{"$f":"SUMIF(Gifts!A$4:A$5000, Donors!A4461,Gifts!B$4:B$5000)","v":0}]
[null,null,null,{"$f":"SUMIF(Gifts!A$4:A$5000, Donors!A4462,Gifts!B$4:B$5000)","v":0}]
[null,null,null,{"$f":"SUMIF(Gifts!A$4:A$5000, Donors!A4463,Gifts!B$4:B$5000)","v":0}]
[null,null,null,{"$f":"SUMIF(Gifts!A$4:A$5000, Donors!A4464,Gifts!B$4:B$5000)","v":0}]
[null,null,null,{"$f":"SUMIF(Gifts!A$4:A$5000, Donors!A4465,Gifts!B$4:B$5000)","v":0}]
[null,null,null,{"$f":"SUMIF(Gifts!A$4:A$5000, Donors!A4466,Gifts!B$4:B$5000)","v":0}]
[null,null,null,{"$f":"SUMIF(Gifts!A$4:A$5000, Donors!A4467,Gifts!B$4:B$5000)","v":0}]
[null,null,null,{"$f":"SUMIF(Gifts!A$4:A$5000, Donors!A4468,Gifts!B$4:B$5000)","v":0}]
[null,null,null,{"$f":"SUMIF(Gifts!A$4:A$5000, Donors!A4469,Gifts!B$4:B$5000)","v":0}]
[null,null,null,{"$f":"SUMIF(Gifts!A$4:A$5000, Donors!A4470,Gifts!B$4:B$5000)","v":0}]
[null,null,null,{"$f":"SUMIF(Gifts!A$4:A$5000, Donors!A4471,Gifts!B$4:B$5000)","v":0}]
[null,null,null,{"$f":"SUMIF(Gifts!A$4:A$5000, Donors!A4472,Gifts!B$4:B$5000)","v":0}]
[null,null,null,{"$f":"SUMIF(Gifts!A$4:A$5000, Donors!A4473,Gifts!B$4:B$5000)","v":0}]
[null,null,null,{"$f":"SUMIF(Gifts!A$4:A$5000, Donors!A4474,Gifts!B$4:B$5000)","v":0}]
[null,null,null,{"$f":"SUMIF(Gifts!A$4:A$5000, Donors!A4475,Gifts!B$4:B$5000)","v":0}]
[null,null,null,{"$f":"SUMIF(Gifts!A$4:A$5000, Donors!A4476,Gifts!B$4:B$5000)","v":0}]
[null,null,null,{"$f":"SUMIF(Gifts!A$4:A$5000, Donors!A4477,Gifts!B$4:B$5000)","v":0}]
[null,null,null,{"$f":"SUMIF(Gifts!A$4:A$5000, Donors!A4478,Gifts!B$4:B$5000)","v":0}]
[null,null,null,{"$f":"SUMIF(Gifts!A$4:A$5000, Donors!A4479,Gifts!B$4:B$5000)","v":0}]
[null,null,null,{"$f":"SUMIF(Gifts!A$4:A$5000, Donors!A4480,Gifts!B$4:B$5000)","v":0}]
[null,null,null,{"$f":"SUMIF(Gifts!A$4:A$5000, Donors!A4481,Gifts!B$4:B$5000)","v":0}]
[null,null,null,{"$f":"SUMIF(Gifts!A$4:A$5000, Donors!A4482,Gifts!B$4:B$5000)","v":0}]
[null,null,null,{"$f":"SUMIF(Gifts!A$4:A$5000, Donors!A4483,Gifts!B$4:B$5000)","v":0}]
[null,null,null,{"$f":"SUMIF(Gifts!A$4:A$5000, Donors!A4484,Gifts!B$4:B$5000)","v":0}]
[null,null,null,{"$f":"SUMIF(Gifts!A$4:A$5000, Donors!A4485,Gifts!B$4:B$5000)","v":0}]
[null,null,null,{"$f":"SUMIF(Gifts!A$4:A$5000, Donors!A4486,Gifts!B$4:B$5000)","v":0}]
[null,null,null,{"$f":"SUMIF(Gifts!A$4:A$5000, Donors!A4487,Gifts!B$4:B$5000)","v":0}]
[null,null,null,{"$f":"SUMIF(Gifts!A$4:A$5000, Donors!A4488,Gifts!B$4:B$5000)","v":0}]
[null,null,null,{"$f":"SUMIF(Gifts!A$4:A$5000, Donors!A4489,Gifts!B$4:B$5000)","v":0}]
[null,null,null,{"$f":"SUMIF(Gifts!A$4:A$5000, Donors!A4490,Gifts!B$4:B$5000)","v":0}]
[null,null,null,{"$f":"SUMIF(Gifts!A$4:A$5000, Donors!A4491,Gifts!B$4:B$5000)","v":0}]
[null,null,null,{"$f":"SUMIF(Gifts!A$4:A$5000, Donors!A4492,Gifts!B$4:B$5000)","v":0}]
[null,null,null,{"$f":"SUMIF(Gifts!A$4:A$5000, Donors!A4493,Gifts!B$4:B$5000)","v":0}]
[null,null,null,{"$f":"SUMIF(Gifts!A$4:A$5000, Donors!A4494,Gifts!B$4:B$5000)","v":0}]
[null,null,null,{"$f":"SUMIF(Gifts!A$4:A$5000, Donors!A4495,Gifts!B$4:B$5000)","v":0}]
[null,null,null,{"$f":"SUMIF(Gifts!A$4:A$5000, Donors!A4496,Gifts!B$4:B$5000)","v":0}]
[null,null,null,{"$f":"SUMIF(Gifts!A$4:A$5000, Donors!A4497,Gifts!B$4:B$5000)","v":0}]
[null,null,null,{"$f":"SUMIF(Gifts!A$4:A$5000, Donors!A4498,Gifts!B$4:B$5000)","v":0}]
[null,null,null,{"$f":"SUMIF(Gifts!A$4:A$5000, Donors!A4499,Gifts!B$4:B$5000)","v":0}]
[null,null,null,{"$f":"SUMIF(Gifts!A$4:A$5000, Donors!A4500,Gifts!B$4:B$5000)","v":0}]
[null,null,null,{"$f":"SUMIF(Gifts!A$4:A$5000, Donors!A4501,Gifts!B$4:B$5000)","v":0}]
[null,null,null,{"$f":"SUMIF(Gifts!A$4:A$5000, Donors!A4502,Gifts!B$4:B$5000)","v":0}]
[null,null,null,{"$f":"SUMIF(Gifts!A$4:A$5000, Donors!A4503,Gifts!B$4:B$5000)","v":0}]
[null,null,null,{"$f":"SUMIF(Gifts!A$4:A$5000, Donors!A4504,Gifts!B$4:B$5000)","v":0}]
[null,null,null,{"$f":"SUMIF(Gifts!A$4:A$5000, Donors!A4505,Gifts!B$4:B$5000)","v":0}]
[null,null,null,{"$f":"SUMIF(Gifts!A$4:A$5000, Donors!A4506,Gifts!B$4:B$5000)","v":0}]
[null,null,null,{"$f":"SUMIF(Gifts!A$4:A$5000, Donors!A4507,Gifts!B$4:B$5000)","v":0}]
[null,null,null,{"$f":"SUMIF(Gifts!A$4:A$5000, Donors!A4508,Gifts!B$4:B$5000)","v":0}]
[null,null,null,{"$f":"SUMIF(Gifts!A$4:A$5000, Donors!A4509,Gifts!B$4:B$5000)","v":0}]
[null,null,null,{"$f":"SUMIF(Gifts!A$4:A$5000, Donors!A4510,Gifts!B$4:B$5000)","v":0}]
[null,null,null,{"$f":"SUMIF(Gifts!A$4:A$5000, Donors!A4511,Gifts!B$4:B$5000)","v":0}]
[null,null,null,{"$f":"SUMIF(Gifts!A$4:A$5000, Donors!A4512,Gifts!B$4:B$5000)","v":0}]
[null,null,null,{"$f":"SUMIF(Gifts!A$4:A$5000, Donors!A4513,Gifts!B$4:B$5000)","v":0}]
[null,null,null,{"$f":"SUMIF(Gifts!A$4:A$5000, Donors!A4514,Gifts!B$4:B$5000)","v":0}]
[null,null,null,{"$f":"SUMIF(Gifts!A$4:A$5000, Donors!A4515,Gifts!B$4:B$5000)","v":0}]
[null,null,null,{"$f":"SUMIF(Gifts!A$4:A$5000, Donors!A4516,Gifts!B$4:B$5000)","v":0}]
[null,null,null,{"$f":"SUMIF(Gifts!A$4:A$5000, Donors!A4517,Gifts!B$4:B$5000)","v":0}]
[null,null,null,{"$f":"SUMIF(Gifts!A$4:A$5000, Donors!A4518,Gifts!B$4:B$5000)","v":0}]
[null,null,null,{"$f":"SUMIF(Gifts!A$4:A$5000, Donors!A4519,Gifts!B$4:B$5000)","v":0}]
[null,null,null,{"$f":"SUMIF(Gifts!A$4:A$5000, Donors!A4520,Gifts!B$4:B$5000)","v":0}]
[null,null,null,{"$f":"SUMIF(Gifts!A$4:A$5000, Donors!A4521,Gifts!B$4:B$5000)","v":0}]
[null,null,null,{"$f":"SUMIF(Gifts!A$4:A$5000, Donors!A4522,Gifts!B$4:B$5000)","v":0}]
[null,null,null,{"$f":"SUMIF(Gifts!A$4:A$5000, Donors!A4523,Gifts!B$4:B$5000)","v":0}]
[null,null,null,{"$f":"SUMIF(Gifts!A$4:A$5000, Donors!A4524,Gifts!B$4:B$5000)","v":0}]
[null,null,null,{"$f":"SUMIF(Gifts!A$4:A$5000, Donors!A4525,Gifts!B$4:B$5000)","v":0}]
[null,null,null,{"$f":"SUMIF(Gifts!A$4:A$5000, Donors!A4526,Gifts!B$4:B$5000)","v":0}]
[null,null,null,{"$f":"SUMIF(Gifts!A$4:A$5000, Donors!A4527,Gifts!B$4:B$5000)","v":0}]
[null,null,null,{"$f":"SUMIF(Gifts!A$4:A$5000, Donors!A4528,Gifts!B$4:B$5000)","v":0}]
[null,null,null,{"$f":"SUMIF(Gifts!A$4:A$5000, Donors!A4529,Gifts!B$4:B$5000)","v":0}]
[null,null,null,{"$f":"SUMIF(Gifts!A$4:A$5000, Donors!A4530,Gifts!B$4:B$5000)","v":0}]
[null,null,null,{"$f":"SUMIF(Gifts!A$4:A$5000, Donors!A4531,Gifts!B$4:B$5000)","v":0}]
[null,null,null,{"$f":"SUMIF(Gifts!A$4:A$5000, Donors!A4532,Gifts!B$4:B$5000)","v":0}]
[null,null,null,{"$f":"SUMIF(Gifts!A$4:A$5000, Donors!A4533,Gifts!B$4:B$5000)","v":0}]
[null,null,null,{"$f":"SUMIF(Gifts!A$4:A$5000, Donors!A4534,Gifts!B$4:B$5000)","v":0}]
[null,null,null,{"$f":"SUMIF(Gifts!A$4:A$5000, Donors!A4535,Gifts!B$4:B$5000)","v":0}]
[null,null,null,{"$f":"SUMIF(Gifts!A$4:A$5000, Donors!A4536,Gifts!B$4:B$5000)","v":0}]
[null,null,null,{"$f":"SUMIF(Gifts!A$4:A$5000, Donors!A4537,Gifts!B$4:B$5000)","v":0}]
[null,null,null,{"$f":"SUMIF(Gifts!A$4:A$5000, Donors!A4538,Gifts!B$4:B$5000)","v":0}]
[null,null,null,{"$f":"SUMIF(Gifts!A$4:A$5000, Donors!A4539,Gifts!B$4:B$5000)","v":0}]
[null,null,null,{"$f":"SUMIF(Gifts!A$4:A$5000, Donors!A4540,Gifts!B$4:B$5000)","v":0}]
[null,null,null,{"$f":"SUMIF(Gifts!A$4:A$5000, Donors!A4541,Gifts!B$4:B$5000)","v":0}]
[null,null,null,{"$f":"SUMIF(Gifts!A$4:A$5000, Donors!A4542,Gifts!B$4:B$5000)","v":0}]
[null,null,null,{"$f":"SUMIF(Gifts!A$4:A$5000, Donors!A4543,Gifts!B$4:B$5000)","v":0}]
[null,null,null,{"$f":"SUMIF(Gifts!A$4:A$5000, Donors!A4544,Gifts!B$4:B$5000)","v":0}]
[null,null,null,{"$f":"SUMIF(Gifts!A$4:A$5000, Donors!A4545,Gifts!B$4:B$5000)","v":0}]
[null,null,null,{"$f":"SUMIF(Gifts!A$4:A$5000, Donors!A4546,Gifts!B$4:B$5000)","v":0}]
[null,null,null,{"$f":"SUMIF(Gifts!A$4:A$5000, Donors!A4547,Gifts!B$4:B$5000)","v":0}]
[null,null,null,{"$f":"SUMIF(Gifts!A$4:A$5000, Donors!A4548,Gifts!B$4:B$5000)","v":0}]
[null,null,null,{"$f":"SUMIF(Gifts!A$4:A$5000, Donors!A4549,Gifts!B$4:B$5000)","v":0}]
[null,null,null,{"$f":"SUMIF(Gifts!A$4:A$5000, Donors!A4550,Gifts!B$4:B$5000)","v":0}]
[null,null,null,{"$f":"SUMIF(Gifts!A$4:A$5000, Donors!A4551,Gifts!B$4:B$5000)","v":0}]
[null,null,null,{"$f":"SUMIF(Gifts!A$4:A$5000, Donors!A4552,Gifts!B$4:B$5000)","v":0}]
[null,null,null,{"$f":"SUMIF(Gifts!A$4:A$5000, Donors!A4553,Gifts!B$4:B$5000)","v":0}]
[null,null,null,{"$f":"SUMIF(Gifts!A$4:A$5000, Donors!A4554,Gifts!B$4:B$5000)","v":0}]
[null,null,null,{"$f":"SUMIF(Gifts!A$4:A$5000, Donors!A4555,Gifts!B$4:B$5000)","v":0}]
[null,null,null,{"$f":"SUMIF(Gifts!A$4:A$5000, Donors!A4556,Gifts!B$4:B$5000)","v":0}]
[null,null,null,{"$f":"SUMIF(Gifts!A$4:A$5000, Donors!A4557,Gifts!B$4:B$5000)","v":0}]
[null,null,null,{"$f":"SUMIF(Gifts!A$4:A$5000, Donors!A4558,Gifts!B$4:B$5000)","v":0}]
[null,null,null,{"$f":"SUMIF(Gifts!A$4:A$5000, Donors!A4559,Gifts!B$4:B$5000)","v":0}]
[null,null,null,{"$f":"SUMIF(Gifts!A$4:A$5000, Donors!A4560,Gifts!B$4:B$5000)","v":0}]
[null,null,null,{"$f":"SUMIF(Gifts!A$4:A$5000, Donors!A4561,Gifts!B$4:B$5000)","v":0}]
[null,null,null,{"$f":"SUMIF(Gifts!A$4:A$5000, Donors!A4562,Gifts!B$4:B$5000)","v":0}]
[null,null,null,{"$f":"SUMIF(Gifts!A$4:A$5000, Donors!A4563,Gifts!B$4:B$5000)","v":0}]
[null,null,null,{"$f":"SUMIF(Gifts!A$4:A$5000, Donors!A4564,Gifts!B$4:B$5000)","v":0}]
[null,null,null,{"$f":"SUMIF(Gifts!A$4:A$5000, Donors!A4565,Gifts!B$4:B$5000)","v":0}]
[null,null,null,{"$f":"SUMIF(Gifts!A$4:A$5000, Donors!A4566,Gifts!B$4:B$5000)","v":0}]
[null,null,null,{"$f":"SUMIF(Gifts!A$4:A$5000, Donors!A4567,Gifts!B$4:B$5000)","v":0}]
[null,null,null,{"$f":"SUMIF(Gifts!A$4:A$5000, Donors!A4568,Gifts!B$4:B$5000)","v":0}]
[null,null,null,{"$f":"SUMIF(Gifts!A$4:A$5000, Donors!A4569,Gifts!B$4:B$5000)","v":0}]
[null,null,null,{"$f":"SUMIF(Gifts!A$4:A$5000, Donors!A4570,Gifts!B$4:B$5000)","v":0}]
[null,null,null,{"$f":"SUMIF(Gifts!A$4:A$5000, Donors!A4571,Gifts!B$4:B$5000)","v":0}]
[null,null,null,{"$f":"SUMIF(Gifts!A$4:A$5000, Donors!A4572,Gifts!B$4:B$5000)","v":0}]
[null,null,null,{"$f":"SUMIF(Gifts!A$4:A$5000, Donors!A4573,Gifts!B$4:B$5000)","v":0}]
[null,null,null,{"$f":"SUMIF(Gifts!A$4:A$5000, Donors!A4574,Gifts!B$4:B$5000)","v":0}]
[null,null,null,{"$f":"SUMIF(Gifts!A$4:A$5000, Donors!A4575,Gifts!B$4:B$5000)","v":0}]
[null,null,null,{"$f":"SUMIF(Gifts!A$4:A$5000, Donors!A4576,Gifts!B$4:B$5000)","v":0}]
[null,null,null,{"$f":"SUMIF(Gifts!A$4:A$5000, Donors!A4577,Gifts!B$4:B$5000)","v":0}]
[null,null,null,{"$f":"SUMIF(Gifts!A$4:A$5000, Donors!A4578,Gifts!B$4:B$5000)","v":0}]
[null,null,null,{"$f":"SUMIF(Gifts!A$4:A$5000, Donors!A4579,Gifts!B$4:B$5000)","v":0}]
[null,null,null,{"$f":"SUMIF(Gifts!A$4:A$5000, Donors!A4580,Gifts!B$4:B$5000)","v":0}]
[null,null,null,{"$f":"SUMIF(Gifts!A$4:A$5000, Donors!A4581,Gifts!B$4:B$5000)","v":0}]
[null,null,null,{"$f":"SUMIF(Gifts!A$4:A$5000, Donors!A4582,Gifts!B$4:B$5000)","v":0}]
[null,null,null,{"$f":"SUMIF(Gifts!A$4:A$5000, Donors!A4583,Gifts!B$4:B$5000)","v":0}]
[null,null,null,{"$f":"SUMIF(Gifts!A$4:A$5000, Donors!A4584,Gifts!B$4:B$5000)","v":0}]
[null,null,null,{"$f":"SUMIF(Gifts!A$4:A$5000, Donors!A4585,Gifts!B$4:B$5000)","v":0}]
[null,null,null,{"$f":"SUMIF(Gifts!A$4:A$5000, Donors!A4586,Gifts!B$4:B$5000)","v":0}]
[null,null,null,{"$f":"SUMIF(Gifts!A$4:A$5000, Donors!A4587,Gifts!B$4:B$5000)","v":0}]
[null,null,null,{"$f":"SUMIF(Gifts!A$4:A$5000, Donors!A4588,Gifts!B$4:B$5000)","v":0}]
[null,null,null,{"$f":"SUMIF(Gifts!A$4:A$5000, Donors!A4589,Gifts!B$4:B$5000)","v":0}]
[null,null,null,{"$f":"SUMIF(Gifts!A$4:A$5000, Donors!A4590,Gifts!B$4:B$5000)","v":0}]
[null,null,null,{"$f":"SUMIF(Gifts!A$4:A$5000, Donors!A4591,Gifts!B$4:B$5000)","v":0}]
[null,null,null,{"$f":"SUMIF(Gifts!A$4:A$5000, Donors!A4592,Gifts!B$4:B$5000)","v":0}]
[null,null,null,{"$f":"SUMIF(Gifts!A$4:A$5000, Donors!A4593,Gifts!B$4:B$5000)","v":0}]
[null,null,null,{"$f":"SUMIF(Gifts!A$4:A$5000, Donors!A4594,Gifts!B$4:B$5000)","v":0}]
[null,null,null,{"$f":"SUMIF(Gifts!A$4:A$5000, Donors!A4595,Gifts!B$4:B$5000)","v":0}]
[null,null,null,{"$f":"SUMIF(Gifts!A$4:A$5000, Donors!A4596,Gifts!B$4:B$5000)","v":0}]
[null,null,null,{"$f":"SUMIF(Gifts!A$4:A$5000, Donors!A4597,Gifts!B$4:B$5000)","v":0}]
[null,null,null,{"$f":"SUMIF(Gifts!A$4:A$5000, Donors!A4598,Gifts!B$4:B$5000)","v":0}]
[null,null,null,{"$f":"SUMIF(Gifts!A$4:A$5000, Donors!A4599,Gifts!B$4:B$5000)","v":0}]
[null,null,null,{"$f":"SUMIF(Gifts!A$4:A$5000, Donors!A4600,Gifts!B$4:B$5000)","v":0}]
[null,null,null,{"$f":"SUMIF(Gifts!A$4:A$5000, Donors!A4601,Gifts!B$4:B$5000)","v":0}]
[null,null,null,{"$f":"SUMIF(Gifts!A$4:A$5000, Donors!A4602,Gifts!B$4:B$5000)","v":0}]
[null,null,null,{"$f":"SUMIF(Gifts!A$4:A$5000, Donors!A4603,Gifts!B$4:B$5000)","v":0}]
[null,null,null,{"$f":"SUMIF(Gifts!A$4:A$5000, Donors!A4604,Gifts!B$4:B$5000)","v":0}]
[null,null,null,{"$f":"SUMIF(Gifts!A$4:A$5000, Donors!A4605,Gifts!B$4:B$5000)","v":0}]
[null,null,null,{"$f":"SUMIF(Gifts!A$4:A$5000, Donors!A4606,Gifts!B$4:B$5000)","v":0}]
[null,null,null,{"$f":"SUMIF(Gifts!A$4:A$5000, Donors!A4607,Gifts!B$4:B$5000)","v":0}]
[null,null,null,{"$f":"SUMIF(Gifts!A$4:A$5000, Donors!A4608,Gifts!B$4:B$5000)","v":0}]
[null,null,null,{"$f":"SUMIF(Gifts!A$4:A$5000, Donors!A4609,Gifts!B$4:B$5000)","v":0}]
[null,null,null,{"$f":"SUMIF(Gifts!A$4:A$5000, Donors!A4610,Gifts!B$4:B$5000)","v":0}]
[null,null,null,{"$f":"SUMIF(Gifts!A$4:A$5000, Donors!A4611,Gifts!B$4:B$5000)","v":0}]
[null,null,null,{"$f":"SUMIF(Gifts!A$4:A$5000, Donors!A4612,Gifts!B$4:B$5000)","v":0}]
[null,null,null,{"$f":"SUMIF(Gifts!A$4:A$5000, Donors!A4613,Gifts!B$4:B$5000)","v":0}]
[null,null,null,{"$f":"SUMIF(Gifts!A$4:A$5000, Donors!A4614,Gifts!B$4:B$5000)","v":0}]
[null,null,null,{"$f":"SUMIF(Gifts!A$4:A$5000, Donors!A4615,Gifts!B$4:B$5000)","v":0}]
[null,null,null,{"$f":"SUMIF(Gifts!A$4:A$5000, Donors!A4616,Gifts!B$4:B$5000)","v":0}]
[null,null,null,{"$f":"SUMIF(Gifts!A$4:A$5000, Donors!A4617,Gifts!B$4:B$5000)","v":0}]
[null,null,null,{"$f":"SUMIF(Gifts!A$4:A$5000, Donors!A4618,Gifts!B$4:B$5000)","v":0}]
[null,null,null,{"$f":"SUMIF(Gifts!A$4:A$5000, Donors!A4619,Gifts!B$4:B$5000)","v":0}]
[null,null,null,{"$f":"SUMIF(Gifts!A$4:A$5000, Donors!A4620,Gifts!B$4:B$5000)","v":0}]
[null,null,null,{"$f":"SUMIF(Gifts!A$4:A$5000, Donors!A4621,Gifts!B$4:B$5000)","v":0}]
[null,null,null,{"$f":"SUMIF(Gifts!A$4:A$5000, Donors!A4622,Gifts!B$4:B$5000)","v":0}]
[null,null,null,{"$f":"SUMIF(Gifts!A$4:A$5000, Donors!A4623,Gifts!B$4:B$5000)","v":0}]
[null,null,null,{"$f":"SUMIF(Gifts!A$4:A$5000, Donors!A4624,Gifts!B$4:B$5000)","v":0}]
[null,null,null,{"$f":"SUMIF(Gifts!A$4:A$5000, Donors!A4625,Gifts!B$4:B$5000)","v":0}]
[null,null,null,{"$f":"SUMIF(Gifts!A$4:A$5000, Donors!A4626,Gifts!B$4:B$5000)","v":0}]
[null,null,null,{"$f":"SUMIF(Gifts!A$4:A$5000, Donors!A4627,Gifts!B$4:B$5000)","v":0}]
[null,null,null,{"$f":"SUMIF(Gifts!A$4:A$5000, Donors!A4628,Gifts!B$4:B$5000)","v":0}]
[null,null,null,{"$f":"SUMIF(Gifts!A$4:A$5000, Donors!A4629,Gifts!B$4:B$5000)","v":0}]
[null,null,null,{"$f":"SUMIF(Gifts!A$4:A$5000, Donors!A4630,Gifts!B$4:B$5000)","v":0}]
[null,null,null,{"$f":"SUMIF(Gifts!A$4:A$5000, Donors!A4631,Gifts!B$4:B$5000)","v":0}]
[null,null,null,{"$f":"SUMIF(Gifts!A$4:A$5000, Donors!A4632,Gifts!B$4:B$5000)","v":0}]
[null,null,null,{"$f":"SUMIF(Gifts!A$4:A$5000, Donors!A4633,Gifts!B$4:B$5000)","v":0}]
[null,null,null,{"$f":"SUMIF(Gifts!A$4:A$5000, Donors!A4634,Gifts!B$4:B$5000)","v":0}]
[null,null,null,{"$f":"SUMIF(Gifts!A$4:A$5000, Donors!A4635,Gifts!B$4:B$5000)","v":0}]
[null,null,null,{"$f":"SUMIF(Gifts!A$4:A$5000, Donors!A4636,Gifts!B$4:B$5000)","v":0}]
[null,null,null,{"$f":"SUMIF(Gifts!A$4:A$5000, Donors!A4637,Gifts!B$4:B$5000)","v":0}]
[null,null,null,{"$f":"SUMIF(Gifts!A$4:A$5000, Donors!A4638,Gifts!B$4:B$5000)","v":0}]
[null,null,null,{"$f":"SUMIF(Gifts!A$4:A$5000, Donors!A4639,Gifts!B$4:B$5000)","v":0}]
[null,null,null,{"$f":"SUMIF(Gifts!A$4:A$5000, Donors!A4640,Gifts!B$4:B$5000)","v":0}]
[null,null,null,{"$f":"SUMIF(Gifts!A$4:A$5000, Donors!A4641,Gifts!B$4:B$5000)","v":0}]
[null,null,null,{"$f":"SUMIF(Gifts!A$4:A$5000, Donors!A4642,Gifts!B$4:B$5000)","v":0}]
[null,null,null,{"$f":"SUMIF(Gifts!A$4:A$5000, Donors!A4643,Gifts!B$4:B$5000)","v":0}]
[null,null,null,{"$f":"SUMIF(Gifts!A$4:A$5000, Donors!A4644,Gifts!B$4:B$5000)","v":0}]
[null,null,null,{"$f":"SUMIF(Gifts!A$4:A$5000, Donors!A4645,Gifts!B$4:B$5000)","v":0}]
[null,null,null,{"$f":"SUMIF(Gifts!A$4:A$5000, Donors!A4646,Gifts!B$4:B$5000)","v":0}]
[null,null,null,{"$f":"SUMIF(Gifts!A$4:A$5000, Donors!A4647,Gifts!B$4:B$5000)","v":0}]
[null,null,null,{"$f":"SUMIF(Gifts!A$4:A$5000, Donors!A4648,Gifts!B$4:B$5000)","v":0}]
[null,null,null,{"$f":"SUMIF(Gifts!A$4:A$5000, Donors!A4649,Gifts!B$4:B$5000)","v":0}]
[null,null,null,{"$f":"SUMIF(Gifts!A$4:A$5000, Donors!A4650,Gifts!B$4:B$5000)","v":0}]
[null,null,null,{"$f":"SUMIF(Gifts!A$4:A$5000, Donors!A4651,Gifts!B$4:B$5000)","v":0}]
[null,null,null,{"$f":"SUMIF(Gifts!A$4:A$5000, Donors!A4652,Gifts!B$4:B$5000)","v":0}]
[null,null,null,{"$f":"SUMIF(Gifts!A$4:A$5000, Donors!A4653,Gifts!B$4:B$5000)","v":0}]
[null,null,null,{"$f":"SUMIF(Gifts!A$4:A$5000, Donors!A4654,Gifts!B$4:B$5000)","v":0}]
[null,null,null,{"$f":"SUMIF(Gifts!A$4:A$5000, Donors!A4655,Gifts!B$4:B$5000)","v":0}]
[null,null,null,{"$f":"SUMIF(Gifts!A$4:A$5000, Donors!A4656,Gifts!B$4:B$5000)","v":0}]
[null,null,null,{"$f":"SUMIF(Gifts!A$4:A$5000, Donors!A4657,Gifts!B$4:B$5000)","v":0}]
[null,null,null,{"$f":"SUMIF(Gifts!A$4:A$5000, Donors!A4658,Gifts!B$4:B$5000)","v":0}]
[null,null,null,{"$f":"SUMIF(Gifts!A$4:A$5000, Donors!A4659,Gifts!B$4:B$5000)","v":0}]
[null,null,null,{"$f":"SUMIF(Gifts!A$4:A$5000, Donors!A4660,Gifts!B$4:B$5000)","v":0}]
[null,null,null,{"$f":"SUMIF(Gifts!A$4:A$5000, Donors!A4661,Gifts!B$4:B$5000)","v":0}]
[null,null,null,{"$f":"SUMIF(Gifts!A$4:A$5000, Donors!A4662,Gifts!B$4:B$5000)","v":0}]
[null,null,null,{"$f":"SUMIF(Gifts!A$4:A$5000, Donors!A4663,Gifts!B$4:B$5000)","v":0}]
[null,null,null,{"$f":"SUMIF(Gifts!A$4:A$5000, Donors!A4664,Gifts!B$4:B$5000)","v":0}]
[null,null,null,{"$f":"SUMIF(Gifts!A$4:A$5000, Donors!A4665,Gifts!B$4:B$5000)","v":0}]
[null,null,null,{"$f":"SUMIF(Gifts!A$4:A$5000, Donors!A4666,Gifts!B$4:B$5000)","v":0}]
[null,null,null,{"$f":"SUMIF(Gifts!A$4:A$5000, Donors!A4667,Gifts!B$4:B$5000)","v":0}]
[null,null,null,{"$f":"SUMIF(Gifts!A$4:A$5000, Donors!A4668,Gifts!B$4:B$5000)","v":0}]
[null,null,null,{"$f":"SUMIF(Gifts!A$4:A$5000, Donors!A4669,Gifts!B$4:B$5000)","v":0}]
[null,null,null,{"$f":"SUMIF(Gifts!A$4:A$5000, Donors!A4670,Gifts!B$4:B$5000)","v":0}]
[null,null,null,{"$f":"SUMIF(Gifts!A$4:A$5000, Donors!A4671,Gifts!B$4:B$5000)","v":0}]
[null,null,null,{"$f":"SUMIF(Gifts!A$4:A$5000, Donors!A4672,Gifts!B$4:B$5000)","v":0}]
[null,null,null,{"$f":"SUMIF(Gifts!A$4:A$5000, Donors!A4673,Gifts!B$4:B$5000)","v":0}]
[null,null,null,{"$f":"SUMIF(Gifts!A$4:A$5000, Donors!A4674,Gifts!B$4:B$5000)","v":0}]
[null,null,null,{"$f":"SUMIF(Gifts!A$4:A$5000, Donors!A4675,Gifts!B$4:B$5000)","v":0}]
[null,null,null,{"$f":"SUMIF(Gifts!A$4:A$5000, Donors!A4676,Gifts!B$4:B$5000)","v":0}]
[null,null,null,{"$f":"SUMIF(Gifts!A$4:A$5000, Donors!A4677,Gifts!B$4:B$5000)","v":0}]
[null,null,null,{"$f":"SUMIF(Gifts!A$4:A$5000, Donors!A4678,Gifts!B$4:B$5000)","v":0}]
[null,null,null,{"$f":"SUMIF(Gifts!A$4:A$5000, Donors!A4679,Gifts!B$4:B$5000)","v":0}]
[null,null,null,{"$f":"SUMIF(Gifts!A$4:A$5000, Donors!A4680,Gifts!B$4:B$5000)","v":0}]
[null,null,null,{"$f":"SUMIF(Gifts!A$4:A$5000, Donors!A4681,Gifts!B$4:B$5000)","v":0}]
[null,null,null,{"$f":"SUMIF(Gifts!A$4:A$5000, Donors!A4682,Gifts!B$4:B$5000)","v":0}]
[null,null,null,{"$f":"SUMIF(Gifts!A$4:A$5000, Donors!A4683,Gifts!B$4:B$5000)","v":0}]
[null,null,null,{"$f":"SUMIF(Gifts!A$4:A$5000, Donors!A4684,Gifts!B$4:B$5000)","v":0}]
[null,null,null,{"$f":"SUMIF(Gifts!A$4:A$5000, Donors!A4685,Gifts!B$4:B$5000)","v":0}]
[null,null,null,{"$f":"SUMIF(Gifts!A$4:A$5000, Donors!A4686,Gifts!B$4:B$5000)","v":0}]
[null,null,null,{"$f":"SUMIF(Gifts!A$4:A$5000, Donors!A4687,Gifts!B$4:B$5000)","v":0}]
[null,null,null,{"$f":"SUMIF(Gifts!A$4:A$5000, Donors!A4688,Gifts!B$4:B$5000)","v":0}]
[null,null,null,{"$f":"SUMIF(Gifts!A$4:A$5000, Donors!A4689,Gifts!B$4:B$5000)","v":0}]
[null,null,null,{"$f":"SUMIF(Gifts!A$4:A$5000, Donors!A4690,Gifts!B$4:B$5000)","v":0}]
[null,null,null,{"$f":"SUMIF(Gifts!A$4:A$5000, Donors!A4691,Gifts!B$4:B$5000)","v":0}]
[null,null,null,{"$f":"SUMIF(Gifts!A$4:A$5000, Donors!A4692,Gifts!B$4:B$5000)","v":0}]
[null,null,null,{"$f":"SUMIF(Gifts!A$4:A$5000, Donors!A4693,Gifts!B$4:B$5000)","v":0}]
[null,null,null,{"$f":"SUMIF(Gifts!A$4:A$5000, Donors!A4694,Gifts!B$4:B$5000)","v":0}]
[null,null,null,{"$f":"SUMIF(Gifts!A$4:A$5000, Donors!A4695,Gifts!B$4:B$5000)","v":0}]
[null,null,null,{"$f":"SUMIF(Gifts!A$4:A$5000, Donors!A4696,Gifts!B$4:B$5000)","v":0}]
[null,null,null,{"$f":"SUMIF(Gifts!A$4:A$5000, Donors!A4697,Gifts!B$4:B$5000)","v":0}]
[null,null,null,{"$f":"SUMIF(Gifts!A$4:A$5000, Donors!A4698,Gifts!B$4:B$5000)","v":0}]
[null,null,null,{"$f":"SUMIF(Gifts!A$4:A$5000, Donors!A4699,Gifts!B$4:B$5000)","v":0}]
[null,null,null,{"$f":"SUMIF(Gifts!A$4:A$5000, Donors!A4700,Gifts!B$4:B$5000)","v":0}]
[null,null,null,{"$f":"SUMIF(Gifts!A$4:A$5000, Donors!A4701,Gifts!B$4:B$5000)","v":0}]
[null,null,null,{"$f":"SUMIF(Gifts!A$4:A$5000, Donors!A4702,Gifts!B$4:B$5000)","v":0}]
[null,null,null,{"$f":"SUMIF(Gifts!A$4:A$5000, Donors!A4703,Gifts!B$4:B$5000)","v":0}]
[null,null,null,{"$f":"SUMIF(Gifts!A$4:A$5000, Donors!A4704,Gifts!B$4:B$5000)","v":0}]
[null,null,null,{"$f":"SUMIF(Gifts!A$4:A$5000, Donors!A4705,Gifts!B$4:B$5000)","v":0}]
[null,null,null,{"$f":"SUMIF(Gifts!A$4:A$5000, Donors!A4706,Gifts!B$4:B$5000)","v":0}]
[null,null,null,{"$f":"SUMIF(Gifts!A$4:A$5000, Donors!A4707,Gifts!B$4:B$5000)","v":0}]
[null,null,null,{"$f":"SUMIF(Gifts!A$4:A$5000, Donors!A4708,Gifts!B$4:B$5000)","v":0}]
[null,null,null,{"$f":"SUMIF(Gifts!A$4:A$5000, Donors!A4709,Gifts!B$4:B$5000)","v":0}]
[null,null,null,{"$f":"SUMIF(Gifts!A$4:A$5000, Donors!A4710,Gifts!B$4:B$5000)","v":0}]
[null,null,null,{"$f":"SUMIF(Gifts!A$4:A$5000, Donors!A4711,Gifts!B$4:B$5000)","v":0}]
[null,null,null,{"$f":"SUMIF(Gifts!A$4:A$5000, Donors!A4712,Gifts!B$4:B$5000)","v":0}]
[null,null,null,{"$f":"SUMIF(Gifts!A$4:A$5000, Donors!A4713,Gifts!B$4:B$5000)","v":0}]
[null,null,null,{"$f":"SUMIF(Gifts!A$4:A$5000, Donors!A4714,Gifts!B$4:B$5000)","v":0}]
[null,null,null,{"$f":"SUMIF(Gifts!A$4:A$5000, Donors!A4715,Gifts!B$4:B$5000)","v":0}]
[null,null,null,{"$f":"SUMIF(Gifts!A$4:A$5000, Donors!A4716,Gifts!B$4:B$5000)","v":0}]
[null,null,null,{"$f":"SUMIF(Gifts!A$4:A$5000, Donors!A4717,Gifts!B$4:B$5000)","v":0}]
[null,null,null,{"$f":"SUMIF(Gifts!A$4:A$5000, Donors!A4718,Gifts!B$4:B$5000)","v":0}]
[null,null,null,{"$f":"SUMIF(Gifts!A$4:A$5000, Donors!A4719,Gifts!B$4:B$5000)","v":0}]
[null,null,null,{"$f":"SUMIF(Gifts!A$4:A$5000, Donors!A4720,Gifts!B$4:B$5000)","v":0}]
[null,null,null,{"$f":"SUMIF(Gifts!A$4:A$5000, Donors!A4721,Gifts!B$4:B$5000)","v":0}]
[null,null,null,{"$f":"SUMIF(Gifts!A$4:A$5000, Donors!A4722,Gifts!B$4:B$5000)","v":0}]
[null,null,null,{"$f":"SUMIF(Gifts!A$4:A$5000, Donors!A4723,Gifts!B$4:B$5000)","v":0}]
[null,null,null,{"$f":"SUMIF(Gifts!A$4:A$5000, Donors!A4724,Gifts!B$4:B$5000)","v":0}]
[null,null,null,{"$f":"SUMIF(Gifts!A$4:A$5000, Donors!A4725,Gifts!B$4:B$5000)","v":0}]
[null,null,null,{"$f":"SUMIF(Gifts!A$4:A$5000, Donors!A4726,Gifts!B$4:B$5000)","v":0}]
[null,null,null,{"$f":"SUMIF(Gifts!A$4:A$5000, Donors!A4727,Gifts!B$4:B$5000)","v":0}]
[null,null,null,{"$f":"SUMIF(Gifts!A$4:A$5000, Donors!A4728,Gifts!B$4:B$5000)","v":0}]
[null,null,null,{"$f":"SUMIF(Gifts!A$4:A$5000, Donors!A4729,Gifts!B$4:B$5000)","v":0}]
[null,null,null,{"$f":"SUMIF(Gifts!A$4:A$5000, Donors!A4730,Gifts!B$4:B$5000)","v":0}]
[null,null,null,{"$f":"SUMIF(Gifts!A$4:A$5000, Donors!A4731,Gifts!B$4:B$5000)","v":0}]
[null,null,null,{"$f":"SUMIF(Gifts!A$4:A$5000, Donors!A4732,Gifts!B$4:B$5000)","v":0}]
[null,null,null,{"$f":"SUMIF(Gifts!A$4:A$5000, Donors!A4733,Gifts!B$4:B$5000)","v":0}]
[null,null,null,{"$f":"SUMIF(Gifts!A$4:A$5000, Donors!A4734,Gifts!B$4:B$5000)","v":0}]
[null,null,null,{"$f":"SUMIF(Gifts!A$4:A$5000, Donors!A4735,Gifts!B$4:B$5000)","v":0}]
[null,null,null,{"$f":"SUMIF(Gifts!A$4:A$5000, Donors!A4736,Gifts!B$4:B$5000)","v":0}]
[null,null,null,{"$f":"SUMIF(Gifts!A$4:A$5000, Donors!A4737,Gifts!B$4:B$5000)","v":0}]
[null,null,null,{"$f":"SUMIF(Gifts!A$4:A$5000, Donors!A4738,Gifts!B$4:B$5000)","v":0}]
[null,null,null,{"$f":"SUMIF(Gifts!A$4:A$5000, Donors!A4739,Gifts!B$4:B$5000)","v":0}]
[null,null,null,{"$f":"SUMIF(Gifts!A$4:A$5000, Donors!A4740,Gifts!B$4:B$5000)","v":0}]
[null,null,null,{"$f":"SUMIF(Gifts!A$4:A$5000, Donors!A4741,Gifts!B$4:B$5000)","v":0}]
[null,null,null,{"$f":"SUMIF(Gifts!A$4:A$5000, Donors!A4742,Gifts!B$4:B$5000)","v":0}]
[null,null,null,{"$f":"SUMIF(Gifts!A$4:A$5000, Donors!A4743,Gifts!B$4:B$5000)","v":0}]
[null,null,null,{"$f":"SUMIF(Gifts!A$4:A$5000, Donors!A4744,Gifts!B$4:B$5000)","v":0}]
[null,null,null,{"$f":"SUMIF(Gifts!A$4:A$5000, Donors!A4745,Gifts!B$4:B$5000)","v":0}]
[null,null,null,{"$f":"SUMIF(Gifts!A$4:A$5000, Donors!A4746,Gifts!B$4:B$5000)","v":0}]
[null,null,null,{"$f":"SUMIF(Gifts!A$4:A$5000, Donors!A4747,Gifts!B$4:B$5000)","v":0}]
[null,null,null,{"$f":"SUMIF(Gifts!A$4:A$5000, Donors!A4748,Gifts!B$4:B$5000)","v":0}]
[null,null,null,{"$f":"SUMIF(Gifts!A$4:A$5000, Donors!A4749,Gifts!B$4:B$5000)","v":0}]
[null,null,null,{"$f":"SUMIF(Gifts!A$4:A$5000, Donors!A4750,Gifts!B$4:B$5000)","v":0}]
[null,null,null,{"$f":"SUMIF(Gifts!A$4:A$5000, Donors!A4751,Gifts!B$4:B$5000)","v":0}]
[null,null,null,{"$f":"SUMIF(Gifts!A$4:A$5000, Donors!A4752,Gifts!B$4:B$5000)","v":0}]
[null,null,null,{"$f":"SUMIF(Gifts!A$4:A$5000, Donors!A4753,Gifts!B$4:B$5000)","v":0}]
[null,null,null,{"$f":"SUMIF(Gifts!A$4:A$5000, Donors!A4754,Gifts!B$4:B$5000)","v":0}]
[null,null,null,{"$f":"SUMIF(Gifts!A$4:A$5000, Donors!A4755,Gifts!B$4:B$5000)","v":0}]
[null,null,null,{"$f":"SUMIF(Gifts!A$4:A$5000, Donors!A4756,Gifts!B$4:B$5000)","v":0}]
[null,null,null,{"$f":"SUMIF(Gifts!A$4:A$5000, Donors!A4757,Gifts!B$4:B$5000)","v":0}]
[null,null,null,{"$f":"SUMIF(Gifts!A$4:A$5000, Donors!A4758,Gifts!B$4:B$5000)","v":0}]
[null,null,null,{"$f":"SUMIF(Gifts!A$4:A$5000, Donors!A4759,Gifts!B$4:B$5000)","v":0}]
[null,null,null,{"$f":"SUMIF(Gifts!A$4:A$5000, Donors!A4760,Gifts!B$4:B$5000)","v":0}]
[null,null,null,{"$f":"SUMIF(Gifts!A$4:A$5000, Donors!A4761,Gifts!B$4:B$5000)","v":0}]
[null,null,null,{"$f":"SUMIF(Gifts!A$4:A$5000, Donors!A4762,Gifts!B$4:B$5000)","v":0}]
[null,null,null,{"$f":"SUMIF(Gifts!A$4:A$5000, Donors!A4763,Gifts!B$4:B$5000)","v":0}]
[null,null,null,{"$f":"SUMIF(Gifts!A$4:A$5000, Donors!A4764,Gifts!B$4:B$5000)","v":0}]
[null,null,null,{"$f":"SUMIF(Gifts!A$4:A$5000, Donors!A4765,Gifts!B$4:B$5000)","v":0}]
[null,null,null,{"$f":"SUMIF(Gifts!A$4:A$5000, Donors!A4766,Gifts!B$4:B$5000)","v":0}]
[null,null,null,{"$f":"SUMIF(Gifts!A$4:A$5000, Donors!A4767,Gifts!B$4:B$5000)","v":0}]
[null,null,null,{"$f":"SUMIF(Gifts!A$4:A$5000, Donors!A4768,Gifts!B$4:B$5000)","v":0}]
[null,null,null,{"$f":"SUMIF(Gifts!A$4:A$5000, Donors!A4769,Gifts!B$4:B$5000)","v":0}]
[null,null,null,{"$f":"SUMIF(Gifts!A$4:A$5000, Donors!A4770,Gifts!B$4:B$5000)","v":0}]
[null,null,null,{"$f":"SUMIF(Gifts!A$4:A$5000, Donors!A4771,Gifts!B$4:B$5000)","v":0}]
[null,null,null,{"$f":"SUMIF(Gifts!A$4:A$5000, Donors!A4772,Gifts!B$4:B$5000)","v":0}]
[null,null,null,{"$f":"SUMIF(Gifts!A$4:A$5000, Donors!A4773,Gifts!B$4:B$5000)","v":0}]
[null,null,null,{"$f":"SUMIF(Gifts!A$4:A$5000, Donors!A4774,Gifts!B$4:B$5000)","v":0}]
[null,null,null,{"$f":"SUMIF(Gifts!A$4:A$5000, Donors!A4775,Gifts!B$4:B$5000)","v":0}]
[null,null,null,{"$f":"SUMIF(Gifts!A$4:A$5000, Donors!A4776,Gifts!B$4:B$5000)","v":0}]
[null,null,null,{"$f":"SUMIF(Gifts!A$4:A$5000, Donors!A4777,Gifts!B$4:B$5000)","v":0}]
[null,null,null,{"$f":"SUMIF(Gifts!A$4:A$5000, Donors!A4778,Gifts!B$4:B$5000)","v":0}]
[null,null,null,{"$f":"SUMIF(Gifts!A$4:A$5000, Donors!A4779,Gifts!B$4:B$5000)","v":0}]
[null,null,null,{"$f":"SUMIF(Gifts!A$4:A$5000, Donors!A4780,Gifts!B$4:B$5000)","v":0}]
[null,null,null,{"$f":"SUMIF(Gifts!A$4:A$5000, Donors!A4781,Gifts!B$4:B$5000)","v":0}]
[null,null,null,{"$f":"SUMIF(Gifts!A$4:A$5000, Donors!A4782,Gifts!B$4:B$5000)","v":0}]
[null,null,null,{"$f":"SUMIF(Gifts!A$4:A$5000, Donors!A4783,Gifts!B$4:B$5000)","v":0}]
[null,null,null,{"$f":"SUMIF(Gifts!A$4:A$5000, Donors!A4784,Gifts!B$4:B$5000)","v":0}]
[null,null,null,{"$f":"SUMIF(Gifts!A$4:A$5000, Donors!A4785,Gifts!B$4:B$5000)","v":0}]
[null,null,null,{"$f":"SUMIF(Gifts!A$4:A$5000, Donors!A4786,Gifts!B$4:B$5000)","v":0}]
[null,null,null,{"$f":"SUMIF(Gifts!A$4:A$5000, Donors!A4787,Gifts!B$4:B$5000)","v":0}]
[null,null,null,{"$f":"SUMIF(Gifts!A$4:A$5000, Donors!A4788,Gifts!B$4:B$5000)","v":0}]
[null,null,null,{"$f":"SUMIF(Gifts!A$4:A$5000, Donors!A4789,Gifts!B$4:B$5000)","v":0}]
[null,null,null,{"$f":"SUMIF(Gifts!A$4:A$5000, Donors!A4790,Gifts!B$4:B$5000)","v":0}]
[null,null,null,{"$f":"SUMIF(Gifts!A$4:A$5000, Donors!A4791,Gifts!B$4:B$5000)","v":0}]
[null,null,null,{"$f":"SUMIF(Gifts!A$4:A$5000, Donors!A4792,Gifts!B$4:B$5000)","v":0}]
[null,null,null,{"$f":"SUMIF(Gifts!A$4:A$5000, Donors!A4793,Gifts!B$4:B$5000)","v":0}]
[null,null,null,{"$f":"SUMIF(Gifts!A$4:A$5000, Donors!A4794,Gifts!B$4:B$5000)","v":0}]
[null,null,null,{"$f":"SUMIF(Gifts!A$4:A$5000, Donors!A4795,Gifts!B$4:B$5000)","v":0}]
[null,null,null,{"$f":"SUMIF(Gifts!A$4:A$5000, Donors!A4796,Gifts!B$4:B$5000)","v":0}]
[null,null,null,{"$f":"SUMIF(Gifts!A$4:A$5000, Donors!A4797,Gifts!B$4:B$5000)","v":0}]
[null,null,null,{"$f":"SUMIF(Gifts!A$4:A$5000, Donors!A4798,Gifts!B$4:B$5000)","v":0}]
[null,null,null,{"$f":"SUMIF(Gifts!A$4:A$5000, Donors!A4799,Gifts!B$4:B$5000)","v":0}]
[null,null,null,{"$f":"SUMIF(Gifts!A$4:A$5000, Donors!A4800,Gifts!B$4:B$5000)","v":0}]
[null,null,null,{"$f":"SUMIF(Gifts!A$4:A$5000, Donors!A4801,Gifts!B$4:B$5000)","v":0}]
[null,null,null,{"$f":"SUMIF(Gifts!A$4:A$5000, Donors!A4802,Gifts!B$4:B$5000)","v":0}]
[null,null,null,{"$f":"SUMIF(Gifts!A$4:A$5000, Donors!A4803,Gifts!B$4:B$5000)","v":0}]
[null,null,null,{"$f":"SUMIF(Gifts!A$4:A$5000, Donors!A4804,Gifts!B$4:B$5000)","v":0}]
[null,null,null,{"$f":"SUMIF(Gifts!A$4:A$5000, Donors!A4805,Gifts!B$4:B$5000)","v":0}]
[null,null,null,{"$f":"SUMIF(Gifts!A$4:A$5000, Donors!A4806,Gifts!B$4:B$5000)","v":0}]
[null,null,null,{"$f":"SUMIF(Gifts!A$4:A$5000, Donors!A4807,Gifts!B$4:B$5000)","v":0}]
[null,null,null,{"$f":"SUMIF(Gifts!A$4:A$5000, Donors!A4808,Gifts!B$4:B$5000)","v":0}]
[null,null,null,{"$f":"SUMIF(Gifts!A$4:A$5000, Donors!A4809,Gifts!B$4:B$5000)","v":0}]
[null,null,null,{"$f":"SUMIF(Gifts!A$4:A$5000, Donors!A4810,Gifts!B$4:B$5000)","v":0}]
[null,null,null,{"$f":"SUMIF(Gifts!A$4:A$5000, Donors!A4811,Gifts!B$4:B$5000)","v":0}]
[null,null,null,{"$f":"SUMIF(Gifts!A$4:A$5000, Donors!A4812,Gifts!B$4:B$5000)","v":0}]
[null,null,null,{"$f":"SUMIF(Gifts!A$4:A$5000, Donors!A4813,Gifts!B$4:B$5000)","v":0}]
[null,null,null,{"$f":"SUMIF(Gifts!A$4:A$5000, Donors!A4814,Gifts!B$4:B$5000)","v":0}]
[null,null,null,{"$f":"SUMIF(Gifts!A$4:A$5000, Donors!A4815,Gifts!B$4:B$5000)","v":0}]
[null,null,null,{"$f":"SUMIF(Gifts!A$4:A$5000, Donors!A4816,Gifts!B$4:B$5000)","v":0}]
[null,null,null,{"$f":"SUMIF(Gifts!A$4:A$5000, Donors!A4817,Gifts!B$4:B$5000)","v":0}]
[null,null,null,{"$f":"SUMIF(Gifts!A$4:A$5000, Donors!A4818,Gifts!B$4:B$5000)","v":0}]
[null,null,null,{"$f":"SUMIF(Gifts!A$4:A$5000, Donors!A4819,Gifts!B$4:B$5000)","v":0}]
[null,null,null,{"$f":"SUMIF(Gifts!A$4:A$5000, Donors!A4820,Gifts!B$4:B$5000)","v":0}]
[null,null,null,{"$f":"SUMIF(Gifts!A$4:A$5000, Donors!A4821,Gifts!B$4:B$5000)","v":0}]
[null,null,null,{"$f":"SUMIF(Gifts!A$4:A$5000, Donors!A4822,Gifts!B$4:B$5000)","v":0}]
[null,null,null,{"$f":"SUMIF(Gifts!A$4:A$5000, Donors!A4823,Gifts!B$4:B$5000)","v":0}]
[null,null,null,{"$f":"SUMIF(Gifts!A$4:A$5000, Donors!A4824,Gifts!B$4:B$5000)","v":0}]
[null,null,null,{"$f":"SUMIF(Gifts!A$4:A$5000, Donors!A4825,Gifts!B$4:B$5000)","v":0}]
[null,null,null,{"$f":"SUMIF(Gifts!A$4:A$5000, Donors!A4826,Gifts!B$4:B$5000)","v":0}]
[null,null,null,{"$f":"SUMIF(Gifts!A$4:A$5000, Donors!A4827,Gifts!B$4:B$5000)","v":0}]
[null,null,null,{"$f":"SUMIF(Gifts!A$4:A$5000, Donors!A4828,Gifts!B$4:B$5000)","v":0}]
[null,null,null,{"$f":"SUMIF(Gifts!A$4:A$5000, Donors!A4829,Gifts!B$4:B$5000)","v":0}]
[null,null,null,{"$f":"SUMIF(Gifts!A$4:A$5000, Donors!A4830,Gifts!B$4:B$5000)","v":0}]
[null,null,null,{"$f":"SUMIF(Gifts!A$4:A$5000, Donors!A4831,Gifts!B$4:B$5000)","v":0}]
[null,null,null,{"$f":"SUMIF(Gifts!A$4:A$5000, Donors!A4832,Gifts!B$4:B$5000)","v":0}]
[null,null,null,{"$f":"SUMIF(Gifts!A$4:A$5000, Donors!A4833,Gifts!B$4:B$5000)","v":0}]
[null,null,null,{"$f":"SUMIF(Gifts!A$4:A$5000, Donors!A4834,Gifts!B$4:B$5000)","v":0}]
[null,null,null,{"$f":"SUMIF(Gifts!A$4:A$5000, Donors!A4835,Gifts!B$4:B$5000)","v":0}]
[null,null,null,{"$f":"SUMIF(Gifts!A$4:A$5000, Donors!A4836,Gifts!B$4:B$5000)","v":0}]
[null,null,null,{"$f":"SUMIF(Gifts!A$4:A$5000, Donors!A4837,Gifts!B$4:B$5000)","v":0}]
[null,null,null,{"$f":"SUMIF(Gifts!A$4:A$5000, Donors!A4838,Gifts!B$4:B$5000)","v":0}]
[null,null,null,{"$f":"SUMIF(Gifts!A$4:A$5000, Donors!A4839,Gifts!B$4:B$5000)","v":0}]
[null,null,null,{"$f":"SUMIF(Gifts!A$4:A$5000, Donors!A4840,Gifts!B$4:B$5000)","v":0}]
[null,null,null,{"$f":"SUMIF(Gifts!A$4:A$5000, Donors!A4841,Gifts!B$4:B$5000)","v":0}]
[null,null,null,{"$f":"SUMIF(Gifts!A$4:A$5000, Donors!A4842,Gifts!B$4:B$5000)","v":0}]
[null,null,null,{"$f":"SUMIF(Gifts!A$4:A$5000, Donors!A4843,Gifts!B$4:B$5000)","v":0}]
[null,null,null,{"$f":"SUMIF(Gifts!A$4:A$5000, Donors!A4844,Gifts!B$4:B$5000)","v":0}]
[null,null,null,{"$f":"SUMIF(Gifts!A$4:A$5000, Donors!A4845,Gifts!B$4:B$5000)","v":0}]
[null,null,null,{"$f":"SUMIF(Gifts!A$4:A$5000, Donors!A4846,Gifts!B$4:B$5000)","v":0}]
[null,null,null,{"$f":"SUMIF(Gifts!A$4:A$5000, Donors!A4847,Gifts!B$4:B$5000)","v":0}]
[null,null,null,{"$f":"SUMIF(Gifts!A$4:A$5000, Donors!A4848,Gifts!B$4:B$5000)","v":0}]
[null,null,null,{"$f":"SUMIF(Gifts!A$4:A$5000, Donors!A4849,Gifts!B$4:B$5000)","v":0}]
[null,null,null,{"$f":"SUMIF(Gifts!A$4:A$5000, Donors!A4850,Gifts!B$4:B$5000)","v":0}]
[null,null,null,{"$f":"SUMIF(Gifts!A$4:A$5000, Donors!A4851,Gifts!B$4:B$5000)","v":0}]
[null,null,null,{"$f":"SUMIF(Gifts!A$4:A$5000, Donors!A4852,Gifts!B$4:B$5000)","v":0}]
[null,null,null,{"$f":"SUMIF(Gifts!A$4:A$5000, Donors!A4853,Gifts!B$4:B$5000)","v":0}]
[null,null,null,{"$f":"SUMIF(Gifts!A$4:A$5000, Donors!A4854,Gifts!B$4:B$5000)","v":0}]
[null,null,null,{"$f":"SUMIF(Gifts!A$4:A$5000, Donors!A4855,Gifts!B$4:B$5000)","v":0}]
[null,null,null,{"$f":"SUMIF(Gifts!A$4:A$5000, Donors!A4856,Gifts!B$4:B$5000)","v":0}]
[null,null,null,{"$f":"SUMIF(Gifts!A$4:A$5000, Donors!A4857,Gifts!B$4:B$5000)","v":0}]
[null,null,null,{"$f":"SUMIF(Gifts!A$4:A$5000, Donors!A4858,Gifts!B$4:B$5000)","v":0}]
[null,null,null,{"$f":"SUMIF(Gifts!A$4:A$5000, Donors!A4859,Gifts!B$4:B$5000)","v":0}]
[null,null,null,{"$f":"SUMIF(Gifts!A$4:A$5000, Donors!A4860,Gifts!B$4:B$5000)","v":0}]
[null,null,null,{"$f":"SUMIF(Gifts!A$4:A$5000, Donors!A4861,Gifts!B$4:B$5000)","v":0}]
[null,null,null,{"$f":"SUMIF(Gifts!A$4:A$5000, Donors!A4862,Gifts!B$4:B$5000)","v":0}]
[null,null,null,{"$f":"SUMIF(Gifts!A$4:A$5000, Donors!A4863,Gifts!B$4:B$5000)","v":0}]
[null,null,null,{"$f":"SUMIF(Gifts!A$4:A$5000, Donors!A4864,Gifts!B$4:B$5000)","v":0}]
[null,null,null,{"$f":"SUMIF(Gifts!A$4:A$5000, Donors!A4865,Gifts!B$4:B$5000)","v":0}]
[null,null,null,{"$f":"SUMIF(Gifts!A$4:A$5000, Donors!A4866,Gifts!B$4:B$5000)","v":0}]
[null,null,null,{"$f":"SUMIF(Gifts!A$4:A$5000, Donors!A4867,Gifts!B$4:B$5000)","v":0}]
[null,null,null,{"$f":"SUMIF(Gifts!A$4:A$5000, Donors!A4868,Gifts!B$4:B$5000)","v":0}]
[null,null,null,{"$f":"SUMIF(Gifts!A$4:A$5000, Donors!A4869,Gifts!B$4:B$5000)","v":0}]
[null,null,null,{"$f":"SUMIF(Gifts!A$4:A$5000, Donors!A4870,Gifts!B$4:B$5000)","v":0}]
[null,null,null,{"$f":"SUMIF(Gifts!A$4:A$5000, Donors!A4871,Gifts!B$4:B$5000)","v":0}]
[null,null,null,{"$f":"SUMIF(Gifts!A$4:A$5000, Donors!A4872,Gifts!B$4:B$5000)","v":0}]
[null,null,null,{"$f":"SUMIF(Gifts!A$4:A$5000, Donors!A4873,Gifts!B$4:B$5000)","v":0}]
[null,null,null,{"$f":"SUMIF(Gifts!A$4:A$5000, Donors!A4874,Gifts!B$4:B$5000)","v":0}]
[null,null,null,{"$f":"SUMIF(Gifts!A$4:A$5000, Donors!A4875,Gifts!B$4:B$5000)","v":0}]
[null,null,null,{"$f":"SUMIF(Gifts!A$4:A$5000, Donors!A4876,Gifts!B$4:B$5000)","v":0}]
[null,null,null,{"$f":"SUMIF(Gifts!A$4:A$5000, Donors!A4877,Gifts!B$4:B$5000)","v":0}]
[null,null,null,{"$f":"SUMIF(Gifts!A$4:A$5000, Donors!A4878,Gifts!B$4:B$5000)","v":0}]
[null,null,null,{"$f":"SUMIF(Gifts!A$4:A$5000, Donors!A4879,Gifts!B$4:B$5000)","v":0}]
[null,null,null,{"$f":"SUMIF(Gifts!A$4:A$5000, Donors!A4880,Gifts!B$4:B$5000)","v":0}]
[null,null,null,{"$f":"SUMIF(Gifts!A$4:A$5000, Donors!A4881,Gifts!B$4:B$5000)","v":0}]
[null,null,null,{"$f":"SUMIF(Gifts!A$4:A$5000, Donors!A4882,Gifts!B$4:B$5000)","v":0}]
[null,null,null,{"$f":"SUMIF(Gifts!A$4:A$5000, Donors!A4883,Gifts!B$4:B$5000)","v":0}]
[null,null,null,{"$f":"SUMIF(Gifts!A$4:A$5000, Donors!A4884,Gifts!B$4:B$5000)","v":0}]
[null,null,null,{"$f":"SUMIF(Gifts!A$4:A$5000, Donors!A4885,Gifts!B$4:B$5000)","v":0}]
[null,null,null,{"$f":"SUMIF(Gifts!A$4:A$5000, Donors!A4886,Gifts!B$4:B$5000)","v":0}]
[null,null,null,{"$f":"SUMIF(Gifts!A$4:A$5000, Donors!A4887,Gifts!B$4:B$5000)","v":0}]
[null,null,null,{"$f":"SUMIF(Gifts!A$4:A$5000, Donors!A4888,Gifts!B$4:B$5000)","v":0}]
[null,null,null,{"$f":"SUMIF(Gifts!A$4:A$5000, Donors!A4889,Gifts!B$4:B$5000)","v":0}]
[null,null,null,{"$f":"SUMIF(Gifts!A$4:A$5000, Donors!A4890,Gifts!B$4:B$5000)","v":0}]
[null,null,null,{"$f":"SUMIF(Gifts!A$4:A$5000, Donors!A4891,Gifts!B$4:B$5000)","v":0}]
[null,null,null,{"$f":"SUMIF(Gifts!A$4:A$5000, Donors!A4892,Gifts!B$4:B$5000)","v":0}]
[null,null,null,{"$f":"SUMIF(Gifts!A$4:A$5000, Donors!A4893,Gifts!B$4:B$5000)","v":0}]
[null,null,null,{"$f":"SUMIF(Gifts!A$4:A$5000, Donors!A4894,Gifts!B$4:B$5000)","v":0}]
[null,null,null,{"$f":"SUMIF(Gifts!A$4:A$5000, Donors!A4895,Gifts!B$4:B$5000)","v":0}]
[null,null,null,{"$f":"SUMIF(Gifts!A$4:A$5000, Donors!A4896,Gifts!B$4:B$5000)","v":0}]
[null,null,null,{"$f":"SUMIF(Gifts!A$4:A$5000, Donors!A4897,Gifts!B$4:B$5000)","v":0}]
[null,null,null,{"$f":"SUMIF(Gifts!A$4:A$5000, Donors!A4898,Gifts!B$4:B$5000)","v":0}]
[null,null,null,{"$f":"SUMIF(Gifts!A$4:A$5000, Donors!A4899,Gifts!B$4:B$5000)","v":0}]
[null,null,null,{"$f":"SUMIF(Gifts!A$4:A$5000, Donors!A4900,Gifts!B$4:B$5000)","v":0}]
[null,null,null,{"$f":"SUMIF(Gifts!A$4:A$5000, Donors!A4901,Gifts!B$4:B$5000)","v":0}]
[null,null,null,{"$f":"SUMIF(Gifts!A$4:A$5000, Donors!A4902,Gifts!B$4:B$5000)","v":0}]
[null,null,null,{"$f":"SUMIF(Gifts!A$4:A$5000, Donors!A4903,Gifts!B$4:B$5000)","v":0}]
[null,null,null,{"$f":"SUMIF(Gifts!A$4:A$5000, Donors!A4904,Gifts!B$4:B$5000)","v":0}]
[null,null,null,{"$f":"SUMIF(Gifts!A$4:A$5000, Donors!A4905,Gifts!B$4:B$5000)","v":0}]
[null,null,null,{"$f":"SUMIF(Gifts!A$4:A$5000, Donors!A4906,Gifts!B$4:B$5000)","v":0}]
[null,null,null,{"$f":"SUMIF(Gifts!A$4:A$5000, Donors!A4907,Gifts!B$4:B$5000)","v":0}]
[null,null,null,{"$f":"SUMIF(Gifts!A$4:A$5000, Donors!A4908,Gifts!B$4:B$5000)","v":0}]
[null,null,null,{"$f":"SUMIF(Gifts!A$4:A$5000, Donors!A4909,Gifts!B$4:B$5000)","v":0}]
[null,null,null,{"$f":"SUMIF(Gifts!A$4:A$5000, Donors!A4910,Gifts!B$4:B$5000)","v":0}]
[null,null,null,{"$f":"SUMIF(Gifts!A$4:A$5000, Donors!A4911,Gifts!B$4:B$5000)","v":0}]
[null,null,null,{"$f":"SUMIF(Gifts!A$4:A$5000, Donors!A4912,Gifts!B$4:B$5000)","v":0}]
[null,null,null,{"$f":"SUMIF(Gifts!A$4:A$5000, Donors!A4913,Gifts!B$4:B$5000)","v":0}]
[null,null,null,{"$f":"SUMIF(Gifts!A$4:A$5000, Donors!A4914,Gifts!B$4:B$5000)","v":0}]
[null,null,null,{"$f":"SUMIF(Gifts!A$4:A$5000, Donors!A4915,Gifts!B$4:B$5000)","v":0}]
[null,null,null,{"$f":"SUMIF(Gifts!A$4:A$5000, Donors!A4916,Gifts!B$4:B$5000)","v":0}]
[null,null,null,{"$f":"SUMIF(Gifts!A$4:A$5000, Donors!A4917,Gifts!B$4:B$5000)","v":0}]
[null,null,null,{"$f":"SUMIF(Gifts!A$4:A$5000, Donors!A4918,Gifts!B$4:B$5000)","v":0}]
[null,null,null,{"$f":"SUMIF(Gifts!A$4:A$5000, Donors!A4919,Gifts!B$4:B$5000)","v":0}]
[null,null,null,{"$f":"SUMIF(Gifts!A$4:A$5000, Donors!A4920,Gifts!B$4:B$5000)","v":0}]
[null,null,null,{"$f":"SUMIF(Gifts!A$4:A$5000, Donors!A4921,Gifts!B$4:B$5000)","v":0}]
[null,null,null,{"$f":"SUMIF(Gifts!A$4:A$5000, Donors!A4922,Gifts!B$4:B$5000)","v":0}]
[null,null,null,{"$f":"SUMIF(Gifts!A$4:A$5000, Donors!A4923,Gifts!B$4:B$5000)","v":0}]
[null,null,null,{"$f":"SUMIF(Gifts!A$4:A$5000, Donors!A4924,Gifts!B$4:B$5000)","v":0}]
[null,null,null,{"$f":"SUMIF(Gifts!A$4:A$5000, Donors!A4925,Gifts!B$4:B$5000)","v":0}]
[null,null,null,{"$f":"SUMIF(Gifts!A$4:A$5000, Donors!A4926,Gifts!B$4:B$5000)","v":0}]
[null,null,null,{"$f":"SUMIF(Gifts!A$4:A$5000, Donors!A4927,Gifts!B$4:B$5000)","v":0}]
[null,null,null,{"$f":"SUMIF(Gifts!A$4:A$5000, Donors!A4928,Gifts!B$4:B$5000)","v":0}]
[null,null,null,{"$f":"SUMIF(Gifts!A$4:A$5000, Donors!A4929,Gifts!B$4:B$5000)","v":0}]
[null,null,null,{"$f":"SUMIF(Gifts!A$4:A$5000, Donors!A4930,Gifts!B$4:B$5000)","v":0}]
[null,null,null,{"$f":"SUMIF(Gifts!A$4:A$5000, Donors!A4931,Gifts!B$4:B$5000)","v":0}]
[null,null,null,{"$f":"SUMIF(Gifts!A$4:A$5000, Donors!A4932,Gifts!B$4:B$5000)","v":0}]
[null,null,null,{"$f":"SUMIF(Gifts!A$4:A$5000, Donors!A4933,Gifts!B$4:B$5000)","v":0}]
[null,null,null,{"$f":"SUMIF(Gifts!A$4:A$5000, Donors!A4934,Gifts!B$4:B$5000)","v":0}]
[null,null,null,{"$f":"SUMIF(Gifts!A$4:A$5000, Donors!A4935,Gifts!B$4:B$5000)","v":0}]
[null,null,null,{"$f":"SUMIF(Gifts!A$4:A$5000, Donors!A4936,Gifts!B$4:B$5000)","v":0}]
[null,null,null,{"$f":"SUMIF(Gifts!A$4:A$5000, Donors!A4937,Gifts!B$4:B$5000)","v":0}]
[null,null,null,{"$f":"SUMIF(Gifts!A$4:A$5000, Donors!A4938,Gifts!B$4:B$5000)","v":0}]
[null,null,null,{"$f":"SUMIF(Gifts!A$4:A$5000, Donors!A4939,Gifts!B$4:B$5000)","v":0}]
[null,null,null,{"$f":"SUMIF(Gifts!A$4:A$5000, Donors!A4940,Gifts!B$4:B$5000)","v":0}]
[null,null,null,{"$f":"SUMIF(Gifts!A$4:A$5000, Donors!A4941,Gifts!B$4:B$5000)","v":0}]
[null,null,null,{"$f":"SUMIF(Gifts!A$4:A$5000, Donors!A4942,Gifts!B$4:B$5000)","v":0}]
[null,null,null,{"$f":"SUMIF(Gifts!A$4:A$5000, Donors!A4943,Gifts!B$4:B$5000)","v":0}]
[null,null,null,{"$f":"SUMIF(Gifts!A$4:A$5000, Donors!A4944,Gifts!B$4:B$5000)","v":0}]
[null,null,null,{"$f":"SUMIF(Gifts!A$4:A$5000, Donors!A4945,Gifts!B$4:B$5000)","v":0}]
[null,null,null,{"$f":"SUMIF(Gifts!A$4:A$5000, Donors!A4946,Gifts!B$4:B$5000)","v":0}]
[null,null,null,{"$f":"SUMIF(Gifts!A$4:A$5000, Donors!A4947,Gifts!B$4:B$5000)","v":0}]
[null,null,null,{"$f":"SUMIF(Gifts!A$4:A$5000, Donors!A4948,Gifts!B$4:B$5000)","v":0}]
[null,null,null,{"$f":"SUMIF(Gifts!A$4:A$5000, Donors!A4949,Gifts!B$4:B$5000)","v":0}]
[null,null,null,{"$f":"SUMIF(Gifts!A$4:A$5000, Donors!A4950,Gifts!B$4:B$5000)","v":0}]
[null,null,null,{"$f":"SUMIF(Gifts!A$4:A$5000, Donors!A4951,Gifts!B$4:B$5000)","v":0}]
[null,null,null,{"$f":"SUMIF(Gifts!A$4:A$5000, Donors!A4952,Gifts!B$4:B$5000)","v":0}]
[null,null,null,{"$f":"SUMIF(Gifts!A$4:A$5000, Donors!A4953,Gifts!B$4:B$5000)","v":0}]
[null,null,null,{"$f":"SUMIF(Gifts!A$4:A$5000, Donors!A4954,Gifts!B$4:B$5000)","v":0}]
[null,null,null,{"$f":"SUMIF(Gifts!A$4:A$5000, Donors!A4955,Gifts!B$4:B$5000)","v":0}]
[null,null,null,{"$f":"SUMIF(Gifts!A$4:A$5000, Donors!A4956,Gifts!B$4:B$5000)","v":0}]
[null,null,null,{"$f":"SUMIF(Gifts!A$4:A$5000, Donors!A4957,Gifts!B$4:B$5000)","v":0}]
[null,null,null,{"$f":"SUMIF(Gifts!A$4:A$5000, Donors!A4958,Gifts!B$4:B$5000)","v":0}]
[null,null,null,{"$f":"SUMIF(Gifts!A$4:A$5000, Donors!A4959,Gifts!B$4:B$5000)","v":0}]
[null,null,null,{"$f":"SUMIF(Gifts!A$4:A$5000, Donors!A4960,Gifts!B$4:B$5000)","v":0}]
[null,null,null,{"$f":"SUMIF(Gifts!A$4:A$5000, Donors!A4961,Gifts!B$4:B$5000)","v":0}]
[null,null,null,{"$f":"SUMIF(Gifts!A$4:A$5000, Donors!A4962,Gifts!B$4:B$5000)","v":0}]
[null,null,null,{"$f":"SUMIF(Gifts!A$4:A$5000, Donors!A4963,Gifts!B$4:B$5000)","v":0}]
[null,null,null,{"$f":"SUMIF(Gifts!A$4:A$5000, Donors!A4964,Gifts!B$4:B$5000)","v":0}]
[null,null,null,{"$f":"SUMIF(Gifts!A$4:A$5000, Donors!A4965,Gifts!B$4:B$5000)","v":0}]
[null,null,null,{"$f":"SUMIF(Gifts!A$4:A$5000, Donors!A4966,Gifts!B$4:B$5000)","v":0}]
[null,null,null,{"$f":"SUMIF(Gifts!A$4:A$5000, Donors!A4967,Gifts!B$4:B$5000)","v":0}]
[null,null,null,{"$f":"SUMIF(Gifts!A$4:A$5000, Donors!A4968,Gifts!B$4:B$5000)","v":0}]
[null,null,null,{"$f":"SUMIF(Gifts!A$4:A$5000, Donors!A4969,Gifts!B$4:B$5000)","v":0}]
[null,null,null,{"$f":"SUMIF(Gifts!A$4:A$5000, Donors!A4970,Gifts!B$4:B$5000)","v":0}]
[null,null,null,{"$f":"SUMIF(Gifts!A$4:A$5000, Donors!A4971,Gifts!B$4:B$5000)","v":0}]
[null,null,null,{"$f":"SUMIF(Gifts!A$4:A$5000, Donors!A4972,Gifts!B$4:B$5000)","v":0}]
[null,null,null,{"$f":"SUMIF(Gifts!A$4:A$5000, Donors!A4973,Gifts!B$4:B$5000)","v":0}]
[null,null,null,{"$f":"SUMIF(Gifts!A$4:A$5000, Donors!A4974,Gifts!B$4:B$5000)","v":0}]
[null,null,null,{"$f":"SUMIF(Gifts!A$4:A$5000, Donors!A4975,Gifts!B$4:B$5000)","v":0}]
[null,null,null,{"$f":"SUMIF(Gifts!A$4:A$5000, Donors!A4976,Gifts!B$4:B$5000)","v":0}]
[null,null,null,{"$f":"SUMIF(Gifts!A$4:A$5000, Donors!A4977,Gifts!B$4:B$5000)","v":0}]
[null,null,null,{"$f":"SUMIF(Gifts!A$4:A$5000, Donors!A4978,Gifts!B$4:B$5000)","v":0}]
[null,null,null,{"$f":"SUMIF(Gifts!A$4:A$5000, Donors!A4979,Gifts!B$4:B$5000)","v":0}]
[null,null,null,{"$f":"SUMIF(Gifts!A$4:A$5000, Donors!A4980,Gifts!B$4:B$5000)","v":0}]
[null,null,null,{"$f":"SUMIF(Gifts!A$4:A$5000, Donors!A4981,Gifts!B$4:B$5000)","v":0}]
[null,null,null,{"$f":"SUMIF(Gifts!A$4:A$5000, Donors!A4982,Gifts!B$4:B$5000)","v":0}]
[null,null,null,{"$f":"SUMIF(Gifts!A$4:A$5000, Donors!A4983,Gifts!B$4:B$5000)","v":0}]
[null,null,null,{"$f":"SUMIF(Gifts!A$4:A$5000, Donors!A4984,Gifts!B$4:B$5000)","v":0}]
[null,null,null,{"$f":"SUMIF(Gifts!A$4:A$5000, Donors!A4985,Gifts!B$4:B$5000)","v":0}]
[null,null,null,{"$f":"SUMIF(Gifts!A$4:A$5000, Donors!A4986,Gifts!B$4:B$5000)","v":0}]
[null,null,null,{"$f":"SUMIF(Gifts!A$4:A$5000, Donors!A4987,Gifts!B$4:B$5000)","v":0}]
[null,null,null,{"$f":"SUMIF(Gifts!A$4:A$5000, Donors!A4988,Gifts!B$4:B$5000)","v":0}]
[null,null,null,{"$f":"SUMIF(Gifts!A$4:A$5000, Donors!A4989,Gifts!B$4:B$5000)","v":0}]
[null,null,null,{"$f":"SUMIF(Gifts!A$4:A$5000, Donors!A4990,Gifts!B$4:B$5000)","v":0}]
[null,null,null,{"$f":"SUMIF(Gifts!A$4:A$5000, Donors!A4991,Gifts!B$4:B$5000)","v":0}]
[null,null,null,{"$f":"SUMIF(Gifts!A$4:A$5000, Donors!A4992,Gifts!B$4:B$5000)","v":0}]
[null,null,null,{"$f":"SUMIF(Gifts!A$4:A$5000, Donors!A4993,Gifts!B$4:B$5000)","v":0}]
[null,null,null,{"$f":"SUMIF(Gifts!A$4:A$5000, Donors!A4994,Gifts!B$4:B$5000)","v":0}]
[null,null,null,{"$f":"SUMIF(Gifts!A$4:A$5000, Donors!A4995,Gifts!B$4:B$5000)","v":0}]
[null,null,null,{"$f":"SUMIF(Gifts!A$4:A$5000, Donors!A4996,Gifts!B$4:B$5000)","v":0}]
[null,null,null,{"$f":"SUMIF(Gifts!A$4:A$5000, Donors!A4997,Gifts!B$4:B$5000)","v":0}]
[null,null,null,{"$f":"SUMIF(Gifts!A$4:A$5000, Donors!A4998,Gifts!B$4:B$5000)","v":0}]
[null,null,null,{"$f":"SUMIF(Gifts!A$4:A$5000, Donors!A4999,Gifts!B$4:B$5000)","v":0}]
[null,null,null,{"$f":"SUMIF(Gifts!A$4:A$5000, Donors!A5000,Gifts!B$4:B$5000)","v":0}]
[null,null,null,{"$f":"SUMIF(Gifts!A$4:A$5000, Donors!A5001,Gifts!B$4:B$5000)","v":0}]
[{"$f":"SUBTOTAL(103,Table6[Name])","v":1},null,null,{"$f":"SUBTOTAL(109,Table6[Total Donations])","v":100},null,null,null,null,null,null,null,null,null,null,null,null,{"$f":"SUBTOTAL(103,Table6[Notes])","v":0}]

{"sheet":"Gifts","index":2,"n_rows":5001,"n_cols":7,"rows_kept":5001,"cut":false,"hidden":false,"merged":[]}
["Gift Data"]
[{"$f":"SUBTOTAL(103,Table4[Donor])","v":1},{"$f":"SUBTOTAL(109,Table4[Amount])","v":100}]
["Donor","Amount","Date","Campaign","Appeal","Fund","Notes"]
["Sample Donor",100,"2020-04-01","Sample Campaign","Sample Appeal","Sample Fund"]
[]
[]
[]
[]
[]
[]
[]
[]
[]
[]
[]
[]
[]
[]
[]
[]
[]
[]
[]
[]
[]
[]
[]
[]
[]
[]
[]
[]
[]
[]
[]
[]
[]
[]
[]
[]
[]
[]
[]
[]
[]
[]
[]
[]
[]
[]
[]
[]
[]
[]
[]
[]
[]
[]
[]
[]
[]
[]
[]
[]
[]
[]
[]
[]
[]
[]
[]
[]
[]
[]
[]
[]
[]
[]
[]
[]
[]
[]
[]
[]
[]
[]
[]
[]
[]
[]
[]
[]
[]
[]
[]
[]
[]
[]
[]
[]
[]
[]
[]
[]
[]
[]
[]
[]
[]
[]
[]
[]
[]
[]
[]
[]
[]
[]
[]
[]
[]
[]
[]
[]
[]
[]
[]
[]
[]
[]
[]
[]
[]
[]
[]
[]
[]
[]
[]
[]
[]
[]
[]
[]
[]
[]
[]
[]
[]
[]
[]
[]
[]
[]
[]
[]
[]
[]
[]
[]
[]
[]
[]
[]
[]
[]
[]
[]
[]
[]
[]
[]
[]
[]
[]
[]
[]
[]
[]
[]
[]
[]
[]
[]
[]
[]
[]
[]
[]
[]
[]
[]
[]
[]
[]
[]
[]
[]
[]
[]
[]
[]
[]
[]
[]
[]
[]
[]
[]
[]
[]
[]
[]
[]
[]
[]
[]
[]
[]
[]
[]
[]
[]
[]
[]
[]
[]
[]
[]
[]
[]
[]
[]
[]
[]
[]
[]
[]
[]
[]
[]
[]
[]
[]
[]
[]
[]
[]
[]
[]
[]
[]
[]
[]
[]
[]
[]
[]
[]
[]
[]
[]
[]
[]
[]
[]
[]
[]
[]
[]
[]
[]
[]
[]
[]
[]
[]
[]
[]
[]
[]
[]
[]
[]
[]
[]
[]
[]
[]
[]
[]
[]
[]
[]
[]
[]
[]
[]
[]
[]
[]
[]
[]
[]
[]
[]
[]
[]
[]
[]
[]
[]
[]
[]
[]
[]
[]
[]
[]
[]
[]
[]
[]
[]
[]
[]
[]
[]
[]
[]
[]
[]
[]
[]
[]
[]
[]
[]
[]
[]
[]
[]
[]
[]
[]
[]
[]
[]
[]
[]
[]
[]
[]
[]
[]
[]
[]
[]
[]
[]
[]
[]
[]
[]
[]
[]
[]
[]
[]
[]
[]
[]
[]
[]
[]
[]
[]
[]
[]
[]
[]
[]
[]
[]
[]
[]
[]
[]
[]
[]
[]
[]
[]
[]
[]
[]
[]
[]
[]
[]
[]
[]
[]
[]
[]
[]
[]
[]
[]
[]
[]
[]
[]
[]
[]
[]
[]
[]
[]
[]
[]
[]
[]
[]
[]
[]
[]
[]
[]
[]
[]
[]
[]
[]
[]
[]
[]
[]
[]
[]
[]
[]
[]
[]
[]
[]
[]
[]
[]
[]
[]
[]
[]
[]
[]
[]
[]
[]
[]
[]
[]
[]
[]
[]
[]
[]
[]
[]
[]
[]
[]
[]
[]
[]
[]
[]
[]
[]
[]
[]
[]
[]
[]
[]
[]
[]
[]
[]
[]
[]
[]
[]
[]
[]
[]
[]
[]
[]
[]
[]
[]
[]
[]
[]
[]
[]
[]
[]
[]
[]
[]
[]
[]
[]
[]
[]
[]
[]
[]
[]
[]
[]
[]
[]
[]
[]
[]
[]
[]
[]
[]
[]
[]
[]
[]
[]
[]
[]
[]
[]
[]
[]
[]
[]
[]
[]
[]
[]
[]
[]
[]
[]
[]
[]
[]
[]
[]
[]
[]
[]
[]
[]
[]
[]
[]
[]
[]
[]
[]
[]
[]
[]
[]
[]
[]
[]
[]
[]
[]
[]
[]
[]
[]
[]
[]
[]
[]
[]
[]
[]
[]
[]
[]
[]
[]
[]
[]
[]
[]
[]
[]
[]
[]
[]
[]
[]
[]
[]
[]
[]
[]
[]
[]
[]
[]
[]
[]
[]
[]
[]
[]
[]
[]
[]
[]
[]
[]
[]
[]
[]
[]
[]
[]
[]
[]
[]
[]
[]
[]
[]
[]
[]
[]
[]
[]
[]
[]
[]
[]
[]
[]
[]
[]
[]
[]
[]
[]
[]
[]
[]
[]
[]
[]
[]
[]
[]
[]
[]
[]
[]
[]
[]
[]
[]
[]
[]
[]
[]
[]
[]
[]
[]
[]
[]
[]
[]
[]
[]
[]
[]
[]
[]
[]
[]
[]
[]
[]
[]
[]
[]
[]
[]
[]
[]
[]
[]
[]
[]
[]
[]
[]
[]
[]
[]
[]
[]
[]
[]
[]
[]
[]
[]
[]
[]
[]
[]
[]
[]
[]
[]
[]
[]
[]
[]
[]
[]
[]
[]
[]
[]
[]
[]
[]
[]
[]
[]
[]
[]
[]
[]
[]
[]
[]
[]
[]
[]
[]
[]
[]
[]
[]
[]
[]
[]
[]
[]
[]
[]
[]
[]
[]
[]
[]
[]
[]
[]
[]
[]
[]
[]
[]
[]
[]
[]
[]
[]
[]
[]
[]
[]
[]
[]
[]
[]
[]
[]
[]
[]
[]
[]
[]
[]
[]
[]
[]
[]
[]
[]
[]
[]
[]
[]
[]
[]
[]
[]
[]
[]
[]
[]
[]
[]
[]
[]
[]
[]
[]
[]
[]
[]
[]
[]
[]
[]
[]
[]
[]
[]
[]
[]
[]
[]
[]
[]
[]
[]
[]
[]
[]
[]
[]
[]
[]
[]
[]
[]
[]
[]
[]
[]
[]
[]
[]
[]
[]
[]
[]
[]
[]
[]
[]
[]
[]
[]
[]
[]
[]
[]
[]
[]
[]
[]
[]
[]
[]
[]
[]
[]
[]
[]
[]
[]
[]
[]
[]
[]
[]
[]
[]
[]
[]
[]
[]
[]
[]
[]
[]
[]
[]
[]
[]
[]
[]
[]
[]
[]
[]
[]
[]
[]
[]
[]
[]
[]
[]
[]
[]
[]
[]
[]
[]
[]
[]
[]
[]
[]
[]
[]
[]
[]
[]
[]
[]
[]
[]
[]
[]
[]
[]
[]
[]
[]
[]
[]
[]
[]
[]
[]
[]
[]
[]
[]
[]
[]
[]
[]
[]
[]
[]
[]
[]
[]
[]
[]
[]
[]
[]
[]
[]
[]
[]
[]
[]
[]
[]
[]
[]
[]
[]
[]
[]
[]
[]
[]
[]
[]
[]
[]
[]
[]
[]
[]
[]
[]
[]
[]
[]
[]
[]
[]
[]
[]
[]
[]
[]
[]
[]
[]
[]
[]
[]
[]
[]
[]
[]
[]
[]
[]
[]
[]
[]
[]
[]
[]
[]
[]
[]
[]
[]
[]
[]
[]
[]
[]
[]
[]
[]
[]
[]
[]
[]
[]
[]
[]
[]
[]
[]
[]
[]
[]
[]
[]
[]
[]
[]
[]
[]
[]
[]
[]
[]
[]
[]
[]
[]
[]
[]
[]
[]
[]
[]
[]
[]
[]
[]
[]
[]
[]
[]
[]
[]
[]
[]
[]
[]
[]
[]
[]
[]
[]
[]
[]
[]
[]
[]
[]
[]
[]
[]
[]
[]
[]
[]
[]
[]
[]
[]
[]
[]
[]
[]
[]
[]
[]
[]
[]
[]
[]
[]
[]
[]
[]
[]
[]
[]
[]
[]
[]
[]
[]
[]
[]
[]
[]
[]
[]
[]
[]
[]
[]
[]
[]
[]
[]
[]
[]
[]
[]
[]
[]
[]
[]
[]
[]
[]
[]
[]
[]
[]
[]
[]
[]
[]
[]
[]
[]
[]
[]
[]
[]
[]
[]
[]
[]
[]
[]
[]
[]
[]
[]
[]
[]
[]
[]
[]
[]
[]
[]
[]
[]
[]
[]
[]
[]
[]
[]
[]
[]
[]
[]
[]
[]
[]
[]
[]
[]
[]
[]
[]
[]
[]
[]
[]
[]
[]
[]
[]
[]
[]
[]
[]
[]
[]
[]
[]
[]
[]
[]
[]
[]
[]
[]
[]
[]
[]
[]
[]
[]
[]
[]
[]
[]
[]
[]
[]
[]
[]
[]
[]
[]
[]
[]
[]
[]
[]
[]
[]
[]
[]
[]
[]
[]
[]
[]
[]
[]
[]
[]
[]
[]
[]
[]
[]
[]
[]
[]
[]
[]
[]
[]
[]
[]
[]
[]
[]
[]
[]
[]
[]
[]
[]
[]
[]
[]
[]
[]
[]
[]
[]
[]
[]
[]
[]
[]
[]
[]
[]
[]
[]
[]
[]
[]
[]
[]
[]
[]
[]
[]
[]
[]
[]
[]
[]
[]
[]
[]
[]
[]
[]
[]
[]
[]
[]
[]
[]
[]
[]
[]
[]
[]
[]
[]
[]
[]
[]
[]
[]
[]
[]
[]
[]
[]
[]
[]
[]
[]
[]
[]
[]
[]
[]
[]
[]
[]
[]
[]
[]
[]
[]
[]
[]
[]
[]
[]
[]
[]
[]
[]
[]
[]
[]
[]
[]
[]
[]
[]
[]
[]
[]
[]
[]
[]
[]
[]
[]
[]
[]
[]
[]
[]
[]
[]
[]
[]
[]
[]
[]
[]
[]
[]
[]
[]
[]
[]
[]
[]
[]
[]
[]
[]
[]
[]
[]
[]
[]
[]
[]
[]
[]
[]
[]
[]
[]
[]
[]
[]
[]
[]
[]
[]
[]
[]
[]
[]
[]
[]
[]
[]
[]
[]
[]
[]
[]
[]
[]
[]
[]
[]
[]
[]
[]
[]
[]
[]
[]
[]
[]
[]
[]
[]
[]
[]
[]
[]
[]
[]
[]
[]
[]
[]
[]
[]
[]
[]
[]
[]
[]
[]
[]
[]
[]
[]
[]
[]
[]
[]
[]
[]
[]
[]
[]
[]
[]
[]
[]
[]
[]
[]
[]
[]
[]
[]
[]
[]
[]
[]
[]
[]
[]
[]
[]
[]
[]
[]
[]
[]
[]
[]
[]
[]
[]
[]
[]
[]
[]
[]
[]
[]
[]
[]
[]
[]
[]
[]
[]
[]
[]
[]
[]
[]
[]
[]
[]
[]
[]
[]
[]
[]
[]
[]
[]
[]
[]
[]
[]
[]
[]
[]
[]
[]
[]
[]
[]
[]
[]
[]
[]
[]
[]
[]
[]
[]
[]
[]
[]
[]
[]
[]
[]
[]
[]
[]
[]
[]
[]
[]
[]
[]
[]
[]
[]
[]
[]
[]
[]
[]
[]
[]
[]
[]
[]
[]
[]
[]
[]
[]
[]
[]
[]
[]
[]
[]
[]
[]
[]
[]
[]
[]
[]
[]
[]
[]
[]
[]
[]
[]
[]
[]
[]
[]
[]
[]
[]
[]
[]
[]
[]
[]
[]
[]
[]
[]
[]
[]
[]
[]
[]
[]
[]
[]
[]
[]
[]
[]
[]
[]
[]
[]
[]
[]
[]
[]
[]
[]
[]
[]
[]
[]
[]
[]
[]
[]
[]
[]
[]
[]
[]
[]
[]
[]
[]
[]
[]
[]
[]
[]
[]
[]
[]
[]
[]
[]
[]
[]
[]
[]
[]
[]
[]
[]
[]
[]
[]
[]
[]
[]
[]
[]
[]
[]
[]
[]
[]
[]
[]
[]
[]
[]
[]
[]
[]
[]
[]
[]
[]
[]
[]
[]
[]
[]
[]
[]
[]
[]
[]
[]
[]
[]
[]
[]
[]
[]
[]
[]
[]
[]
[]
[]
[]
[]
[]
[]
[]
[]
[]
[]
[]
[]
[]
[]
[]
[]
[]
[]
[]
[]
[]
[]
[]
[]
[]
[]
[]
[]
[]
[]
[]
[]
[]
[]
[]
[]
[]
[]
[]
[]
[]
[]
[]
[]
[]
[]
[]
[]
[]
[]
[]
[]
[]
[]
[]
[]
[]
[]
[]
[]
[]
[]
[]
[]
[]
[]
[]
[]
[]
[]
[]
[]
[]
[]
[]
[]
[]
[]
[]
[]
[]
[]
[]
[]
[]
[]
[]
[]
[]
[]
[]
[]
[]
[]
[]
[]
[]
[]
[]
[]
[]
[]
[]
[]
[]
[]
[]
[]
[]
[]
[]
[]
[]
[]
[]
[]
[]
[]
[]
[]
[]
[]
[]
[]
[]
[]
[]
[]
[]
[]
[]
[]
[]
[]
[]
[]
[]
[]
[]
[]
[]
[]
[]
[]
[]
[]
[]
[]
[]
[]
[]
[]
[]
[]
[]
[]
[]
[]
[]
[]
[]
[]
[]
[]
[]
[]
[]
[]
[]
[]
[]
[]
[]
[]
[]
[]
[]
[]
[]
[]
[]
[]
[]
[]
[]
[]
[]
[]
[]
[]
[]
[]
[]
[]
[]
[]
[]
[]
[]
[]
[]
[]
[]
[]
[]
[]
[]
[]
[]
[]
[]
[]
[]
[]
[]
[]
[]
[]
[]
[]
[]
[]
[]
[]
[]
[]
[]
[]
[]
[]
[]
[]
[]
[]
[]
[]
[]
[]
[]
[]
[]
[]
[]
[]
[]
[]
[]
[]
[]
[]
[]
[]
[]
[]
[]
[]
[]
[]
[]
[]
[]
[]
[]
[]
[]
[]
[]
[]
[]
[]
[]
[]
[]
[]
[]
[]
[]
[]
[]
[]
[]
[]
[]
[]
[]
[]
[]
[]
[]
[]
[]
[]
[]
[]
[]
[]
[]
[]
[]
[]
[]
[]
[]
[]
[]
[]
[]
[]
[]
[]
[]
[]
[]
[]
[]
[]
[]
[]
[]
[]
[]
[]
[]
[]
[]
[]
[]
[]
[]
[]
[]
[]
[]
[]
[]
[]
[]
[]
[]
[]
[]
[]
[]
[]
[]
[]
[]
[]
[]
[]
[]
[]
[]
[]
[]
[]
[]
[]
[]
[]
[]
[]
[]
[]
[]
[]
[]
[]
[]
[]
[]
[]
[]
[]
[]
[]
[]
[]
[]
[]
[]
[]
[]
[]
[]
[]
[]
[]
[]
[]
[]
[]
[]
[]
[]
[]
[]
[]
[]
[]
[]
[]
[]
[]
[]
[]
[]
[]
[]
[]
[]
[]
[]
[]
[]
[]
[]
[]
[]
[]
[]
[]
[]
[]
[]
[]
[]
[]
[]
[]
[]
[]
[]
[]
[]
[]
[]
[]
[]
[]
[]
[]
[]
[]
[]
[]
[]
[]
[]
[]
[]
[]
[]
[]
[]
[]
[]
[]
[]
[]
[]
[]
[]
[]
[]
[]
[]
[]
[]
[]
[]
[]
[]
[]
[]
[]
[]
[]
[]
[]
[]
[]
[]
[]
[]
[]
[]
[]
[]
[]
[]
[]
[]
[]
[]
[]
[]
[]
[]
[]
[]
[]
[]
[]
[]
[]
[]
[]
[]
[]
[]
[]
[]
[]
[]
[]
[]
[]
[]
[]
[]
[]
[]
[]
[]
[]
[]
[]
[]
[]
[]
[]
[]
[]
[]
[]
[]
[]
[]
[]
[]
[]
[]
[]
[]
[]
[]
[]
[]
[]
[]
[]
[]
[]
[]
[]
[]
[]
[]
[]
[]
[]
[]
[]
[]
[]
[]
[]
[]
[]
[]
[]
[]
[]
[]
[]
[]
[]
[]
[]
[]
[]
[]
[]
[]
[]
[]
[]
[]
[]
[]
[]
[]
[]
[]
[]
[]
[]
[]
[]
[]
[]
[]
[]
[]
[]
[]
[]
[]
[]
[]
[]
[]
[]
[]
[]
[]
[]
[]
[]
[]
[]
[]
[]
[]
[]
[]
[]
[]
[]
[]
[]
[]
[]
[]
[]
[]
[]
[]
[]
[]
[]
[]
[]
[]
[]
[]
[]
[]
[]
[]
[]
[]
[]
[]
[]
[]
[]
[]
[]
[]
[]
[]
[]
[]
[]
[]
[]
[]
[]
[]
[]
[]
[]
[]
[]
[]
[]
[]
[]
[]
[]
[]
[]
[]
[]
[]
[]
[]
[]
[]
[]
[]
[]
[]
[]
[]
[]
[]
[]
[]
[]
[]
[]
[]
[]
[]
[]
[]
[]
[]
[]
[]
[]
[]
[]
[]
[]
[]
[]
[]
[]
[]
[]
[]
[]
[]
[]
[]
[]
[]
[]
[]
[]
[]
[]
[]
[]
[]
[]
[]
[]
[]
[]
[]
[]
[]
[]
[]
[]
[]
[]
[]
[]
[]
[]
[]
[]
[]
[]
[]
[]
[]
[]
[]
[]
[]
[]
[]
[]
[]
[]
[]
[]
[]
[]
[]
[]
[]
[]
[]
[]
[]
[]
[]
[]
[]
[]
[]
[]
[]
[]
[]
[]
[]
[]
[]
[]
[]
[]
[]
[]
[]
[]
[]
[]
[]
[]
[]
[]
[]
[]
[]
[]
[]
[]
[]
[]
[]
[]
[]
[]
[]
[]
[]
[]
[]
[]
[]
[]
[]
[]
[]
[]
[]
[]
[]
[]
[]
[]
[]
[]
[]
[]
[]
[]
[]
[]
[]
[]
[]
[]
[]
[]
[]
[]
[]
[]
[]
[]
[]
[]
[]
[]
[]
[]
[]
[]
[]
[]
[]
[]
[]
[]
[]
[]
[]
[]
[]
[]
[]
[]
[]
[]
[]
[]
[]
[]
[]
[]
[]
[]
[]
[]
[]
[]
[]
[]
[]
[]
[]
[]
[]
[]
[]
[]
[]
[]
[]
[]
[]
[]
[]
[]
[]
[]
[]
[]
[]
[]
[]
[]
[]
[]
[]
[]
[]
[]
[]
[]
[]
[]
[]
[]
[]
[]
[]
[]
[]
[]
[]
[]
[]
[]
[]
[]
[]
[]
[]
[]
[]
[]
[]
[]
[]
[]
[]
[]
[]
[]
[]
[]
[]
[]
[]
[]
[]
[]
[]
[]
[]
[]
[]
[]
[]
[]
[]
[]
[]
[]
[]
[]
[]
[]
[]
[]
[]
[]
[]
[]
[]
[]
[]
[]
[]
[]
[]
[]
[]
[]
[]
[]
[]
[]
[]
[]
[]
[]
[]
[]
[]
[]
[]
[]
[]
[]
[]
[]
[]
[]
[]
[]
[]
[]
[]
[]
[]
[]
[]
[]
[]
[]
[]
[]
[]
[]
[]
[]
[]
[]
[]
[]
[]
[]
[]
[]
[]
[]
[]
[]
[]
[]
[]
[]
[]
[]
[]
[]
[]
[]
[]
[]
[]
[]
[]
[]
[]
[]
[]
[]
[]
[]
[]
[]
[]
[]
[]
[]
[]
[]
[]
[]
[]
[]
[]
[]
[]
[]
[]
[]
[]
[]
[]
[]
[]
[]
[]
[]
[]
[]
[]
[]
[]
[]
[]
[]
[]
[]
[]
[]
[]
[]
[]
[]
[]
[]
[]
[]
[]
[]
[]
[]
[]
[]
[]
[]
[]
[]
[]
[]
[]
[]
[]
[]
[]
[]
[]
[]
[]
[]
[]
[]
[]
[]
[]
[]
[]
[]
[]
[]
[]
[]
[]
[]
[]
[]
[]
[]
[]
[]
[]
[]
[]
[]
[]
[]
[]
[]
[]
[]
[]
[]
[]
[]
[]
[]
[]
[]
[]
[]
[]
[]
[]
[]
[]
[]
[]
[]
[]
[]
[]
[]
[]
[]
[]
[]
[]
[]
[]
[]
[]
[]
[]
[]
[]
[]
[]
[]
[]
[]
[]
[]
[]
[]
[]
[]
[]
[]
[]
[]
[]
[]
[]
[]
[]
[]
[]
[]
[]
[]
[]
[]
[]
[]
[]
[]
[]
[]
[]
[]
[]
[]
[]
[]
[]
[]
[]
[]
[]
[]
[]
[]
[]
[]
[]
[]
[]
[]
[]
[]
[]
[]
[]
[]
[]
[]
[]
[]
[]
[]
[]
[]
[]
[]
[]
[]
[]
[]
[]
[]
[]
[]
[]
[]
[]
[]
[]
[]
[]
[]
[]
[]
[]
[]
[]
[]
[]
[]
[]
[]
[]
[]
[]
[]
[]
[]
[]
[]
[]
[]
[]
[]
[]
[]
[]
[]
[]
[]
[]
[]
[]
[]
[]
[]
[]
[]
[]
[]
[]
[]
[]
[]
[]
[]
[]
[]
[]
[]
[]
[]
[]
[]
[]
[]
[]
[]
[]
[]
[]
[]
[]
[]
[]
[]
[]
[]
[]
[]
[]
[]
[]
[]
[]
[]
[]
[]
[]
[]
[]
[]
[]
[]
[]
[]
[]
[]
[]
[]
[]
[]
[]
[]
[]
[]
[]
[]
[]
[]
[]
[]
[]
[]
[]
[]
[]
[]
[]
[]
[]
[]
[]
[]
[]
[]
[]
[]
[]
[]
[]
[]
[]
[]
[]
[]
[]
[]
[]
[]
[]
[]
[]
[]
[]
[]
[]
[]
[]
[]
[]
[]
[]
[]
[]
[]
[]
[]
[]
[]
[]
[]
[]
[]
[]
[]
[]
[]
[]
[]
[]
[]
[]
[]
[]
[]
[]
[]
[]
[]
[]
[]
[]
[]
[]
[]
[]
[]
[]
[]
[]
[]
[]
[]
[]
[]
[]
[]
[]
[]
[]
[]
[]
[]
[]
[]
[]
[]
[]
[]
[]
[]
[]
[]
[]
[]
[]
[]
[]
[]
[]
[]
[]
[]
[]
[]
[]
[]
[]
[]
[]
[]
[]
[]
[]
[]
[]
[]
[]
[]
[]
[]
[]
[]
[]
[]
[]
[]
[]
[]
[]
[]
[]
[]
[]
[]
[]
[]
[]
[]
[]
[]
[]
[]
[]
[]
[]
[]
[]
[]
[]
[]
[]
[]
[]
[]
[]
[]
[]
[]
[]
[]
[]
[]
[]
[]
[]
[]
[]
[]
[]
[]
[]
[]
[]
[]
[]
[]
[]
[]
[]
[]
[]
[]
[]
[]
[]
[]
[]
[]
[]
[]
[]
[]
[]
[]
[]
[]
[]
[]
[]
[]
[]
[]
[]
[]
[]
[]
[]
[]
[]
[]
[]
[]
[]
[]
[]
[]
[]
[]
[]
[]
[]
[]
[]
[]
[]
[]
[]
[]
[]
[]
[]
[]
[]
[]
[]
[]
[]
[]
[]
[]
[]
[]
[]
[]
[]
[]
[]
[]
[]
[]
[]
[]
[]
[]
[]
[]
[]
[]
[]
[]
[]
[]
[]
[]
[]
[]
[]
[]
[]
[]
[]
[]
[]
[]
[]
[]
[]
[]
[]
[]
[]
[]
[]
[]
[]
[]
[]
[]
[]
[]
[]
[]
[]
[]
[]
[]
[]
[]
[]
[]
[]
[]
[]
[]
[]
[]
[]
[]
[]
[]
[]
[]
[]
[]
[]
[]
[]
[]
[]
[]
[]
[]
[]
[]
[]
[]
[]
[]
[]
[]
[]
[]
[]
[]
[]
[]
[]
[]
[]
[]
[]
[]
[]
[]
[]
[]
[]
[]
[]
[]
[]
[]
[]
[]
[]
[]
[]
[]
[]
[]
[]
[]
[]
[]
[]
[]
[]
[]
[]
[]
[]
[]
[]
[]
[]
[]
[]
[]
[]
[]
[]
[]
[]
[]
[]
[]
[]
[]
[]
[]
[]
[]
[]
[]
[]
[]
[]
[]
[]
[]
[]
[]
[]
[]
[]
[]
[]
[]
[]
[]
[]
[]
[]
[]
[]
[]
[]
[]
[]
[]
[]
[]
[]
[]
[]
[]
[]
[]
[]
[]
[]
[]
[]
[]
[]
[]
[]
[]
[]
[]
[]
[]
[]
[]
[]
[]
[]
[]
[]
[]
[]
[]
[]
[]
[]
[]
[]
[]
[]
[]
[]
[]
[]
[]
[]
[]
[]
[]
[]
[]
[]
[]
[]
[]
[]
[]
[]
[]
[]
[]
[]
[]
[]
[]
[]
[]
[]
[]
[]
[]
[]
[]
[]
[]
[]
[]
[]
[]
[]
[]
[]
[]
[]
[]
[]
[]
[]
[]
[]
[]
[]
[]
[]
[]
[]
[]
[]
[]
[]
[]
[]
[]
[]
[]
[]
[]
[]
[]
[]
[]
[]
[]
[]
[]
[]
[]
[]
[]
[]
[]
[]
[]
[]
[]
[]
[]
[]
[]
[]
[]
[]
[]
[]
[]
[]
[]
[]
[]
[]
[]
[]
[]
[]
[]
[]
[]
[]
[]
[]
[]
[]
[]
[]
[]
[]
[]
[]
[]
[]
[]
[]
[]
[]
[]
[]
[]
[]
[]
[]
[]
[]
[]
[]
[]
[]
[]
[]
[]
[]
[]
[]
[]
[]
[]
[]
[]
[]
[]
[]
[]
[]
[]
[]
[]
[]
[]
[]
[]
[]
[]
[]
[]
[]
[]
[]
[]
[]
[]
[]
[]
[]
[]
[]
[]
[]
[]
[]
[]
[]
[]
[]
[]
[]
[]
[]
[]
[]
[]
[]
[]
[]
[]
[]
[]
[]
[]
[]
[]
[]
[]
[]
[]
[]
[]
[]
[]
[]
[]
[]
[]
[]
[]
[]
[]
[]
[]
[]
[]
[]
[]
[]
[]
[]
[]
[]
[]
[]
[]
[]
[]
[]
[]
[]
[]
[]
[]
[]
[]
[]
[]
[]
[]
[]
[]
[]
[]
[]
[]
[]
[]
[]
[]
[]
[]
[]
[]
[]
[]
[]
[]
[]
[]
[]
[]
[]
[]
[]
[]
[]
[]
[]
[]
[]
[]
[]
[]
[]
[]
[]
[]
[]
[]
[]
[]
[]
[]
[]
[]
[]
[]
[]
[]
[]
[]
[]
[]
[]
[]
[]
[]
[]
[]
[]
[]
[]
[]
[]
[]
[]
[]
[]
[]
[]
[]
[]
[]
[]
[]
[]
[]
[]
[]
[]
[]
[]
[]
[]
[]
[]
[]
[]
[]
[]
[]
[]
[]
[]
[]
[]
[]
[]
[]
[]
[]
[]
[]
[]
[]
[]
[]
[]
[]
[]
[]
[]
[]
[]
[]
[]
[]
[]
[]
[]
[]
[]
[]
[]
[]
[]
[]
[]
[]
[]
[]
[]
[]
[]
[]
[]
[]
[]
[]
[]
[]
[]
[]
[]
[]
[]
[]
[]
[]
[]
[]
[]
[]
[]
[]
[]
[]
[]
[]
[]
[]
[]
[]
[]
[]
[]
[]
[]
[]
[]
[]
[]
[]
[]
[]
[]
[]
[]
[]
[]
[]
[]
[]
[]
[]
[]
[]
[]
[]
[]
[]
[]
[]
[]
[]
[]
[]
[]
[]
[]
[]
[]
[]
[]
[]
[]
[]
[]
[]
[]
[]
[]
[]
[]
[]
[]
[]
[]
[]
[]
[]
[]
[]
[]
[]
[]
[]
[]
[]
[]
[]
[]
[]
[]
[]
[]
[]
[]
[]
[]
[]
[]
[]
[]
[]
[]
[]
[]
[]
[]
[]
[]
[]
[]
[]
[]
[]
[]
[]
[]
[]
[]
[]
[]
[]
[]
[]
[]
[]
[]
[]
[]
[]
[]
[]
[]
[]
[]
[]
[]
[]
[]
[]
[]
[]
[]
[]
[]
[]
[]
[]
[]
[]
[]
[]
[]
[]
[]
[]
[]
[]
[]
[]
[]
[]
[]
[]
[]
[]
[]
[]
[]
[]
[]
[]
[]
[]
[]
[]
[]
[]
[]
[]
[]
[]
[]
[]
[]
[]
[]
[]
[]
[]
[]
[]
[]
[]
[]
[]
[]
[]
[]
[]
[]
[]
[]
[]
[]
[]
[]
[]
[]
[]
[]
[]
[]
[]
[]
[]
[]
[]
[]
[]
[]
[]
[]
[]
[]
[]
[]
[]
[]
[]
[]
[]
[]
[]
[]
[]
[]
[]
[]
[]
[]
[]
[]
[]
[]
[]
[]
[]
[]
[]
[]
[]
[]
[]
[]
[]
[]
[]
[]
[]
[]
[]
[]
[]
[]
[]
[]
[]
[]
[]
[]
[]
[]
[]
[]
[]
[]
[]
[]
[]
[]
[]
[]
[]
[]
[]
[]
[]
[]
[]
[]
[]
[]
[]
[]
[]
[]
[]
[]
[]
[]
[]
[]
[]
[]
[]
[]
[]
[]
[]
[]
[]
[]
[]
[]
[]
[]
[]
[]
[]
[]
[]
[]
[]
[]
[]
[]
[]
[]
[]
[]
[]
[]
[]
[]
[]
[]
[]
[]
[]
[]
[]
[]
[]
[]
[]
[]
[]
[]
[]
[]
[]
[]
[]
[]
[]
[]
[]
[]
[]
[]
[]
[]
[]
[]
[]
[]
[]
[]
[]
[]
[]
[]
[]
[]
[]
[]
[]
[]
[]
[]
[]
[]
[]
[]
[]
[]
[]
[]
[]
[]
[]
[]
[]
[]
[]
[]
[]
[]
[]
[]
[]
[]
[]
[]
[]
[]
[]
[]
[]
[]
[]
[]
[]
[]
[]
[]
[]
[]
[]
[]
[]
[]
[]
[]
[]
[]
[]
[]
[]
[]
[]
[]
[]
[]
[]
[]
[]
[]
[]
[]
[]
[]
[]
[]
[]
[]
[]
[]
[]
[]
[]
[]
[]
[]
[]
[]
[]
[]
[]
[]
[]
[]
[]
[]
[]
[]
[]
[]
[]
[]
[]
[]
[]
[]
[]
[]
[]
[]
[]
[]
[]
[]
[]
[]
[]
[]
[]
[]
[]
[]
[]
[]
[]
[]
[]
[]
[]
[]
[]
[]
[]
[]
[]
[]
[]
[]
[]
[]
[]
[]
[]
[]
[]
[]
[]
[]
[]
[]
[]
[]
[]
[]
[]
[]
[]
[]
[]
[]
[]
[]
[]
[]
[]
[]
[]
[]
[]
[]
[]
[]
[]
[]
[]
[]
[]
[]
[]
[]
[]
[]
[]
[]
[]
[]
[]
[]
[]
[]
[]
[]
[]
[]
[]
[]
[]
[]
[]
[]
[]
[]
[]
[]
[]
[]
[]
[]
[]
[]
[]
[]
[]
[]
[]
[]
[]
[]
[]
[]
[]
[]
[]
[]
[]
[]
[]
[]
[]
[]
[]
[]
[]
[]
[]
[]
[]
[]
[]
[]
[]
[]
[]
[]
[]
[]
[]
[]
[]
[]
[]
[]
[]
[]
[]
[]
[]
[]
[]
[]
[]
[]
[]
[]
[]
[]
[]
[]
[]
[]
[]
[]
[]
[]
[]
[]
[]
[]
[]
[]
[]
[]
[]
[]
[]
[]
[]
[]
[]
[]
[]
[]
[]
[]
[]
[]
[]
[]
[]
[]
[]
[]
[]
[]
[]
[]
[]
[]
[]
[]
[]
[]
[]
[]
[]
[]
[]
[]
[]
[]
[]
[]
[]
[]
[]
[]
[]
[]
[]
[]
[]
[]
[]
[]
[]
[]
[]
[]
[]
[]
[]
[]
[]
[]
[]
[]
[]
[]
[]
[]
[]
[]
[]
[]
[]
[]
[]
[]
[]
[]
[]
[]
[]
[]
[]
[]
[]
[]
[]
[]
[]
[]
[]
[]
[]
[]
[]
[]
[]
[]
[]
[]
[]
[]
[]
[]
[]
[]
[]
[]
[]
[]
[]
[]
[]
[]
[]
[]
[]
[]
[]
[]
[]
[]
[]
[]
[]
[]
[]
[]
[]
[]
[]
[]
[]
[]
[]
[]
[]
[]
[]
[]
[]
[]
[]
[]
[]
[]
[]
[]
[]
[]
[]
[]
[]
[]
[]
[]
[]
[]
[]
[]
[]
[]
[]
[]
[]
[]
[]
[]
[]
[]
[]
[]
[]
[]
[]
[]
[]
[]
[]
[]
[]
[]
[]
[]
[]
[]
[]
[]
[]
[]
[]
[]
[]
[]
[]
[]
[]
[]
[]
[]
[]
[]
[]
[]
[]
[]
[]
[]
[]
[]
[]
[]
[]
[]
[]
[]
[]
[]
[]
[]
[]
[]
[]
[]
[]
[]
[]
[]
[]
[]
[]
[]
[]
[]
[]
[]
[]
[]
[]
[]
[]
[]
[]
[]
[]
[]
[]
[]
[]
[]
[]
[]
[]
[]
[]
[]
[]
[]
[]
[]
[]
[]
[]
[]
[]
[]
[]
[]
[]
[]
[]
[]
[]
[]
[]
[]
[]
[]
[]
[]
[]
[]
[]
[]
[]
[]
[]
[]
[]
[]
[]
[]
[]
[]
[]
[]
[]
[]
[]
[]
[]
[]
[]
[]
[]
[]
[]
[]
[]
[]
[]
[]
[]
[]
[]
[]
[]
[]
[]
[]
[]
[]
[]
[]
[]
[]
[]
[]
[]
[]
[]
[]
[]
[]
[]
[]
[]
[{"$f":"SUBTOTAL(103,Table4[Donor])","v":1},{"$f":"SUBTOTAL(109,Table4[Amount])","v":100}]

{"sheet":"Campaigns","index":3,"n_rows":1000,"n_cols":2,"rows_kept":1000,"cut":false,"hidden":false,"merged":[]}
["Campaign Data"]
["Name","Total"]
["Sample Campaign",{"$f":"IF(SUMIF(Gifts!D$4:D$5000, A3,Gifts!B$4:B$5000) > 0, SUMIF(Gifts!D$4:D$5000, A3,Gifts!B$4:B$5000), \"\")","v":100}]
[null,{"$f":"IF(SUMIF(Gifts!D$4:D$5000, A4,Gifts!B$4:B$5000) > 0, SUMIF(Gifts!D$4:D$5000, A4,Gifts!B$4:B$5000), \"\")","v":""}]
[null,{"$f":"IF(SUMIF(Gifts!D$4:D$5000, A5,Gifts!B$4:B$5000) > 0, SUMIF(Gifts!D$4:D$5000, A5,Gifts!B$4:B$5000), \"\")","v":""}]
[null,{"$f":"IF(SUMIF(Gifts!D$4:D$5000, A6,Gifts!B$4:B$5000) > 0, SUMIF(Gifts!D$4:D$5000, A6,Gifts!B$4:B$5000), \"\")","v":""}]
[null,{"$f":"IF(SUMIF(Gifts!D$4:D$5000, A7,Gifts!B$4:B$5000) > 0, SUMIF(Gifts!D$4:D$5000, A7,Gifts!B$4:B$5000), \"\")","v":""}]
[null,{"$f":"IF(SUMIF(Gifts!D$4:D$5000, A8,Gifts!B$4:B$5000) > 0, SUMIF(Gifts!D$4:D$5000, A8,Gifts!B$4:B$5000), \"\")","v":""}]
[null,{"$f":"IF(SUMIF(Gifts!D$4:D$5000, A9,Gifts!B$4:B$5000) > 0, SUMIF(Gifts!D$4:D$5000, A9,Gifts!B$4:B$5000), \"\")","v":""}]
[null,{"$f":"IF(SUMIF(Gifts!D$4:D$5000, A10,Gifts!B$4:B$5000) > 0, SUMIF(Gifts!D$4:D$5000, A10,Gifts!B$4:B$5000), \"\")","v":""}]
[null,{"$f":"IF(SUMIF(Gifts!D$4:D$5000, A11,Gifts!B$4:B$5000) > 0, SUMIF(Gifts!D$4:D$5000, A11,Gifts!B$4:B$5000), \"\")","v":""}]
[null,{"$f":"IF(SUMIF(Gifts!D$4:D$5000, A12,Gifts!B$4:B$5000) > 0, SUMIF(Gifts!D$4:D$5000, A12,Gifts!B$4:B$5000), \"\")","v":""}]
[null,{"$f":"IF(SUMIF(Gifts!D$4:D$5000, A13,Gifts!B$4:B$5000) > 0, SUMIF(Gifts!D$4:D$5000, A13,Gifts!B$4:B$5000), \"\")","v":""}]
[null,{"$f":"IF(SUMIF(Gifts!D$4:D$5000, A14,Gifts!B$4:B$5000) > 0, SUMIF(Gifts!D$4:D$5000, A14,Gifts!B$4:B$5000), \"\")","v":""}]
[null,{"$f":"IF(SUMIF(Gifts!D$4:D$5000, A15,Gifts!B$4:B$5000) > 0, SUMIF(Gifts!D$4:D$5000, A15,Gifts!B$4:B$5000), \"\")","v":""}]
[null,{"$f":"IF(SUMIF(Gifts!D$4:D$5000, A16,Gifts!B$4:B$5000) > 0, SUMIF(Gifts!D$4:D$5000, A16,Gifts!B$4:B$5000), \"\")","v":""}]
[null,{"$f":"IF(SUMIF(Gifts!D$4:D$5000, A17,Gifts!B$4:B$5000) > 0, SUMIF(Gifts!D$4:D$5000, A17,Gifts!B$4:B$5000), \"\")","v":""}]
[null,{"$f":"IF(SUMIF(Gifts!D$4:D$5000, A18,Gifts!B$4:B$5000) > 0, SUMIF(Gifts!D$4:D$5000, A18,Gifts!B$4:B$5000), \"\")","v":""}]
[null,{"$f":"IF(SUMIF(Gifts!D$4:D$5000, A19,Gifts!B$4:B$5000) > 0, SUMIF(Gifts!D$4:D$5000, A19,Gifts!B$4:B$5000), \"\")","v":""}]
[null,{"$f":"IF(SUMIF(Gifts!D$4:D$5000, A20,Gifts!B$4:B$5000) > 0, SUMIF(Gifts!D$4:D$5000, A20,Gifts!B$4:B$5000), \"\")","v":""}]
[null,{"$f":"IF(SUMIF(Gifts!D$4:D$5000, A21,Gifts!B$4:B$5000) > 0, SUMIF(Gifts!D$4:D$5000, A21,Gifts!B$4:B$5000), \"\")","v":""}]
[null,{"$f":"IF(SUMIF(Gifts!D$4:D$5000, A22,Gifts!B$4:B$5000) > 0, SUMIF(Gifts!D$4:D$5000, A22,Gifts!B$4:B$5000), \"\")","v":""}]
[null,{"$f":"IF(SUMIF(Gifts!D$4:D$5000, A23,Gifts!B$4:B$5000) > 0, SUMIF(Gifts!D$4:D$5000, A23,Gifts!B$4:B$5000), \"\")","v":""}]
[null,{"$f":"IF(SUMIF(Gifts!D$4:D$5000, A24,Gifts!B$4:B$5000) > 0, SUMIF(Gifts!D$4:D$5000, A24,Gifts!B$4:B$5000), \"\")","v":""}]
[null,{"$f":"IF(SUMIF(Gifts!D$4:D$5000, A25,Gifts!B$4:B$5000) > 0, SUMIF(Gifts!D$4:D$5000, A25,Gifts!B$4:B$5000), \"\")","v":""}]
[null,{"$f":"IF(SUMIF(Gifts!D$4:D$5000, A26,Gifts!B$4:B$5000) > 0, SUMIF(Gifts!D$4:D$5000, A26,Gifts!B$4:B$5000), \"\")","v":""}]
[null,{"$f":"IF(SUMIF(Gifts!D$4:D$5000, A27,Gifts!B$4:B$5000) > 0, SUMIF(Gifts!D$4:D$5000, A27,Gifts!B$4:B$5000), \"\")","v":""}]
[null,{"$f":"IF(SUMIF(Gifts!D$4:D$5000, A28,Gifts!B$4:B$5000) > 0, SUMIF(Gifts!D$4:D$5000, A28,Gifts!B$4:B$5000), \"\")","v":""}]
[null,{"$f":"IF(SUMIF(Gifts!D$4:D$5000, A29,Gifts!B$4:B$5000) > 0, SUMIF(Gifts!D$4:D$5000, A29,Gifts!B$4:B$5000), \"\")","v":""}]
[null,{"$f":"IF(SUMIF(Gifts!D$4:D$5000, A30,Gifts!B$4:B$5000) > 0, SUMIF(Gifts!D$4:D$5000, A30,Gifts!B$4:B$5000), \"\")","v":""}]
[null,{"$f":"IF(SUMIF(Gifts!D$4:D$5000, A31,Gifts!B$4:B$5000) > 0, SUMIF(Gifts!D$4:D$5000, A31,Gifts!B$4:B$5000), \"\")","v":""}]
[null,{"$f":"IF(SUMIF(Gifts!D$4:D$5000, A32,Gifts!B$4:B$5000) > 0, SUMIF(Gifts!D$4:D$5000, A32,Gifts!B$4:B$5000), \"\")","v":""}]
[null,{"$f":"IF(SUMIF(Gifts!D$4:D$5000, A33,Gifts!B$4:B$5000) > 0, SUMIF(Gifts!D$4:D$5000, A33,Gifts!B$4:B$5000), \"\")","v":""}]
[null,{"$f":"IF(SUMIF(Gifts!D$4:D$5000, A34,Gifts!B$4:B$5000) > 0, SUMIF(Gifts!D$4:D$5000, A34,Gifts!B$4:B$5000), \"\")","v":""}]
[null,{"$f":"IF(SUMIF(Gifts!D$4:D$5000, A35,Gifts!B$4:B$5000) > 0, SUMIF(Gifts!D$4:D$5000, A35,Gifts!B$4:B$5000), \"\")","v":""}]
[null,{"$f":"IF(SUMIF(Gifts!D$4:D$5000, A36,Gifts!B$4:B$5000) > 0, SUMIF(Gifts!D$4:D$5000, A36,Gifts!B$4:B$5000), \"\")","v":""}]
[null,{"$f":"IF(SUMIF(Gifts!D$4:D$5000, A37,Gifts!B$4:B$5000) > 0, SUMIF(Gifts!D$4:D$5000, A37,Gifts!B$4:B$5000), \"\")","v":""}]
[null,{"$f":"IF(SUMIF(Gifts!D$4:D$5000, A38,Gifts!B$4:B$5000) > 0, SUMIF(Gifts!D$4:D$5000, A38,Gifts!B$4:B$5000), \"\")","v":""}]
[null,{"$f":"IF(SUMIF(Gifts!D$4:D$5000, A39,Gifts!B$4:B$5000) > 0, SUMIF(Gifts!D$4:D$5000, A39,Gifts!B$4:B$5000), \"\")","v":""}]
[null,{"$f":"IF(SUMIF(Gifts!D$4:D$5000, A40,Gifts!B$4:B$5000) > 0, SUMIF(Gifts!D$4:D$5000, A40,Gifts!B$4:B$5000), \"\")","v":""}]
[null,{"$f":"IF(SUMIF(Gifts!D$4:D$5000, A41,Gifts!B$4:B$5000) > 0, SUMIF(Gifts!D$4:D$5000, A41,Gifts!B$4:B$5000), \"\")","v":""}]
[null,{"$f":"IF(SUMIF(Gifts!D$4:D$5000, A42,Gifts!B$4:B$5000) > 0, SUMIF(Gifts!D$4:D$5000, A42,Gifts!B$4:B$5000), \"\")","v":""}]
[null,{"$f":"IF(SUMIF(Gifts!D$4:D$5000, A43,Gifts!B$4:B$5000) > 0, SUMIF(Gifts!D$4:D$5000, A43,Gifts!B$4:B$5000), \"\")","v":""}]
[null,{"$f":"IF(SUMIF(Gifts!D$4:D$5000, A44,Gifts!B$4:B$5000) > 0, SUMIF(Gifts!D$4:D$5000, A44,Gifts!B$4:B$5000), \"\")","v":""}]
[null,{"$f":"IF(SUMIF(Gifts!D$4:D$5000, A45,Gifts!B$4:B$5000) > 0, SUMIF(Gifts!D$4:D$5000, A45,Gifts!B$4:B$5000), \"\")","v":""}]
[null,{"$f":"IF(SUMIF(Gifts!D$4:D$5000, A46,Gifts!B$4:B$5000) > 0, SUMIF(Gifts!D$4:D$5000, A46,Gifts!B$4:B$5000), \"\")","v":""}]
[null,{"$f":"IF(SUMIF(Gifts!D$4:D$5000, A47,Gifts!B$4:B$5000) > 0, SUMIF(Gifts!D$4:D$5000, A47,Gifts!B$4:B$5000), \"\")","v":""}]
[null,{"$f":"IF(SUMIF(Gifts!D$4:D$5000, A48,Gifts!B$4:B$5000) > 0, SUMIF(Gifts!D$4:D$5000, A48,Gifts!B$4:B$5000), \"\")","v":""}]
[null,{"$f":"IF(SUMIF(Gifts!D$4:D$5000, A49,Gifts!B$4:B$5000) > 0, SUMIF(Gifts!D$4:D$5000, A49,Gifts!B$4:B$5000), \"\")","v":""}]
[null,{"$f":"IF(SUMIF(Gifts!D$4:D$5000, A50,Gifts!B$4:B$5000) > 0, SUMIF(Gifts!D$4:D$5000, A50,Gifts!B$4:B$5000), \"\")","v":""}]
[null,{"$f":"IF(SUMIF(Gifts!D$4:D$5000, A51,Gifts!B$4:B$5000) > 0, SUMIF(Gifts!D$4:D$5000, A51,Gifts!B$4:B$5000), \"\")","v":""}]
[null,{"$f":"IF(SUMIF(Gifts!D$4:D$5000, A52,Gifts!B$4:B$5000) > 0, SUMIF(Gifts!D$4:D$5000, A52,Gifts!B$4:B$5000), \"\")","v":""}]
[null,{"$f":"IF(SUMIF(Gifts!D$4:D$5000, A53,Gifts!B$4:B$5000) > 0, SUMIF(Gifts!D$4:D$5000, A53,Gifts!B$4:B$5000), \"\")","v":""}]
[null,{"$f":"IF(SUMIF(Gifts!D$4:D$5000, A54,Gifts!B$4:B$5000) > 0, SUMIF(Gifts!D$4:D$5000, A54,Gifts!B$4:B$5000), \"\")","v":""}]
[null,{"$f":"IF(SUMIF(Gifts!D$4:D$5000, A55,Gifts!B$4:B$5000) > 0, SUMIF(Gifts!D$4:D$5000, A55,Gifts!B$4:B$5000), \"\")","v":""}]
[null,{"$f":"IF(SUMIF(Gifts!D$4:D$5000, A56,Gifts!B$4:B$5000) > 0, SUMIF(Gifts!D$4:D$5000, A56,Gifts!B$4:B$5000), \"\")","v":""}]
[null,{"$f":"IF(SUMIF(Gifts!D$4:D$5000, A57,Gifts!B$4:B$5000) > 0, SUMIF(Gifts!D$4:D$5000, A57,Gifts!B$4:B$5000), \"\")","v":""}]
[null,{"$f":"IF(SUMIF(Gifts!D$4:D$5000, A58,Gifts!B$4:B$5000) > 0, SUMIF(Gifts!D$4:D$5000, A58,Gifts!B$4:B$5000), \"\")","v":""}]
[null,{"$f":"IF(SUMIF(Gifts!D$4:D$5000, A59,Gifts!B$4:B$5000) > 0, SUMIF(Gifts!D$4:D$5000, A59,Gifts!B$4:B$5000), \"\")","v":""}]
[null,{"$f":"IF(SUMIF(Gifts!D$4:D$5000, A60,Gifts!B$4:B$5000) > 0, SUMIF(Gifts!D$4:D$5000, A60,Gifts!B$4:B$5000), \"\")","v":""}]
[null,{"$f":"IF(SUMIF(Gifts!D$4:D$5000, A61,Gifts!B$4:B$5000) > 0, SUMIF(Gifts!D$4:D$5000, A61,Gifts!B$4:B$5000), \"\")","v":""}]
[null,{"$f":"IF(SUMIF(Gifts!D$4:D$5000, A62,Gifts!B$4:B$5000) > 0, SUMIF(Gifts!D$4:D$5000, A62,Gifts!B$4:B$5000), \"\")","v":""}]
[null,{"$f":"IF(SUMIF(Gifts!D$4:D$5000, A63,Gifts!B$4:B$5000) > 0, SUMIF(Gifts!D$4:D$5000, A63,Gifts!B$4:B$5000), \"\")","v":""}]
[null,{"$f":"IF(SUMIF(Gifts!D$4:D$5000, A64,Gifts!B$4:B$5000) > 0, SUMIF(Gifts!D$4:D$5000, A64,Gifts!B$4:B$5000), \"\")","v":""}]
[null,{"$f":"IF(SUMIF(Gifts!D$4:D$5000, A65,Gifts!B$4:B$5000) > 0, SUMIF(Gifts!D$4:D$5000, A65,Gifts!B$4:B$5000), \"\")","v":""}]
[null,{"$f":"IF(SUMIF(Gifts!D$4:D$5000, A66,Gifts!B$4:B$5000) > 0, SUMIF(Gifts!D$4:D$5000, A66,Gifts!B$4:B$5000), \"\")","v":""}]
[null,{"$f":"IF(SUMIF(Gifts!D$4:D$5000, A67,Gifts!B$4:B$5000) > 0, SUMIF(Gifts!D$4:D$5000, A67,Gifts!B$4:B$5000), \"\")","v":""}]
[null,{"$f":"IF(SUMIF(Gifts!D$4:D$5000, A68,Gifts!B$4:B$5000) > 0, SUMIF(Gifts!D$4:D$5000, A68,Gifts!B$4:B$5000), \"\")","v":""}]
[null,{"$f":"IF(SUMIF(Gifts!D$4:D$5000, A69,Gifts!B$4:B$5000) > 0, SUMIF(Gifts!D$4:D$5000, A69,Gifts!B$4:B$5000), \"\")","v":""}]
[null,{"$f":"IF(SUMIF(Gifts!D$4:D$5000, A70,Gifts!B$4:B$5000) > 0, SUMIF(Gifts!D$4:D$5000, A70,Gifts!B$4:B$5000), \"\")","v":""}]
[null,{"$f":"IF(SUMIF(Gifts!D$4:D$5000, A71,Gifts!B$4:B$5000) > 0, SUMIF(Gifts!D$4:D$5000, A71,Gifts!B$4:B$5000), \"\")","v":""}]
[null,{"$f":"IF(SUMIF(Gifts!D$4:D$5000, A72,Gifts!B$4:B$5000) > 0, SUMIF(Gifts!D$4:D$5000, A72,Gifts!B$4:B$5000), \"\")","v":""}]
[null,{"$f":"IF(SUMIF(Gifts!D$4:D$5000, A73,Gifts!B$4:B$5000) > 0, SUMIF(Gifts!D$4:D$5000, A73,Gifts!B$4:B$5000), \"\")","v":""}]
[null,{"$f":"IF(SUMIF(Gifts!D$4:D$5000, A74,Gifts!B$4:B$5000) > 0, SUMIF(Gifts!D$4:D$5000, A74,Gifts!B$4:B$5000), \"\")","v":""}]
[null,{"$f":"IF(SUMIF(Gifts!D$4:D$5000, A75,Gifts!B$4:B$5000) > 0, SUMIF(Gifts!D$4:D$5000, A75,Gifts!B$4:B$5000), \"\")","v":""}]
[null,{"$f":"IF(SUMIF(Gifts!D$4:D$5000, A76,Gifts!B$4:B$5000) > 0, SUMIF(Gifts!D$4:D$5000, A76,Gifts!B$4:B$5000), \"\")","v":""}]
[null,{"$f":"IF(SUMIF(Gifts!D$4:D$5000, A77,Gifts!B$4:B$5000) > 0, SUMIF(Gifts!D$4:D$5000, A77,Gifts!B$4:B$5000), \"\")","v":""}]
[null,{"$f":"IF(SUMIF(Gifts!D$4:D$5000, A78,Gifts!B$4:B$5000) > 0, SUMIF(Gifts!D$4:D$5000, A78,Gifts!B$4:B$5000), \"\")","v":""}]
[null,{"$f":"IF(SUMIF(Gifts!D$4:D$5000, A79,Gifts!B$4:B$5000) > 0, SUMIF(Gifts!D$4:D$5000, A79,Gifts!B$4:B$5000), \"\")","v":""}]
[null,{"$f":"IF(SUMIF(Gifts!D$4:D$5000, A80,Gifts!B$4:B$5000) > 0, SUMIF(Gifts!D$4:D$5000, A80,Gifts!B$4:B$5000), \"\")","v":""}]
[null,{"$f":"IF(SUMIF(Gifts!D$4:D$5000, A81,Gifts!B$4:B$5000) > 0, SUMIF(Gifts!D$4:D$5000, A81,Gifts!B$4:B$5000), \"\")","v":""}]
[null,{"$f":"IF(SUMIF(Gifts!D$4:D$5000, A82,Gifts!B$4:B$5000) > 0, SUMIF(Gifts!D$4:D$5000, A82,Gifts!B$4:B$5000), \"\")","v":""}]
[null,{"$f":"IF(SUMIF(Gifts!D$4:D$5000, A83,Gifts!B$4:B$5000) > 0, SUMIF(Gifts!D$4:D$5000, A83,Gifts!B$4:B$5000), \"\")","v":""}]
[null,{"$f":"IF(SUMIF(Gifts!D$4:D$5000, A84,Gifts!B$4:B$5000) > 0, SUMIF(Gifts!D$4:D$5000, A84,Gifts!B$4:B$5000), \"\")","v":""}]
[null,{"$f":"IF(SUMIF(Gifts!D$4:D$5000, A85,Gifts!B$4:B$5000) > 0, SUMIF(Gifts!D$4:D$5000, A85,Gifts!B$4:B$5000), \"\")","v":""}]
[null,{"$f":"IF(SUMIF(Gifts!D$4:D$5000, A86,Gifts!B$4:B$5000) > 0, SUMIF(Gifts!D$4:D$5000, A86,Gifts!B$4:B$5000), \"\")","v":""}]
[null,{"$f":"IF(SUMIF(Gifts!D$4:D$5000, A87,Gifts!B$4:B$5000) > 0, SUMIF(Gifts!D$4:D$5000, A87,Gifts!B$4:B$5000), \"\")","v":""}]
[null,{"$f":"IF(SUMIF(Gifts!D$4:D$5000, A88,Gifts!B$4:B$5000) > 0, SUMIF(Gifts!D$4:D$5000, A88,Gifts!B$4:B$5000), \"\")","v":""}]
[null,{"$f":"IF(SUMIF(Gifts!D$4:D$5000, A89,Gifts!B$4:B$5000) > 0, SUMIF(Gifts!D$4:D$5000, A89,Gifts!B$4:B$5000), \"\")","v":""}]
[null,{"$f":"IF(SUMIF(Gifts!D$4:D$5000, A90,Gifts!B$4:B$5000) > 0, SUMIF(Gifts!D$4:D$5000, A90,Gifts!B$4:B$5000), \"\")","v":""}]
[null,{"$f":"IF(SUMIF(Gifts!D$4:D$5000, A91,Gifts!B$4:B$5000) > 0, SUMIF(Gifts!D$4:D$5000, A91,Gifts!B$4:B$5000), \"\")","v":""}]
[null,{"$f":"IF(SUMIF(Gifts!D$4:D$5000, A92,Gifts!B$4:B$5000) > 0, SUMIF(Gifts!D$4:D$5000, A92,Gifts!B$4:B$5000), \"\")","v":""}]
[null,{"$f":"IF(SUMIF(Gifts!D$4:D$5000, A93,Gifts!B$4:B$5000) > 0, SUMIF(Gifts!D$4:D$5000, A93,Gifts!B$4:B$5000), \"\")","v":""}]
[null,{"$f":"IF(SUMIF(Gifts!D$4:D$5000, A94,Gifts!B$4:B$5000) > 0, SUMIF(Gifts!D$4:D$5000, A94,Gifts!B$4:B$5000), \"\")","v":""}]
[null,{"$f":"IF(SUMIF(Gifts!D$4:D$5000, A95,Gifts!B$4:B$5000) > 0, SUMIF(Gifts!D$4:D$5000, A95,Gifts!B$4:B$5000), \"\")","v":""}]
[null,{"$f":"IF(SUMIF(Gifts!D$4:D$5000, A96,Gifts!B$4:B$5000) > 0, SUMIF(Gifts!D$4:D$5000, A96,Gifts!B$4:B$5000), \"\")","v":""}]
[null,{"$f":"IF(SUMIF(Gifts!D$4:D$5000, A97,Gifts!B$4:B$5000) > 0, SUMIF(Gifts!D$4:D$5000, A97,Gifts!B$4:B$5000), \"\")","v":""}]
[null,{"$f":"IF(SUMIF(Gifts!D$4:D$5000, A98,Gifts!B$4:B$5000) > 0, SUMIF(Gifts!D$4:D$5000, A98,Gifts!B$4:B$5000), \"\")","v":""}]
[null,{"$f":"IF(SUMIF(Gifts!D$4:D$5000, A99,Gifts!B$4:B$5000) > 0, SUMIF(Gifts!D$4:D$5000, A99,Gifts!B$4:B$5000), \"\")","v":""}]
[null,{"$f":"IF(SUMIF(Gifts!D$4:D$5000, A100,Gifts!B$4:B$5000) > 0, SUMIF(Gifts!D$4:D$5000, A100,Gifts!B$4:B$5000), \"\")","v":""}]
[null,{"$f":"IF(SUMIF(Gifts!D$4:D$5000, A101,Gifts!B$4:B$5000) > 0, SUMIF(Gifts!D$4:D$5000, A101,Gifts!B$4:B$5000), \"\")","v":""}]
[null,{"$f":"IF(SUMIF(Gifts!D$4:D$5000, A102,Gifts!B$4:B$5000) > 0, SUMIF(Gifts!D$4:D$5000, A102,Gifts!B$4:B$5000), \"\")","v":""}]
[null,{"$f":"IF(SUMIF(Gifts!D$4:D$5000, A103,Gifts!B$4:B$5000) > 0, SUMIF(Gifts!D$4:D$5000, A103,Gifts!B$4:B$5000), \"\")","v":""}]
[null,{"$f":"IF(SUMIF(Gifts!D$4:D$5000, A104,Gifts!B$4:B$5000) > 0, SUMIF(Gifts!D$4:D$5000, A104,Gifts!B$4:B$5000), \"\")","v":""}]
[null,{"$f":"IF(SUMIF(Gifts!D$4:D$5000, A105,Gifts!B$4:B$5000) > 0, SUMIF(Gifts!D$4:D$5000, A105,Gifts!B$4:B$5000), \"\")","v":""}]
[null,{"$f":"IF(SUMIF(Gifts!D$4:D$5000, A106,Gifts!B$4:B$5000) > 0, SUMIF(Gifts!D$4:D$5000, A106,Gifts!B$4:B$5000), \"\")","v":""}]
[null,{"$f":"IF(SUMIF(Gifts!D$4:D$5000, A107,Gifts!B$4:B$5000) > 0, SUMIF(Gifts!D$4:D$5000, A107,Gifts!B$4:B$5000), \"\")","v":""}]
[null,{"$f":"IF(SUMIF(Gifts!D$4:D$5000, A108,Gifts!B$4:B$5000) > 0, SUMIF(Gifts!D$4:D$5000, A108,Gifts!B$4:B$5000), \"\")","v":""}]
[null,{"$f":"IF(SUMIF(Gifts!D$4:D$5000, A109,Gifts!B$4:B$5000) > 0, SUMIF(Gifts!D$4:D$5000, A109,Gifts!B$4:B$5000), \"\")","v":""}]
[null,{"$f":"IF(SUMIF(Gifts!D$4:D$5000, A110,Gifts!B$4:B$5000) > 0, SUMIF(Gifts!D$4:D$5000, A110,Gifts!B$4:B$5000), \"\")","v":""}]
[null,{"$f":"IF(SUMIF(Gifts!D$4:D$5000, A111,Gifts!B$4:B$5000) > 0, SUMIF(Gifts!D$4:D$5000, A111,Gifts!B$4:B$5000), \"\")","v":""}]
[null,{"$f":"IF(SUMIF(Gifts!D$4:D$5000, A112,Gifts!B$4:B$5000) > 0, SUMIF(Gifts!D$4:D$5000, A112,Gifts!B$4:B$5000), \"\")","v":""}]
[null,{"$f":"IF(SUMIF(Gifts!D$4:D$5000, A113,Gifts!B$4:B$5000) > 0, SUMIF(Gifts!D$4:D$5000, A113,Gifts!B$4:B$5000), \"\")","v":""}]
[null,{"$f":"IF(SUMIF(Gifts!D$4:D$5000, A114,Gifts!B$4:B$5000) > 0, SUMIF(Gifts!D$4:D$5000, A114,Gifts!B$4:B$5000), \"\")","v":""}]
[null,{"$f":"IF(SUMIF(Gifts!D$4:D$5000, A115,Gifts!B$4:B$5000) > 0, SUMIF(Gifts!D$4:D$5000, A115,Gifts!B$4:B$5000), \"\")","v":""}]
[null,{"$f":"IF(SUMIF(Gifts!D$4:D$5000, A116,Gifts!B$4:B$5000) > 0, SUMIF(Gifts!D$4:D$5000, A116,Gifts!B$4:B$5000), \"\")","v":""}]
[null,{"$f":"IF(SUMIF(Gifts!D$4:D$5000, A117,Gifts!B$4:B$5000) > 0, SUMIF(Gifts!D$4:D$5000, A117,Gifts!B$4:B$5000), \"\")","v":""}]
[null,{"$f":"IF(SUMIF(Gifts!D$4:D$5000, A118,Gifts!B$4:B$5000) > 0, SUMIF(Gifts!D$4:D$5000, A118,Gifts!B$4:B$5000), \"\")","v":""}]
[null,{"$f":"IF(SUMIF(Gifts!D$4:D$5000, A119,Gifts!B$4:B$5000) > 0, SUMIF(Gifts!D$4:D$5000, A119,Gifts!B$4:B$5000), \"\")","v":""}]
[null,{"$f":"IF(SUMIF(Gifts!D$4:D$5000, A120,Gifts!B$4:B$5000) > 0, SUMIF(Gifts!D$4:D$5000, A120,Gifts!B$4:B$5000), \"\")","v":""}]
[null,{"$f":"IF(SUMIF(Gifts!D$4:D$5000, A121,Gifts!B$4:B$5000) > 0, SUMIF(Gifts!D$4:D$5000, A121,Gifts!B$4:B$5000), \"\")","v":""}]
[null,{"$f":"IF(SUMIF(Gifts!D$4:D$5000, A122,Gifts!B$4:B$5000) > 0, SUMIF(Gifts!D$4:D$5000, A122,Gifts!B$4:B$5000), \"\")","v":""}]
[null,{"$f":"IF(SUMIF(Gifts!D$4:D$5000, A123,Gifts!B$4:B$5000) > 0, SUMIF(Gifts!D$4:D$5000, A123,Gifts!B$4:B$5000), \"\")","v":""}]
[null,{"$f":"IF(SUMIF(Gifts!D$4:D$5000, A124,Gifts!B$4:B$5000) > 0, SUMIF(Gifts!D$4:D$5000, A124,Gifts!B$4:B$5000), \"\")","v":""}]
[null,{"$f":"IF(SUMIF(Gifts!D$4:D$5000, A125,Gifts!B$4:B$5000) > 0, SUMIF(Gifts!D$4:D$5000, A125,Gifts!B$4:B$5000), \"\")","v":""}]
[null,{"$f":"IF(SUMIF(Gifts!D$4:D$5000, A126,Gifts!B$4:B$5000) > 0, SUMIF(Gifts!D$4:D$5000, A126,Gifts!B$4:B$5000), \"\")","v":""}]
[null,{"$f":"IF(SUMIF(Gifts!D$4:D$5000, A127,Gifts!B$4:B$5000) > 0, SUMIF(Gifts!D$4:D$5000, A127,Gifts!B$4:B$5000), \"\")","v":""}]
[null,{"$f":"IF(SUMIF(Gifts!D$4:D$5000, A128,Gifts!B$4:B$5000) > 0, SUMIF(Gifts!D$4:D$5000, A128,Gifts!B$4:B$5000), \"\")","v":""}]
[null,{"$f":"IF(SUMIF(Gifts!D$4:D$5000, A129,Gifts!B$4:B$5000) > 0, SUMIF(Gifts!D$4:D$5000, A129,Gifts!B$4:B$5000), \"\")","v":""}]
[null,{"$f":"IF(SUMIF(Gifts!D$4:D$5000, A130,Gifts!B$4:B$5000) > 0, SUMIF(Gifts!D$4:D$5000, A130,Gifts!B$4:B$5000), \"\")","v":""}]
[null,{"$f":"IF(SUMIF(Gifts!D$4:D$5000, A131,Gifts!B$4:B$5000) > 0, SUMIF(Gifts!D$4:D$5000, A131,Gifts!B$4:B$5000), \"\")","v":""}]
[null,{"$f":"IF(SUMIF(Gifts!D$4:D$5000, A132,Gifts!B$4:B$5000) > 0, SUMIF(Gifts!D$4:D$5000, A132,Gifts!B$4:B$5000), \"\")","v":""}]
[null,{"$f":"IF(SUMIF(Gifts!D$4:D$5000, A133,Gifts!B$4:B$5000) > 0, SUMIF(Gifts!D$4:D$5000, A133,Gifts!B$4:B$5000), \"\")","v":""}]
[null,{"$f":"IF(SUMIF(Gifts!D$4:D$5000, A134,Gifts!B$4:B$5000) > 0, SUMIF(Gifts!D$4:D$5000, A134,Gifts!B$4:B$5000), \"\")","v":""}]
[null,{"$f":"IF(SUMIF(Gifts!D$4:D$5000, A135,Gifts!B$4:B$5000) > 0, SUMIF(Gifts!D$4:D$5000, A135,Gifts!B$4:B$5000), \"\")","v":""}]
[null,{"$f":"IF(SUMIF(Gifts!D$4:D$5000, A136,Gifts!B$4:B$5000) > 0, SUMIF(Gifts!D$4:D$5000, A136,Gifts!B$4:B$5000), \"\")","v":""}]
[null,{"$f":"IF(SUMIF(Gifts!D$4:D$5000, A137,Gifts!B$4:B$5000) > 0, SUMIF(Gifts!D$4:D$5000, A137,Gifts!B$4:B$5000), \"\")","v":""}]
[null,{"$f":"IF(SUMIF(Gifts!D$4:D$5000, A138,Gifts!B$4:B$5000) > 0, SUMIF(Gifts!D$4:D$5000, A138,Gifts!B$4:B$5000), \"\")","v":""}]
[null,{"$f":"IF(SUMIF(Gifts!D$4:D$5000, A139,Gifts!B$4:B$5000) > 0, SUMIF(Gifts!D$4:D$5000, A139,Gifts!B$4:B$5000), \"\")","v":""}]
[null,{"$f":"IF(SUMIF(Gifts!D$4:D$5000, A140,Gifts!B$4:B$5000) > 0, SUMIF(Gifts!D$4:D$5000, A140,Gifts!B$4:B$5000), \"\")","v":""}]
[null,{"$f":"IF(SUMIF(Gifts!D$4:D$5000, A141,Gifts!B$4:B$5000) > 0, SUMIF(Gifts!D$4:D$5000, A141,Gifts!B$4:B$5000), \"\")","v":""}]
[null,{"$f":"IF(SUMIF(Gifts!D$4:D$5000, A142,Gifts!B$4:B$5000) > 0, SUMIF(Gifts!D$4:D$5000, A142,Gifts!B$4:B$5000), \"\")","v":""}]
[null,{"$f":"IF(SUMIF(Gifts!D$4:D$5000, A143,Gifts!B$4:B$5000) > 0, SUMIF(Gifts!D$4:D$5000, A143,Gifts!B$4:B$5000), \"\")","v":""}]
[null,{"$f":"IF(SUMIF(Gifts!D$4:D$5000, A144,Gifts!B$4:B$5000) > 0, SUMIF(Gifts!D$4:D$5000, A144,Gifts!B$4:B$5000), \"\")","v":""}]
[null,{"$f":"IF(SUMIF(Gifts!D$4:D$5000, A145,Gifts!B$4:B$5000) > 0, SUMIF(Gifts!D$4:D$5000, A145,Gifts!B$4:B$5000), \"\")","v":""}]
[null,{"$f":"IF(SUMIF(Gifts!D$4:D$5000, A146,Gifts!B$4:B$5000) > 0, SUMIF(Gifts!D$4:D$5000, A146,Gifts!B$4:B$5000), \"\")","v":""}]
[null,{"$f":"IF(SUMIF(Gifts!D$4:D$5000, A147,Gifts!B$4:B$5000) > 0, SUMIF(Gifts!D$4:D$5000, A147,Gifts!B$4:B$5000), \"\")","v":""}]
[null,{"$f":"IF(SUMIF(Gifts!D$4:D$5000, A148,Gifts!B$4:B$5000) > 0, SUMIF(Gifts!D$4:D$5000, A148,Gifts!B$4:B$5000), \"\")","v":""}]
[null,{"$f":"IF(SUMIF(Gifts!D$4:D$5000, A149,Gifts!B$4:B$5000) > 0, SUMIF(Gifts!D$4:D$5000, A149,Gifts!B$4:B$5000), \"\")","v":""}]
[null,{"$f":"IF(SUMIF(Gifts!D$4:D$5000, A150,Gifts!B$4:B$5000) > 0, SUMIF(Gifts!D$4:D$5000, A150,Gifts!B$4:B$5000), \"\")","v":""}]
[null,{"$f":"IF(SUMIF(Gifts!D$4:D$5000, A151,Gifts!B$4:B$5000) > 0, SUMIF(Gifts!D$4:D$5000, A151,Gifts!B$4:B$5000), \"\")","v":""}]
[null,{"$f":"IF(SUMIF(Gifts!D$4:D$5000, A152,Gifts!B$4:B$5000) > 0, SUMIF(Gifts!D$4:D$5000, A152,Gifts!B$4:B$5000), \"\")","v":""}]
[null,{"$f":"IF(SUMIF(Gifts!D$4:D$5000, A153,Gifts!B$4:B$5000) > 0, SUMIF(Gifts!D$4:D$5000, A153,Gifts!B$4:B$5000), \"\")","v":""}]
[null,{"$f":"IF(SUMIF(Gifts!D$4:D$5000, A154,Gifts!B$4:B$5000) > 0, SUMIF(Gifts!D$4:D$5000, A154,Gifts!B$4:B$5000), \"\")","v":""}]
[null,{"$f":"IF(SUMIF(Gifts!D$4:D$5000, A155,Gifts!B$4:B$5000) > 0, SUMIF(Gifts!D$4:D$5000, A155,Gifts!B$4:B$5000), \"\")","v":""}]
[null,{"$f":"IF(SUMIF(Gifts!D$4:D$5000, A156,Gifts!B$4:B$5000) > 0, SUMIF(Gifts!D$4:D$5000, A156,Gifts!B$4:B$5000), \"\")","v":""}]
[null,{"$f":"IF(SUMIF(Gifts!D$4:D$5000, A157,Gifts!B$4:B$5000) > 0, SUMIF(Gifts!D$4:D$5000, A157,Gifts!B$4:B$5000), \"\")","v":""}]
[null,{"$f":"IF(SUMIF(Gifts!D$4:D$5000, A158,Gifts!B$4:B$5000) > 0, SUMIF(Gifts!D$4:D$5000, A158,Gifts!B$4:B$5000), \"\")","v":""}]
[null,{"$f":"IF(SUMIF(Gifts!D$4:D$5000, A159,Gifts!B$4:B$5000) > 0, SUMIF(Gifts!D$4:D$5000, A159,Gifts!B$4:B$5000), \"\")","v":""}]
[null,{"$f":"IF(SUMIF(Gifts!D$4:D$5000, A160,Gifts!B$4:B$5000) > 0, SUMIF(Gifts!D$4:D$5000, A160,Gifts!B$4:B$5000), \"\")","v":""}]
[null,{"$f":"IF(SUMIF(Gifts!D$4:D$5000, A161,Gifts!B$4:B$5000) > 0, SUMIF(Gifts!D$4:D$5000, A161,Gifts!B$4:B$5000), \"\")","v":""}]
[null,{"$f":"IF(SUMIF(Gifts!D$4:D$5000, A162,Gifts!B$4:B$5000) > 0, SUMIF(Gifts!D$4:D$5000, A162,Gifts!B$4:B$5000), \"\")","v":""}]
[null,{"$f":"IF(SUMIF(Gifts!D$4:D$5000, A163,Gifts!B$4:B$5000) > 0, SUMIF(Gifts!D$4:D$5000, A163,Gifts!B$4:B$5000), \"\")","v":""}]
[null,{"$f":"IF(SUMIF(Gifts!D$4:D$5000, A164,Gifts!B$4:B$5000) > 0, SUMIF(Gifts!D$4:D$5000, A164,Gifts!B$4:B$5000), \"\")","v":""}]
[null,{"$f":"IF(SUMIF(Gifts!D$4:D$5000, A165,Gifts!B$4:B$5000) > 0, SUMIF(Gifts!D$4:D$5000, A165,Gifts!B$4:B$5000), \"\")","v":""}]
[null,{"$f":"IF(SUMIF(Gifts!D$4:D$5000, A166,Gifts!B$4:B$5000) > 0, SUMIF(Gifts!D$4:D$5000, A166,Gifts!B$4:B$5000), \"\")","v":""}]
[null,{"$f":"IF(SUMIF(Gifts!D$4:D$5000, A167,Gifts!B$4:B$5000) > 0, SUMIF(Gifts!D$4:D$5000, A167,Gifts!B$4:B$5000), \"\")","v":""}]
[null,{"$f":"IF(SUMIF(Gifts!D$4:D$5000, A168,Gifts!B$4:B$5000) > 0, SUMIF(Gifts!D$4:D$5000, A168,Gifts!B$4:B$5000), \"\")","v":""}]
[null,{"$f":"IF(SUMIF(Gifts!D$4:D$5000, A169,Gifts!B$4:B$5000) > 0, SUMIF(Gifts!D$4:D$5000, A169,Gifts!B$4:B$5000), \"\")","v":""}]
[null,{"$f":"IF(SUMIF(Gifts!D$4:D$5000, A170,Gifts!B$4:B$5000) > 0, SUMIF(Gifts!D$4:D$5000, A170,Gifts!B$4:B$5000), \"\")","v":""}]
[null,{"$f":"IF(SUMIF(Gifts!D$4:D$5000, A171,Gifts!B$4:B$5000) > 0, SUMIF(Gifts!D$4:D$5000, A171,Gifts!B$4:B$5000), \"\")","v":""}]
[null,{"$f":"IF(SUMIF(Gifts!D$4:D$5000, A172,Gifts!B$4:B$5000) > 0, SUMIF(Gifts!D$4:D$5000, A172,Gifts!B$4:B$5000), \"\")","v":""}]
[null,{"$f":"IF(SUMIF(Gifts!D$4:D$5000, A173,Gifts!B$4:B$5000) > 0, SUMIF(Gifts!D$4:D$5000, A173,Gifts!B$4:B$5000), \"\")","v":""}]
[null,{"$f":"IF(SUMIF(Gifts!D$4:D$5000, A174,Gifts!B$4:B$5000) > 0, SUMIF(Gifts!D$4:D$5000, A174,Gifts!B$4:B$5000), \"\")","v":""}]
[null,{"$f":"IF(SUMIF(Gifts!D$4:D$5000, A175,Gifts!B$4:B$5000) > 0, SUMIF(Gifts!D$4:D$5000, A175,Gifts!B$4:B$5000), \"\")","v":""}]
[null,{"$f":"IF(SUMIF(Gifts!D$4:D$5000, A176,Gifts!B$4:B$5000) > 0, SUMIF(Gifts!D$4:D$5000, A176,Gifts!B$4:B$5000), \"\")","v":""}]
[null,{"$f":"IF(SUMIF(Gifts!D$4:D$5000, A177,Gifts!B$4:B$5000) > 0, SUMIF(Gifts!D$4:D$5000, A177,Gifts!B$4:B$5000), \"\")","v":""}]
[null,{"$f":"IF(SUMIF(Gifts!D$4:D$5000, A178,Gifts!B$4:B$5000) > 0, SUMIF(Gifts!D$4:D$5000, A178,Gifts!B$4:B$5000), \"\")","v":""}]
[null,{"$f":"IF(SUMIF(Gifts!D$4:D$5000, A179,Gifts!B$4:B$5000) > 0, SUMIF(Gifts!D$4:D$5000, A179,Gifts!B$4:B$5000), \"\")","v":""}]
[null,{"$f":"IF(SUMIF(Gifts!D$4:D$5000, A180,Gifts!B$4:B$5000) > 0, SUMIF(Gifts!D$4:D$5000, A180,Gifts!B$4:B$5000), \"\")","v":""}]
[null,{"$f":"IF(SUMIF(Gifts!D$4:D$5000, A181,Gifts!B$4:B$5000) > 0, SUMIF(Gifts!D$4:D$5000, A181,Gifts!B$4:B$5000), \"\")","v":""}]
[null,{"$f":"IF(SUMIF(Gifts!D$4:D$5000, A182,Gifts!B$4:B$5000) > 0, SUMIF(Gifts!D$4:D$5000, A182,Gifts!B$4:B$5000), \"\")","v":""}]
[null,{"$f":"IF(SUMIF(Gifts!D$4:D$5000, A183,Gifts!B$4:B$5000) > 0, SUMIF(Gifts!D$4:D$5000, A183,Gifts!B$4:B$5000), \"\")","v":""}]
[null,{"$f":"IF(SUMIF(Gifts!D$4:D$5000, A184,Gifts!B$4:B$5000) > 0, SUMIF(Gifts!D$4:D$5000, A184,Gifts!B$4:B$5000), \"\")","v":""}]
[null,{"$f":"IF(SUMIF(Gifts!D$4:D$5000, A185,Gifts!B$4:B$5000) > 0, SUMIF(Gifts!D$4:D$5000, A185,Gifts!B$4:B$5000), \"\")","v":""}]
[null,{"$f":"IF(SUMIF(Gifts!D$4:D$5000, A186,Gifts!B$4:B$5000) > 0, SUMIF(Gifts!D$4:D$5000, A186,Gifts!B$4:B$5000), \"\")","v":""}]
[null,{"$f":"IF(SUMIF(Gifts!D$4:D$5000, A187,Gifts!B$4:B$5000) > 0, SUMIF(Gifts!D$4:D$5000, A187,Gifts!B$4:B$5000), \"\")","v":""}]
[null,{"$f":"IF(SUMIF(Gifts!D$4:D$5000, A188,Gifts!B$4:B$5000) > 0, SUMIF(Gifts!D$4:D$5000, A188,Gifts!B$4:B$5000), \"\")","v":""}]
[null,{"$f":"IF(SUMIF(Gifts!D$4:D$5000, A189,Gifts!B$4:B$5000) > 0, SUMIF(Gifts!D$4:D$5000, A189,Gifts!B$4:B$5000), \"\")","v":""}]
[null,{"$f":"IF(SUMIF(Gifts!D$4:D$5000, A190,Gifts!B$4:B$5000) > 0, SUMIF(Gifts!D$4:D$5000, A190,Gifts!B$4:B$5000), \"\")","v":""}]
[null,{"$f":"IF(SUMIF(Gifts!D$4:D$5000, A191,Gifts!B$4:B$5000) > 0, SUMIF(Gifts!D$4:D$5000, A191,Gifts!B$4:B$5000), \"\")","v":""}]
[null,{"$f":"IF(SUMIF(Gifts!D$4:D$5000, A192,Gifts!B$4:B$5000) > 0, SUMIF(Gifts!D$4:D$5000, A192,Gifts!B$4:B$5000), \"\")","v":""}]
[null,{"$f":"IF(SUMIF(Gifts!D$4:D$5000, A193,Gifts!B$4:B$5000) > 0, SUMIF(Gifts!D$4:D$5000, A193,Gifts!B$4:B$5000), \"\")","v":""}]
[null,{"$f":"IF(SUMIF(Gifts!D$4:D$5000, A194,Gifts!B$4:B$5000) > 0, SUMIF(Gifts!D$4:D$5000, A194,Gifts!B$4:B$5000), \"\")","v":""}]
[null,{"$f":"IF(SUMIF(Gifts!D$4:D$5000, A195,Gifts!B$4:B$5000) > 0, SUMIF(Gifts!D$4:D$5000, A195,Gifts!B$4:B$5000), \"\")","v":""}]
[null,{"$f":"IF(SUMIF(Gifts!D$4:D$5000, A196,Gifts!B$4:B$5000) > 0, SUMIF(Gifts!D$4:D$5000, A196,Gifts!B$4:B$5000), \"\")","v":""}]
[null,{"$f":"IF(SUMIF(Gifts!D$4:D$5000, A197,Gifts!B$4:B$5000) > 0, SUMIF(Gifts!D$4:D$5000, A197,Gifts!B$4:B$5000), \"\")","v":""}]
[null,{"$f":"IF(SUMIF(Gifts!D$4:D$5000, A198,Gifts!B$4:B$5000) > 0, SUMIF(Gifts!D$4:D$5000, A198,Gifts!B$4:B$5000), \"\")","v":""}]
[null,{"$f":"IF(SUMIF(Gifts!D$4:D$5000, A199,Gifts!B$4:B$5000) > 0, SUMIF(Gifts!D$4:D$5000, A199,Gifts!B$4:B$5000), \"\")","v":""}]
[null,{"$f":"IF(SUMIF(Gifts!D$4:D$5000, A200,Gifts!B$4:B$5000) > 0, SUMIF(Gifts!D$4:D$5000, A200,Gifts!B$4:B$5000), \"\")","v":""}]
[null,{"$f":"IF(SUMIF(Gifts!D$4:D$5000, A201,Gifts!B$4:B$5000) > 0, SUMIF(Gifts!D$4:D$5000, A201,Gifts!B$4:B$5000), \"\")","v":""}]
[null,{"$f":"IF(SUMIF(Gifts!D$4:D$5000, A202,Gifts!B$4:B$5000) > 0, SUMIF(Gifts!D$4:D$5000, A202,Gifts!B$4:B$5000), \"\")","v":""}]
[null,{"$f":"IF(SUMIF(Gifts!D$4:D$5000, A203,Gifts!B$4:B$5000) > 0, SUMIF(Gifts!D$4:D$5000, A203,Gifts!B$4:B$5000), \"\")","v":""}]
[null,{"$f":"IF(SUMIF(Gifts!D$4:D$5000, A204,Gifts!B$4:B$5000) > 0, SUMIF(Gifts!D$4:D$5000, A204,Gifts!B$4:B$5000), \"\")","v":""}]
[null,{"$f":"IF(SUMIF(Gifts!D$4:D$5000, A205,Gifts!B$4:B$5000) > 0, SUMIF(Gifts!D$4:D$5000, A205,Gifts!B$4:B$5000), \"\")","v":""}]
[null,{"$f":"IF(SUMIF(Gifts!D$4:D$5000, A206,Gifts!B$4:B$5000) > 0, SUMIF(Gifts!D$4:D$5000, A206,Gifts!B$4:B$5000), \"\")","v":""}]
[null,{"$f":"IF(SUMIF(Gifts!D$4:D$5000, A207,Gifts!B$4:B$5000) > 0, SUMIF(Gifts!D$4:D$5000, A207,Gifts!B$4:B$5000), \"\")","v":""}]
[null,{"$f":"IF(SUMIF(Gifts!D$4:D$5000, A208,Gifts!B$4:B$5000) > 0, SUMIF(Gifts!D$4:D$5000, A208,Gifts!B$4:B$5000), \"\")","v":""}]
[null,{"$f":"IF(SUMIF(Gifts!D$4:D$5000, A209,Gifts!B$4:B$5000) > 0, SUMIF(Gifts!D$4:D$5000, A209,Gifts!B$4:B$5000), \"\")","v":""}]
[null,{"$f":"IF(SUMIF(Gifts!D$4:D$5000, A210,Gifts!B$4:B$5000) > 0, SUMIF(Gifts!D$4:D$5000, A210,Gifts!B$4:B$5000), \"\")","v":""}]
[null,{"$f":"IF(SUMIF(Gifts!D$4:D$5000, A211,Gifts!B$4:B$5000) > 0, SUMIF(Gifts!D$4:D$5000, A211,Gifts!B$4:B$5000), \"\")","v":""}]
[null,{"$f":"IF(SUMIF(Gifts!D$4:D$5000, A212,Gifts!B$4:B$5000) > 0, SUMIF(Gifts!D$4:D$5000, A212,Gifts!B$4:B$5000), \"\")","v":""}]
[null,{"$f":"IF(SUMIF(Gifts!D$4:D$5000, A213,Gifts!B$4:B$5000) > 0, SUMIF(Gifts!D$4:D$5000, A213,Gifts!B$4:B$5000), \"\")","v":""}]
[null,{"$f":"IF(SUMIF(Gifts!D$4:D$5000, A214,Gifts!B$4:B$5000) > 0, SUMIF(Gifts!D$4:D$5000, A214,Gifts!B$4:B$5000), \"\")","v":""}]
[null,{"$f":"IF(SUMIF(Gifts!D$4:D$5000, A215,Gifts!B$4:B$5000) > 0, SUMIF(Gifts!D$4:D$5000, A215,Gifts!B$4:B$5000), \"\")","v":""}]
[null,{"$f":"IF(SUMIF(Gifts!D$4:D$5000, A216,Gifts!B$4:B$5000) > 0, SUMIF(Gifts!D$4:D$5000, A216,Gifts!B$4:B$5000), \"\")","v":""}]
[null,{"$f":"IF(SUMIF(Gifts!D$4:D$5000, A217,Gifts!B$4:B$5000) > 0, SUMIF(Gifts!D$4:D$5000, A217,Gifts!B$4:B$5000), \"\")","v":""}]
[null,{"$f":"IF(SUMIF(Gifts!D$4:D$5000, A218,Gifts!B$4:B$5000) > 0, SUMIF(Gifts!D$4:D$5000, A218,Gifts!B$4:B$5000), \"\")","v":""}]
[null,{"$f":"IF(SUMIF(Gifts!D$4:D$5000, A219,Gifts!B$4:B$5000) > 0, SUMIF(Gifts!D$4:D$5000, A219,Gifts!B$4:B$5000), \"\")","v":""}]
[null,{"$f":"IF(SUMIF(Gifts!D$4:D$5000, A220,Gifts!B$4:B$5000) > 0, SUMIF(Gifts!D$4:D$5000, A220,Gifts!B$4:B$5000), \"\")","v":""}]
[null,{"$f":"IF(SUMIF(Gifts!D$4:D$5000, A221,Gifts!B$4:B$5000) > 0, SUMIF(Gifts!D$4:D$5000, A221,Gifts!B$4:B$5000), \"\")","v":""}]
[null,{"$f":"IF(SUMIF(Gifts!D$4:D$5000, A222,Gifts!B$4:B$5000) > 0, SUMIF(Gifts!D$4:D$5000, A222,Gifts!B$4:B$5000), \"\")","v":""}]
[null,{"$f":"IF(SUMIF(Gifts!D$4:D$5000, A223,Gifts!B$4:B$5000) > 0, SUMIF(Gifts!D$4:D$5000, A223,Gifts!B$4:B$5000), \"\")","v":""}]
[null,{"$f":"IF(SUMIF(Gifts!D$4:D$5000, A224,Gifts!B$4:B$5000) > 0, SUMIF(Gifts!D$4:D$5000, A224,Gifts!B$4:B$5000), \"\")","v":""}]
[null,{"$f":"IF(SUMIF(Gifts!D$4:D$5000, A225,Gifts!B$4:B$5000) > 0, SUMIF(Gifts!D$4:D$5000, A225,Gifts!B$4:B$5000), \"\")","v":""}]
[null,{"$f":"IF(SUMIF(Gifts!D$4:D$5000, A226,Gifts!B$4:B$5000) > 0, SUMIF(Gifts!D$4:D$5000, A226,Gifts!B$4:B$5000), \"\")","v":""}]
[null,{"$f":"IF(SUMIF(Gifts!D$4:D$5000, A227,Gifts!B$4:B$5000) > 0, SUMIF(Gifts!D$4:D$5000, A227,Gifts!B$4:B$5000), \"\")","v":""}]
[null,{"$f":"IF(SUMIF(Gifts!D$4:D$5000, A228,Gifts!B$4:B$5000) > 0, SUMIF(Gifts!D$4:D$5000, A228,Gifts!B$4:B$5000), \"\")","v":""}]
[null,{"$f":"IF(SUMIF(Gifts!D$4:D$5000, A229,Gifts!B$4:B$5000) > 0, SUMIF(Gifts!D$4:D$5000, A229,Gifts!B$4:B$5000), \"\")","v":""}]
[null,{"$f":"IF(SUMIF(Gifts!D$4:D$5000, A230,Gifts!B$4:B$5000) > 0, SUMIF(Gifts!D$4:D$5000, A230,Gifts!B$4:B$5000), \"\")","v":""}]
[null,{"$f":"IF(SUMIF(Gifts!D$4:D$5000, A231,Gifts!B$4:B$5000) > 0, SUMIF(Gifts!D$4:D$5000, A231,Gifts!B$4:B$5000), \"\")","v":""}]
[null,{"$f":"IF(SUMIF(Gifts!D$4:D$5000, A232,Gifts!B$4:B$5000) > 0, SUMIF(Gifts!D$4:D$5000, A232,Gifts!B$4:B$5000), \"\")","v":""}]
[null,{"$f":"IF(SUMIF(Gifts!D$4:D$5000, A233,Gifts!B$4:B$5000) > 0, SUMIF(Gifts!D$4:D$5000, A233,Gifts!B$4:B$5000), \"\")","v":""}]
[null,{"$f":"IF(SUMIF(Gifts!D$4:D$5000, A234,Gifts!B$4:B$5000) > 0, SUMIF(Gifts!D$4:D$5000, A234,Gifts!B$4:B$5000), \"\")","v":""}]
[null,{"$f":"IF(SUMIF(Gifts!D$4:D$5000, A235,Gifts!B$4:B$5000) > 0, SUMIF(Gifts!D$4:D$5000, A235,Gifts!B$4:B$5000), \"\")","v":""}]
[null,{"$f":"IF(SUMIF(Gifts!D$4:D$5000, A236,Gifts!B$4:B$5000) > 0, SUMIF(Gifts!D$4:D$5000, A236,Gifts!B$4:B$5000), \"\")","v":""}]
[null,{"$f":"IF(SUMIF(Gifts!D$4:D$5000, A237,Gifts!B$4:B$5000) > 0, SUMIF(Gifts!D$4:D$5000, A237,Gifts!B$4:B$5000), \"\")","v":""}]
[null,{"$f":"IF(SUMIF(Gifts!D$4:D$5000, A238,Gifts!B$4:B$5000) > 0, SUMIF(Gifts!D$4:D$5000, A238,Gifts!B$4:B$5000), \"\")","v":""}]
[null,{"$f":"IF(SUMIF(Gifts!D$4:D$5000, A239,Gifts!B$4:B$5000) > 0, SUMIF(Gifts!D$4:D$5000, A239,Gifts!B$4:B$5000), \"\")","v":""}]
[null,{"$f":"IF(SUMIF(Gifts!D$4:D$5000, A240,Gifts!B$4:B$5000) > 0, SUMIF(Gifts!D$4:D$5000, A240,Gifts!B$4:B$5000), \"\")","v":""}]
[null,{"$f":"IF(SUMIF(Gifts!D$4:D$5000, A241,Gifts!B$4:B$5000) > 0, SUMIF(Gifts!D$4:D$5000, A241,Gifts!B$4:B$5000), \"\")","v":""}]
[null,{"$f":"IF(SUMIF(Gifts!D$4:D$5000, A242,Gifts!B$4:B$5000) > 0, SUMIF(Gifts!D$4:D$5000, A242,Gifts!B$4:B$5000), \"\")","v":""}]
[null,{"$f":"IF(SUMIF(Gifts!D$4:D$5000, A243,Gifts!B$4:B$5000) > 0, SUMIF(Gifts!D$4:D$5000, A243,Gifts!B$4:B$5000), \"\")","v":""}]
[null,{"$f":"IF(SUMIF(Gifts!D$4:D$5000, A244,Gifts!B$4:B$5000) > 0, SUMIF(Gifts!D$4:D$5000, A244,Gifts!B$4:B$5000), \"\")","v":""}]
[null,{"$f":"IF(SUMIF(Gifts!D$4:D$5000, A245,Gifts!B$4:B$5000) > 0, SUMIF(Gifts!D$4:D$5000, A245,Gifts!B$4:B$5000), \"\")","v":""}]
[null,{"$f":"IF(SUMIF(Gifts!D$4:D$5000, A246,Gifts!B$4:B$5000) > 0, SUMIF(Gifts!D$4:D$5000, A246,Gifts!B$4:B$5000), \"\")","v":""}]
[null,{"$f":"IF(SUMIF(Gifts!D$4:D$5000, A247,Gifts!B$4:B$5000) > 0, SUMIF(Gifts!D$4:D$5000, A247,Gifts!B$4:B$5000), \"\")","v":""}]
[null,{"$f":"IF(SUMIF(Gifts!D$4:D$5000, A248,Gifts!B$4:B$5000) > 0, SUMIF(Gifts!D$4:D$5000, A248,Gifts!B$4:B$5000), \"\")","v":""}]
[null,{"$f":"IF(SUMIF(Gifts!D$4:D$5000, A249,Gifts!B$4:B$5000) > 0, SUMIF(Gifts!D$4:D$5000, A249,Gifts!B$4:B$5000), \"\")","v":""}]
[null,{"$f":"IF(SUMIF(Gifts!D$4:D$5000, A250,Gifts!B$4:B$5000) > 0, SUMIF(Gifts!D$4:D$5000, A250,Gifts!B$4:B$5000), \"\")","v":""}]
[null,{"$f":"IF(SUMIF(Gifts!D$4:D$5000, A251,Gifts!B$4:B$5000) > 0, SUMIF(Gifts!D$4:D$5000, A251,Gifts!B$4:B$5000), \"\")","v":""}]
[null,{"$f":"IF(SUMIF(Gifts!D$4:D$5000, A252,Gifts!B$4:B$5000) > 0, SUMIF(Gifts!D$4:D$5000, A252,Gifts!B$4:B$5000), \"\")","v":""}]
[null,{"$f":"IF(SUMIF(Gifts!D$4:D$5000, A253,Gifts!B$4:B$5000) > 0, SUMIF(Gifts!D$4:D$5000, A253,Gifts!B$4:B$5000), \"\")","v":""}]
[null,{"$f":"IF(SUMIF(Gifts!D$4:D$5000, A254,Gifts!B$4:B$5000) > 0, SUMIF(Gifts!D$4:D$5000, A254,Gifts!B$4:B$5000), \"\")","v":""}]
[null,{"$f":"IF(SUMIF(Gifts!D$4:D$5000, A255,Gifts!B$4:B$5000) > 0, SUMIF(Gifts!D$4:D$5000, A255,Gifts!B$4:B$5000), \"\")","v":""}]
[null,{"$f":"IF(SUMIF(Gifts!D$4:D$5000, A256,Gifts!B$4:B$5000) > 0, SUMIF(Gifts!D$4:D$5000, A256,Gifts!B$4:B$5000), \"\")","v":""}]
[null,{"$f":"IF(SUMIF(Gifts!D$4:D$5000, A257,Gifts!B$4:B$5000) > 0, SUMIF(Gifts!D$4:D$5000, A257,Gifts!B$4:B$5000), \"\")","v":""}]
[null,{"$f":"IF(SUMIF(Gifts!D$4:D$5000, A258,Gifts!B$4:B$5000) > 0, SUMIF(Gifts!D$4:D$5000, A258,Gifts!B$4:B$5000), \"\")","v":""}]
[null,{"$f":"IF(SUMIF(Gifts!D$4:D$5000, A259,Gifts!B$4:B$5000) > 0, SUMIF(Gifts!D$4:D$5000, A259,Gifts!B$4:B$5000), \"\")","v":""}]
[null,{"$f":"IF(SUMIF(Gifts!D$4:D$5000, A260,Gifts!B$4:B$5000) > 0, SUMIF(Gifts!D$4:D$5000, A260,Gifts!B$4:B$5000), \"\")","v":""}]
[null,{"$f":"IF(SUMIF(Gifts!D$4:D$5000, A261,Gifts!B$4:B$5000) > 0, SUMIF(Gifts!D$4:D$5000, A261,Gifts!B$4:B$5000), \"\")","v":""}]
[null,{"$f":"IF(SUMIF(Gifts!D$4:D$5000, A262,Gifts!B$4:B$5000) > 0, SUMIF(Gifts!D$4:D$5000, A262,Gifts!B$4:B$5000), \"\")","v":""}]
[null,{"$f":"IF(SUMIF(Gifts!D$4:D$5000, A263,Gifts!B$4:B$5000) > 0, SUMIF(Gifts!D$4:D$5000, A263,Gifts!B$4:B$5000), \"\")","v":""}]
[null,{"$f":"IF(SUMIF(Gifts!D$4:D$5000, A264,Gifts!B$4:B$5000) > 0, SUMIF(Gifts!D$4:D$5000, A264,Gifts!B$4:B$5000), \"\")","v":""}]
[null,{"$f":"IF(SUMIF(Gifts!D$4:D$5000, A265,Gifts!B$4:B$5000) > 0, SUMIF(Gifts!D$4:D$5000, A265,Gifts!B$4:B$5000), \"\")","v":""}]
[null,{"$f":"IF(SUMIF(Gifts!D$4:D$5000, A266,Gifts!B$4:B$5000) > 0, SUMIF(Gifts!D$4:D$5000, A266,Gifts!B$4:B$5000), \"\")","v":""}]
[null,{"$f":"IF(SUMIF(Gifts!D$4:D$5000, A267,Gifts!B$4:B$5000) > 0, SUMIF(Gifts!D$4:D$5000, A267,Gifts!B$4:B$5000), \"\")","v":""}]
[null,{"$f":"IF(SUMIF(Gifts!D$4:D$5000, A268,Gifts!B$4:B$5000) > 0, SUMIF(Gifts!D$4:D$5000, A268,Gifts!B$4:B$5000), \"\")","v":""}]
[null,{"$f":"IF(SUMIF(Gifts!D$4:D$5000, A269,Gifts!B$4:B$5000) > 0, SUMIF(Gifts!D$4:D$5000, A269,Gifts!B$4:B$5000), \"\")","v":""}]
[null,{"$f":"IF(SUMIF(Gifts!D$4:D$5000, A270,Gifts!B$4:B$5000) > 0, SUMIF(Gifts!D$4:D$5000, A270,Gifts!B$4:B$5000), \"\")","v":""}]
[null,{"$f":"IF(SUMIF(Gifts!D$4:D$5000, A271,Gifts!B$4:B$5000) > 0, SUMIF(Gifts!D$4:D$5000, A271,Gifts!B$4:B$5000), \"\")","v":""}]
[null,{"$f":"IF(SUMIF(Gifts!D$4:D$5000, A272,Gifts!B$4:B$5000) > 0, SUMIF(Gifts!D$4:D$5000, A272,Gifts!B$4:B$5000), \"\")","v":""}]
[null,{"$f":"IF(SUMIF(Gifts!D$4:D$5000, A273,Gifts!B$4:B$5000) > 0, SUMIF(Gifts!D$4:D$5000, A273,Gifts!B$4:B$5000), \"\")","v":""}]
[null,{"$f":"IF(SUMIF(Gifts!D$4:D$5000, A274,Gifts!B$4:B$5000) > 0, SUMIF(Gifts!D$4:D$5000, A274,Gifts!B$4:B$5000), \"\")","v":""}]
[null,{"$f":"IF(SUMIF(Gifts!D$4:D$5000, A275,Gifts!B$4:B$5000) > 0, SUMIF(Gifts!D$4:D$5000, A275,Gifts!B$4:B$5000), \"\")","v":""}]
[null,{"$f":"IF(SUMIF(Gifts!D$4:D$5000, A276,Gifts!B$4:B$5000) > 0, SUMIF(Gifts!D$4:D$5000, A276,Gifts!B$4:B$5000), \"\")","v":""}]
[null,{"$f":"IF(SUMIF(Gifts!D$4:D$5000, A277,Gifts!B$4:B$5000) > 0, SUMIF(Gifts!D$4:D$5000, A277,Gifts!B$4:B$5000), \"\")","v":""}]
[null,{"$f":"IF(SUMIF(Gifts!D$4:D$5000, A278,Gifts!B$4:B$5000) > 0, SUMIF(Gifts!D$4:D$5000, A278,Gifts!B$4:B$5000), \"\")","v":""}]
[null,{"$f":"IF(SUMIF(Gifts!D$4:D$5000, A279,Gifts!B$4:B$5000) > 0, SUMIF(Gifts!D$4:D$5000, A279,Gifts!B$4:B$5000), \"\")","v":""}]
[null,{"$f":"IF(SUMIF(Gifts!D$4:D$5000, A280,Gifts!B$4:B$5000) > 0, SUMIF(Gifts!D$4:D$5000, A280,Gifts!B$4:B$5000), \"\")","v":""}]
[null,{"$f":"IF(SUMIF(Gifts!D$4:D$5000, A281,Gifts!B$4:B$5000) > 0, SUMIF(Gifts!D$4:D$5000, A281,Gifts!B$4:B$5000), \"\")","v":""}]
[null,{"$f":"IF(SUMIF(Gifts!D$4:D$5000, A282,Gifts!B$4:B$5000) > 0, SUMIF(Gifts!D$4:D$5000, A282,Gifts!B$4:B$5000), \"\")","v":""}]
[null,{"$f":"IF(SUMIF(Gifts!D$4:D$5000, A283,Gifts!B$4:B$5000) > 0, SUMIF(Gifts!D$4:D$5000, A283,Gifts!B$4:B$5000), \"\")","v":""}]
[null,{"$f":"IF(SUMIF(Gifts!D$4:D$5000, A284,Gifts!B$4:B$5000) > 0, SUMIF(Gifts!D$4:D$5000, A284,Gifts!B$4:B$5000), \"\")","v":""}]
[null,{"$f":"IF(SUMIF(Gifts!D$4:D$5000, A285,Gifts!B$4:B$5000) > 0, SUMIF(Gifts!D$4:D$5000, A285,Gifts!B$4:B$5000), \"\")","v":""}]
[null,{"$f":"IF(SUMIF(Gifts!D$4:D$5000, A286,Gifts!B$4:B$5000) > 0, SUMIF(Gifts!D$4:D$5000, A286,Gifts!B$4:B$5000), \"\")","v":""}]
[null,{"$f":"IF(SUMIF(Gifts!D$4:D$5000, A287,Gifts!B$4:B$5000) > 0, SUMIF(Gifts!D$4:D$5000, A287,Gifts!B$4:B$5000), \"\")","v":""}]
[null,{"$f":"IF(SUMIF(Gifts!D$4:D$5000, A288,Gifts!B$4:B$5000) > 0, SUMIF(Gifts!D$4:D$5000, A288,Gifts!B$4:B$5000), \"\")","v":""}]
[null,{"$f":"IF(SUMIF(Gifts!D$4:D$5000, A289,Gifts!B$4:B$5000) > 0, SUMIF(Gifts!D$4:D$5000, A289,Gifts!B$4:B$5000), \"\")","v":""}]
[null,{"$f":"IF(SUMIF(Gifts!D$4:D$5000, A290,Gifts!B$4:B$5000) > 0, SUMIF(Gifts!D$4:D$5000, A290,Gifts!B$4:B$5000), \"\")","v":""}]
[null,{"$f":"IF(SUMIF(Gifts!D$4:D$5000, A291,Gifts!B$4:B$5000) > 0, SUMIF(Gifts!D$4:D$5000, A291,Gifts!B$4:B$5000), \"\")","v":""}]
[null,{"$f":"IF(SUMIF(Gifts!D$4:D$5000, A292,Gifts!B$4:B$5000) > 0, SUMIF(Gifts!D$4:D$5000, A292,Gifts!B$4:B$5000), \"\")","v":""}]
[null,{"$f":"IF(SUMIF(Gifts!D$4:D$5000, A293,Gifts!B$4:B$5000) > 0, SUMIF(Gifts!D$4:D$5000, A293,Gifts!B$4:B$5000), \"\")","v":""}]
[null,{"$f":"IF(SUMIF(Gifts!D$4:D$5000, A294,Gifts!B$4:B$5000) > 0, SUMIF(Gifts!D$4:D$5000, A294,Gifts!B$4:B$5000), \"\")","v":""}]
[null,{"$f":"IF(SUMIF(Gifts!D$4:D$5000, A295,Gifts!B$4:B$5000) > 0, SUMIF(Gifts!D$4:D$5000, A295,Gifts!B$4:B$5000), \"\")","v":""}]
[null,{"$f":"IF(SUMIF(Gifts!D$4:D$5000, A296,Gifts!B$4:B$5000) > 0, SUMIF(Gifts!D$4:D$5000, A296,Gifts!B$4:B$5000), \"\")","v":""}]
[null,{"$f":"IF(SUMIF(Gifts!D$4:D$5000, A297,Gifts!B$4:B$5000) > 0, SUMIF(Gifts!D$4:D$5000, A297,Gifts!B$4:B$5000), \"\")","v":""}]
[null,{"$f":"IF(SUMIF(Gifts!D$4:D$5000, A298,Gifts!B$4:B$5000) > 0, SUMIF(Gifts!D$4:D$5000, A298,Gifts!B$4:B$5000), \"\")","v":""}]
[null,{"$f":"IF(SUMIF(Gifts!D$4:D$5000, A299,Gifts!B$4:B$5000) > 0, SUMIF(Gifts!D$4:D$5000, A299,Gifts!B$4:B$5000), \"\")","v":""}]
[null,{"$f":"IF(SUMIF(Gifts!D$4:D$5000, A300,Gifts!B$4:B$5000) > 0, SUMIF(Gifts!D$4:D$5000, A300,Gifts!B$4:B$5000), \"\")","v":""}]
[null,{"$f":"IF(SUMIF(Gifts!D$4:D$5000, A301,Gifts!B$4:B$5000) > 0, SUMIF(Gifts!D$4:D$5000, A301,Gifts!B$4:B$5000), \"\")","v":""}]
[null,{"$f":"IF(SUMIF(Gifts!D$4:D$5000, A302,Gifts!B$4:B$5000) > 0, SUMIF(Gifts!D$4:D$5000, A302,Gifts!B$4:B$5000), \"\")","v":""}]
[null,{"$f":"IF(SUMIF(Gifts!D$4:D$5000, A303,Gifts!B$4:B$5000) > 0, SUMIF(Gifts!D$4:D$5000, A303,Gifts!B$4:B$5000), \"\")","v":""}]
[null,{"$f":"IF(SUMIF(Gifts!D$4:D$5000, A304,Gifts!B$4:B$5000) > 0, SUMIF(Gifts!D$4:D$5000, A304,Gifts!B$4:B$5000), \"\")","v":""}]
[null,{"$f":"IF(SUMIF(Gifts!D$4:D$5000, A305,Gifts!B$4:B$5000) > 0, SUMIF(Gifts!D$4:D$5000, A305,Gifts!B$4:B$5000), \"\")","v":""}]
[null,{"$f":"IF(SUMIF(Gifts!D$4:D$5000, A306,Gifts!B$4:B$5000) > 0, SUMIF(Gifts!D$4:D$5000, A306,Gifts!B$4:B$5000), \"\")","v":""}]
[null,{"$f":"IF(SUMIF(Gifts!D$4:D$5000, A307,Gifts!B$4:B$5000) > 0, SUMIF(Gifts!D$4:D$5000, A307,Gifts!B$4:B$5000), \"\")","v":""}]
[null,{"$f":"IF(SUMIF(Gifts!D$4:D$5000, A308,Gifts!B$4:B$5000) > 0, SUMIF(Gifts!D$4:D$5000, A308,Gifts!B$4:B$5000), \"\")","v":""}]
[null,{"$f":"IF(SUMIF(Gifts!D$4:D$5000, A309,Gifts!B$4:B$5000) > 0, SUMIF(Gifts!D$4:D$5000, A309,Gifts!B$4:B$5000), \"\")","v":""}]
[null,{"$f":"IF(SUMIF(Gifts!D$4:D$5000, A310,Gifts!B$4:B$5000) > 0, SUMIF(Gifts!D$4:D$5000, A310,Gifts!B$4:B$5000), \"\")","v":""}]
[null,{"$f":"IF(SUMIF(Gifts!D$4:D$5000, A311,Gifts!B$4:B$5000) > 0, SUMIF(Gifts!D$4:D$5000, A311,Gifts!B$4:B$5000), \"\")","v":""}]
[null,{"$f":"IF(SUMIF(Gifts!D$4:D$5000, A312,Gifts!B$4:B$5000) > 0, SUMIF(Gifts!D$4:D$5000, A312,Gifts!B$4:B$5000), \"\")","v":""}]
[null,{"$f":"IF(SUMIF(Gifts!D$4:D$5000, A313,Gifts!B$4:B$5000) > 0, SUMIF(Gifts!D$4:D$5000, A313,Gifts!B$4:B$5000), \"\")","v":""}]
[null,{"$f":"IF(SUMIF(Gifts!D$4:D$5000, A314,Gifts!B$4:B$5000) > 0, SUMIF(Gifts!D$4:D$5000, A314,Gifts!B$4:B$5000), \"\")","v":""}]
[null,{"$f":"IF(SUMIF(Gifts!D$4:D$5000, A315,Gifts!B$4:B$5000) > 0, SUMIF(Gifts!D$4:D$5000, A315,Gifts!B$4:B$5000), \"\")","v":""}]
[null,{"$f":"IF(SUMIF(Gifts!D$4:D$5000, A316,Gifts!B$4:B$5000) > 0, SUMIF(Gifts!D$4:D$5000, A316,Gifts!B$4:B$5000), \"\")","v":""}]
[null,{"$f":"IF(SUMIF(Gifts!D$4:D$5000, A317,Gifts!B$4:B$5000) > 0, SUMIF(Gifts!D$4:D$5000, A317,Gifts!B$4:B$5000), \"\")","v":""}]
[null,{"$f":"IF(SUMIF(Gifts!D$4:D$5000, A318,Gifts!B$4:B$5000) > 0, SUMIF(Gifts!D$4:D$5000, A318,Gifts!B$4:B$5000), \"\")","v":""}]
[null,{"$f":"IF(SUMIF(Gifts!D$4:D$5000, A319,Gifts!B$4:B$5000) > 0, SUMIF(Gifts!D$4:D$5000, A319,Gifts!B$4:B$5000), \"\")","v":""}]
[null,{"$f":"IF(SUMIF(Gifts!D$4:D$5000, A320,Gifts!B$4:B$5000) > 0, SUMIF(Gifts!D$4:D$5000, A320,Gifts!B$4:B$5000), \"\")","v":""}]
[null,{"$f":"IF(SUMIF(Gifts!D$4:D$5000, A321,Gifts!B$4:B$5000) > 0, SUMIF(Gifts!D$4:D$5000, A321,Gifts!B$4:B$5000), \"\")","v":""}]
[null,{"$f":"IF(SUMIF(Gifts!D$4:D$5000, A322,Gifts!B$4:B$5000) > 0, SUMIF(Gifts!D$4:D$5000, A322,Gifts!B$4:B$5000), \"\")","v":""}]
[null,{"$f":"IF(SUMIF(Gifts!D$4:D$5000, A323,Gifts!B$4:B$5000) > 0, SUMIF(Gifts!D$4:D$5000, A323,Gifts!B$4:B$5000), \"\")","v":""}]
[null,{"$f":"IF(SUMIF(Gifts!D$4:D$5000, A324,Gifts!B$4:B$5000) > 0, SUMIF(Gifts!D$4:D$5000, A324,Gifts!B$4:B$5000), \"\")","v":""}]
[null,{"$f":"IF(SUMIF(Gifts!D$4:D$5000, A325,Gifts!B$4:B$5000) > 0, SUMIF(Gifts!D$4:D$5000, A325,Gifts!B$4:B$5000), \"\")","v":""}]
[null,{"$f":"IF(SUMIF(Gifts!D$4:D$5000, A326,Gifts!B$4:B$5000) > 0, SUMIF(Gifts!D$4:D$5000, A326,Gifts!B$4:B$5000), \"\")","v":""}]
[null,{"$f":"IF(SUMIF(Gifts!D$4:D$5000, A327,Gifts!B$4:B$5000) > 0, SUMIF(Gifts!D$4:D$5000, A327,Gifts!B$4:B$5000), \"\")","v":""}]
[null,{"$f":"IF(SUMIF(Gifts!D$4:D$5000, A328,Gifts!B$4:B$5000) > 0, SUMIF(Gifts!D$4:D$5000, A328,Gifts!B$4:B$5000), \"\")","v":""}]
[null,{"$f":"IF(SUMIF(Gifts!D$4:D$5000, A329,Gifts!B$4:B$5000) > 0, SUMIF(Gifts!D$4:D$5000, A329,Gifts!B$4:B$5000), \"\")","v":""}]
[null,{"$f":"IF(SUMIF(Gifts!D$4:D$5000, A330,Gifts!B$4:B$5000) > 0, SUMIF(Gifts!D$4:D$5000, A330,Gifts!B$4:B$5000), \"\")","v":""}]
[null,{"$f":"IF(SUMIF(Gifts!D$4:D$5000, A331,Gifts!B$4:B$5000) > 0, SUMIF(Gifts!D$4:D$5000, A331,Gifts!B$4:B$5000), \"\")","v":""}]
[null,{"$f":"IF(SUMIF(Gifts!D$4:D$5000, A332,Gifts!B$4:B$5000) > 0, SUMIF(Gifts!D$4:D$5000, A332,Gifts!B$4:B$5000), \"\")","v":""}]
[null,{"$f":"IF(SUMIF(Gifts!D$4:D$5000, A333,Gifts!B$4:B$5000) > 0, SUMIF(Gifts!D$4:D$5000, A333,Gifts!B$4:B$5000), \"\")","v":""}]
[null,{"$f":"IF(SUMIF(Gifts!D$4:D$5000, A334,Gifts!B$4:B$5000) > 0, SUMIF(Gifts!D$4:D$5000, A334,Gifts!B$4:B$5000), \"\")","v":""}]
[null,{"$f":"IF(SUMIF(Gifts!D$4:D$5000, A335,Gifts!B$4:B$5000) > 0, SUMIF(Gifts!D$4:D$5000, A335,Gifts!B$4:B$5000), \"\")","v":""}]
[null,{"$f":"IF(SUMIF(Gifts!D$4:D$5000, A336,Gifts!B$4:B$5000) > 0, SUMIF(Gifts!D$4:D$5000, A336,Gifts!B$4:B$5000), \"\")","v":""}]
[null,{"$f":"IF(SUMIF(Gifts!D$4:D$5000, A337,Gifts!B$4:B$5000) > 0, SUMIF(Gifts!D$4:D$5000, A337,Gifts!B$4:B$5000), \"\")","v":""}]
[null,{"$f":"IF(SUMIF(Gifts!D$4:D$5000, A338,Gifts!B$4:B$5000) > 0, SUMIF(Gifts!D$4:D$5000, A338,Gifts!B$4:B$5000), \"\")","v":""}]
[null,{"$f":"IF(SUMIF(Gifts!D$4:D$5000, A339,Gifts!B$4:B$5000) > 0, SUMIF(Gifts!D$4:D$5000, A339,Gifts!B$4:B$5000), \"\")","v":""}]
[null,{"$f":"IF(SUMIF(Gifts!D$4:D$5000, A340,Gifts!B$4:B$5000) > 0, SUMIF(Gifts!D$4:D$5000, A340,Gifts!B$4:B$5000), \"\")","v":""}]
[null,{"$f":"IF(SUMIF(Gifts!D$4:D$5000, A341,Gifts!B$4:B$5000) > 0, SUMIF(Gifts!D$4:D$5000, A341,Gifts!B$4:B$5000), \"\")","v":""}]
[null,{"$f":"IF(SUMIF(Gifts!D$4:D$5000, A342,Gifts!B$4:B$5000) > 0, SUMIF(Gifts!D$4:D$5000, A342,Gifts!B$4:B$5000), \"\")","v":""}]
[null,{"$f":"IF(SUMIF(Gifts!D$4:D$5000, A343,Gifts!B$4:B$5000) > 0, SUMIF(Gifts!D$4:D$5000, A343,Gifts!B$4:B$5000), \"\")","v":""}]
[null,{"$f":"IF(SUMIF(Gifts!D$4:D$5000, A344,Gifts!B$4:B$5000) > 0, SUMIF(Gifts!D$4:D$5000, A344,Gifts!B$4:B$5000), \"\")","v":""}]
[null,{"$f":"IF(SUMIF(Gifts!D$4:D$5000, A345,Gifts!B$4:B$5000) > 0, SUMIF(Gifts!D$4:D$5000, A345,Gifts!B$4:B$5000), \"\")","v":""}]
[null,{"$f":"IF(SUMIF(Gifts!D$4:D$5000, A346,Gifts!B$4:B$5000) > 0, SUMIF(Gifts!D$4:D$5000, A346,Gifts!B$4:B$5000), \"\")","v":""}]
[null,{"$f":"IF(SUMIF(Gifts!D$4:D$5000, A347,Gifts!B$4:B$5000) > 0, SUMIF(Gifts!D$4:D$5000, A347,Gifts!B$4:B$5000), \"\")","v":""}]
[null,{"$f":"IF(SUMIF(Gifts!D$4:D$5000, A348,Gifts!B$4:B$5000) > 0, SUMIF(Gifts!D$4:D$5000, A348,Gifts!B$4:B$5000), \"\")","v":""}]
[null,{"$f":"IF(SUMIF(Gifts!D$4:D$5000, A349,Gifts!B$4:B$5000) > 0, SUMIF(Gifts!D$4:D$5000, A349,Gifts!B$4:B$5000), \"\")","v":""}]
[null,{"$f":"IF(SUMIF(Gifts!D$4:D$5000, A350,Gifts!B$4:B$5000) > 0, SUMIF(Gifts!D$4:D$5000, A350,Gifts!B$4:B$5000), \"\")","v":""}]
[null,{"$f":"IF(SUMIF(Gifts!D$4:D$5000, A351,Gifts!B$4:B$5000) > 0, SUMIF(Gifts!D$4:D$5000, A351,Gifts!B$4:B$5000), \"\")","v":""}]
[null,{"$f":"IF(SUMIF(Gifts!D$4:D$5000, A352,Gifts!B$4:B$5000) > 0, SUMIF(Gifts!D$4:D$5000, A352,Gifts!B$4:B$5000), \"\")","v":""}]
[null,{"$f":"IF(SUMIF(Gifts!D$4:D$5000, A353,Gifts!B$4:B$5000) > 0, SUMIF(Gifts!D$4:D$5000, A353,Gifts!B$4:B$5000), \"\")","v":""}]
[null,{"$f":"IF(SUMIF(Gifts!D$4:D$5000, A354,Gifts!B$4:B$5000) > 0, SUMIF(Gifts!D$4:D$5000, A354,Gifts!B$4:B$5000), \"\")","v":""}]
[null,{"$f":"IF(SUMIF(Gifts!D$4:D$5000, A355,Gifts!B$4:B$5000) > 0, SUMIF(Gifts!D$4:D$5000, A355,Gifts!B$4:B$5000), \"\")","v":""}]
[null,{"$f":"IF(SUMIF(Gifts!D$4:D$5000, A356,Gifts!B$4:B$5000) > 0, SUMIF(Gifts!D$4:D$5000, A356,Gifts!B$4:B$5000), \"\")","v":""}]
[null,{"$f":"IF(SUMIF(Gifts!D$4:D$5000, A357,Gifts!B$4:B$5000) > 0, SUMIF(Gifts!D$4:D$5000, A357,Gifts!B$4:B$5000), \"\")","v":""}]
[null,{"$f":"IF(SUMIF(Gifts!D$4:D$5000, A358,Gifts!B$4:B$5000) > 0, SUMIF(Gifts!D$4:D$5000, A358,Gifts!B$4:B$5000), \"\")","v":""}]
[null,{"$f":"IF(SUMIF(Gifts!D$4:D$5000, A359,Gifts!B$4:B$5000) > 0, SUMIF(Gifts!D$4:D$5000, A359,Gifts!B$4:B$5000), \"\")","v":""}]
[null,{"$f":"IF(SUMIF(Gifts!D$4:D$5000, A360,Gifts!B$4:B$5000) > 0, SUMIF(Gifts!D$4:D$5000, A360,Gifts!B$4:B$5000), \"\")","v":""}]
[null,{"$f":"IF(SUMIF(Gifts!D$4:D$5000, A361,Gifts!B$4:B$5000) > 0, SUMIF(Gifts!D$4:D$5000, A361,Gifts!B$4:B$5000), \"\")","v":""}]
[null,{"$f":"IF(SUMIF(Gifts!D$4:D$5000, A362,Gifts!B$4:B$5000) > 0, SUMIF(Gifts!D$4:D$5000, A362,Gifts!B$4:B$5000), \"\")","v":""}]
[null,{"$f":"IF(SUMIF(Gifts!D$4:D$5000, A363,Gifts!B$4:B$5000) > 0, SUMIF(Gifts!D$4:D$5000, A363,Gifts!B$4:B$5000), \"\")","v":""}]
[null,{"$f":"IF(SUMIF(Gifts!D$4:D$5000, A364,Gifts!B$4:B$5000) > 0, SUMIF(Gifts!D$4:D$5000, A364,Gifts!B$4:B$5000), \"\")","v":""}]
[null,{"$f":"IF(SUMIF(Gifts!D$4:D$5000, A365,Gifts!B$4:B$5000) > 0, SUMIF(Gifts!D$4:D$5000, A365,Gifts!B$4:B$5000), \"\")","v":""}]
[null,{"$f":"IF(SUMIF(Gifts!D$4:D$5000, A366,Gifts!B$4:B$5000) > 0, SUMIF(Gifts!D$4:D$5000, A366,Gifts!B$4:B$5000), \"\")","v":""}]
[null,{"$f":"IF(SUMIF(Gifts!D$4:D$5000, A367,Gifts!B$4:B$5000) > 0, SUMIF(Gifts!D$4:D$5000, A367,Gifts!B$4:B$5000), \"\")","v":""}]
[null,{"$f":"IF(SUMIF(Gifts!D$4:D$5000, A368,Gifts!B$4:B$5000) > 0, SUMIF(Gifts!D$4:D$5000, A368,Gifts!B$4:B$5000), \"\")","v":""}]
[null,{"$f":"IF(SUMIF(Gifts!D$4:D$5000, A369,Gifts!B$4:B$5000) > 0, SUMIF(Gifts!D$4:D$5000, A369,Gifts!B$4:B$5000), \"\")","v":""}]
[null,{"$f":"IF(SUMIF(Gifts!D$4:D$5000, A370,Gifts!B$4:B$5000) > 0, SUMIF(Gifts!D$4:D$5000, A370,Gifts!B$4:B$5000), \"\")","v":""}]
[null,{"$f":"IF(SUMIF(Gifts!D$4:D$5000, A371,Gifts!B$4:B$5000) > 0, SUMIF(Gifts!D$4:D$5000, A371,Gifts!B$4:B$5000), \"\")","v":""}]
[null,{"$f":"IF(SUMIF(Gifts!D$4:D$5000, A372,Gifts!B$4:B$5000) > 0, SUMIF(Gifts!D$4:D$5000, A372,Gifts!B$4:B$5000), \"\")","v":""}]
[null,{"$f":"IF(SUMIF(Gifts!D$4:D$5000, A373,Gifts!B$4:B$5000) > 0, SUMIF(Gifts!D$4:D$5000, A373,Gifts!B$4:B$5000), \"\")","v":""}]
[null,{"$f":"IF(SUMIF(Gifts!D$4:D$5000, A374,Gifts!B$4:B$5000) > 0, SUMIF(Gifts!D$4:D$5000, A374,Gifts!B$4:B$5000), \"\")","v":""}]
[null,{"$f":"IF(SUMIF(Gifts!D$4:D$5000, A375,Gifts!B$4:B$5000) > 0, SUMIF(Gifts!D$4:D$5000, A375,Gifts!B$4:B$5000), \"\")","v":""}]
[null,{"$f":"IF(SUMIF(Gifts!D$4:D$5000, A376,Gifts!B$4:B$5000) > 0, SUMIF(Gifts!D$4:D$5000, A376,Gifts!B$4:B$5000), \"\")","v":""}]
[null,{"$f":"IF(SUMIF(Gifts!D$4:D$5000, A377,Gifts!B$4:B$5000) > 0, SUMIF(Gifts!D$4:D$5000, A377,Gifts!B$4:B$5000), \"\")","v":""}]
[null,{"$f":"IF(SUMIF(Gifts!D$4:D$5000, A378,Gifts!B$4:B$5000) > 0, SUMIF(Gifts!D$4:D$5000, A378,Gifts!B$4:B$5000), \"\")","v":""}]
[null,{"$f":"IF(SUMIF(Gifts!D$4:D$5000, A379,Gifts!B$4:B$5000) > 0, SUMIF(Gifts!D$4:D$5000, A379,Gifts!B$4:B$5000), \"\")","v":""}]
[null,{"$f":"IF(SUMIF(Gifts!D$4:D$5000, A380,Gifts!B$4:B$5000) > 0, SUMIF(Gifts!D$4:D$5000, A380,Gifts!B$4:B$5000), \"\")","v":""}]
[null,{"$f":"IF(SUMIF(Gifts!D$4:D$5000, A381,Gifts!B$4:B$5000) > 0, SUMIF(Gifts!D$4:D$5000, A381,Gifts!B$4:B$5000), \"\")","v":""}]
[null,{"$f":"IF(SUMIF(Gifts!D$4:D$5000, A382,Gifts!B$4:B$5000) > 0, SUMIF(Gifts!D$4:D$5000, A382,Gifts!B$4:B$5000), \"\")","v":""}]
[null,{"$f":"IF(SUMIF(Gifts!D$4:D$5000, A383,Gifts!B$4:B$5000) > 0, SUMIF(Gifts!D$4:D$5000, A383,Gifts!B$4:B$5000), \"\")","v":""}]
[null,{"$f":"IF(SUMIF(Gifts!D$4:D$5000, A384,Gifts!B$4:B$5000) > 0, SUMIF(Gifts!D$4:D$5000, A384,Gifts!B$4:B$5000), \"\")","v":""}]
[null,{"$f":"IF(SUMIF(Gifts!D$4:D$5000, A385,Gifts!B$4:B$5000) > 0, SUMIF(Gifts!D$4:D$5000, A385,Gifts!B$4:B$5000), \"\")","v":""}]
[null,{"$f":"IF(SUMIF(Gifts!D$4:D$5000, A386,Gifts!B$4:B$5000) > 0, SUMIF(Gifts!D$4:D$5000, A386,Gifts!B$4:B$5000), \"\")","v":""}]
[null,{"$f":"IF(SUMIF(Gifts!D$4:D$5000, A387,Gifts!B$4:B$5000) > 0, SUMIF(Gifts!D$4:D$5000, A387,Gifts!B$4:B$5000), \"\")","v":""}]
[null,{"$f":"IF(SUMIF(Gifts!D$4:D$5000, A388,Gifts!B$4:B$5000) > 0, SUMIF(Gifts!D$4:D$5000, A388,Gifts!B$4:B$5000), \"\")","v":""}]
[null,{"$f":"IF(SUMIF(Gifts!D$4:D$5000, A389,Gifts!B$4:B$5000) > 0, SUMIF(Gifts!D$4:D$5000, A389,Gifts!B$4:B$5000), \"\")","v":""}]
[null,{"$f":"IF(SUMIF(Gifts!D$4:D$5000, A390,Gifts!B$4:B$5000) > 0, SUMIF(Gifts!D$4:D$5000, A390,Gifts!B$4:B$5000), \"\")","v":""}]
[null,{"$f":"IF(SUMIF(Gifts!D$4:D$5000, A391,Gifts!B$4:B$5000) > 0, SUMIF(Gifts!D$4:D$5000, A391,Gifts!B$4:B$5000), \"\")","v":""}]
[null,{"$f":"IF(SUMIF(Gifts!D$4:D$5000, A392,Gifts!B$4:B$5000) > 0, SUMIF(Gifts!D$4:D$5000, A392,Gifts!B$4:B$5000), \"\")","v":""}]
[null,{"$f":"IF(SUMIF(Gifts!D$4:D$5000, A393,Gifts!B$4:B$5000) > 0, SUMIF(Gifts!D$4:D$5000, A393,Gifts!B$4:B$5000), \"\")","v":""}]
[null,{"$f":"IF(SUMIF(Gifts!D$4:D$5000, A394,Gifts!B$4:B$5000) > 0, SUMIF(Gifts!D$4:D$5000, A394,Gifts!B$4:B$5000), \"\")","v":""}]
[null,{"$f":"IF(SUMIF(Gifts!D$4:D$5000, A395,Gifts!B$4:B$5000) > 0, SUMIF(Gifts!D$4:D$5000, A395,Gifts!B$4:B$5000), \"\")","v":""}]
[null,{"$f":"IF(SUMIF(Gifts!D$4:D$5000, A396,Gifts!B$4:B$5000) > 0, SUMIF(Gifts!D$4:D$5000, A396,Gifts!B$4:B$5000), \"\")","v":""}]
[null,{"$f":"IF(SUMIF(Gifts!D$4:D$5000, A397,Gifts!B$4:B$5000) > 0, SUMIF(Gifts!D$4:D$5000, A397,Gifts!B$4:B$5000), \"\")","v":""}]
[null,{"$f":"IF(SUMIF(Gifts!D$4:D$5000, A398,Gifts!B$4:B$5000) > 0, SUMIF(Gifts!D$4:D$5000, A398,Gifts!B$4:B$5000), \"\")","v":""}]
[null,{"$f":"IF(SUMIF(Gifts!D$4:D$5000, A399,Gifts!B$4:B$5000) > 0, SUMIF(Gifts!D$4:D$5000, A399,Gifts!B$4:B$5000), \"\")","v":""}]
[null,{"$f":"IF(SUMIF(Gifts!D$4:D$5000, A400,Gifts!B$4:B$5000) > 0, SUMIF(Gifts!D$4:D$5000, A400,Gifts!B$4:B$5000), \"\")","v":""}]
[null,{"$f":"IF(SUMIF(Gifts!D$4:D$5000, A401,Gifts!B$4:B$5000) > 0, SUMIF(Gifts!D$4:D$5000, A401,Gifts!B$4:B$5000), \"\")","v":""}]
[null,{"$f":"IF(SUMIF(Gifts!D$4:D$5000, A402,Gifts!B$4:B$5000) > 0, SUMIF(Gifts!D$4:D$5000, A402,Gifts!B$4:B$5000), \"\")","v":""}]
[null,{"$f":"IF(SUMIF(Gifts!D$4:D$5000, A403,Gifts!B$4:B$5000) > 0, SUMIF(Gifts!D$4:D$5000, A403,Gifts!B$4:B$5000), \"\")","v":""}]
[null,{"$f":"IF(SUMIF(Gifts!D$4:D$5000, A404,Gifts!B$4:B$5000) > 0, SUMIF(Gifts!D$4:D$5000, A404,Gifts!B$4:B$5000), \"\")","v":""}]
[null,{"$f":"IF(SUMIF(Gifts!D$4:D$5000, A405,Gifts!B$4:B$5000) > 0, SUMIF(Gifts!D$4:D$5000, A405,Gifts!B$4:B$5000), \"\")","v":""}]
[null,{"$f":"IF(SUMIF(Gifts!D$4:D$5000, A406,Gifts!B$4:B$5000) > 0, SUMIF(Gifts!D$4:D$5000, A406,Gifts!B$4:B$5000), \"\")","v":""}]
[null,{"$f":"IF(SUMIF(Gifts!D$4:D$5000, A407,Gifts!B$4:B$5000) > 0, SUMIF(Gifts!D$4:D$5000, A407,Gifts!B$4:B$5000), \"\")","v":""}]
[null,{"$f":"IF(SUMIF(Gifts!D$4:D$5000, A408,Gifts!B$4:B$5000) > 0, SUMIF(Gifts!D$4:D$5000, A408,Gifts!B$4:B$5000), \"\")","v":""}]
[null,{"$f":"IF(SUMIF(Gifts!D$4:D$5000, A409,Gifts!B$4:B$5000) > 0, SUMIF(Gifts!D$4:D$5000, A409,Gifts!B$4:B$5000), \"\")","v":""}]
[null,{"$f":"IF(SUMIF(Gifts!D$4:D$5000, A410,Gifts!B$4:B$5000) > 0, SUMIF(Gifts!D$4:D$5000, A410,Gifts!B$4:B$5000), \"\")","v":""}]
[null,{"$f":"IF(SUMIF(Gifts!D$4:D$5000, A411,Gifts!B$4:B$5000) > 0, SUMIF(Gifts!D$4:D$5000, A411,Gifts!B$4:B$5000), \"\")","v":""}]
[null,{"$f":"IF(SUMIF(Gifts!D$4:D$5000, A412,Gifts!B$4:B$5000) > 0, SUMIF(Gifts!D$4:D$5000, A412,Gifts!B$4:B$5000), \"\")","v":""}]
[null,{"$f":"IF(SUMIF(Gifts!D$4:D$5000, A413,Gifts!B$4:B$5000) > 0, SUMIF(Gifts!D$4:D$5000, A413,Gifts!B$4:B$5000), \"\")","v":""}]
[null,{"$f":"IF(SUMIF(Gifts!D$4:D$5000, A414,Gifts!B$4:B$5000) > 0, SUMIF(Gifts!D$4:D$5000, A414,Gifts!B$4:B$5000), \"\")","v":""}]
[null,{"$f":"IF(SUMIF(Gifts!D$4:D$5000, A415,Gifts!B$4:B$5000) > 0, SUMIF(Gifts!D$4:D$5000, A415,Gifts!B$4:B$5000), \"\")","v":""}]
[null,{"$f":"IF(SUMIF(Gifts!D$4:D$5000, A416,Gifts!B$4:B$5000) > 0, SUMIF(Gifts!D$4:D$5000, A416,Gifts!B$4:B$5000), \"\")","v":""}]
[null,{"$f":"IF(SUMIF(Gifts!D$4:D$5000, A417,Gifts!B$4:B$5000) > 0, SUMIF(Gifts!D$4:D$5000, A417,Gifts!B$4:B$5000), \"\")","v":""}]
[null,{"$f":"IF(SUMIF(Gifts!D$4:D$5000, A418,Gifts!B$4:B$5000) > 0, SUMIF(Gifts!D$4:D$5000, A418,Gifts!B$4:B$5000), \"\")","v":""}]
[null,{"$f":"IF(SUMIF(Gifts!D$4:D$5000, A419,Gifts!B$4:B$5000) > 0, SUMIF(Gifts!D$4:D$5000, A419,Gifts!B$4:B$5000), \"\")","v":""}]
[null,{"$f":"IF(SUMIF(Gifts!D$4:D$5000, A420,Gifts!B$4:B$5000) > 0, SUMIF(Gifts!D$4:D$5000, A420,Gifts!B$4:B$5000), \"\")","v":""}]
[null,{"$f":"IF(SUMIF(Gifts!D$4:D$5000, A421,Gifts!B$4:B$5000) > 0, SUMIF(Gifts!D$4:D$5000, A421,Gifts!B$4:B$5000), \"\")","v":""}]
[null,{"$f":"IF(SUMIF(Gifts!D$4:D$5000, A422,Gifts!B$4:B$5000) > 0, SUMIF(Gifts!D$4:D$5000, A422,Gifts!B$4:B$5000), \"\")","v":""}]
[null,{"$f":"IF(SUMIF(Gifts!D$4:D$5000, A423,Gifts!B$4:B$5000) > 0, SUMIF(Gifts!D$4:D$5000, A423,Gifts!B$4:B$5000), \"\")","v":""}]
[null,{"$f":"IF(SUMIF(Gifts!D$4:D$5000, A424,Gifts!B$4:B$5000) > 0, SUMIF(Gifts!D$4:D$5000, A424,Gifts!B$4:B$5000), \"\")","v":""}]
[null,{"$f":"IF(SUMIF(Gifts!D$4:D$5000, A425,Gifts!B$4:B$5000) > 0, SUMIF(Gifts!D$4:D$5000, A425,Gifts!B$4:B$5000), \"\")","v":""}]
[null,{"$f":"IF(SUMIF(Gifts!D$4:D$5000, A426,Gifts!B$4:B$5000) > 0, SUMIF(Gifts!D$4:D$5000, A426,Gifts!B$4:B$5000), \"\")","v":""}]
[null,{"$f":"IF(SUMIF(Gifts!D$4:D$5000, A427,Gifts!B$4:B$5000) > 0, SUMIF(Gifts!D$4:D$5000, A427,Gifts!B$4:B$5000), \"\")","v":""}]
[null,{"$f":"IF(SUMIF(Gifts!D$4:D$5000, A428,Gifts!B$4:B$5000) > 0, SUMIF(Gifts!D$4:D$5000, A428,Gifts!B$4:B$5000), \"\")","v":""}]
[null,{"$f":"IF(SUMIF(Gifts!D$4:D$5000, A429,Gifts!B$4:B$5000) > 0, SUMIF(Gifts!D$4:D$5000, A429,Gifts!B$4:B$5000), \"\")","v":""}]
[null,{"$f":"IF(SUMIF(Gifts!D$4:D$5000, A430,Gifts!B$4:B$5000) > 0, SUMIF(Gifts!D$4:D$5000, A430,Gifts!B$4:B$5000), \"\")","v":""}]
[null,{"$f":"IF(SUMIF(Gifts!D$4:D$5000, A431,Gifts!B$4:B$5000) > 0, SUMIF(Gifts!D$4:D$5000, A431,Gifts!B$4:B$5000), \"\")","v":""}]
[null,{"$f":"IF(SUMIF(Gifts!D$4:D$5000, A432,Gifts!B$4:B$5000) > 0, SUMIF(Gifts!D$4:D$5000, A432,Gifts!B$4:B$5000), \"\")","v":""}]
[null,{"$f":"IF(SUMIF(Gifts!D$4:D$5000, A433,Gifts!B$4:B$5000) > 0, SUMIF(Gifts!D$4:D$5000, A433,Gifts!B$4:B$5000), \"\")","v":""}]
[null,{"$f":"IF(SUMIF(Gifts!D$4:D$5000, A434,Gifts!B$4:B$5000) > 0, SUMIF(Gifts!D$4:D$5000, A434,Gifts!B$4:B$5000), \"\")","v":""}]
[null,{"$f":"IF(SUMIF(Gifts!D$4:D$5000, A435,Gifts!B$4:B$5000) > 0, SUMIF(Gifts!D$4:D$5000, A435,Gifts!B$4:B$5000), \"\")","v":""}]
[null,{"$f":"IF(SUMIF(Gifts!D$4:D$5000, A436,Gifts!B$4:B$5000) > 0, SUMIF(Gifts!D$4:D$5000, A436,Gifts!B$4:B$5000), \"\")","v":""}]
[null,{"$f":"IF(SUMIF(Gifts!D$4:D$5000, A437,Gifts!B$4:B$5000) > 0, SUMIF(Gifts!D$4:D$5000, A437,Gifts!B$4:B$5000), \"\")","v":""}]
[null,{"$f":"IF(SUMIF(Gifts!D$4:D$5000, A438,Gifts!B$4:B$5000) > 0, SUMIF(Gifts!D$4:D$5000, A438,Gifts!B$4:B$5000), \"\")","v":""}]
[null,{"$f":"IF(SUMIF(Gifts!D$4:D$5000, A439,Gifts!B$4:B$5000) > 0, SUMIF(Gifts!D$4:D$5000, A439,Gifts!B$4:B$5000), \"\")","v":""}]
[null,{"$f":"IF(SUMIF(Gifts!D$4:D$5000, A440,Gifts!B$4:B$5000) > 0, SUMIF(Gifts!D$4:D$5000, A440,Gifts!B$4:B$5000), \"\")","v":""}]
[null,{"$f":"IF(SUMIF(Gifts!D$4:D$5000, A441,Gifts!B$4:B$5000) > 0, SUMIF(Gifts!D$4:D$5000, A441,Gifts!B$4:B$5000), \"\")","v":""}]
[null,{"$f":"IF(SUMIF(Gifts!D$4:D$5000, A442,Gifts!B$4:B$5000) > 0, SUMIF(Gifts!D$4:D$5000, A442,Gifts!B$4:B$5000), \"\")","v":""}]
[null,{"$f":"IF(SUMIF(Gifts!D$4:D$5000, A443,Gifts!B$4:B$5000) > 0, SUMIF(Gifts!D$4:D$5000, A443,Gifts!B$4:B$5000), \"\")","v":""}]
[null,{"$f":"IF(SUMIF(Gifts!D$4:D$5000, A444,Gifts!B$4:B$5000) > 0, SUMIF(Gifts!D$4:D$5000, A444,Gifts!B$4:B$5000), \"\")","v":""}]
[null,{"$f":"IF(SUMIF(Gifts!D$4:D$5000, A445,Gifts!B$4:B$5000) > 0, SUMIF(Gifts!D$4:D$5000, A445,Gifts!B$4:B$5000), \"\")","v":""}]
[null,{"$f":"IF(SUMIF(Gifts!D$4:D$5000, A446,Gifts!B$4:B$5000) > 0, SUMIF(Gifts!D$4:D$5000, A446,Gifts!B$4:B$5000), \"\")","v":""}]
[null,{"$f":"IF(SUMIF(Gifts!D$4:D$5000, A447,Gifts!B$4:B$5000) > 0, SUMIF(Gifts!D$4:D$5000, A447,Gifts!B$4:B$5000), \"\")","v":""}]
[null,{"$f":"IF(SUMIF(Gifts!D$4:D$5000, A448,Gifts!B$4:B$5000) > 0, SUMIF(Gifts!D$4:D$5000, A448,Gifts!B$4:B$5000), \"\")","v":""}]
[null,{"$f":"IF(SUMIF(Gifts!D$4:D$5000, A449,Gifts!B$4:B$5000) > 0, SUMIF(Gifts!D$4:D$5000, A449,Gifts!B$4:B$5000), \"\")","v":""}]
[null,{"$f":"IF(SUMIF(Gifts!D$4:D$5000, A450,Gifts!B$4:B$5000) > 0, SUMIF(Gifts!D$4:D$5000, A450,Gifts!B$4:B$5000), \"\")","v":""}]
[null,{"$f":"IF(SUMIF(Gifts!D$4:D$5000, A451,Gifts!B$4:B$5000) > 0, SUMIF(Gifts!D$4:D$5000, A451,Gifts!B$4:B$5000), \"\")","v":""}]
[null,{"$f":"IF(SUMIF(Gifts!D$4:D$5000, A452,Gifts!B$4:B$5000) > 0, SUMIF(Gifts!D$4:D$5000, A452,Gifts!B$4:B$5000), \"\")","v":""}]
[null,{"$f":"IF(SUMIF(Gifts!D$4:D$5000, A453,Gifts!B$4:B$5000) > 0, SUMIF(Gifts!D$4:D$5000, A453,Gifts!B$4:B$5000), \"\")","v":""}]
[null,{"$f":"IF(SUMIF(Gifts!D$4:D$5000, A454,Gifts!B$4:B$5000) > 0, SUMIF(Gifts!D$4:D$5000, A454,Gifts!B$4:B$5000), \"\")","v":""}]
[null,{"$f":"IF(SUMIF(Gifts!D$4:D$5000, A455,Gifts!B$4:B$5000) > 0, SUMIF(Gifts!D$4:D$5000, A455,Gifts!B$4:B$5000), \"\")","v":""}]
[null,{"$f":"IF(SUMIF(Gifts!D$4:D$5000, A456,Gifts!B$4:B$5000) > 0, SUMIF(Gifts!D$4:D$5000, A456,Gifts!B$4:B$5000), \"\")","v":""}]
[null,{"$f":"IF(SUMIF(Gifts!D$4:D$5000, A457,Gifts!B$4:B$5000) > 0, SUMIF(Gifts!D$4:D$5000, A457,Gifts!B$4:B$5000), \"\")","v":""}]
[null,{"$f":"IF(SUMIF(Gifts!D$4:D$5000, A458,Gifts!B$4:B$5000) > 0, SUMIF(Gifts!D$4:D$5000, A458,Gifts!B$4:B$5000), \"\")","v":""}]
[null,{"$f":"IF(SUMIF(Gifts!D$4:D$5000, A459,Gifts!B$4:B$5000) > 0, SUMIF(Gifts!D$4:D$5000, A459,Gifts!B$4:B$5000), \"\")","v":""}]
[null,{"$f":"IF(SUMIF(Gifts!D$4:D$5000, A460,Gifts!B$4:B$5000) > 0, SUMIF(Gifts!D$4:D$5000, A460,Gifts!B$4:B$5000), \"\")","v":""}]
[null,{"$f":"IF(SUMIF(Gifts!D$4:D$5000, A461,Gifts!B$4:B$5000) > 0, SUMIF(Gifts!D$4:D$5000, A461,Gifts!B$4:B$5000), \"\")","v":""}]
[null,{"$f":"IF(SUMIF(Gifts!D$4:D$5000, A462,Gifts!B$4:B$5000) > 0, SUMIF(Gifts!D$4:D$5000, A462,Gifts!B$4:B$5000), \"\")","v":""}]
[null,{"$f":"IF(SUMIF(Gifts!D$4:D$5000, A463,Gifts!B$4:B$5000) > 0, SUMIF(Gifts!D$4:D$5000, A463,Gifts!B$4:B$5000), \"\")","v":""}]
[null,{"$f":"IF(SUMIF(Gifts!D$4:D$5000, A464,Gifts!B$4:B$5000) > 0, SUMIF(Gifts!D$4:D$5000, A464,Gifts!B$4:B$5000), \"\")","v":""}]
[null,{"$f":"IF(SUMIF(Gifts!D$4:D$5000, A465,Gifts!B$4:B$5000) > 0, SUMIF(Gifts!D$4:D$5000, A465,Gifts!B$4:B$5000), \"\")","v":""}]
[null,{"$f":"IF(SUMIF(Gifts!D$4:D$5000, A466,Gifts!B$4:B$5000) > 0, SUMIF(Gifts!D$4:D$5000, A466,Gifts!B$4:B$5000), \"\")","v":""}]
[null,{"$f":"IF(SUMIF(Gifts!D$4:D$5000, A467,Gifts!B$4:B$5000) > 0, SUMIF(Gifts!D$4:D$5000, A467,Gifts!B$4:B$5000), \"\")","v":""}]
[null,{"$f":"IF(SUMIF(Gifts!D$4:D$5000, A468,Gifts!B$4:B$5000) > 0, SUMIF(Gifts!D$4:D$5000, A468,Gifts!B$4:B$5000), \"\")","v":""}]
[null,{"$f":"IF(SUMIF(Gifts!D$4:D$5000, A469,Gifts!B$4:B$5000) > 0, SUMIF(Gifts!D$4:D$5000, A469,Gifts!B$4:B$5000), \"\")","v":""}]
[null,{"$f":"IF(SUMIF(Gifts!D$4:D$5000, A470,Gifts!B$4:B$5000) > 0, SUMIF(Gifts!D$4:D$5000, A470,Gifts!B$4:B$5000), \"\")","v":""}]
[null,{"$f":"IF(SUMIF(Gifts!D$4:D$5000, A471,Gifts!B$4:B$5000) > 0, SUMIF(Gifts!D$4:D$5000, A471,Gifts!B$4:B$5000), \"\")","v":""}]
[null,{"$f":"IF(SUMIF(Gifts!D$4:D$5000, A472,Gifts!B$4:B$5000) > 0, SUMIF(Gifts!D$4:D$5000, A472,Gifts!B$4:B$5000), \"\")","v":""}]
[null,{"$f":"IF(SUMIF(Gifts!D$4:D$5000, A473,Gifts!B$4:B$5000) > 0, SUMIF(Gifts!D$4:D$5000, A473,Gifts!B$4:B$5000), \"\")","v":""}]
[null,{"$f":"IF(SUMIF(Gifts!D$4:D$5000, A474,Gifts!B$4:B$5000) > 0, SUMIF(Gifts!D$4:D$5000, A474,Gifts!B$4:B$5000), \"\")","v":""}]
[null,{"$f":"IF(SUMIF(Gifts!D$4:D$5000, A475,Gifts!B$4:B$5000) > 0, SUMIF(Gifts!D$4:D$5000, A475,Gifts!B$4:B$5000), \"\")","v":""}]
[null,{"$f":"IF(SUMIF(Gifts!D$4:D$5000, A476,Gifts!B$4:B$5000) > 0, SUMIF(Gifts!D$4:D$5000, A476,Gifts!B$4:B$5000), \"\")","v":""}]
[null,{"$f":"IF(SUMIF(Gifts!D$4:D$5000, A477,Gifts!B$4:B$5000) > 0, SUMIF(Gifts!D$4:D$5000, A477,Gifts!B$4:B$5000), \"\")","v":""}]
[null,{"$f":"IF(SUMIF(Gifts!D$4:D$5000, A478,Gifts!B$4:B$5000) > 0, SUMIF(Gifts!D$4:D$5000, A478,Gifts!B$4:B$5000), \"\")","v":""}]
[null,{"$f":"IF(SUMIF(Gifts!D$4:D$5000, A479,Gifts!B$4:B$5000) > 0, SUMIF(Gifts!D$4:D$5000, A479,Gifts!B$4:B$5000), \"\")","v":""}]
[null,{"$f":"IF(SUMIF(Gifts!D$4:D$5000, A480,Gifts!B$4:B$5000) > 0, SUMIF(Gifts!D$4:D$5000, A480,Gifts!B$4:B$5000), \"\")","v":""}]
[null,{"$f":"IF(SUMIF(Gifts!D$4:D$5000, A481,Gifts!B$4:B$5000) > 0, SUMIF(Gifts!D$4:D$5000, A481,Gifts!B$4:B$5000), \"\")","v":""}]
[null,{"$f":"IF(SUMIF(Gifts!D$4:D$5000, A482,Gifts!B$4:B$5000) > 0, SUMIF(Gifts!D$4:D$5000, A482,Gifts!B$4:B$5000), \"\")","v":""}]
[null,{"$f":"IF(SUMIF(Gifts!D$4:D$5000, A483,Gifts!B$4:B$5000) > 0, SUMIF(Gifts!D$4:D$5000, A483,Gifts!B$4:B$5000), \"\")","v":""}]
[null,{"$f":"IF(SUMIF(Gifts!D$4:D$5000, A484,Gifts!B$4:B$5000) > 0, SUMIF(Gifts!D$4:D$5000, A484,Gifts!B$4:B$5000), \"\")","v":""}]
[null,{"$f":"IF(SUMIF(Gifts!D$4:D$5000, A485,Gifts!B$4:B$5000) > 0, SUMIF(Gifts!D$4:D$5000, A485,Gifts!B$4:B$5000), \"\")","v":""}]
[null,{"$f":"IF(SUMIF(Gifts!D$4:D$5000, A486,Gifts!B$4:B$5000) > 0, SUMIF(Gifts!D$4:D$5000, A486,Gifts!B$4:B$5000), \"\")","v":""}]
[null,{"$f":"IF(SUMIF(Gifts!D$4:D$5000, A487,Gifts!B$4:B$5000) > 0, SUMIF(Gifts!D$4:D$5000, A487,Gifts!B$4:B$5000), \"\")","v":""}]
[null,{"$f":"IF(SUMIF(Gifts!D$4:D$5000, A488,Gifts!B$4:B$5000) > 0, SUMIF(Gifts!D$4:D$5000, A488,Gifts!B$4:B$5000), \"\")","v":""}]
[null,{"$f":"IF(SUMIF(Gifts!D$4:D$5000, A489,Gifts!B$4:B$5000) > 0, SUMIF(Gifts!D$4:D$5000, A489,Gifts!B$4:B$5000), \"\")","v":""}]
[null,{"$f":"IF(SUMIF(Gifts!D$4:D$5000, A490,Gifts!B$4:B$5000) > 0, SUMIF(Gifts!D$4:D$5000, A490,Gifts!B$4:B$5000), \"\")","v":""}]
[null,{"$f":"IF(SUMIF(Gifts!D$4:D$5000, A491,Gifts!B$4:B$5000) > 0, SUMIF(Gifts!D$4:D$5000, A491,Gifts!B$4:B$5000), \"\")","v":""}]
[null,{"$f":"IF(SUMIF(Gifts!D$4:D$5000, A492,Gifts!B$4:B$5000) > 0, SUMIF(Gifts!D$4:D$5000, A492,Gifts!B$4:B$5000), \"\")","v":""}]
[null,{"$f":"IF(SUMIF(Gifts!D$4:D$5000, A493,Gifts!B$4:B$5000) > 0, SUMIF(Gifts!D$4:D$5000, A493,Gifts!B$4:B$5000), \"\")","v":""}]
[null,{"$f":"IF(SUMIF(Gifts!D$4:D$5000, A494,Gifts!B$4:B$5000) > 0, SUMIF(Gifts!D$4:D$5000, A494,Gifts!B$4:B$5000), \"\")","v":""}]
[null,{"$f":"IF(SUMIF(Gifts!D$4:D$5000, A495,Gifts!B$4:B$5000) > 0, SUMIF(Gifts!D$4:D$5000, A495,Gifts!B$4:B$5000), \"\")","v":""}]
[null,{"$f":"IF(SUMIF(Gifts!D$4:D$5000, A496,Gifts!B$4:B$5000) > 0, SUMIF(Gifts!D$4:D$5000, A496,Gifts!B$4:B$5000), \"\")","v":""}]
[null,{"$f":"IF(SUMIF(Gifts!D$4:D$5000, A497,Gifts!B$4:B$5000) > 0, SUMIF(Gifts!D$4:D$5000, A497,Gifts!B$4:B$5000), \"\")","v":""}]
[null,{"$f":"IF(SUMIF(Gifts!D$4:D$5000, A498,Gifts!B$4:B$5000) > 0, SUMIF(Gifts!D$4:D$5000, A498,Gifts!B$4:B$5000), \"\")","v":""}]
[null,{"$f":"IF(SUMIF(Gifts!D$4:D$5000, A499,Gifts!B$4:B$5000) > 0, SUMIF(Gifts!D$4:D$5000, A499,Gifts!B$4:B$5000), \"\")","v":""}]
[null,{"$f":"IF(SUMIF(Gifts!D$4:D$5000, A500,Gifts!B$4:B$5000) > 0, SUMIF(Gifts!D$4:D$5000, A500,Gifts!B$4:B$5000), \"\")","v":""}]
[null,{"$f":"IF(SUMIF(Gifts!D$4:D$5000, A501,Gifts!B$4:B$5000) > 0, SUMIF(Gifts!D$4:D$5000, A501,Gifts!B$4:B$5000), \"\")","v":""}]
[null,{"$f":"IF(SUMIF(Gifts!D$4:D$5000, A502,Gifts!B$4:B$5000) > 0, SUMIF(Gifts!D$4:D$5000, A502,Gifts!B$4:B$5000), \"\")","v":""}]
[null,{"$f":"IF(SUMIF(Gifts!D$4:D$5000, A503,Gifts!B$4:B$5000) > 0, SUMIF(Gifts!D$4:D$5000, A503,Gifts!B$4:B$5000), \"\")","v":""}]
[null,{"$f":"IF(SUMIF(Gifts!D$4:D$5000, A504,Gifts!B$4:B$5000) > 0, SUMIF(Gifts!D$4:D$5000, A504,Gifts!B$4:B$5000), \"\")","v":""}]
[null,{"$f":"IF(SUMIF(Gifts!D$4:D$5000, A505,Gifts!B$4:B$5000) > 0, SUMIF(Gifts!D$4:D$5000, A505,Gifts!B$4:B$5000), \"\")","v":""}]
[null,{"$f":"IF(SUMIF(Gifts!D$4:D$5000, A506,Gifts!B$4:B$5000) > 0, SUMIF(Gifts!D$4:D$5000, A506,Gifts!B$4:B$5000), \"\")","v":""}]
[null,{"$f":"IF(SUMIF(Gifts!D$4:D$5000, A507,Gifts!B$4:B$5000) > 0, SUMIF(Gifts!D$4:D$5000, A507,Gifts!B$4:B$5000), \"\")","v":""}]
[null,{"$f":"IF(SUMIF(Gifts!D$4:D$5000, A508,Gifts!B$4:B$5000) > 0, SUMIF(Gifts!D$4:D$5000, A508,Gifts!B$4:B$5000), \"\")","v":""}]
[null,{"$f":"IF(SUMIF(Gifts!D$4:D$5000, A509,Gifts!B$4:B$5000) > 0, SUMIF(Gifts!D$4:D$5000, A509,Gifts!B$4:B$5000), \"\")","v":""}]
[null,{"$f":"IF(SUMIF(Gifts!D$4:D$5000, A510,Gifts!B$4:B$5000) > 0, SUMIF(Gifts!D$4:D$5000, A510,Gifts!B$4:B$5000), \"\")","v":""}]
[null,{"$f":"IF(SUMIF(Gifts!D$4:D$5000, A511,Gifts!B$4:B$5000) > 0, SUMIF(Gifts!D$4:D$5000, A511,Gifts!B$4:B$5000), \"\")","v":""}]
[null,{"$f":"IF(SUMIF(Gifts!D$4:D$5000, A512,Gifts!B$4:B$5000) > 0, SUMIF(Gifts!D$4:D$5000, A512,Gifts!B$4:B$5000), \"\")","v":""}]
[null,{"$f":"IF(SUMIF(Gifts!D$4:D$5000, A513,Gifts!B$4:B$5000) > 0, SUMIF(Gifts!D$4:D$5000, A513,Gifts!B$4:B$5000), \"\")","v":""}]
[null,{"$f":"IF(SUMIF(Gifts!D$4:D$5000, A514,Gifts!B$4:B$5000) > 0, SUMIF(Gifts!D$4:D$5000, A514,Gifts!B$4:B$5000), \"\")","v":""}]
[null,{"$f":"IF(SUMIF(Gifts!D$4:D$5000, A515,Gifts!B$4:B$5000) > 0, SUMIF(Gifts!D$4:D$5000, A515,Gifts!B$4:B$5000), \"\")","v":""}]
[null,{"$f":"IF(SUMIF(Gifts!D$4:D$5000, A516,Gifts!B$4:B$5000) > 0, SUMIF(Gifts!D$4:D$5000, A516,Gifts!B$4:B$5000), \"\")","v":""}]
[null,{"$f":"IF(SUMIF(Gifts!D$4:D$5000, A517,Gifts!B$4:B$5000) > 0, SUMIF(Gifts!D$4:D$5000, A517,Gifts!B$4:B$5000), \"\")","v":""}]
[null,{"$f":"IF(SUMIF(Gifts!D$4:D$5000, A518,Gifts!B$4:B$5000) > 0, SUMIF(Gifts!D$4:D$5000, A518,Gifts!B$4:B$5000), \"\")","v":""}]
[null,{"$f":"IF(SUMIF(Gifts!D$4:D$5000, A519,Gifts!B$4:B$5000) > 0, SUMIF(Gifts!D$4:D$5000, A519,Gifts!B$4:B$5000), \"\")","v":""}]
[null,{"$f":"IF(SUMIF(Gifts!D$4:D$5000, A520,Gifts!B$4:B$5000) > 0, SUMIF(Gifts!D$4:D$5000, A520,Gifts!B$4:B$5000), \"\")","v":""}]
[null,{"$f":"IF(SUMIF(Gifts!D$4:D$5000, A521,Gifts!B$4:B$5000) > 0, SUMIF(Gifts!D$4:D$5000, A521,Gifts!B$4:B$5000), \"\")","v":""}]
[null,{"$f":"IF(SUMIF(Gifts!D$4:D$5000, A522,Gifts!B$4:B$5000) > 0, SUMIF(Gifts!D$4:D$5000, A522,Gifts!B$4:B$5000), \"\")","v":""}]
[null,{"$f":"IF(SUMIF(Gifts!D$4:D$5000, A523,Gifts!B$4:B$5000) > 0, SUMIF(Gifts!D$4:D$5000, A523,Gifts!B$4:B$5000), \"\")","v":""}]
[null,{"$f":"IF(SUMIF(Gifts!D$4:D$5000, A524,Gifts!B$4:B$5000) > 0, SUMIF(Gifts!D$4:D$5000, A524,Gifts!B$4:B$5000), \"\")","v":""}]
[null,{"$f":"IF(SUMIF(Gifts!D$4:D$5000, A525,Gifts!B$4:B$5000) > 0, SUMIF(Gifts!D$4:D$5000, A525,Gifts!B$4:B$5000), \"\")","v":""}]
[null,{"$f":"IF(SUMIF(Gifts!D$4:D$5000, A526,Gifts!B$4:B$5000) > 0, SUMIF(Gifts!D$4:D$5000, A526,Gifts!B$4:B$5000), \"\")","v":""}]
[null,{"$f":"IF(SUMIF(Gifts!D$4:D$5000, A527,Gifts!B$4:B$5000) > 0, SUMIF(Gifts!D$4:D$5000, A527,Gifts!B$4:B$5000), \"\")","v":""}]
[null,{"$f":"IF(SUMIF(Gifts!D$4:D$5000, A528,Gifts!B$4:B$5000) > 0, SUMIF(Gifts!D$4:D$5000, A528,Gifts!B$4:B$5000), \"\")","v":""}]
[null,{"$f":"IF(SUMIF(Gifts!D$4:D$5000, A529,Gifts!B$4:B$5000) > 0, SUMIF(Gifts!D$4:D$5000, A529,Gifts!B$4:B$5000), \"\")","v":""}]
[null,{"$f":"IF(SUMIF(Gifts!D$4:D$5000, A530,Gifts!B$4:B$5000) > 0, SUMIF(Gifts!D$4:D$5000, A530,Gifts!B$4:B$5000), \"\")","v":""}]
[null,{"$f":"IF(SUMIF(Gifts!D$4:D$5000, A531,Gifts!B$4:B$5000) > 0, SUMIF(Gifts!D$4:D$5000, A531,Gifts!B$4:B$5000), \"\")","v":""}]
[null,{"$f":"IF(SUMIF(Gifts!D$4:D$5000, A532,Gifts!B$4:B$5000) > 0, SUMIF(Gifts!D$4:D$5000, A532,Gifts!B$4:B$5000), \"\")","v":""}]
[null,{"$f":"IF(SUMIF(Gifts!D$4:D$5000, A533,Gifts!B$4:B$5000) > 0, SUMIF(Gifts!D$4:D$5000, A533,Gifts!B$4:B$5000), \"\")","v":""}]
[null,{"$f":"IF(SUMIF(Gifts!D$4:D$5000, A534,Gifts!B$4:B$5000) > 0, SUMIF(Gifts!D$4:D$5000, A534,Gifts!B$4:B$5000), \"\")","v":""}]
[null,{"$f":"IF(SUMIF(Gifts!D$4:D$5000, A535,Gifts!B$4:B$5000) > 0, SUMIF(Gifts!D$4:D$5000, A535,Gifts!B$4:B$5000), \"\")","v":""}]
[null,{"$f":"IF(SUMIF(Gifts!D$4:D$5000, A536,Gifts!B$4:B$5000) > 0, SUMIF(Gifts!D$4:D$5000, A536,Gifts!B$4:B$5000), \"\")","v":""}]
[null,{"$f":"IF(SUMIF(Gifts!D$4:D$5000, A537,Gifts!B$4:B$5000) > 0, SUMIF(Gifts!D$4:D$5000, A537,Gifts!B$4:B$5000), \"\")","v":""}]
[null,{"$f":"IF(SUMIF(Gifts!D$4:D$5000, A538,Gifts!B$4:B$5000) > 0, SUMIF(Gifts!D$4:D$5000, A538,Gifts!B$4:B$5000), \"\")","v":""}]
[null,{"$f":"IF(SUMIF(Gifts!D$4:D$5000, A539,Gifts!B$4:B$5000) > 0, SUMIF(Gifts!D$4:D$5000, A539,Gifts!B$4:B$5000), \"\")","v":""}]
[null,{"$f":"IF(SUMIF(Gifts!D$4:D$5000, A540,Gifts!B$4:B$5000) > 0, SUMIF(Gifts!D$4:D$5000, A540,Gifts!B$4:B$5000), \"\")","v":""}]
[null,{"$f":"IF(SUMIF(Gifts!D$4:D$5000, A541,Gifts!B$4:B$5000) > 0, SUMIF(Gifts!D$4:D$5000, A541,Gifts!B$4:B$5000), \"\")","v":""}]
[null,{"$f":"IF(SUMIF(Gifts!D$4:D$5000, A542,Gifts!B$4:B$5000) > 0, SUMIF(Gifts!D$4:D$5000, A542,Gifts!B$4:B$5000), \"\")","v":""}]
[null,{"$f":"IF(SUMIF(Gifts!D$4:D$5000, A543,Gifts!B$4:B$5000) > 0, SUMIF(Gifts!D$4:D$5000, A543,Gifts!B$4:B$5000), \"\")","v":""}]
[null,{"$f":"IF(SUMIF(Gifts!D$4:D$5000, A544,Gifts!B$4:B$5000) > 0, SUMIF(Gifts!D$4:D$5000, A544,Gifts!B$4:B$5000), \"\")","v":""}]
[null,{"$f":"IF(SUMIF(Gifts!D$4:D$5000, A545,Gifts!B$4:B$5000) > 0, SUMIF(Gifts!D$4:D$5000, A545,Gifts!B$4:B$5000), \"\")","v":""}]
[null,{"$f":"IF(SUMIF(Gifts!D$4:D$5000, A546,Gifts!B$4:B$5000) > 0, SUMIF(Gifts!D$4:D$5000, A546,Gifts!B$4:B$5000), \"\")","v":""}]
[null,{"$f":"IF(SUMIF(Gifts!D$4:D$5000, A547,Gifts!B$4:B$5000) > 0, SUMIF(Gifts!D$4:D$5000, A547,Gifts!B$4:B$5000), \"\")","v":""}]
[null,{"$f":"IF(SUMIF(Gifts!D$4:D$5000, A548,Gifts!B$4:B$5000) > 0, SUMIF(Gifts!D$4:D$5000, A548,Gifts!B$4:B$5000), \"\")","v":""}]
[null,{"$f":"IF(SUMIF(Gifts!D$4:D$5000, A549,Gifts!B$4:B$5000) > 0, SUMIF(Gifts!D$4:D$5000, A549,Gifts!B$4:B$5000), \"\")","v":""}]
[null,{"$f":"IF(SUMIF(Gifts!D$4:D$5000, A550,Gifts!B$4:B$5000) > 0, SUMIF(Gifts!D$4:D$5000, A550,Gifts!B$4:B$5000), \"\")","v":""}]
[null,{"$f":"IF(SUMIF(Gifts!D$4:D$5000, A551,Gifts!B$4:B$5000) > 0, SUMIF(Gifts!D$4:D$5000, A551,Gifts!B$4:B$5000), \"\")","v":""}]
[null,{"$f":"IF(SUMIF(Gifts!D$4:D$5000, A552,Gifts!B$4:B$5000) > 0, SUMIF(Gifts!D$4:D$5000, A552,Gifts!B$4:B$5000), \"\")","v":""}]
[null,{"$f":"IF(SUMIF(Gifts!D$4:D$5000, A553,Gifts!B$4:B$5000) > 0, SUMIF(Gifts!D$4:D$5000, A553,Gifts!B$4:B$5000), \"\")","v":""}]
[null,{"$f":"IF(SUMIF(Gifts!D$4:D$5000, A554,Gifts!B$4:B$5000) > 0, SUMIF(Gifts!D$4:D$5000, A554,Gifts!B$4:B$5000), \"\")","v":""}]
[null,{"$f":"IF(SUMIF(Gifts!D$4:D$5000, A555,Gifts!B$4:B$5000) > 0, SUMIF(Gifts!D$4:D$5000, A555,Gifts!B$4:B$5000), \"\")","v":""}]
[null,{"$f":"IF(SUMIF(Gifts!D$4:D$5000, A556,Gifts!B$4:B$5000) > 0, SUMIF(Gifts!D$4:D$5000, A556,Gifts!B$4:B$5000), \"\")","v":""}]
[null,{"$f":"IF(SUMIF(Gifts!D$4:D$5000, A557,Gifts!B$4:B$5000) > 0, SUMIF(Gifts!D$4:D$5000, A557,Gifts!B$4:B$5000), \"\")","v":""}]
[null,{"$f":"IF(SUMIF(Gifts!D$4:D$5000, A558,Gifts!B$4:B$5000) > 0, SUMIF(Gifts!D$4:D$5000, A558,Gifts!B$4:B$5000), \"\")","v":""}]
[null,{"$f":"IF(SUMIF(Gifts!D$4:D$5000, A559,Gifts!B$4:B$5000) > 0, SUMIF(Gifts!D$4:D$5000, A559,Gifts!B$4:B$5000), \"\")","v":""}]
[null,{"$f":"IF(SUMIF(Gifts!D$4:D$5000, A560,Gifts!B$4:B$5000) > 0, SUMIF(Gifts!D$4:D$5000, A560,Gifts!B$4:B$5000), \"\")","v":""}]
[null,{"$f":"IF(SUMIF(Gifts!D$4:D$5000, A561,Gifts!B$4:B$5000) > 0, SUMIF(Gifts!D$4:D$5000, A561,Gifts!B$4:B$5000), \"\")","v":""}]
[null,{"$f":"IF(SUMIF(Gifts!D$4:D$5000, A562,Gifts!B$4:B$5000) > 0, SUMIF(Gifts!D$4:D$5000, A562,Gifts!B$4:B$5000), \"\")","v":""}]
[null,{"$f":"IF(SUMIF(Gifts!D$4:D$5000, A563,Gifts!B$4:B$5000) > 0, SUMIF(Gifts!D$4:D$5000, A563,Gifts!B$4:B$5000), \"\")","v":""}]
[null,{"$f":"IF(SUMIF(Gifts!D$4:D$5000, A564,Gifts!B$4:B$5000) > 0, SUMIF(Gifts!D$4:D$5000, A564,Gifts!B$4:B$5000), \"\")","v":""}]
[null,{"$f":"IF(SUMIF(Gifts!D$4:D$5000, A565,Gifts!B$4:B$5000) > 0, SUMIF(Gifts!D$4:D$5000, A565,Gifts!B$4:B$5000), \"\")","v":""}]
[null,{"$f":"IF(SUMIF(Gifts!D$4:D$5000, A566,Gifts!B$4:B$5000) > 0, SUMIF(Gifts!D$4:D$5000, A566,Gifts!B$4:B$5000), \"\")","v":""}]
[null,{"$f":"IF(SUMIF(Gifts!D$4:D$5000, A567,Gifts!B$4:B$5000) > 0, SUMIF(Gifts!D$4:D$5000, A567,Gifts!B$4:B$5000), \"\")","v":""}]
[null,{"$f":"IF(SUMIF(Gifts!D$4:D$5000, A568,Gifts!B$4:B$5000) > 0, SUMIF(Gifts!D$4:D$5000, A568,Gifts!B$4:B$5000), \"\")","v":""}]
[null,{"$f":"IF(SUMIF(Gifts!D$4:D$5000, A569,Gifts!B$4:B$5000) > 0, SUMIF(Gifts!D$4:D$5000, A569,Gifts!B$4:B$5000), \"\")","v":""}]
[null,{"$f":"IF(SUMIF(Gifts!D$4:D$5000, A570,Gifts!B$4:B$5000) > 0, SUMIF(Gifts!D$4:D$5000, A570,Gifts!B$4:B$5000), \"\")","v":""}]
[null,{"$f":"IF(SUMIF(Gifts!D$4:D$5000, A571,Gifts!B$4:B$5000) > 0, SUMIF(Gifts!D$4:D$5000, A571,Gifts!B$4:B$5000), \"\")","v":""}]
[null,{"$f":"IF(SUMIF(Gifts!D$4:D$5000, A572,Gifts!B$4:B$5000) > 0, SUMIF(Gifts!D$4:D$5000, A572,Gifts!B$4:B$5000), \"\")","v":""}]
[null,{"$f":"IF(SUMIF(Gifts!D$4:D$5000, A573,Gifts!B$4:B$5000) > 0, SUMIF(Gifts!D$4:D$5000, A573,Gifts!B$4:B$5000), \"\")","v":""}]
[null,{"$f":"IF(SUMIF(Gifts!D$4:D$5000, A574,Gifts!B$4:B$5000) > 0, SUMIF(Gifts!D$4:D$5000, A574,Gifts!B$4:B$5000), \"\")","v":""}]
[null,{"$f":"IF(SUMIF(Gifts!D$4:D$5000, A575,Gifts!B$4:B$5000) > 0, SUMIF(Gifts!D$4:D$5000, A575,Gifts!B$4:B$5000), \"\")","v":""}]
[null,{"$f":"IF(SUMIF(Gifts!D$4:D$5000, A576,Gifts!B$4:B$5000) > 0, SUMIF(Gifts!D$4:D$5000, A576,Gifts!B$4:B$5000), \"\")","v":""}]
[null,{"$f":"IF(SUMIF(Gifts!D$4:D$5000, A577,Gifts!B$4:B$5000) > 0, SUMIF(Gifts!D$4:D$5000, A577,Gifts!B$4:B$5000), \"\")","v":""}]
[null,{"$f":"IF(SUMIF(Gifts!D$4:D$5000, A578,Gifts!B$4:B$5000) > 0, SUMIF(Gifts!D$4:D$5000, A578,Gifts!B$4:B$5000), \"\")","v":""}]
[null,{"$f":"IF(SUMIF(Gifts!D$4:D$5000, A579,Gifts!B$4:B$5000) > 0, SUMIF(Gifts!D$4:D$5000, A579,Gifts!B$4:B$5000), \"\")","v":""}]
[null,{"$f":"IF(SUMIF(Gifts!D$4:D$5000, A580,Gifts!B$4:B$5000) > 0, SUMIF(Gifts!D$4:D$5000, A580,Gifts!B$4:B$5000), \"\")","v":""}]
[null,{"$f":"IF(SUMIF(Gifts!D$4:D$5000, A581,Gifts!B$4:B$5000) > 0, SUMIF(Gifts!D$4:D$5000, A581,Gifts!B$4:B$5000), \"\")","v":""}]
[null,{"$f":"IF(SUMIF(Gifts!D$4:D$5000, A582,Gifts!B$4:B$5000) > 0, SUMIF(Gifts!D$4:D$5000, A582,Gifts!B$4:B$5000), \"\")","v":""}]
[null,{"$f":"IF(SUMIF(Gifts!D$4:D$5000, A583,Gifts!B$4:B$5000) > 0, SUMIF(Gifts!D$4:D$5000, A583,Gifts!B$4:B$5000), \"\")","v":""}]
[null,{"$f":"IF(SUMIF(Gifts!D$4:D$5000, A584,Gifts!B$4:B$5000) > 0, SUMIF(Gifts!D$4:D$5000, A584,Gifts!B$4:B$5000), \"\")","v":""}]
[null,{"$f":"IF(SUMIF(Gifts!D$4:D$5000, A585,Gifts!B$4:B$5000) > 0, SUMIF(Gifts!D$4:D$5000, A585,Gifts!B$4:B$5000), \"\")","v":""}]
[null,{"$f":"IF(SUMIF(Gifts!D$4:D$5000, A586,Gifts!B$4:B$5000) > 0, SUMIF(Gifts!D$4:D$5000, A586,Gifts!B$4:B$5000), \"\")","v":""}]
[null,{"$f":"IF(SUMIF(Gifts!D$4:D$5000, A587,Gifts!B$4:B$5000) > 0, SUMIF(Gifts!D$4:D$5000, A587,Gifts!B$4:B$5000), \"\")","v":""}]
[null,{"$f":"IF(SUMIF(Gifts!D$4:D$5000, A588,Gifts!B$4:B$5000) > 0, SUMIF(Gifts!D$4:D$5000, A588,Gifts!B$4:B$5000), \"\")","v":""}]
[null,{"$f":"IF(SUMIF(Gifts!D$4:D$5000, A589,Gifts!B$4:B$5000) > 0, SUMIF(Gifts!D$4:D$5000, A589,Gifts!B$4:B$5000), \"\")","v":""}]
[null,{"$f":"IF(SUMIF(Gifts!D$4:D$5000, A590,Gifts!B$4:B$5000) > 0, SUMIF(Gifts!D$4:D$5000, A590,Gifts!B$4:B$5000), \"\")","v":""}]
[null,{"$f":"IF(SUMIF(Gifts!D$4:D$5000, A591,Gifts!B$4:B$5000) > 0, SUMIF(Gifts!D$4:D$5000, A591,Gifts!B$4:B$5000), \"\")","v":""}]
[null,{"$f":"IF(SUMIF(Gifts!D$4:D$5000, A592,Gifts!B$4:B$5000) > 0, SUMIF(Gifts!D$4:D$5000, A592,Gifts!B$4:B$5000), \"\")","v":""}]
[null,{"$f":"IF(SUMIF(Gifts!D$4:D$5000, A593,Gifts!B$4:B$5000) > 0, SUMIF(Gifts!D$4:D$5000, A593,Gifts!B$4:B$5000), \"\")","v":""}]
[null,{"$f":"IF(SUMIF(Gifts!D$4:D$5000, A594,Gifts!B$4:B$5000) > 0, SUMIF(Gifts!D$4:D$5000, A594,Gifts!B$4:B$5000), \"\")","v":""}]
[null,{"$f":"IF(SUMIF(Gifts!D$4:D$5000, A595,Gifts!B$4:B$5000) > 0, SUMIF(Gifts!D$4:D$5000, A595,Gifts!B$4:B$5000), \"\")","v":""}]
[null,{"$f":"IF(SUMIF(Gifts!D$4:D$5000, A596,Gifts!B$4:B$5000) > 0, SUMIF(Gifts!D$4:D$5000, A596,Gifts!B$4:B$5000), \"\")","v":""}]
[null,{"$f":"IF(SUMIF(Gifts!D$4:D$5000, A597,Gifts!B$4:B$5000) > 0, SUMIF(Gifts!D$4:D$5000, A597,Gifts!B$4:B$5000), \"\")","v":""}]
[null,{"$f":"IF(SUMIF(Gifts!D$4:D$5000, A598,Gifts!B$4:B$5000) > 0, SUMIF(Gifts!D$4:D$5000, A598,Gifts!B$4:B$5000), \"\")","v":""}]
[null,{"$f":"IF(SUMIF(Gifts!D$4:D$5000, A599,Gifts!B$4:B$5000) > 0, SUMIF(Gifts!D$4:D$5000, A599,Gifts!B$4:B$5000), \"\")","v":""}]
[null,{"$f":"IF(SUMIF(Gifts!D$4:D$5000, A600,Gifts!B$4:B$5000) > 0, SUMIF(Gifts!D$4:D$5000, A600,Gifts!B$4:B$5000), \"\")","v":""}]
[null,{"$f":"IF(SUMIF(Gifts!D$4:D$5000, A601,Gifts!B$4:B$5000) > 0, SUMIF(Gifts!D$4:D$5000, A601,Gifts!B$4:B$5000), \"\")","v":""}]
[null,{"$f":"IF(SUMIF(Gifts!D$4:D$5000, A602,Gifts!B$4:B$5000) > 0, SUMIF(Gifts!D$4:D$5000, A602,Gifts!B$4:B$5000), \"\")","v":""}]
[null,{"$f":"IF(SUMIF(Gifts!D$4:D$5000, A603,Gifts!B$4:B$5000) > 0, SUMIF(Gifts!D$4:D$5000, A603,Gifts!B$4:B$5000), \"\")","v":""}]
[null,{"$f":"IF(SUMIF(Gifts!D$4:D$5000, A604,Gifts!B$4:B$5000) > 0, SUMIF(Gifts!D$4:D$5000, A604,Gifts!B$4:B$5000), \"\")","v":""}]
[null,{"$f":"IF(SUMIF(Gifts!D$4:D$5000, A605,Gifts!B$4:B$5000) > 0, SUMIF(Gifts!D$4:D$5000, A605,Gifts!B$4:B$5000), \"\")","v":""}]
[null,{"$f":"IF(SUMIF(Gifts!D$4:D$5000, A606,Gifts!B$4:B$5000) > 0, SUMIF(Gifts!D$4:D$5000, A606,Gifts!B$4:B$5000), \"\")","v":""}]
[null,{"$f":"IF(SUMIF(Gifts!D$4:D$5000, A607,Gifts!B$4:B$5000) > 0, SUMIF(Gifts!D$4:D$5000, A607,Gifts!B$4:B$5000), \"\")","v":""}]
[null,{"$f":"IF(SUMIF(Gifts!D$4:D$5000, A608,Gifts!B$4:B$5000) > 0, SUMIF(Gifts!D$4:D$5000, A608,Gifts!B$4:B$5000), \"\")","v":""}]
[null,{"$f":"IF(SUMIF(Gifts!D$4:D$5000, A609,Gifts!B$4:B$5000) > 0, SUMIF(Gifts!D$4:D$5000, A609,Gifts!B$4:B$5000), \"\")","v":""}]
[null,{"$f":"IF(SUMIF(Gifts!D$4:D$5000, A610,Gifts!B$4:B$5000) > 0, SUMIF(Gifts!D$4:D$5000, A610,Gifts!B$4:B$5000), \"\")","v":""}]
[null,{"$f":"IF(SUMIF(Gifts!D$4:D$5000, A611,Gifts!B$4:B$5000) > 0, SUMIF(Gifts!D$4:D$5000, A611,Gifts!B$4:B$5000), \"\")","v":""}]
[null,{"$f":"IF(SUMIF(Gifts!D$4:D$5000, A612,Gifts!B$4:B$5000) > 0, SUMIF(Gifts!D$4:D$5000, A612,Gifts!B$4:B$5000), \"\")","v":""}]
[null,{"$f":"IF(SUMIF(Gifts!D$4:D$5000, A613,Gifts!B$4:B$5000) > 0, SUMIF(Gifts!D$4:D$5000, A613,Gifts!B$4:B$5000), \"\")","v":""}]
[null,{"$f":"IF(SUMIF(Gifts!D$4:D$5000, A614,Gifts!B$4:B$5000) > 0, SUMIF(Gifts!D$4:D$5000, A614,Gifts!B$4:B$5000), \"\")","v":""}]
[null,{"$f":"IF(SUMIF(Gifts!D$4:D$5000, A615,Gifts!B$4:B$5000) > 0, SUMIF(Gifts!D$4:D$5000, A615,Gifts!B$4:B$5000), \"\")","v":""}]
[null,{"$f":"IF(SUMIF(Gifts!D$4:D$5000, A616,Gifts!B$4:B$5000) > 0, SUMIF(Gifts!D$4:D$5000, A616,Gifts!B$4:B$5000), \"\")","v":""}]
[null,{"$f":"IF(SUMIF(Gifts!D$4:D$5000, A617,Gifts!B$4:B$5000) > 0, SUMIF(Gifts!D$4:D$5000, A617,Gifts!B$4:B$5000), \"\")","v":""}]
[null,{"$f":"IF(SUMIF(Gifts!D$4:D$5000, A618,Gifts!B$4:B$5000) > 0, SUMIF(Gifts!D$4:D$5000, A618,Gifts!B$4:B$5000), \"\")","v":""}]
[null,{"$f":"IF(SUMIF(Gifts!D$4:D$5000, A619,Gifts!B$4:B$5000) > 0, SUMIF(Gifts!D$4:D$5000, A619,Gifts!B$4:B$5000), \"\")","v":""}]
[null,{"$f":"IF(SUMIF(Gifts!D$4:D$5000, A620,Gifts!B$4:B$5000) > 0, SUMIF(Gifts!D$4:D$5000, A620,Gifts!B$4:B$5000), \"\")","v":""}]
[null,{"$f":"IF(SUMIF(Gifts!D$4:D$5000, A621,Gifts!B$4:B$5000) > 0, SUMIF(Gifts!D$4:D$5000, A621,Gifts!B$4:B$5000), \"\")","v":""}]
[null,{"$f":"IF(SUMIF(Gifts!D$4:D$5000, A622,Gifts!B$4:B$5000) > 0, SUMIF(Gifts!D$4:D$5000, A622,Gifts!B$4:B$5000), \"\")","v":""}]
[null,{"$f":"IF(SUMIF(Gifts!D$4:D$5000, A623,Gifts!B$4:B$5000) > 0, SUMIF(Gifts!D$4:D$5000, A623,Gifts!B$4:B$5000), \"\")","v":""}]
[null,{"$f":"IF(SUMIF(Gifts!D$4:D$5000, A624,Gifts!B$4:B$5000) > 0, SUMIF(Gifts!D$4:D$5000, A624,Gifts!B$4:B$5000), \"\")","v":""}]
[null,{"$f":"IF(SUMIF(Gifts!D$4:D$5000, A625,Gifts!B$4:B$5000) > 0, SUMIF(Gifts!D$4:D$5000, A625,Gifts!B$4:B$5000), \"\")","v":""}]
[null,{"$f":"IF(SUMIF(Gifts!D$4:D$5000, A626,Gifts!B$4:B$5000) > 0, SUMIF(Gifts!D$4:D$5000, A626,Gifts!B$4:B$5000), \"\")","v":""}]
[null,{"$f":"IF(SUMIF(Gifts!D$4:D$5000, A627,Gifts!B$4:B$5000) > 0, SUMIF(Gifts!D$4:D$5000, A627,Gifts!B$4:B$5000), \"\")","v":""}]
[null,{"$f":"IF(SUMIF(Gifts!D$4:D$5000, A628,Gifts!B$4:B$5000) > 0, SUMIF(Gifts!D$4:D$5000, A628,Gifts!B$4:B$5000), \"\")","v":""}]
[null,{"$f":"IF(SUMIF(Gifts!D$4:D$5000, A629,Gifts!B$4:B$5000) > 0, SUMIF(Gifts!D$4:D$5000, A629,Gifts!B$4:B$5000), \"\")","v":""}]
[null,{"$f":"IF(SUMIF(Gifts!D$4:D$5000, A630,Gifts!B$4:B$5000) > 0, SUMIF(Gifts!D$4:D$5000, A630,Gifts!B$4:B$5000), \"\")","v":""}]
[null,{"$f":"IF(SUMIF(Gifts!D$4:D$5000, A631,Gifts!B$4:B$5000) > 0, SUMIF(Gifts!D$4:D$5000, A631,Gifts!B$4:B$5000), \"\")","v":""}]
[null,{"$f":"IF(SUMIF(Gifts!D$4:D$5000, A632,Gifts!B$4:B$5000) > 0, SUMIF(Gifts!D$4:D$5000, A632,Gifts!B$4:B$5000), \"\")","v":""}]
[null,{"$f":"IF(SUMIF(Gifts!D$4:D$5000, A633,Gifts!B$4:B$5000) > 0, SUMIF(Gifts!D$4:D$5000, A633,Gifts!B$4:B$5000), \"\")","v":""}]
[null,{"$f":"IF(SUMIF(Gifts!D$4:D$5000, A634,Gifts!B$4:B$5000) > 0, SUMIF(Gifts!D$4:D$5000, A634,Gifts!B$4:B$5000), \"\")","v":""}]
[null,{"$f":"IF(SUMIF(Gifts!D$4:D$5000, A635,Gifts!B$4:B$5000) > 0, SUMIF(Gifts!D$4:D$5000, A635,Gifts!B$4:B$5000), \"\")","v":""}]
[null,{"$f":"IF(SUMIF(Gifts!D$4:D$5000, A636,Gifts!B$4:B$5000) > 0, SUMIF(Gifts!D$4:D$5000, A636,Gifts!B$4:B$5000), \"\")","v":""}]
[null,{"$f":"IF(SUMIF(Gifts!D$4:D$5000, A637,Gifts!B$4:B$5000) > 0, SUMIF(Gifts!D$4:D$5000, A637,Gifts!B$4:B$5000), \"\")","v":""}]
[null,{"$f":"IF(SUMIF(Gifts!D$4:D$5000, A638,Gifts!B$4:B$5000) > 0, SUMIF(Gifts!D$4:D$5000, A638,Gifts!B$4:B$5000), \"\")","v":""}]
[null,{"$f":"IF(SUMIF(Gifts!D$4:D$5000, A639,Gifts!B$4:B$5000) > 0, SUMIF(Gifts!D$4:D$5000, A639,Gifts!B$4:B$5000), \"\")","v":""}]
[null,{"$f":"IF(SUMIF(Gifts!D$4:D$5000, A640,Gifts!B$4:B$5000) > 0, SUMIF(Gifts!D$4:D$5000, A640,Gifts!B$4:B$5000), \"\")","v":""}]
[null,{"$f":"IF(SUMIF(Gifts!D$4:D$5000, A641,Gifts!B$4:B$5000) > 0, SUMIF(Gifts!D$4:D$5000, A641,Gifts!B$4:B$5000), \"\")","v":""}]
[null,{"$f":"IF(SUMIF(Gifts!D$4:D$5000, A642,Gifts!B$4:B$5000) > 0, SUMIF(Gifts!D$4:D$5000, A642,Gifts!B$4:B$5000), \"\")","v":""}]
[null,{"$f":"IF(SUMIF(Gifts!D$4:D$5000, A643,Gifts!B$4:B$5000) > 0, SUMIF(Gifts!D$4:D$5000, A643,Gifts!B$4:B$5000), \"\")","v":""}]
[null,{"$f":"IF(SUMIF(Gifts!D$4:D$5000, A644,Gifts!B$4:B$5000) > 0, SUMIF(Gifts!D$4:D$5000, A644,Gifts!B$4:B$5000), \"\")","v":""}]
[null,{"$f":"IF(SUMIF(Gifts!D$4:D$5000, A645,Gifts!B$4:B$5000) > 0, SUMIF(Gifts!D$4:D$5000, A645,Gifts!B$4:B$5000), \"\")","v":""}]
[null,{"$f":"IF(SUMIF(Gifts!D$4:D$5000, A646,Gifts!B$4:B$5000) > 0, SUMIF(Gifts!D$4:D$5000, A646,Gifts!B$4:B$5000), \"\")","v":""}]
[null,{"$f":"IF(SUMIF(Gifts!D$4:D$5000, A647,Gifts!B$4:B$5000) > 0, SUMIF(Gifts!D$4:D$5000, A647,Gifts!B$4:B$5000), \"\")","v":""}]
[null,{"$f":"IF(SUMIF(Gifts!D$4:D$5000, A648,Gifts!B$4:B$5000) > 0, SUMIF(Gifts!D$4:D$5000, A648,Gifts!B$4:B$5000), \"\")","v":""}]
[null,{"$f":"IF(SUMIF(Gifts!D$4:D$5000, A649,Gifts!B$4:B$5000) > 0, SUMIF(Gifts!D$4:D$5000, A649,Gifts!B$4:B$5000), \"\")","v":""}]
[null,{"$f":"IF(SUMIF(Gifts!D$4:D$5000, A650,Gifts!B$4:B$5000) > 0, SUMIF(Gifts!D$4:D$5000, A650,Gifts!B$4:B$5000), \"\")","v":""}]
[null,{"$f":"IF(SUMIF(Gifts!D$4:D$5000, A651,Gifts!B$4:B$5000) > 0, SUMIF(Gifts!D$4:D$5000, A651,Gifts!B$4:B$5000), \"\")","v":""}]
[null,{"$f":"IF(SUMIF(Gifts!D$4:D$5000, A652,Gifts!B$4:B$5000) > 0, SUMIF(Gifts!D$4:D$5000, A652,Gifts!B$4:B$5000), \"\")","v":""}]
[null,{"$f":"IF(SUMIF(Gifts!D$4:D$5000, A653,Gifts!B$4:B$5000) > 0, SUMIF(Gifts!D$4:D$5000, A653,Gifts!B$4:B$5000), \"\")","v":""}]
[null,{"$f":"IF(SUMIF(Gifts!D$4:D$5000, A654,Gifts!B$4:B$5000) > 0, SUMIF(Gifts!D$4:D$5000, A654,Gifts!B$4:B$5000), \"\")","v":""}]
[null,{"$f":"IF(SUMIF(Gifts!D$4:D$5000, A655,Gifts!B$4:B$5000) > 0, SUMIF(Gifts!D$4:D$5000, A655,Gifts!B$4:B$5000), \"\")","v":""}]
[null,{"$f":"IF(SUMIF(Gifts!D$4:D$5000, A656,Gifts!B$4:B$5000) > 0, SUMIF(Gifts!D$4:D$5000, A656,Gifts!B$4:B$5000), \"\")","v":""}]
[null,{"$f":"IF(SUMIF(Gifts!D$4:D$5000, A657,Gifts!B$4:B$5000) > 0, SUMIF(Gifts!D$4:D$5000, A657,Gifts!B$4:B$5000), \"\")","v":""}]
[null,{"$f":"IF(SUMIF(Gifts!D$4:D$5000, A658,Gifts!B$4:B$5000) > 0, SUMIF(Gifts!D$4:D$5000, A658,Gifts!B$4:B$5000), \"\")","v":""}]
[null,{"$f":"IF(SUMIF(Gifts!D$4:D$5000, A659,Gifts!B$4:B$5000) > 0, SUMIF(Gifts!D$4:D$5000, A659,Gifts!B$4:B$5000), \"\")","v":""}]
[null,{"$f":"IF(SUMIF(Gifts!D$4:D$5000, A660,Gifts!B$4:B$5000) > 0, SUMIF(Gifts!D$4:D$5000, A660,Gifts!B$4:B$5000), \"\")","v":""}]
[null,{"$f":"IF(SUMIF(Gifts!D$4:D$5000, A661,Gifts!B$4:B$5000) > 0, SUMIF(Gifts!D$4:D$5000, A661,Gifts!B$4:B$5000), \"\")","v":""}]
[null,{"$f":"IF(SUMIF(Gifts!D$4:D$5000, A662,Gifts!B$4:B$5000) > 0, SUMIF(Gifts!D$4:D$5000, A662,Gifts!B$4:B$5000), \"\")","v":""}]
[null,{"$f":"IF(SUMIF(Gifts!D$4:D$5000, A663,Gifts!B$4:B$5000) > 0, SUMIF(Gifts!D$4:D$5000, A663,Gifts!B$4:B$5000), \"\")","v":""}]
[null,{"$f":"IF(SUMIF(Gifts!D$4:D$5000, A664,Gifts!B$4:B$5000) > 0, SUMIF(Gifts!D$4:D$5000, A664,Gifts!B$4:B$5000), \"\")","v":""}]
[null,{"$f":"IF(SUMIF(Gifts!D$4:D$5000, A665,Gifts!B$4:B$5000) > 0, SUMIF(Gifts!D$4:D$5000, A665,Gifts!B$4:B$5000), \"\")","v":""}]
[null,{"$f":"IF(SUMIF(Gifts!D$4:D$5000, A666,Gifts!B$4:B$5000) > 0, SUMIF(Gifts!D$4:D$5000, A666,Gifts!B$4:B$5000), \"\")","v":""}]
[null,{"$f":"IF(SUMIF(Gifts!D$4:D$5000, A667,Gifts!B$4:B$5000) > 0, SUMIF(Gifts!D$4:D$5000, A667,Gifts!B$4:B$5000), \"\")","v":""}]
[null,{"$f":"IF(SUMIF(Gifts!D$4:D$5000, A668,Gifts!B$4:B$5000) > 0, SUMIF(Gifts!D$4:D$5000, A668,Gifts!B$4:B$5000), \"\")","v":""}]
[null,{"$f":"IF(SUMIF(Gifts!D$4:D$5000, A669,Gifts!B$4:B$5000) > 0, SUMIF(Gifts!D$4:D$5000, A669,Gifts!B$4:B$5000), \"\")","v":""}]
[null,{"$f":"IF(SUMIF(Gifts!D$4:D$5000, A670,Gifts!B$4:B$5000) > 0, SUMIF(Gifts!D$4:D$5000, A670,Gifts!B$4:B$5000), \"\")","v":""}]
[null,{"$f":"IF(SUMIF(Gifts!D$4:D$5000, A671,Gifts!B$4:B$5000) > 0, SUMIF(Gifts!D$4:D$5000, A671,Gifts!B$4:B$5000), \"\")","v":""}]
[null,{"$f":"IF(SUMIF(Gifts!D$4:D$5000, A672,Gifts!B$4:B$5000) > 0, SUMIF(Gifts!D$4:D$5000, A672,Gifts!B$4:B$5000), \"\")","v":""}]
[null,{"$f":"IF(SUMIF(Gifts!D$4:D$5000, A673,Gifts!B$4:B$5000) > 0, SUMIF(Gifts!D$4:D$5000, A673,Gifts!B$4:B$5000), \"\")","v":""}]
[null,{"$f":"IF(SUMIF(Gifts!D$4:D$5000, A674,Gifts!B$4:B$5000) > 0, SUMIF(Gifts!D$4:D$5000, A674,Gifts!B$4:B$5000), \"\")","v":""}]
[null,{"$f":"IF(SUMIF(Gifts!D$4:D$5000, A675,Gifts!B$4:B$5000) > 0, SUMIF(Gifts!D$4:D$5000, A675,Gifts!B$4:B$5000), \"\")","v":""}]
[null,{"$f":"IF(SUMIF(Gifts!D$4:D$5000, A676,Gifts!B$4:B$5000) > 0, SUMIF(Gifts!D$4:D$5000, A676,Gifts!B$4:B$5000), \"\")","v":""}]
[null,{"$f":"IF(SUMIF(Gifts!D$4:D$5000, A677,Gifts!B$4:B$5000) > 0, SUMIF(Gifts!D$4:D$5000, A677,Gifts!B$4:B$5000), \"\")","v":""}]
[null,{"$f":"IF(SUMIF(Gifts!D$4:D$5000, A678,Gifts!B$4:B$5000) > 0, SUMIF(Gifts!D$4:D$5000, A678,Gifts!B$4:B$5000), \"\")","v":""}]
[null,{"$f":"IF(SUMIF(Gifts!D$4:D$5000, A679,Gifts!B$4:B$5000) > 0, SUMIF(Gifts!D$4:D$5000, A679,Gifts!B$4:B$5000), \"\")","v":""}]
[null,{"$f":"IF(SUMIF(Gifts!D$4:D$5000, A680,Gifts!B$4:B$5000) > 0, SUMIF(Gifts!D$4:D$5000, A680,Gifts!B$4:B$5000), \"\")","v":""}]
[null,{"$f":"IF(SUMIF(Gifts!D$4:D$5000, A681,Gifts!B$4:B$5000) > 0, SUMIF(Gifts!D$4:D$5000, A681,Gifts!B$4:B$5000), \"\")","v":""}]
[null,{"$f":"IF(SUMIF(Gifts!D$4:D$5000, A682,Gifts!B$4:B$5000) > 0, SUMIF(Gifts!D$4:D$5000, A682,Gifts!B$4:B$5000), \"\")","v":""}]
[null,{"$f":"IF(SUMIF(Gifts!D$4:D$5000, A683,Gifts!B$4:B$5000) > 0, SUMIF(Gifts!D$4:D$5000, A683,Gifts!B$4:B$5000), \"\")","v":""}]
[null,{"$f":"IF(SUMIF(Gifts!D$4:D$5000, A684,Gifts!B$4:B$5000) > 0, SUMIF(Gifts!D$4:D$5000, A684,Gifts!B$4:B$5000), \"\")","v":""}]
[null,{"$f":"IF(SUMIF(Gifts!D$4:D$5000, A685,Gifts!B$4:B$5000) > 0, SUMIF(Gifts!D$4:D$5000, A685,Gifts!B$4:B$5000), \"\")","v":""}]
[null,{"$f":"IF(SUMIF(Gifts!D$4:D$5000, A686,Gifts!B$4:B$5000) > 0, SUMIF(Gifts!D$4:D$5000, A686,Gifts!B$4:B$5000), \"\")","v":""}]
[null,{"$f":"IF(SUMIF(Gifts!D$4:D$5000, A687,Gifts!B$4:B$5000) > 0, SUMIF(Gifts!D$4:D$5000, A687,Gifts!B$4:B$5000), \"\")","v":""}]
[null,{"$f":"IF(SUMIF(Gifts!D$4:D$5000, A688,Gifts!B$4:B$5000) > 0, SUMIF(Gifts!D$4:D$5000, A688,Gifts!B$4:B$5000), \"\")","v":""}]
[null,{"$f":"IF(SUMIF(Gifts!D$4:D$5000, A689,Gifts!B$4:B$5000) > 0, SUMIF(Gifts!D$4:D$5000, A689,Gifts!B$4:B$5000), \"\")","v":""}]
[null,{"$f":"IF(SUMIF(Gifts!D$4:D$5000, A690,Gifts!B$4:B$5000) > 0, SUMIF(Gifts!D$4:D$5000, A690,Gifts!B$4:B$5000), \"\")","v":""}]
[null,{"$f":"IF(SUMIF(Gifts!D$4:D$5000, A691,Gifts!B$4:B$5000) > 0, SUMIF(Gifts!D$4:D$5000, A691,Gifts!B$4:B$5000), \"\")","v":""}]
[null,{"$f":"IF(SUMIF(Gifts!D$4:D$5000, A692,Gifts!B$4:B$5000) > 0, SUMIF(Gifts!D$4:D$5000, A692,Gifts!B$4:B$5000), \"\")","v":""}]
[null,{"$f":"IF(SUMIF(Gifts!D$4:D$5000, A693,Gifts!B$4:B$5000) > 0, SUMIF(Gifts!D$4:D$5000, A693,Gifts!B$4:B$5000), \"\")","v":""}]
[null,{"$f":"IF(SUMIF(Gifts!D$4:D$5000, A694,Gifts!B$4:B$5000) > 0, SUMIF(Gifts!D$4:D$5000, A694,Gifts!B$4:B$5000), \"\")","v":""}]
[null,{"$f":"IF(SUMIF(Gifts!D$4:D$5000, A695,Gifts!B$4:B$5000) > 0, SUMIF(Gifts!D$4:D$5000, A695,Gifts!B$4:B$5000), \"\")","v":""}]
[null,{"$f":"IF(SUMIF(Gifts!D$4:D$5000, A696,Gifts!B$4:B$5000) > 0, SUMIF(Gifts!D$4:D$5000, A696,Gifts!B$4:B$5000), \"\")","v":""}]
[null,{"$f":"IF(SUMIF(Gifts!D$4:D$5000, A697,Gifts!B$4:B$5000) > 0, SUMIF(Gifts!D$4:D$5000, A697,Gifts!B$4:B$5000), \"\")","v":""}]
[null,{"$f":"IF(SUMIF(Gifts!D$4:D$5000, A698,Gifts!B$4:B$5000) > 0, SUMIF(Gifts!D$4:D$5000, A698,Gifts!B$4:B$5000), \"\")","v":""}]
[null,{"$f":"IF(SUMIF(Gifts!D$4:D$5000, A699,Gifts!B$4:B$5000) > 0, SUMIF(Gifts!D$4:D$5000, A699,Gifts!B$4:B$5000), \"\")","v":""}]
[null,{"$f":"IF(SUMIF(Gifts!D$4:D$5000, A700,Gifts!B$4:B$5000) > 0, SUMIF(Gifts!D$4:D$5000, A700,Gifts!B$4:B$5000), \"\")","v":""}]
[null,{"$f":"IF(SUMIF(Gifts!D$4:D$5000, A701,Gifts!B$4:B$5000) > 0, SUMIF(Gifts!D$4:D$5000, A701,Gifts!B$4:B$5000), \"\")","v":""}]
[null,{"$f":"IF(SUMIF(Gifts!D$4:D$5000, A702,Gifts!B$4:B$5000) > 0, SUMIF(Gifts!D$4:D$5000, A702,Gifts!B$4:B$5000), \"\")","v":""}]
[null,{"$f":"IF(SUMIF(Gifts!D$4:D$5000, A703,Gifts!B$4:B$5000) > 0, SUMIF(Gifts!D$4:D$5000, A703,Gifts!B$4:B$5000), \"\")","v":""}]
[null,{"$f":"IF(SUMIF(Gifts!D$4:D$5000, A704,Gifts!B$4:B$5000) > 0, SUMIF(Gifts!D$4:D$5000, A704,Gifts!B$4:B$5000), \"\")","v":""}]
[null,{"$f":"IF(SUMIF(Gifts!D$4:D$5000, A705,Gifts!B$4:B$5000) > 0, SUMIF(Gifts!D$4:D$5000, A705,Gifts!B$4:B$5000), \"\")","v":""}]
[null,{"$f":"IF(SUMIF(Gifts!D$4:D$5000, A706,Gifts!B$4:B$5000) > 0, SUMIF(Gifts!D$4:D$5000, A706,Gifts!B$4:B$5000), \"\")","v":""}]
[null,{"$f":"IF(SUMIF(Gifts!D$4:D$5000, A707,Gifts!B$4:B$5000) > 0, SUMIF(Gifts!D$4:D$5000, A707,Gifts!B$4:B$5000), \"\")","v":""}]
[null,{"$f":"IF(SUMIF(Gifts!D$4:D$5000, A708,Gifts!B$4:B$5000) > 0, SUMIF(Gifts!D$4:D$5000, A708,Gifts!B$4:B$5000), \"\")","v":""}]
[null,{"$f":"IF(SUMIF(Gifts!D$4:D$5000, A709,Gifts!B$4:B$5000) > 0, SUMIF(Gifts!D$4:D$5000, A709,Gifts!B$4:B$5000), \"\")","v":""}]
[null,{"$f":"IF(SUMIF(Gifts!D$4:D$5000, A710,Gifts!B$4:B$5000) > 0, SUMIF(Gifts!D$4:D$5000, A710,Gifts!B$4:B$5000), \"\")","v":""}]
[null,{"$f":"IF(SUMIF(Gifts!D$4:D$5000, A711,Gifts!B$4:B$5000) > 0, SUMIF(Gifts!D$4:D$5000, A711,Gifts!B$4:B$5000), \"\")","v":""}]
[null,{"$f":"IF(SUMIF(Gifts!D$4:D$5000, A712,Gifts!B$4:B$5000) > 0, SUMIF(Gifts!D$4:D$5000, A712,Gifts!B$4:B$5000), \"\")","v":""}]
[null,{"$f":"IF(SUMIF(Gifts!D$4:D$5000, A713,Gifts!B$4:B$5000) > 0, SUMIF(Gifts!D$4:D$5000, A713,Gifts!B$4:B$5000), \"\")","v":""}]
[null,{"$f":"IF(SUMIF(Gifts!D$4:D$5000, A714,Gifts!B$4:B$5000) > 0, SUMIF(Gifts!D$4:D$5000, A714,Gifts!B$4:B$5000), \"\")","v":""}]
[null,{"$f":"IF(SUMIF(Gifts!D$4:D$5000, A715,Gifts!B$4:B$5000) > 0, SUMIF(Gifts!D$4:D$5000, A715,Gifts!B$4:B$5000), \"\")","v":""}]
[null,{"$f":"IF(SUMIF(Gifts!D$4:D$5000, A716,Gifts!B$4:B$5000) > 0, SUMIF(Gifts!D$4:D$5000, A716,Gifts!B$4:B$5000), \"\")","v":""}]
[null,{"$f":"IF(SUMIF(Gifts!D$4:D$5000, A717,Gifts!B$4:B$5000) > 0, SUMIF(Gifts!D$4:D$5000, A717,Gifts!B$4:B$5000), \"\")","v":""}]
[null,{"$f":"IF(SUMIF(Gifts!D$4:D$5000, A718,Gifts!B$4:B$5000) > 0, SUMIF(Gifts!D$4:D$5000, A718,Gifts!B$4:B$5000), \"\")","v":""}]
[null,{"$f":"IF(SUMIF(Gifts!D$4:D$5000, A719,Gifts!B$4:B$5000) > 0, SUMIF(Gifts!D$4:D$5000, A719,Gifts!B$4:B$5000), \"\")","v":""}]
[null,{"$f":"IF(SUMIF(Gifts!D$4:D$5000, A720,Gifts!B$4:B$5000) > 0, SUMIF(Gifts!D$4:D$5000, A720,Gifts!B$4:B$5000), \"\")","v":""}]
[null,{"$f":"IF(SUMIF(Gifts!D$4:D$5000, A721,Gifts!B$4:B$5000) > 0, SUMIF(Gifts!D$4:D$5000, A721,Gifts!B$4:B$5000), \"\")","v":""}]
[null,{"$f":"IF(SUMIF(Gifts!D$4:D$5000, A722,Gifts!B$4:B$5000) > 0, SUMIF(Gifts!D$4:D$5000, A722,Gifts!B$4:B$5000), \"\")","v":""}]
[null,{"$f":"IF(SUMIF(Gifts!D$4:D$5000, A723,Gifts!B$4:B$5000) > 0, SUMIF(Gifts!D$4:D$5000, A723,Gifts!B$4:B$5000), \"\")","v":""}]
[null,{"$f":"IF(SUMIF(Gifts!D$4:D$5000, A724,Gifts!B$4:B$5000) > 0, SUMIF(Gifts!D$4:D$5000, A724,Gifts!B$4:B$5000), \"\")","v":""}]
[null,{"$f":"IF(SUMIF(Gifts!D$4:D$5000, A725,Gifts!B$4:B$5000) > 0, SUMIF(Gifts!D$4:D$5000, A725,Gifts!B$4:B$5000), \"\")","v":""}]
[null,{"$f":"IF(SUMIF(Gifts!D$4:D$5000, A726,Gifts!B$4:B$5000) > 0, SUMIF(Gifts!D$4:D$5000, A726,Gifts!B$4:B$5000), \"\")","v":""}]
[null,{"$f":"IF(SUMIF(Gifts!D$4:D$5000, A727,Gifts!B$4:B$5000) > 0, SUMIF(Gifts!D$4:D$5000, A727,Gifts!B$4:B$5000), \"\")","v":""}]
[null,{"$f":"IF(SUMIF(Gifts!D$4:D$5000, A728,Gifts!B$4:B$5000) > 0, SUMIF(Gifts!D$4:D$5000, A728,Gifts!B$4:B$5000), \"\")","v":""}]
[null,{"$f":"IF(SUMIF(Gifts!D$4:D$5000, A729,Gifts!B$4:B$5000) > 0, SUMIF(Gifts!D$4:D$5000, A729,Gifts!B$4:B$5000), \"\")","v":""}]
[null,{"$f":"IF(SUMIF(Gifts!D$4:D$5000, A730,Gifts!B$4:B$5000) > 0, SUMIF(Gifts!D$4:D$5000, A730,Gifts!B$4:B$5000), \"\")","v":""}]
[null,{"$f":"IF(SUMIF(Gifts!D$4:D$5000, A731,Gifts!B$4:B$5000) > 0, SUMIF(Gifts!D$4:D$5000, A731,Gifts!B$4:B$5000), \"\")","v":""}]
[null,{"$f":"IF(SUMIF(Gifts!D$4:D$5000, A732,Gifts!B$4:B$5000) > 0, SUMIF(Gifts!D$4:D$5000, A732,Gifts!B$4:B$5000), \"\")","v":""}]
[null,{"$f":"IF(SUMIF(Gifts!D$4:D$5000, A733,Gifts!B$4:B$5000) > 0, SUMIF(Gifts!D$4:D$5000, A733,Gifts!B$4:B$5000), \"\")","v":""}]
[null,{"$f":"IF(SUMIF(Gifts!D$4:D$5000, A734,Gifts!B$4:B$5000) > 0, SUMIF(Gifts!D$4:D$5000, A734,Gifts!B$4:B$5000), \"\")","v":""}]
[null,{"$f":"IF(SUMIF(Gifts!D$4:D$5000, A735,Gifts!B$4:B$5000) > 0, SUMIF(Gifts!D$4:D$5000, A735,Gifts!B$4:B$5000), \"\")","v":""}]
[null,{"$f":"IF(SUMIF(Gifts!D$4:D$5000, A736,Gifts!B$4:B$5000) > 0, SUMIF(Gifts!D$4:D$5000, A736,Gifts!B$4:B$5000), \"\")","v":""}]
[null,{"$f":"IF(SUMIF(Gifts!D$4:D$5000, A737,Gifts!B$4:B$5000) > 0, SUMIF(Gifts!D$4:D$5000, A737,Gifts!B$4:B$5000), \"\")","v":""}]
[null,{"$f":"IF(SUMIF(Gifts!D$4:D$5000, A738,Gifts!B$4:B$5000) > 0, SUMIF(Gifts!D$4:D$5000, A738,Gifts!B$4:B$5000), \"\")","v":""}]
[null,{"$f":"IF(SUMIF(Gifts!D$4:D$5000, A739,Gifts!B$4:B$5000) > 0, SUMIF(Gifts!D$4:D$5000, A739,Gifts!B$4:B$5000), \"\")","v":""}]
[null,{"$f":"IF(SUMIF(Gifts!D$4:D$5000, A740,Gifts!B$4:B$5000) > 0, SUMIF(Gifts!D$4:D$5000, A740,Gifts!B$4:B$5000), \"\")","v":""}]
[null,{"$f":"IF(SUMIF(Gifts!D$4:D$5000, A741,Gifts!B$4:B$5000) > 0, SUMIF(Gifts!D$4:D$5000, A741,Gifts!B$4:B$5000), \"\")","v":""}]
[null,{"$f":"IF(SUMIF(Gifts!D$4:D$5000, A742,Gifts!B$4:B$5000) > 0, SUMIF(Gifts!D$4:D$5000, A742,Gifts!B$4:B$5000), \"\")","v":""}]
[null,{"$f":"IF(SUMIF(Gifts!D$4:D$5000, A743,Gifts!B$4:B$5000) > 0, SUMIF(Gifts!D$4:D$5000, A743,Gifts!B$4:B$5000), \"\")","v":""}]
[null,{"$f":"IF(SUMIF(Gifts!D$4:D$5000, A744,Gifts!B$4:B$5000) > 0, SUMIF(Gifts!D$4:D$5000, A744,Gifts!B$4:B$5000), \"\")","v":""}]
[null,{"$f":"IF(SUMIF(Gifts!D$4:D$5000, A745,Gifts!B$4:B$5000) > 0, SUMIF(Gifts!D$4:D$5000, A745,Gifts!B$4:B$5000), \"\")","v":""}]
[null,{"$f":"IF(SUMIF(Gifts!D$4:D$5000, A746,Gifts!B$4:B$5000) > 0, SUMIF(Gifts!D$4:D$5000, A746,Gifts!B$4:B$5000), \"\")","v":""}]
[null,{"$f":"IF(SUMIF(Gifts!D$4:D$5000, A747,Gifts!B$4:B$5000) > 0, SUMIF(Gifts!D$4:D$5000, A747,Gifts!B$4:B$5000), \"\")","v":""}]
[null,{"$f":"IF(SUMIF(Gifts!D$4:D$5000, A748,Gifts!B$4:B$5000) > 0, SUMIF(Gifts!D$4:D$5000, A748,Gifts!B$4:B$5000), \"\")","v":""}]
[null,{"$f":"IF(SUMIF(Gifts!D$4:D$5000, A749,Gifts!B$4:B$5000) > 0, SUMIF(Gifts!D$4:D$5000, A749,Gifts!B$4:B$5000), \"\")","v":""}]
[null,{"$f":"IF(SUMIF(Gifts!D$4:D$5000, A750,Gifts!B$4:B$5000) > 0, SUMIF(Gifts!D$4:D$5000, A750,Gifts!B$4:B$5000), \"\")","v":""}]
[null,{"$f":"IF(SUMIF(Gifts!D$4:D$5000, A751,Gifts!B$4:B$5000) > 0, SUMIF(Gifts!D$4:D$5000, A751,Gifts!B$4:B$5000), \"\")","v":""}]
[null,{"$f":"IF(SUMIF(Gifts!D$4:D$5000, A752,Gifts!B$4:B$5000) > 0, SUMIF(Gifts!D$4:D$5000, A752,Gifts!B$4:B$5000), \"\")","v":""}]
[null,{"$f":"IF(SUMIF(Gifts!D$4:D$5000, A753,Gifts!B$4:B$5000) > 0, SUMIF(Gifts!D$4:D$5000, A753,Gifts!B$4:B$5000), \"\")","v":""}]
[null,{"$f":"IF(SUMIF(Gifts!D$4:D$5000, A754,Gifts!B$4:B$5000) > 0, SUMIF(Gifts!D$4:D$5000, A754,Gifts!B$4:B$5000), \"\")","v":""}]
[null,{"$f":"IF(SUMIF(Gifts!D$4:D$5000, A755,Gifts!B$4:B$5000) > 0, SUMIF(Gifts!D$4:D$5000, A755,Gifts!B$4:B$5000), \"\")","v":""}]
[null,{"$f":"IF(SUMIF(Gifts!D$4:D$5000, A756,Gifts!B$4:B$5000) > 0, SUMIF(Gifts!D$4:D$5000, A756,Gifts!B$4:B$5000), \"\")","v":""}]
[null,{"$f":"IF(SUMIF(Gifts!D$4:D$5000, A757,Gifts!B$4:B$5000) > 0, SUMIF(Gifts!D$4:D$5000, A757,Gifts!B$4:B$5000), \"\")","v":""}]
[null,{"$f":"IF(SUMIF(Gifts!D$4:D$5000, A758,Gifts!B$4:B$5000) > 0, SUMIF(Gifts!D$4:D$5000, A758,Gifts!B$4:B$5000), \"\")","v":""}]
[null,{"$f":"IF(SUMIF(Gifts!D$4:D$5000, A759,Gifts!B$4:B$5000) > 0, SUMIF(Gifts!D$4:D$5000, A759,Gifts!B$4:B$5000), \"\")","v":""}]
[null,{"$f":"IF(SUMIF(Gifts!D$4:D$5000, A760,Gifts!B$4:B$5000) > 0, SUMIF(Gifts!D$4:D$5000, A760,Gifts!B$4:B$5000), \"\")","v":""}]
[null,{"$f":"IF(SUMIF(Gifts!D$4:D$5000, A761,Gifts!B$4:B$5000) > 0, SUMIF(Gifts!D$4:D$5000, A761,Gifts!B$4:B$5000), \"\")","v":""}]
[null,{"$f":"IF(SUMIF(Gifts!D$4:D$5000, A762,Gifts!B$4:B$5000) > 0, SUMIF(Gifts!D$4:D$5000, A762,Gifts!B$4:B$5000), \"\")","v":""}]
[null,{"$f":"IF(SUMIF(Gifts!D$4:D$5000, A763,Gifts!B$4:B$5000) > 0, SUMIF(Gifts!D$4:D$5000, A763,Gifts!B$4:B$5000), \"\")","v":""}]
[null,{"$f":"IF(SUMIF(Gifts!D$4:D$5000, A764,Gifts!B$4:B$5000) > 0, SUMIF(Gifts!D$4:D$5000, A764,Gifts!B$4:B$5000), \"\")","v":""}]
[null,{"$f":"IF(SUMIF(Gifts!D$4:D$5000, A765,Gifts!B$4:B$5000) > 0, SUMIF(Gifts!D$4:D$5000, A765,Gifts!B$4:B$5000), \"\")","v":""}]
[null,{"$f":"IF(SUMIF(Gifts!D$4:D$5000, A766,Gifts!B$4:B$5000) > 0, SUMIF(Gifts!D$4:D$5000, A766,Gifts!B$4:B$5000), \"\")","v":""}]
[null,{"$f":"IF(SUMIF(Gifts!D$4:D$5000, A767,Gifts!B$4:B$5000) > 0, SUMIF(Gifts!D$4:D$5000, A767,Gifts!B$4:B$5000), \"\")","v":""}]
[null,{"$f":"IF(SUMIF(Gifts!D$4:D$5000, A768,Gifts!B$4:B$5000) > 0, SUMIF(Gifts!D$4:D$5000, A768,Gifts!B$4:B$5000), \"\")","v":""}]
[null,{"$f":"IF(SUMIF(Gifts!D$4:D$5000, A769,Gifts!B$4:B$5000) > 0, SUMIF(Gifts!D$4:D$5000, A769,Gifts!B$4:B$5000), \"\")","v":""}]
[null,{"$f":"IF(SUMIF(Gifts!D$4:D$5000, A770,Gifts!B$4:B$5000) > 0, SUMIF(Gifts!D$4:D$5000, A770,Gifts!B$4:B$5000), \"\")","v":""}]
[null,{"$f":"IF(SUMIF(Gifts!D$4:D$5000, A771,Gifts!B$4:B$5000) > 0, SUMIF(Gifts!D$4:D$5000, A771,Gifts!B$4:B$5000), \"\")","v":""}]
[null,{"$f":"IF(SUMIF(Gifts!D$4:D$5000, A772,Gifts!B$4:B$5000) > 0, SUMIF(Gifts!D$4:D$5000, A772,Gifts!B$4:B$5000), \"\")","v":""}]
[null,{"$f":"IF(SUMIF(Gifts!D$4:D$5000, A773,Gifts!B$4:B$5000) > 0, SUMIF(Gifts!D$4:D$5000, A773,Gifts!B$4:B$5000), \"\")","v":""}]
[null,{"$f":"IF(SUMIF(Gifts!D$4:D$5000, A774,Gifts!B$4:B$5000) > 0, SUMIF(Gifts!D$4:D$5000, A774,Gifts!B$4:B$5000), \"\")","v":""}]
[null,{"$f":"IF(SUMIF(Gifts!D$4:D$5000, A775,Gifts!B$4:B$5000) > 0, SUMIF(Gifts!D$4:D$5000, A775,Gifts!B$4:B$5000), \"\")","v":""}]
[null,{"$f":"IF(SUMIF(Gifts!D$4:D$5000, A776,Gifts!B$4:B$5000) > 0, SUMIF(Gifts!D$4:D$5000, A776,Gifts!B$4:B$5000), \"\")","v":""}]
[null,{"$f":"IF(SUMIF(Gifts!D$4:D$5000, A777,Gifts!B$4:B$5000) > 0, SUMIF(Gifts!D$4:D$5000, A777,Gifts!B$4:B$5000), \"\")","v":""}]
[null,{"$f":"IF(SUMIF(Gifts!D$4:D$5000, A778,Gifts!B$4:B$5000) > 0, SUMIF(Gifts!D$4:D$5000, A778,Gifts!B$4:B$5000), \"\")","v":""}]
[null,{"$f":"IF(SUMIF(Gifts!D$4:D$5000, A779,Gifts!B$4:B$5000) > 0, SUMIF(Gifts!D$4:D$5000, A779,Gifts!B$4:B$5000), \"\")","v":""}]
[null,{"$f":"IF(SUMIF(Gifts!D$4:D$5000, A780,Gifts!B$4:B$5000) > 0, SUMIF(Gifts!D$4:D$5000, A780,Gifts!B$4:B$5000), \"\")","v":""}]
[null,{"$f":"IF(SUMIF(Gifts!D$4:D$5000, A781,Gifts!B$4:B$5000) > 0, SUMIF(Gifts!D$4:D$5000, A781,Gifts!B$4:B$5000), \"\")","v":""}]
[null,{"$f":"IF(SUMIF(Gifts!D$4:D$5000, A782,Gifts!B$4:B$5000) > 0, SUMIF(Gifts!D$4:D$5000, A782,Gifts!B$4:B$5000), \"\")","v":""}]
[null,{"$f":"IF(SUMIF(Gifts!D$4:D$5000, A783,Gifts!B$4:B$5000) > 0, SUMIF(Gifts!D$4:D$5000, A783,Gifts!B$4:B$5000), \"\")","v":""}]
[null,{"$f":"IF(SUMIF(Gifts!D$4:D$5000, A784,Gifts!B$4:B$5000) > 0, SUMIF(Gifts!D$4:D$5000, A784,Gifts!B$4:B$5000), \"\")","v":""}]
[null,{"$f":"IF(SUMIF(Gifts!D$4:D$5000, A785,Gifts!B$4:B$5000) > 0, SUMIF(Gifts!D$4:D$5000, A785,Gifts!B$4:B$5000), \"\")","v":""}]
[null,{"$f":"IF(SUMIF(Gifts!D$4:D$5000, A786,Gifts!B$4:B$5000) > 0, SUMIF(Gifts!D$4:D$5000, A786,Gifts!B$4:B$5000), \"\")","v":""}]
[null,{"$f":"IF(SUMIF(Gifts!D$4:D$5000, A787,Gifts!B$4:B$5000) > 0, SUMIF(Gifts!D$4:D$5000, A787,Gifts!B$4:B$5000), \"\")","v":""}]
[null,{"$f":"IF(SUMIF(Gifts!D$4:D$5000, A788,Gifts!B$4:B$5000) > 0, SUMIF(Gifts!D$4:D$5000, A788,Gifts!B$4:B$5000), \"\")","v":""}]
[null,{"$f":"IF(SUMIF(Gifts!D$4:D$5000, A789,Gifts!B$4:B$5000) > 0, SUMIF(Gifts!D$4:D$5000, A789,Gifts!B$4:B$5000), \"\")","v":""}]
[null,{"$f":"IF(SUMIF(Gifts!D$4:D$5000, A790,Gifts!B$4:B$5000) > 0, SUMIF(Gifts!D$4:D$5000, A790,Gifts!B$4:B$5000), \"\")","v":""}]
[null,{"$f":"IF(SUMIF(Gifts!D$4:D$5000, A791,Gifts!B$4:B$5000) > 0, SUMIF(Gifts!D$4:D$5000, A791,Gifts!B$4:B$5000), \"\")","v":""}]
[null,{"$f":"IF(SUMIF(Gifts!D$4:D$5000, A792,Gifts!B$4:B$5000) > 0, SUMIF(Gifts!D$4:D$5000, A792,Gifts!B$4:B$5000), \"\")","v":""}]
[null,{"$f":"IF(SUMIF(Gifts!D$4:D$5000, A793,Gifts!B$4:B$5000) > 0, SUMIF(Gifts!D$4:D$5000, A793,Gifts!B$4:B$5000), \"\")","v":""}]
[null,{"$f":"IF(SUMIF(Gifts!D$4:D$5000, A794,Gifts!B$4:B$5000) > 0, SUMIF(Gifts!D$4:D$5000, A794,Gifts!B$4:B$5000), \"\")","v":""}]
[null,{"$f":"IF(SUMIF(Gifts!D$4:D$5000, A795,Gifts!B$4:B$5000) > 0, SUMIF(Gifts!D$4:D$5000, A795,Gifts!B$4:B$5000), \"\")","v":""}]
[null,{"$f":"IF(SUMIF(Gifts!D$4:D$5000, A796,Gifts!B$4:B$5000) > 0, SUMIF(Gifts!D$4:D$5000, A796,Gifts!B$4:B$5000), \"\")","v":""}]
[null,{"$f":"IF(SUMIF(Gifts!D$4:D$5000, A797,Gifts!B$4:B$5000) > 0, SUMIF(Gifts!D$4:D$5000, A797,Gifts!B$4:B$5000), \"\")","v":""}]
[null,{"$f":"IF(SUMIF(Gifts!D$4:D$5000, A798,Gifts!B$4:B$5000) > 0, SUMIF(Gifts!D$4:D$5000, A798,Gifts!B$4:B$5000), \"\")","v":""}]
[null,{"$f":"IF(SUMIF(Gifts!D$4:D$5000, A799,Gifts!B$4:B$5000) > 0, SUMIF(Gifts!D$4:D$5000, A799,Gifts!B$4:B$5000), \"\")","v":""}]
[null,{"$f":"IF(SUMIF(Gifts!D$4:D$5000, A800,Gifts!B$4:B$5000) > 0, SUMIF(Gifts!D$4:D$5000, A800,Gifts!B$4:B$5000), \"\")","v":""}]
[null,{"$f":"IF(SUMIF(Gifts!D$4:D$5000, A801,Gifts!B$4:B$5000) > 0, SUMIF(Gifts!D$4:D$5000, A801,Gifts!B$4:B$5000), \"\")","v":""}]
[null,{"$f":"IF(SUMIF(Gifts!D$4:D$5000, A802,Gifts!B$4:B$5000) > 0, SUMIF(Gifts!D$4:D$5000, A802,Gifts!B$4:B$5000), \"\")","v":""}]
[null,{"$f":"IF(SUMIF(Gifts!D$4:D$5000, A803,Gifts!B$4:B$5000) > 0, SUMIF(Gifts!D$4:D$5000, A803,Gifts!B$4:B$5000), \"\")","v":""}]
[null,{"$f":"IF(SUMIF(Gifts!D$4:D$5000, A804,Gifts!B$4:B$5000) > 0, SUMIF(Gifts!D$4:D$5000, A804,Gifts!B$4:B$5000), \"\")","v":""}]
[null,{"$f":"IF(SUMIF(Gifts!D$4:D$5000, A805,Gifts!B$4:B$5000) > 0, SUMIF(Gifts!D$4:D$5000, A805,Gifts!B$4:B$5000), \"\")","v":""}]
[null,{"$f":"IF(SUMIF(Gifts!D$4:D$5000, A806,Gifts!B$4:B$5000) > 0, SUMIF(Gifts!D$4:D$5000, A806,Gifts!B$4:B$5000), \"\")","v":""}]
[null,{"$f":"IF(SUMIF(Gifts!D$4:D$5000, A807,Gifts!B$4:B$5000) > 0, SUMIF(Gifts!D$4:D$5000, A807,Gifts!B$4:B$5000), \"\")","v":""}]
[null,{"$f":"IF(SUMIF(Gifts!D$4:D$5000, A808,Gifts!B$4:B$5000) > 0, SUMIF(Gifts!D$4:D$5000, A808,Gifts!B$4:B$5000), \"\")","v":""}]
[null,{"$f":"IF(SUMIF(Gifts!D$4:D$5000, A809,Gifts!B$4:B$5000) > 0, SUMIF(Gifts!D$4:D$5000, A809,Gifts!B$4:B$5000), \"\")","v":""}]
[null,{"$f":"IF(SUMIF(Gifts!D$4:D$5000, A810,Gifts!B$4:B$5000) > 0, SUMIF(Gifts!D$4:D$5000, A810,Gifts!B$4:B$5000), \"\")","v":""}]
[null,{"$f":"IF(SUMIF(Gifts!D$4:D$5000, A811,Gifts!B$4:B$5000) > 0, SUMIF(Gifts!D$4:D$5000, A811,Gifts!B$4:B$5000), \"\")","v":""}]
[null,{"$f":"IF(SUMIF(Gifts!D$4:D$5000, A812,Gifts!B$4:B$5000) > 0, SUMIF(Gifts!D$4:D$5000, A812,Gifts!B$4:B$5000), \"\")","v":""}]
[null,{"$f":"IF(SUMIF(Gifts!D$4:D$5000, A813,Gifts!B$4:B$5000) > 0, SUMIF(Gifts!D$4:D$5000, A813,Gifts!B$4:B$5000), \"\")","v":""}]
[null,{"$f":"IF(SUMIF(Gifts!D$4:D$5000, A814,Gifts!B$4:B$5000) > 0, SUMIF(Gifts!D$4:D$5000, A814,Gifts!B$4:B$5000), \"\")","v":""}]
[null,{"$f":"IF(SUMIF(Gifts!D$4:D$5000, A815,Gifts!B$4:B$5000) > 0, SUMIF(Gifts!D$4:D$5000, A815,Gifts!B$4:B$5000), \"\")","v":""}]
[null,{"$f":"IF(SUMIF(Gifts!D$4:D$5000, A816,Gifts!B$4:B$5000) > 0, SUMIF(Gifts!D$4:D$5000, A816,Gifts!B$4:B$5000), \"\")","v":""}]
[null,{"$f":"IF(SUMIF(Gifts!D$4:D$5000, A817,Gifts!B$4:B$5000) > 0, SUMIF(Gifts!D$4:D$5000, A817,Gifts!B$4:B$5000), \"\")","v":""}]
[null,{"$f":"IF(SUMIF(Gifts!D$4:D$5000, A818,Gifts!B$4:B$5000) > 0, SUMIF(Gifts!D$4:D$5000, A818,Gifts!B$4:B$5000), \"\")","v":""}]
[null,{"$f":"IF(SUMIF(Gifts!D$4:D$5000, A819,Gifts!B$4:B$5000) > 0, SUMIF(Gifts!D$4:D$5000, A819,Gifts!B$4:B$5000), \"\")","v":""}]
[null,{"$f":"IF(SUMIF(Gifts!D$4:D$5000, A820,Gifts!B$4:B$5000) > 0, SUMIF(Gifts!D$4:D$5000, A820,Gifts!B$4:B$5000), \"\")","v":""}]
[null,{"$f":"IF(SUMIF(Gifts!D$4:D$5000, A821,Gifts!B$4:B$5000) > 0, SUMIF(Gifts!D$4:D$5000, A821,Gifts!B$4:B$5000), \"\")","v":""}]
[null,{"$f":"IF(SUMIF(Gifts!D$4:D$5000, A822,Gifts!B$4:B$5000) > 0, SUMIF(Gifts!D$4:D$5000, A822,Gifts!B$4:B$5000), \"\")","v":""}]
[null,{"$f":"IF(SUMIF(Gifts!D$4:D$5000, A823,Gifts!B$4:B$5000) > 0, SUMIF(Gifts!D$4:D$5000, A823,Gifts!B$4:B$5000), \"\")","v":""}]
[null,{"$f":"IF(SUMIF(Gifts!D$4:D$5000, A824,Gifts!B$4:B$5000) > 0, SUMIF(Gifts!D$4:D$5000, A824,Gifts!B$4:B$5000), \"\")","v":""}]
[null,{"$f":"IF(SUMIF(Gifts!D$4:D$5000, A825,Gifts!B$4:B$5000) > 0, SUMIF(Gifts!D$4:D$5000, A825,Gifts!B$4:B$5000), \"\")","v":""}]
[null,{"$f":"IF(SUMIF(Gifts!D$4:D$5000, A826,Gifts!B$4:B$5000) > 0, SUMIF(Gifts!D$4:D$5000, A826,Gifts!B$4:B$5000), \"\")","v":""}]
[null,{"$f":"IF(SUMIF(Gifts!D$4:D$5000, A827,Gifts!B$4:B$5000) > 0, SUMIF(Gifts!D$4:D$5000, A827,Gifts!B$4:B$5000), \"\")","v":""}]
[null,{"$f":"IF(SUMIF(Gifts!D$4:D$5000, A828,Gifts!B$4:B$5000) > 0, SUMIF(Gifts!D$4:D$5000, A828,Gifts!B$4:B$5000), \"\")","v":""}]
[null,{"$f":"IF(SUMIF(Gifts!D$4:D$5000, A829,Gifts!B$4:B$5000) > 0, SUMIF(Gifts!D$4:D$5000, A829,Gifts!B$4:B$5000), \"\")","v":""}]
[null,{"$f":"IF(SUMIF(Gifts!D$4:D$5000, A830,Gifts!B$4:B$5000) > 0, SUMIF(Gifts!D$4:D$5000, A830,Gifts!B$4:B$5000), \"\")","v":""}]
[null,{"$f":"IF(SUMIF(Gifts!D$4:D$5000, A831,Gifts!B$4:B$5000) > 0, SUMIF(Gifts!D$4:D$5000, A831,Gifts!B$4:B$5000), \"\")","v":""}]
[null,{"$f":"IF(SUMIF(Gifts!D$4:D$5000, A832,Gifts!B$4:B$5000) > 0, SUMIF(Gifts!D$4:D$5000, A832,Gifts!B$4:B$5000), \"\")","v":""}]
[null,{"$f":"IF(SUMIF(Gifts!D$4:D$5000, A833,Gifts!B$4:B$5000) > 0, SUMIF(Gifts!D$4:D$5000, A833,Gifts!B$4:B$5000), \"\")","v":""}]
[null,{"$f":"IF(SUMIF(Gifts!D$4:D$5000, A834,Gifts!B$4:B$5000) > 0, SUMIF(Gifts!D$4:D$5000, A834,Gifts!B$4:B$5000), \"\")","v":""}]
[null,{"$f":"IF(SUMIF(Gifts!D$4:D$5000, A835,Gifts!B$4:B$5000) > 0, SUMIF(Gifts!D$4:D$5000, A835,Gifts!B$4:B$5000), \"\")","v":""}]
[null,{"$f":"IF(SUMIF(Gifts!D$4:D$5000, A836,Gifts!B$4:B$5000) > 0, SUMIF(Gifts!D$4:D$5000, A836,Gifts!B$4:B$5000), \"\")","v":""}]
[null,{"$f":"IF(SUMIF(Gifts!D$4:D$5000, A837,Gifts!B$4:B$5000) > 0, SUMIF(Gifts!D$4:D$5000, A837,Gifts!B$4:B$5000), \"\")","v":""}]
[null,{"$f":"IF(SUMIF(Gifts!D$4:D$5000, A838,Gifts!B$4:B$5000) > 0, SUMIF(Gifts!D$4:D$5000, A838,Gifts!B$4:B$5000), \"\")","v":""}]
[null,{"$f":"IF(SUMIF(Gifts!D$4:D$5000, A839,Gifts!B$4:B$5000) > 0, SUMIF(Gifts!D$4:D$5000, A839,Gifts!B$4:B$5000), \"\")","v":""}]
[null,{"$f":"IF(SUMIF(Gifts!D$4:D$5000, A840,Gifts!B$4:B$5000) > 0, SUMIF(Gifts!D$4:D$5000, A840,Gifts!B$4:B$5000), \"\")","v":""}]
[null,{"$f":"IF(SUMIF(Gifts!D$4:D$5000, A841,Gifts!B$4:B$5000) > 0, SUMIF(Gifts!D$4:D$5000, A841,Gifts!B$4:B$5000), \"\")","v":""}]
[null,{"$f":"IF(SUMIF(Gifts!D$4:D$5000, A842,Gifts!B$4:B$5000) > 0, SUMIF(Gifts!D$4:D$5000, A842,Gifts!B$4:B$5000), \"\")","v":""}]
[null,{"$f":"IF(SUMIF(Gifts!D$4:D$5000, A843,Gifts!B$4:B$5000) > 0, SUMIF(Gifts!D$4:D$5000, A843,Gifts!B$4:B$5000), \"\")","v":""}]
[null,{"$f":"IF(SUMIF(Gifts!D$4:D$5000, A844,Gifts!B$4:B$5000) > 0, SUMIF(Gifts!D$4:D$5000, A844,Gifts!B$4:B$5000), \"\")","v":""}]
[null,{"$f":"IF(SUMIF(Gifts!D$4:D$5000, A845,Gifts!B$4:B$5000) > 0, SUMIF(Gifts!D$4:D$5000, A845,Gifts!B$4:B$5000), \"\")","v":""}]
[null,{"$f":"IF(SUMIF(Gifts!D$4:D$5000, A846,Gifts!B$4:B$5000) > 0, SUMIF(Gifts!D$4:D$5000, A846,Gifts!B$4:B$5000), \"\")","v":""}]
[null,{"$f":"IF(SUMIF(Gifts!D$4:D$5000, A847,Gifts!B$4:B$5000) > 0, SUMIF(Gifts!D$4:D$5000, A847,Gifts!B$4:B$5000), \"\")","v":""}]
[null,{"$f":"IF(SUMIF(Gifts!D$4:D$5000, A848,Gifts!B$4:B$5000) > 0, SUMIF(Gifts!D$4:D$5000, A848,Gifts!B$4:B$5000), \"\")","v":""}]
[null,{"$f":"IF(SUMIF(Gifts!D$4:D$5000, A849,Gifts!B$4:B$5000) > 0, SUMIF(Gifts!D$4:D$5000, A849,Gifts!B$4:B$5000), \"\")","v":""}]
[null,{"$f":"IF(SUMIF(Gifts!D$4:D$5000, A850,Gifts!B$4:B$5000) > 0, SUMIF(Gifts!D$4:D$5000, A850,Gifts!B$4:B$5000), \"\")","v":""}]
[null,{"$f":"IF(SUMIF(Gifts!D$4:D$5000, A851,Gifts!B$4:B$5000) > 0, SUMIF(Gifts!D$4:D$5000, A851,Gifts!B$4:B$5000), \"\")","v":""}]
[null,{"$f":"IF(SUMIF(Gifts!D$4:D$5000, A852,Gifts!B$4:B$5000) > 0, SUMIF(Gifts!D$4:D$5000, A852,Gifts!B$4:B$5000), \"\")","v":""}]
[null,{"$f":"IF(SUMIF(Gifts!D$4:D$5000, A853,Gifts!B$4:B$5000) > 0, SUMIF(Gifts!D$4:D$5000, A853,Gifts!B$4:B$5000), \"\")","v":""}]
[null,{"$f":"IF(SUMIF(Gifts!D$4:D$5000, A854,Gifts!B$4:B$5000) > 0, SUMIF(Gifts!D$4:D$5000, A854,Gifts!B$4:B$5000), \"\")","v":""}]
[null,{"$f":"IF(SUMIF(Gifts!D$4:D$5000, A855,Gifts!B$4:B$5000) > 0, SUMIF(Gifts!D$4:D$5000, A855,Gifts!B$4:B$5000), \"\")","v":""}]
[null,{"$f":"IF(SUMIF(Gifts!D$4:D$5000, A856,Gifts!B$4:B$5000) > 0, SUMIF(Gifts!D$4:D$5000, A856,Gifts!B$4:B$5000), \"\")","v":""}]
[null,{"$f":"IF(SUMIF(Gifts!D$4:D$5000, A857,Gifts!B$4:B$5000) > 0, SUMIF(Gifts!D$4:D$5000, A857,Gifts!B$4:B$5000), \"\")","v":""}]
[null,{"$f":"IF(SUMIF(Gifts!D$4:D$5000, A858,Gifts!B$4:B$5000) > 0, SUMIF(Gifts!D$4:D$5000, A858,Gifts!B$4:B$5000), \"\")","v":""}]
[null,{"$f":"IF(SUMIF(Gifts!D$4:D$5000, A859,Gifts!B$4:B$5000) > 0, SUMIF(Gifts!D$4:D$5000, A859,Gifts!B$4:B$5000), \"\")","v":""}]
[null,{"$f":"IF(SUMIF(Gifts!D$4:D$5000, A860,Gifts!B$4:B$5000) > 0, SUMIF(Gifts!D$4:D$5000, A860,Gifts!B$4:B$5000), \"\")","v":""}]
[null,{"$f":"IF(SUMIF(Gifts!D$4:D$5000, A861,Gifts!B$4:B$5000) > 0, SUMIF(Gifts!D$4:D$5000, A861,Gifts!B$4:B$5000), \"\")","v":""}]
[null,{"$f":"IF(SUMIF(Gifts!D$4:D$5000, A862,Gifts!B$4:B$5000) > 0, SUMIF(Gifts!D$4:D$5000, A862,Gifts!B$4:B$5000), \"\")","v":""}]
[null,{"$f":"IF(SUMIF(Gifts!D$4:D$5000, A863,Gifts!B$4:B$5000) > 0, SUMIF(Gifts!D$4:D$5000, A863,Gifts!B$4:B$5000), \"\")","v":""}]
[null,{"$f":"IF(SUMIF(Gifts!D$4:D$5000, A864,Gifts!B$4:B$5000) > 0, SUMIF(Gifts!D$4:D$5000, A864,Gifts!B$4:B$5000), \"\")","v":""}]
[null,{"$f":"IF(SUMIF(Gifts!D$4:D$5000, A865,Gifts!B$4:B$5000) > 0, SUMIF(Gifts!D$4:D$5000, A865,Gifts!B$4:B$5000), \"\")","v":""}]
[null,{"$f":"IF(SUMIF(Gifts!D$4:D$5000, A866,Gifts!B$4:B$5000) > 0, SUMIF(Gifts!D$4:D$5000, A866,Gifts!B$4:B$5000), \"\")","v":""}]
[null,{"$f":"IF(SUMIF(Gifts!D$4:D$5000, A867,Gifts!B$4:B$5000) > 0, SUMIF(Gifts!D$4:D$5000, A867,Gifts!B$4:B$5000), \"\")","v":""}]
[null,{"$f":"IF(SUMIF(Gifts!D$4:D$5000, A868,Gifts!B$4:B$5000) > 0, SUMIF(Gifts!D$4:D$5000, A868,Gifts!B$4:B$5000), \"\")","v":""}]
[null,{"$f":"IF(SUMIF(Gifts!D$4:D$5000, A869,Gifts!B$4:B$5000) > 0, SUMIF(Gifts!D$4:D$5000, A869,Gifts!B$4:B$5000), \"\")","v":""}]
[null,{"$f":"IF(SUMIF(Gifts!D$4:D$5000, A870,Gifts!B$4:B$5000) > 0, SUMIF(Gifts!D$4:D$5000, A870,Gifts!B$4:B$5000), \"\")","v":""}]
[null,{"$f":"IF(SUMIF(Gifts!D$4:D$5000, A871,Gifts!B$4:B$5000) > 0, SUMIF(Gifts!D$4:D$5000, A871,Gifts!B$4:B$5000), \"\")","v":""}]
[null,{"$f":"IF(SUMIF(Gifts!D$4:D$5000, A872,Gifts!B$4:B$5000) > 0, SUMIF(Gifts!D$4:D$5000, A872,Gifts!B$4:B$5000), \"\")","v":""}]
[null,{"$f":"IF(SUMIF(Gifts!D$4:D$5000, A873,Gifts!B$4:B$5000) > 0, SUMIF(Gifts!D$4:D$5000, A873,Gifts!B$4:B$5000), \"\")","v":""}]
[null,{"$f":"IF(SUMIF(Gifts!D$4:D$5000, A874,Gifts!B$4:B$5000) > 0, SUMIF(Gifts!D$4:D$5000, A874,Gifts!B$4:B$5000), \"\")","v":""}]
[null,{"$f":"IF(SUMIF(Gifts!D$4:D$5000, A875,Gifts!B$4:B$5000) > 0, SUMIF(Gifts!D$4:D$5000, A875,Gifts!B$4:B$5000), \"\")","v":""}]
[null,{"$f":"IF(SUMIF(Gifts!D$4:D$5000, A876,Gifts!B$4:B$5000) > 0, SUMIF(Gifts!D$4:D$5000, A876,Gifts!B$4:B$5000), \"\")","v":""}]
[null,{"$f":"IF(SUMIF(Gifts!D$4:D$5000, A877,Gifts!B$4:B$5000) > 0, SUMIF(Gifts!D$4:D$5000, A877,Gifts!B$4:B$5000), \"\")","v":""}]
[null,{"$f":"IF(SUMIF(Gifts!D$4:D$5000, A878,Gifts!B$4:B$5000) > 0, SUMIF(Gifts!D$4:D$5000, A878,Gifts!B$4:B$5000), \"\")","v":""}]
[null,{"$f":"IF(SUMIF(Gifts!D$4:D$5000, A879,Gifts!B$4:B$5000) > 0, SUMIF(Gifts!D$4:D$5000, A879,Gifts!B$4:B$5000), \"\")","v":""}]
[null,{"$f":"IF(SUMIF(Gifts!D$4:D$5000, A880,Gifts!B$4:B$5000) > 0, SUMIF(Gifts!D$4:D$5000, A880,Gifts!B$4:B$5000), \"\")","v":""}]
[null,{"$f":"IF(SUMIF(Gifts!D$4:D$5000, A881,Gifts!B$4:B$5000) > 0, SUMIF(Gifts!D$4:D$5000, A881,Gifts!B$4:B$5000), \"\")","v":""}]
[null,{"$f":"IF(SUMIF(Gifts!D$4:D$5000, A882,Gifts!B$4:B$5000) > 0, SUMIF(Gifts!D$4:D$5000, A882,Gifts!B$4:B$5000), \"\")","v":""}]
[null,{"$f":"IF(SUMIF(Gifts!D$4:D$5000, A883,Gifts!B$4:B$5000) > 0, SUMIF(Gifts!D$4:D$5000, A883,Gifts!B$4:B$5000), \"\")","v":""}]
[null,{"$f":"IF(SUMIF(Gifts!D$4:D$5000, A884,Gifts!B$4:B$5000) > 0, SUMIF(Gifts!D$4:D$5000, A884,Gifts!B$4:B$5000), \"\")","v":""}]
[null,{"$f":"IF(SUMIF(Gifts!D$4:D$5000, A885,Gifts!B$4:B$5000) > 0, SUMIF(Gifts!D$4:D$5000, A885,Gifts!B$4:B$5000), \"\")","v":""}]
[null,{"$f":"IF(SUMIF(Gifts!D$4:D$5000, A886,Gifts!B$4:B$5000) > 0, SUMIF(Gifts!D$4:D$5000, A886,Gifts!B$4:B$5000), \"\")","v":""}]
[null,{"$f":"IF(SUMIF(Gifts!D$4:D$5000, A887,Gifts!B$4:B$5000) > 0, SUMIF(Gifts!D$4:D$5000, A887,Gifts!B$4:B$5000), \"\")","v":""}]
[null,{"$f":"IF(SUMIF(Gifts!D$4:D$5000, A888,Gifts!B$4:B$5000) > 0, SUMIF(Gifts!D$4:D$5000, A888,Gifts!B$4:B$5000), \"\")","v":""}]
[null,{"$f":"IF(SUMIF(Gifts!D$4:D$5000, A889,Gifts!B$4:B$5000) > 0, SUMIF(Gifts!D$4:D$5000, A889,Gifts!B$4:B$5000), \"\")","v":""}]
[null,{"$f":"IF(SUMIF(Gifts!D$4:D$5000, A890,Gifts!B$4:B$5000) > 0, SUMIF(Gifts!D$4:D$5000, A890,Gifts!B$4:B$5000), \"\")","v":""}]
[null,{"$f":"IF(SUMIF(Gifts!D$4:D$5000, A891,Gifts!B$4:B$5000) > 0, SUMIF(Gifts!D$4:D$5000, A891,Gifts!B$4:B$5000), \"\")","v":""}]
[null,{"$f":"IF(SUMIF(Gifts!D$4:D$5000, A892,Gifts!B$4:B$5000) > 0, SUMIF(Gifts!D$4:D$5000, A892,Gifts!B$4:B$5000), \"\")","v":""}]
[null,{"$f":"IF(SUMIF(Gifts!D$4:D$5000, A893,Gifts!B$4:B$5000) > 0, SUMIF(Gifts!D$4:D$5000, A893,Gifts!B$4:B$5000), \"\")","v":""}]
[null,{"$f":"IF(SUMIF(Gifts!D$4:D$5000, A894,Gifts!B$4:B$5000) > 0, SUMIF(Gifts!D$4:D$5000, A894,Gifts!B$4:B$5000), \"\")","v":""}]
[null,{"$f":"IF(SUMIF(Gifts!D$4:D$5000, A895,Gifts!B$4:B$5000) > 0, SUMIF(Gifts!D$4:D$5000, A895,Gifts!B$4:B$5000), \"\")","v":""}]
[null,{"$f":"IF(SUMIF(Gifts!D$4:D$5000, A896,Gifts!B$4:B$5000) > 0, SUMIF(Gifts!D$4:D$5000, A896,Gifts!B$4:B$5000), \"\")","v":""}]
[null,{"$f":"IF(SUMIF(Gifts!D$4:D$5000, A897,Gifts!B$4:B$5000) > 0, SUMIF(Gifts!D$4:D$5000, A897,Gifts!B$4:B$5000), \"\")","v":""}]
[null,{"$f":"IF(SUMIF(Gifts!D$4:D$5000, A898,Gifts!B$4:B$5000) > 0, SUMIF(Gifts!D$4:D$5000, A898,Gifts!B$4:B$5000), \"\")","v":""}]
[null,{"$f":"IF(SUMIF(Gifts!D$4:D$5000, A899,Gifts!B$4:B$5000) > 0, SUMIF(Gifts!D$4:D$5000, A899,Gifts!B$4:B$5000), \"\")","v":""}]
[null,{"$f":"IF(SUMIF(Gifts!D$4:D$5000, A900,Gifts!B$4:B$5000) > 0, SUMIF(Gifts!D$4:D$5000, A900,Gifts!B$4:B$5000), \"\")","v":""}]
[null,{"$f":"IF(SUMIF(Gifts!D$4:D$5000, A901,Gifts!B$4:B$5000) > 0, SUMIF(Gifts!D$4:D$5000, A901,Gifts!B$4:B$5000), \"\")","v":""}]
[null,{"$f":"IF(SUMIF(Gifts!D$4:D$5000, A902,Gifts!B$4:B$5000) > 0, SUMIF(Gifts!D$4:D$5000, A902,Gifts!B$4:B$5000), \"\")","v":""}]
[null,{"$f":"IF(SUMIF(Gifts!D$4:D$5000, A903,Gifts!B$4:B$5000) > 0, SUMIF(Gifts!D$4:D$5000, A903,Gifts!B$4:B$5000), \"\")","v":""}]
[null,{"$f":"IF(SUMIF(Gifts!D$4:D$5000, A904,Gifts!B$4:B$5000) > 0, SUMIF(Gifts!D$4:D$5000, A904,Gifts!B$4:B$5000), \"\")","v":""}]
[null,{"$f":"IF(SUMIF(Gifts!D$4:D$5000, A905,Gifts!B$4:B$5000) > 0, SUMIF(Gifts!D$4:D$5000, A905,Gifts!B$4:B$5000), \"\")","v":""}]
[null,{"$f":"IF(SUMIF(Gifts!D$4:D$5000, A906,Gifts!B$4:B$5000) > 0, SUMIF(Gifts!D$4:D$5000, A906,Gifts!B$4:B$5000), \"\")","v":""}]
[null,{"$f":"IF(SUMIF(Gifts!D$4:D$5000, A907,Gifts!B$4:B$5000) > 0, SUMIF(Gifts!D$4:D$5000, A907,Gifts!B$4:B$5000), \"\")","v":""}]
[null,{"$f":"IF(SUMIF(Gifts!D$4:D$5000, A908,Gifts!B$4:B$5000) > 0, SUMIF(Gifts!D$4:D$5000, A908,Gifts!B$4:B$5000), \"\")","v":""}]
[null,{"$f":"IF(SUMIF(Gifts!D$4:D$5000, A909,Gifts!B$4:B$5000) > 0, SUMIF(Gifts!D$4:D$5000, A909,Gifts!B$4:B$5000), \"\")","v":""}]
[null,{"$f":"IF(SUMIF(Gifts!D$4:D$5000, A910,Gifts!B$4:B$5000) > 0, SUMIF(Gifts!D$4:D$5000, A910,Gifts!B$4:B$5000), \"\")","v":""}]
[null,{"$f":"IF(SUMIF(Gifts!D$4:D$5000, A911,Gifts!B$4:B$5000) > 0, SUMIF(Gifts!D$4:D$5000, A911,Gifts!B$4:B$5000), \"\")","v":""}]
[null,{"$f":"IF(SUMIF(Gifts!D$4:D$5000, A912,Gifts!B$4:B$5000) > 0, SUMIF(Gifts!D$4:D$5000, A912,Gifts!B$4:B$5000), \"\")","v":""}]
[null,{"$f":"IF(SUMIF(Gifts!D$4:D$5000, A913,Gifts!B$4:B$5000) > 0, SUMIF(Gifts!D$4:D$5000, A913,Gifts!B$4:B$5000), \"\")","v":""}]
[null,{"$f":"IF(SUMIF(Gifts!D$4:D$5000, A914,Gifts!B$4:B$5000) > 0, SUMIF(Gifts!D$4:D$5000, A914,Gifts!B$4:B$5000), \"\")","v":""}]
[null,{"$f":"IF(SUMIF(Gifts!D$4:D$5000, A915,Gifts!B$4:B$5000) > 0, SUMIF(Gifts!D$4:D$5000, A915,Gifts!B$4:B$5000), \"\")","v":""}]
[null,{"$f":"IF(SUMIF(Gifts!D$4:D$5000, A916,Gifts!B$4:B$5000) > 0, SUMIF(Gifts!D$4:D$5000, A916,Gifts!B$4:B$5000), \"\")","v":""}]
[null,{"$f":"IF(SUMIF(Gifts!D$4:D$5000, A917,Gifts!B$4:B$5000) > 0, SUMIF(Gifts!D$4:D$5000, A917,Gifts!B$4:B$5000), \"\")","v":""}]
[null,{"$f":"IF(SUMIF(Gifts!D$4:D$5000, A918,Gifts!B$4:B$5000) > 0, SUMIF(Gifts!D$4:D$5000, A918,Gifts!B$4:B$5000), \"\")","v":""}]
[null,{"$f":"IF(SUMIF(Gifts!D$4:D$5000, A919,Gifts!B$4:B$5000) > 0, SUMIF(Gifts!D$4:D$5000, A919,Gifts!B$4:B$5000), \"\")","v":""}]
[null,{"$f":"IF(SUMIF(Gifts!D$4:D$5000, A920,Gifts!B$4:B$5000) > 0, SUMIF(Gifts!D$4:D$5000, A920,Gifts!B$4:B$5000), \"\")","v":""}]
[null,{"$f":"IF(SUMIF(Gifts!D$4:D$5000, A921,Gifts!B$4:B$5000) > 0, SUMIF(Gifts!D$4:D$5000, A921,Gifts!B$4:B$5000), \"\")","v":""}]
[null,{"$f":"IF(SUMIF(Gifts!D$4:D$5000, A922,Gifts!B$4:B$5000) > 0, SUMIF(Gifts!D$4:D$5000, A922,Gifts!B$4:B$5000), \"\")","v":""}]
[null,{"$f":"IF(SUMIF(Gifts!D$4:D$5000, A923,Gifts!B$4:B$5000) > 0, SUMIF(Gifts!D$4:D$5000, A923,Gifts!B$4:B$5000), \"\")","v":""}]
[null,{"$f":"IF(SUMIF(Gifts!D$4:D$5000, A924,Gifts!B$4:B$5000) > 0, SUMIF(Gifts!D$4:D$5000, A924,Gifts!B$4:B$5000), \"\")","v":""}]
[null,{"$f":"IF(SUMIF(Gifts!D$4:D$5000, A925,Gifts!B$4:B$5000) > 0, SUMIF(Gifts!D$4:D$5000, A925,Gifts!B$4:B$5000), \"\")","v":""}]
[null,{"$f":"IF(SUMIF(Gifts!D$4:D$5000, A926,Gifts!B$4:B$5000) > 0, SUMIF(Gifts!D$4:D$5000, A926,Gifts!B$4:B$5000), \"\")","v":""}]
[null,{"$f":"IF(SUMIF(Gifts!D$4:D$5000, A927,Gifts!B$4:B$5000) > 0, SUMIF(Gifts!D$4:D$5000, A927,Gifts!B$4:B$5000), \"\")","v":""}]
[null,{"$f":"IF(SUMIF(Gifts!D$4:D$5000, A928,Gifts!B$4:B$5000) > 0, SUMIF(Gifts!D$4:D$5000, A928,Gifts!B$4:B$5000), \"\")","v":""}]
[null,{"$f":"IF(SUMIF(Gifts!D$4:D$5000, A929,Gifts!B$4:B$5000) > 0, SUMIF(Gifts!D$4:D$5000, A929,Gifts!B$4:B$5000), \"\")","v":""}]
[null,{"$f":"IF(SUMIF(Gifts!D$4:D$5000, A930,Gifts!B$4:B$5000) > 0, SUMIF(Gifts!D$4:D$5000, A930,Gifts!B$4:B$5000), \"\")","v":""}]
[null,{"$f":"IF(SUMIF(Gifts!D$4:D$5000, A931,Gifts!B$4:B$5000) > 0, SUMIF(Gifts!D$4:D$5000, A931,Gifts!B$4:B$5000), \"\")","v":""}]
[null,{"$f":"IF(SUMIF(Gifts!D$4:D$5000, A932,Gifts!B$4:B$5000) > 0, SUMIF(Gifts!D$4:D$5000, A932,Gifts!B$4:B$5000), \"\")","v":""}]
[null,{"$f":"IF(SUMIF(Gifts!D$4:D$5000, A933,Gifts!B$4:B$5000) > 0, SUMIF(Gifts!D$4:D$5000, A933,Gifts!B$4:B$5000), \"\")","v":""}]
[null,{"$f":"IF(SUMIF(Gifts!D$4:D$5000, A934,Gifts!B$4:B$5000) > 0, SUMIF(Gifts!D$4:D$5000, A934,Gifts!B$4:B$5000), \"\")","v":""}]
[null,{"$f":"IF(SUMIF(Gifts!D$4:D$5000, A935,Gifts!B$4:B$5000) > 0, SUMIF(Gifts!D$4:D$5000, A935,Gifts!B$4:B$5000), \"\")","v":""}]
[null,{"$f":"IF(SUMIF(Gifts!D$4:D$5000, A936,Gifts!B$4:B$5000) > 0, SUMIF(Gifts!D$4:D$5000, A936,Gifts!B$4:B$5000), \"\")","v":""}]
[null,{"$f":"IF(SUMIF(Gifts!D$4:D$5000, A937,Gifts!B$4:B$5000) > 0, SUMIF(Gifts!D$4:D$5000, A937,Gifts!B$4:B$5000), \"\")","v":""}]
[null,{"$f":"IF(SUMIF(Gifts!D$4:D$5000, A938,Gifts!B$4:B$5000) > 0, SUMIF(Gifts!D$4:D$5000, A938,Gifts!B$4:B$5000), \"\")","v":""}]
[null,{"$f":"IF(SUMIF(Gifts!D$4:D$5000, A939,Gifts!B$4:B$5000) > 0, SUMIF(Gifts!D$4:D$5000, A939,Gifts!B$4:B$5000), \"\")","v":""}]
[null,{"$f":"IF(SUMIF(Gifts!D$4:D$5000, A940,Gifts!B$4:B$5000) > 0, SUMIF(Gifts!D$4:D$5000, A940,Gifts!B$4:B$5000), \"\")","v":""}]
[null,{"$f":"IF(SUMIF(Gifts!D$4:D$5000, A941,Gifts!B$4:B$5000) > 0, SUMIF(Gifts!D$4:D$5000, A941,Gifts!B$4:B$5000), \"\")","v":""}]
[null,{"$f":"IF(SUMIF(Gifts!D$4:D$5000, A942,Gifts!B$4:B$5000) > 0, SUMIF(Gifts!D$4:D$5000, A942,Gifts!B$4:B$5000), \"\")","v":""}]
[null,{"$f":"IF(SUMIF(Gifts!D$4:D$5000, A943,Gifts!B$4:B$5000) > 0, SUMIF(Gifts!D$4:D$5000, A943,Gifts!B$4:B$5000), \"\")","v":""}]
[null,{"$f":"IF(SUMIF(Gifts!D$4:D$5000, A944,Gifts!B$4:B$5000) > 0, SUMIF(Gifts!D$4:D$5000, A944,Gifts!B$4:B$5000), \"\")","v":""}]
[null,{"$f":"IF(SUMIF(Gifts!D$4:D$5000, A945,Gifts!B$4:B$5000) > 0, SUMIF(Gifts!D$4:D$5000, A945,Gifts!B$4:B$5000), \"\")","v":""}]
[null,{"$f":"IF(SUMIF(Gifts!D$4:D$5000, A946,Gifts!B$4:B$5000) > 0, SUMIF(Gifts!D$4:D$5000, A946,Gifts!B$4:B$5000), \"\")","v":""}]
[null,{"$f":"IF(SUMIF(Gifts!D$4:D$5000, A947,Gifts!B$4:B$5000) > 0, SUMIF(Gifts!D$4:D$5000, A947,Gifts!B$4:B$5000), \"\")","v":""}]
[null,{"$f":"IF(SUMIF(Gifts!D$4:D$5000, A948,Gifts!B$4:B$5000) > 0, SUMIF(Gifts!D$4:D$5000, A948,Gifts!B$4:B$5000), \"\")","v":""}]
[null,{"$f":"IF(SUMIF(Gifts!D$4:D$5000, A949,Gifts!B$4:B$5000) > 0, SUMIF(Gifts!D$4:D$5000, A949,Gifts!B$4:B$5000), \"\")","v":""}]
[null,{"$f":"IF(SUMIF(Gifts!D$4:D$5000, A950,Gifts!B$4:B$5000) > 0, SUMIF(Gifts!D$4:D$5000, A950,Gifts!B$4:B$5000), \"\")","v":""}]
[null,{"$f":"IF(SUMIF(Gifts!D$4:D$5000, A951,Gifts!B$4:B$5000) > 0, SUMIF(Gifts!D$4:D$5000, A951,Gifts!B$4:B$5000), \"\")","v":""}]
[null,{"$f":"IF(SUMIF(Gifts!D$4:D$5000, A952,Gifts!B$4:B$5000) > 0, SUMIF(Gifts!D$4:D$5000, A952,Gifts!B$4:B$5000), \"\")","v":""}]
[null,{"$f":"IF(SUMIF(Gifts!D$4:D$5000, A953,Gifts!B$4:B$5000) > 0, SUMIF(Gifts!D$4:D$5000, A953,Gifts!B$4:B$5000), \"\")","v":""}]
[null,{"$f":"IF(SUMIF(Gifts!D$4:D$5000, A954,Gifts!B$4:B$5000) > 0, SUMIF(Gifts!D$4:D$5000, A954,Gifts!B$4:B$5000), \"\")","v":""}]
[null,{"$f":"IF(SUMIF(Gifts!D$4:D$5000, A955,Gifts!B$4:B$5000) > 0, SUMIF(Gifts!D$4:D$5000, A955,Gifts!B$4:B$5000), \"\")","v":""}]
[null,{"$f":"IF(SUMIF(Gifts!D$4:D$5000, A956,Gifts!B$4:B$5000) > 0, SUMIF(Gifts!D$4:D$5000, A956,Gifts!B$4:B$5000), \"\")","v":""}]
[null,{"$f":"IF(SUMIF(Gifts!D$4:D$5000, A957,Gifts!B$4:B$5000) > 0, SUMIF(Gifts!D$4:D$5000, A957,Gifts!B$4:B$5000), \"\")","v":""}]
[null,{"$f":"IF(SUMIF(Gifts!D$4:D$5000, A958,Gifts!B$4:B$5000) > 0, SUMIF(Gifts!D$4:D$5000, A958,Gifts!B$4:B$5000), \"\")","v":""}]
[null,{"$f":"IF(SUMIF(Gifts!D$4:D$5000, A959,Gifts!B$4:B$5000) > 0, SUMIF(Gifts!D$4:D$5000, A959,Gifts!B$4:B$5000), \"\")","v":""}]
[null,{"$f":"IF(SUMIF(Gifts!D$4:D$5000, A960,Gifts!B$4:B$5000) > 0, SUMIF(Gifts!D$4:D$5000, A960,Gifts!B$4:B$5000), \"\")","v":""}]
[null,{"$f":"IF(SUMIF(Gifts!D$4:D$5000, A961,Gifts!B$4:B$5000) > 0, SUMIF(Gifts!D$4:D$5000, A961,Gifts!B$4:B$5000), \"\")","v":""}]
[null,{"$f":"IF(SUMIF(Gifts!D$4:D$5000, A962,Gifts!B$4:B$5000) > 0, SUMIF(Gifts!D$4:D$5000, A962,Gifts!B$4:B$5000), \"\")","v":""}]
[null,{"$f":"IF(SUMIF(Gifts!D$4:D$5000, A963,Gifts!B$4:B$5000) > 0, SUMIF(Gifts!D$4:D$5000, A963,Gifts!B$4:B$5000), \"\")","v":""}]
[null,{"$f":"IF(SUMIF(Gifts!D$4:D$5000, A964,Gifts!B$4:B$5000) > 0, SUMIF(Gifts!D$4:D$5000, A964,Gifts!B$4:B$5000), \"\")","v":""}]
[null,{"$f":"IF(SUMIF(Gifts!D$4:D$5000, A965,Gifts!B$4:B$5000) > 0, SUMIF(Gifts!D$4:D$5000, A965,Gifts!B$4:B$5000), \"\")","v":""}]
[null,{"$f":"IF(SUMIF(Gifts!D$4:D$5000, A966,Gifts!B$4:B$5000) > 0, SUMIF(Gifts!D$4:D$5000, A966,Gifts!B$4:B$5000), \"\")","v":""}]
[null,{"$f":"IF(SUMIF(Gifts!D$4:D$5000, A967,Gifts!B$4:B$5000) > 0, SUMIF(Gifts!D$4:D$5000, A967,Gifts!B$4:B$5000), \"\")","v":""}]
[null,{"$f":"IF(SUMIF(Gifts!D$4:D$5000, A968,Gifts!B$4:B$5000) > 0, SUMIF(Gifts!D$4:D$5000, A968,Gifts!B$4:B$5000), \"\")","v":""}]
[null,{"$f":"IF(SUMIF(Gifts!D$4:D$5000, A969,Gifts!B$4:B$5000) > 0, SUMIF(Gifts!D$4:D$5000, A969,Gifts!B$4:B$5000), \"\")","v":""}]
[null,{"$f":"IF(SUMIF(Gifts!D$4:D$5000, A970,Gifts!B$4:B$5000) > 0, SUMIF(Gifts!D$4:D$5000, A970,Gifts!B$4:B$5000), \"\")","v":""}]
[null,{"$f":"IF(SUMIF(Gifts!D$4:D$5000, A971,Gifts!B$4:B$5000) > 0, SUMIF(Gifts!D$4:D$5000, A971,Gifts!B$4:B$5000), \"\")","v":""}]
[null,{"$f":"IF(SUMIF(Gifts!D$4:D$5000, A972,Gifts!B$4:B$5000) > 0, SUMIF(Gifts!D$4:D$5000, A972,Gifts!B$4:B$5000), \"\")","v":""}]
[null,{"$f":"IF(SUMIF(Gifts!D$4:D$5000, A973,Gifts!B$4:B$5000) > 0, SUMIF(Gifts!D$4:D$5000, A973,Gifts!B$4:B$5000), \"\")","v":""}]
[null,{"$f":"IF(SUMIF(Gifts!D$4:D$5000, A974,Gifts!B$4:B$5000) > 0, SUMIF(Gifts!D$4:D$5000, A974,Gifts!B$4:B$5000), \"\")","v":""}]
[null,{"$f":"IF(SUMIF(Gifts!D$4:D$5000, A975,Gifts!B$4:B$5000) > 0, SUMIF(Gifts!D$4:D$5000, A975,Gifts!B$4:B$5000), \"\")","v":""}]
[null,{"$f":"IF(SUMIF(Gifts!D$4:D$5000, A976,Gifts!B$4:B$5000) > 0, SUMIF(Gifts!D$4:D$5000, A976,Gifts!B$4:B$5000), \"\")","v":""}]
[null,{"$f":"IF(SUMIF(Gifts!D$4:D$5000, A977,Gifts!B$4:B$5000) > 0, SUMIF(Gifts!D$4:D$5000, A977,Gifts!B$4:B$5000), \"\")","v":""}]
[null,{"$f":"IF(SUMIF(Gifts!D$4:D$5000, A978,Gifts!B$4:B$5000) > 0, SUMIF(Gifts!D$4:D$5000, A978,Gifts!B$4:B$5000), \"\")","v":""}]
[null,{"$f":"IF(SUMIF(Gifts!D$4:D$5000, A979,Gifts!B$4:B$5000) > 0, SUMIF(Gifts!D$4:D$5000, A979,Gifts!B$4:B$5000), \"\")","v":""}]
[null,{"$f":"IF(SUMIF(Gifts!D$4:D$5000, A980,Gifts!B$4:B$5000) > 0, SUMIF(Gifts!D$4:D$5000, A980,Gifts!B$4:B$5000), \"\")","v":""}]
[null,{"$f":"IF(SUMIF(Gifts!D$4:D$5000, A981,Gifts!B$4:B$5000) > 0, SUMIF(Gifts!D$4:D$5000, A981,Gifts!B$4:B$5000), \"\")","v":""}]
[null,{"$f":"IF(SUMIF(Gifts!D$4:D$5000, A982,Gifts!B$4:B$5000) > 0, SUMIF(Gifts!D$4:D$5000, A982,Gifts!B$4:B$5000), \"\")","v":""}]
[null,{"$f":"IF(SUMIF(Gifts!D$4:D$5000, A983,Gifts!B$4:B$5000) > 0, SUMIF(Gifts!D$4:D$5000, A983,Gifts!B$4:B$5000), \"\")","v":""}]
[null,{"$f":"IF(SUMIF(Gifts!D$4:D$5000, A984,Gifts!B$4:B$5000) > 0, SUMIF(Gifts!D$4:D$5000, A984,Gifts!B$4:B$5000), \"\")","v":""}]
[null,{"$f":"IF(SUMIF(Gifts!D$4:D$5000, A985,Gifts!B$4:B$5000) > 0, SUMIF(Gifts!D$4:D$5000, A985,Gifts!B$4:B$5000), \"\")","v":""}]
[null,{"$f":"IF(SUMIF(Gifts!D$4:D$5000, A986,Gifts!B$4:B$5000) > 0, SUMIF(Gifts!D$4:D$5000, A986,Gifts!B$4:B$5000), \"\")","v":""}]
[null,{"$f":"IF(SUMIF(Gifts!D$4:D$5000, A987,Gifts!B$4:B$5000) > 0, SUMIF(Gifts!D$4:D$5000, A987,Gifts!B$4:B$5000), \"\")","v":""}]
[null,{"$f":"IF(SUMIF(Gifts!D$4:D$5000, A988,Gifts!B$4:B$5000) > 0, SUMIF(Gifts!D$4:D$5000, A988,Gifts!B$4:B$5000), \"\")","v":""}]
[null,{"$f":"IF(SUMIF(Gifts!D$4:D$5000, A989,Gifts!B$4:B$5000) > 0, SUMIF(Gifts!D$4:D$5000, A989,Gifts!B$4:B$5000), \"\")","v":""}]
[null,{"$f":"IF(SUMIF(Gifts!D$4:D$5000, A990,Gifts!B$4:B$5000) > 0, SUMIF(Gifts!D$4:D$5000, A990,Gifts!B$4:B$5000), \"\")","v":""}]
[null,{"$f":"IF(SUMIF(Gifts!D$4:D$5000, A991,Gifts!B$4:B$5000) > 0, SUMIF(Gifts!D$4:D$5000, A991,Gifts!B$4:B$5000), \"\")","v":""}]
[null,{"$f":"IF(SUMIF(Gifts!D$4:D$5000, A992,Gifts!B$4:B$5000) > 0, SUMIF(Gifts!D$4:D$5000, A992,Gifts!B$4:B$5000), \"\")","v":""}]
[null,{"$f":"IF(SUMIF(Gifts!D$4:D$5000, A993,Gifts!B$4:B$5000) > 0, SUMIF(Gifts!D$4:D$5000, A993,Gifts!B$4:B$5000), \"\")","v":""}]
[null,{"$f":"IF(SUMIF(Gifts!D$4:D$5000, A994,Gifts!B$4:B$5000) > 0, SUMIF(Gifts!D$4:D$5000, A994,Gifts!B$4:B$5000), \"\")","v":""}]
[null,{"$f":"IF(SUMIF(Gifts!D$4:D$5000, A995,Gifts!B$4:B$5000) > 0, SUMIF(Gifts!D$4:D$5000, A995,Gifts!B$4:B$5000), \"\")","v":""}]
[null,{"$f":"IF(SUMIF(Gifts!D$4:D$5000, A996,Gifts!B$4:B$5000) > 0, SUMIF(Gifts!D$4:D$5000, A996,Gifts!B$4:B$5000), \"\")","v":""}]
[null,{"$f":"IF(SUMIF(Gifts!D$4:D$5000, A997,Gifts!B$4:B$5000) > 0, SUMIF(Gifts!D$4:D$5000, A997,Gifts!B$4:B$5000), \"\")","v":""}]
[null,{"$f":"IF(SUMIF(Gifts!D$4:D$5000, A998,Gifts!B$4:B$5000) > 0, SUMIF(Gifts!D$4:D$5000, A998,Gifts!B$4:B$5000), \"\")","v":""}]
[null,{"$f":"IF(SUMIF(Gifts!D$4:D$5000, A999,Gifts!B$4:B$5000) > 0, SUMIF(Gifts!D$4:D$5000, A999,Gifts!B$4:B$5000), \"\")","v":""}]
[null,{"$f":"IF(SUMIF(Gifts!D$4:D$5000, A1000,Gifts!B$4:B$5000) > 0, SUMIF(Gifts!D$4:D$5000, A1000,Gifts!B$4:B$5000), \"\")","v":""}]

{"sheet":"Appeals","index":4,"n_rows":1000,"n_cols":2,"rows_kept":1000,"cut":false,"hidden":false,"merged":[]}
["Appeal Data"]
["Name","Total"]
["Sample Appeal",{"$f":"IF(SUMIF(Gifts!E$4:E$5000, A3,Gifts!B$4:B$5000) > 0, SUMIF(Gifts!E$4:E$5000, A3,Gifts!B$4:B$5000), \"\")","v":100}]
[null,{"$f":"IF(SUMIF(Gifts!E$4:E$5000, A4,Gifts!B$4:B$5000) > 0, SUMIF(Gifts!E$4:E$5000, A4,Gifts!B$4:B$5000), \"\")","v":""}]
[null,{"$f":"IF(SUMIF(Gifts!E$4:E$5000, A5,Gifts!B$4:B$5000) > 0, SUMIF(Gifts!E$4:E$5000, A5,Gifts!B$4:B$5000), \"\")","v":""}]
[null,{"$f":"IF(SUMIF(Gifts!E$4:E$5000, A6,Gifts!B$4:B$5000) > 0, SUMIF(Gifts!E$4:E$5000, A6,Gifts!B$4:B$5000), \"\")","v":""}]
[null,{"$f":"IF(SUMIF(Gifts!E$4:E$5000, A7,Gifts!B$4:B$5000) > 0, SUMIF(Gifts!E$4:E$5000, A7,Gifts!B$4:B$5000), \"\")","v":""}]
[null,{"$f":"IF(SUMIF(Gifts!E$4:E$5000, A8,Gifts!B$4:B$5000) > 0, SUMIF(Gifts!E$4:E$5000, A8,Gifts!B$4:B$5000), \"\")","v":""}]
[null,{"$f":"IF(SUMIF(Gifts!E$4:E$5000, A9,Gifts!B$4:B$5000) > 0, SUMIF(Gifts!E$4:E$5000, A9,Gifts!B$4:B$5000), \"\")","v":""}]
[null,{"$f":"IF(SUMIF(Gifts!E$4:E$5000, A10,Gifts!B$4:B$5000) > 0, SUMIF(Gifts!E$4:E$5000, A10,Gifts!B$4:B$5000), \"\")","v":""}]
[null,{"$f":"IF(SUMIF(Gifts!E$4:E$5000, A11,Gifts!B$4:B$5000) > 0, SUMIF(Gifts!E$4:E$5000, A11,Gifts!B$4:B$5000), \"\")","v":""}]
[null,{"$f":"IF(SUMIF(Gifts!E$4:E$5000, A12,Gifts!B$4:B$5000) > 0, SUMIF(Gifts!E$4:E$5000, A12,Gifts!B$4:B$5000), \"\")","v":""}]
[null,{"$f":"IF(SUMIF(Gifts!E$4:E$5000, A13,Gifts!B$4:B$5000) > 0, SUMIF(Gifts!E$4:E$5000, A13,Gifts!B$4:B$5000), \"\")","v":""}]
[null,{"$f":"IF(SUMIF(Gifts!E$4:E$5000, A14,Gifts!B$4:B$5000) > 0, SUMIF(Gifts!E$4:E$5000, A14,Gifts!B$4:B$5000), \"\")","v":""}]
[null,{"$f":"IF(SUMIF(Gifts!E$4:E$5000, A15,Gifts!B$4:B$5000) > 0, SUMIF(Gifts!E$4:E$5000, A15,Gifts!B$4:B$5000), \"\")","v":""}]
[null,{"$f":"IF(SUMIF(Gifts!E$4:E$5000, A16,Gifts!B$4:B$5000) > 0, SUMIF(Gifts!E$4:E$5000, A16,Gifts!B$4:B$5000), \"\")","v":""}]
[null,{"$f":"IF(SUMIF(Gifts!E$4:E$5000, A17,Gifts!B$4:B$5000) > 0, SUMIF(Gifts!E$4:E$5000, A17,Gifts!B$4:B$5000), \"\")","v":""}]
[null,{"$f":"IF(SUMIF(Gifts!E$4:E$5000, A18,Gifts!B$4:B$5000) > 0, SUMIF(Gifts!E$4:E$5000, A18,Gifts!B$4:B$5000), \"\")","v":""}]
[null,{"$f":"IF(SUMIF(Gifts!E$4:E$5000, A19,Gifts!B$4:B$5000) > 0, SUMIF(Gifts!E$4:E$5000, A19,Gifts!B$4:B$5000), \"\")","v":""}]
[null,{"$f":"IF(SUMIF(Gifts!E$4:E$5000, A20,Gifts!B$4:B$5000) > 0, SUMIF(Gifts!E$4:E$5000, A20,Gifts!B$4:B$5000), \"\")","v":""}]
[null,{"$f":"IF(SUMIF(Gifts!E$4:E$5000, A21,Gifts!B$4:B$5000) > 0, SUMIF(Gifts!E$4:E$5000, A21,Gifts!B$4:B$5000), \"\")","v":""}]
[null,{"$f":"IF(SUMIF(Gifts!E$4:E$5000, A22,Gifts!B$4:B$5000) > 0, SUMIF(Gifts!E$4:E$5000, A22,Gifts!B$4:B$5000), \"\")","v":""}]
[null,{"$f":"IF(SUMIF(Gifts!E$4:E$5000, A23,Gifts!B$4:B$5000) > 0, SUMIF(Gifts!E$4:E$5000, A23,Gifts!B$4:B$5000), \"\")","v":""}]
[null,{"$f":"IF(SUMIF(Gifts!E$4:E$5000, A24,Gifts!B$4:B$5000) > 0, SUMIF(Gifts!E$4:E$5000, A24,Gifts!B$4:B$5000), \"\")","v":""}]
[null,{"$f":"IF(SUMIF(Gifts!E$4:E$5000, A25,Gifts!B$4:B$5000) > 0, SUMIF(Gifts!E$4:E$5000, A25,Gifts!B$4:B$5000), \"\")","v":""}]
[null,{"$f":"IF(SUMIF(Gifts!E$4:E$5000, A26,Gifts!B$4:B$5000) > 0, SUMIF(Gifts!E$4:E$5000, A26,Gifts!B$4:B$5000), \"\")","v":""}]
[null,{"$f":"IF(SUMIF(Gifts!E$4:E$5000, A27,Gifts!B$4:B$5000) > 0, SUMIF(Gifts!E$4:E$5000, A27,Gifts!B$4:B$5000), \"\")","v":""}]
[null,{"$f":"IF(SUMIF(Gifts!E$4:E$5000, A28,Gifts!B$4:B$5000) > 0, SUMIF(Gifts!E$4:E$5000, A28,Gifts!B$4:B$5000), \"\")","v":""}]
[null,{"$f":"IF(SUMIF(Gifts!E$4:E$5000, A29,Gifts!B$4:B$5000) > 0, SUMIF(Gifts!E$4:E$5000, A29,Gifts!B$4:B$5000), \"\")","v":""}]
[null,{"$f":"IF(SUMIF(Gifts!E$4:E$5000, A30,Gifts!B$4:B$5000) > 0, SUMIF(Gifts!E$4:E$5000, A30,Gifts!B$4:B$5000), \"\")","v":""}]
[null,{"$f":"IF(SUMIF(Gifts!E$4:E$5000, A31,Gifts!B$4:B$5000) > 0, SUMIF(Gifts!E$4:E$5000, A31,Gifts!B$4:B$5000), \"\")","v":""}]
[null,{"$f":"IF(SUMIF(Gifts!E$4:E$5000, A32,Gifts!B$4:B$5000) > 0, SUMIF(Gifts!E$4:E$5000, A32,Gifts!B$4:B$5000), \"\")","v":""}]
[null,{"$f":"IF(SUMIF(Gifts!E$4:E$5000, A33,Gifts!B$4:B$5000) > 0, SUMIF(Gifts!E$4:E$5000, A33,Gifts!B$4:B$5000), \"\")","v":""}]
[null,{"$f":"IF(SUMIF(Gifts!E$4:E$5000, A34,Gifts!B$4:B$5000) > 0, SUMIF(Gifts!E$4:E$5000, A34,Gifts!B$4:B$5000), \"\")","v":""}]
[null,{"$f":"IF(SUMIF(Gifts!E$4:E$5000, A35,Gifts!B$4:B$5000) > 0, SUMIF(Gifts!E$4:E$5000, A35,Gifts!B$4:B$5000), \"\")","v":""}]
[null,{"$f":"IF(SUMIF(Gifts!E$4:E$5000, A36,Gifts!B$4:B$5000) > 0, SUMIF(Gifts!E$4:E$5000, A36,Gifts!B$4:B$5000), \"\")","v":""}]
[null,{"$f":"IF(SUMIF(Gifts!E$4:E$5000, A37,Gifts!B$4:B$5000) > 0, SUMIF(Gifts!E$4:E$5000, A37,Gifts!B$4:B$5000), \"\")","v":""}]
[null,{"$f":"IF(SUMIF(Gifts!E$4:E$5000, A38,Gifts!B$4:B$5000) > 0, SUMIF(Gifts!E$4:E$5000, A38,Gifts!B$4:B$5000), \"\")","v":""}]
[null,{"$f":"IF(SUMIF(Gifts!E$4:E$5000, A39,Gifts!B$4:B$5000) > 0, SUMIF(Gifts!E$4:E$5000, A39,Gifts!B$4:B$5000), \"\")","v":""}]
[null,{"$f":"IF(SUMIF(Gifts!E$4:E$5000, A40,Gifts!B$4:B$5000) > 0, SUMIF(Gifts!E$4:E$5000, A40,Gifts!B$4:B$5000), \"\")","v":""}]
[null,{"$f":"IF(SUMIF(Gifts!E$4:E$5000, A41,Gifts!B$4:B$5000) > 0, SUMIF(Gifts!E$4:E$5000, A41,Gifts!B$4:B$5000), \"\")","v":""}]
[null,{"$f":"IF(SUMIF(Gifts!E$4:E$5000, A42,Gifts!B$4:B$5000) > 0, SUMIF(Gifts!E$4:E$5000, A42,Gifts!B$4:B$5000), \"\")","v":""}]
[null,{"$f":"IF(SUMIF(Gifts!E$4:E$5000, A43,Gifts!B$4:B$5000) > 0, SUMIF(Gifts!E$4:E$5000, A43,Gifts!B$4:B$5000), \"\")","v":""}]
[null,{"$f":"IF(SUMIF(Gifts!E$4:E$5000, A44,Gifts!B$4:B$5000) > 0, SUMIF(Gifts!E$4:E$5000, A44,Gifts!B$4:B$5000), \"\")","v":""}]
[null,{"$f":"IF(SUMIF(Gifts!E$4:E$5000, A45,Gifts!B$4:B$5000) > 0, SUMIF(Gifts!E$4:E$5000, A45,Gifts!B$4:B$5000), \"\")","v":""}]
[null,{"$f":"IF(SUMIF(Gifts!E$4:E$5000, A46,Gifts!B$4:B$5000) > 0, SUMIF(Gifts!E$4:E$5000, A46,Gifts!B$4:B$5000), \"\")","v":""}]
[null,{"$f":"IF(SUMIF(Gifts!E$4:E$5000, A47,Gifts!B$4:B$5000) > 0, SUMIF(Gifts!E$4:E$5000, A47,Gifts!B$4:B$5000), \"\")","v":""}]
[null,{"$f":"IF(SUMIF(Gifts!E$4:E$5000, A48,Gifts!B$4:B$5000) > 0, SUMIF(Gifts!E$4:E$5000, A48,Gifts!B$4:B$5000), \"\")","v":""}]
[null,{"$f":"IF(SUMIF(Gifts!E$4:E$5000, A49,Gifts!B$4:B$5000) > 0, SUMIF(Gifts!E$4:E$5000, A49,Gifts!B$4:B$5000), \"\")","v":""}]
[null,{"$f":"IF(SUMIF(Gifts!E$4:E$5000, A50,Gifts!B$4:B$5000) > 0, SUMIF(Gifts!E$4:E$5000, A50,Gifts!B$4:B$5000), \"\")","v":""}]
[null,{"$f":"IF(SUMIF(Gifts!E$4:E$5000, A51,Gifts!B$4:B$5000) > 0, SUMIF(Gifts!E$4:E$5000, A51,Gifts!B$4:B$5000), \"\")","v":""}]
[null,{"$f":"IF(SUMIF(Gifts!E$4:E$5000, A52,Gifts!B$4:B$5000) > 0, SUMIF(Gifts!E$4:E$5000, A52,Gifts!B$4:B$5000), \"\")","v":""}]
[null,{"$f":"IF(SUMIF(Gifts!E$4:E$5000, A53,Gifts!B$4:B$5000) > 0, SUMIF(Gifts!E$4:E$5000, A53,Gifts!B$4:B$5000), \"\")","v":""}]
[null,{"$f":"IF(SUMIF(Gifts!E$4:E$5000, A54,Gifts!B$4:B$5000) > 0, SUMIF(Gifts!E$4:E$5000, A54,Gifts!B$4:B$5000), \"\")","v":""}]
[null,{"$f":"IF(SUMIF(Gifts!E$4:E$5000, A55,Gifts!B$4:B$5000) > 0, SUMIF(Gifts!E$4:E$5000, A55,Gifts!B$4:B$5000), \"\")","v":""}]
[null,{"$f":"IF(SUMIF(Gifts!E$4:E$5000, A56,Gifts!B$4:B$5000) > 0, SUMIF(Gifts!E$4:E$5000, A56,Gifts!B$4:B$5000), \"\")","v":""}]
[null,{"$f":"IF(SUMIF(Gifts!E$4:E$5000, A57,Gifts!B$4:B$5000) > 0, SUMIF(Gifts!E$4:E$5000, A57,Gifts!B$4:B$5000), \"\")","v":""}]
[null,{"$f":"IF(SUMIF(Gifts!E$4:E$5000, A58,Gifts!B$4:B$5000) > 0, SUMIF(Gifts!E$4:E$5000, A58,Gifts!B$4:B$5000), \"\")","v":""}]
[null,{"$f":"IF(SUMIF(Gifts!E$4:E$5000, A59,Gifts!B$4:B$5000) > 0, SUMIF(Gifts!E$4:E$5000, A59,Gifts!B$4:B$5000), \"\")","v":""}]
[null,{"$f":"IF(SUMIF(Gifts!E$4:E$5000, A60,Gifts!B$4:B$5000) > 0, SUMIF(Gifts!E$4:E$5000, A60,Gifts!B$4:B$5000), \"\")","v":""}]
[null,{"$f":"IF(SUMIF(Gifts!E$4:E$5000, A61,Gifts!B$4:B$5000) > 0, SUMIF(Gifts!E$4:E$5000, A61,Gifts!B$4:B$5000), \"\")","v":""}]
[null,{"$f":"IF(SUMIF(Gifts!E$4:E$5000, A62,Gifts!B$4:B$5000) > 0, SUMIF(Gifts!E$4:E$5000, A62,Gifts!B$4:B$5000), \"\")","v":""}]
[null,{"$f":"IF(SUMIF(Gifts!E$4:E$5000, A63,Gifts!B$4:B$5000) > 0, SUMIF(Gifts!E$4:E$5000, A63,Gifts!B$4:B$5000), \"\")","v":""}]
[null,{"$f":"IF(SUMIF(Gifts!E$4:E$5000, A64,Gifts!B$4:B$5000) > 0, SUMIF(Gifts!E$4:E$5000, A64,Gifts!B$4:B$5000), \"\")","v":""}]
[null,{"$f":"IF(SUMIF(Gifts!E$4:E$5000, A65,Gifts!B$4:B$5000) > 0, SUMIF(Gifts!E$4:E$5000, A65,Gifts!B$4:B$5000), \"\")","v":""}]
[null,{"$f":"IF(SUMIF(Gifts!E$4:E$5000, A66,Gifts!B$4:B$5000) > 0, SUMIF(Gifts!E$4:E$5000, A66,Gifts!B$4:B$5000), \"\")","v":""}]
[null,{"$f":"IF(SUMIF(Gifts!E$4:E$5000, A67,Gifts!B$4:B$5000) > 0, SUMIF(Gifts!E$4:E$5000, A67,Gifts!B$4:B$5000), \"\")","v":""}]
[null,{"$f":"IF(SUMIF(Gifts!E$4:E$5000, A68,Gifts!B$4:B$5000) > 0, SUMIF(Gifts!E$4:E$5000, A68,Gifts!B$4:B$5000), \"\")","v":""}]
[null,{"$f":"IF(SUMIF(Gifts!E$4:E$5000, A69,Gifts!B$4:B$5000) > 0, SUMIF(Gifts!E$4:E$5000, A69,Gifts!B$4:B$5000), \"\")","v":""}]
[null,{"$f":"IF(SUMIF(Gifts!E$4:E$5000, A70,Gifts!B$4:B$5000) > 0, SUMIF(Gifts!E$4:E$5000, A70,Gifts!B$4:B$5000), \"\")","v":""}]
[null,{"$f":"IF(SUMIF(Gifts!E$4:E$5000, A71,Gifts!B$4:B$5000) > 0, SUMIF(Gifts!E$4:E$5000, A71,Gifts!B$4:B$5000), \"\")","v":""}]
[null,{"$f":"IF(SUMIF(Gifts!E$4:E$5000, A72,Gifts!B$4:B$5000) > 0, SUMIF(Gifts!E$4:E$5000, A72,Gifts!B$4:B$5000), \"\")","v":""}]
[null,{"$f":"IF(SUMIF(Gifts!E$4:E$5000, A73,Gifts!B$4:B$5000) > 0, SUMIF(Gifts!E$4:E$5000, A73,Gifts!B$4:B$5000), \"\")","v":""}]
[null,{"$f":"IF(SUMIF(Gifts!E$4:E$5000, A74,Gifts!B$4:B$5000) > 0, SUMIF(Gifts!E$4:E$5000, A74,Gifts!B$4:B$5000), \"\")","v":""}]
[null,{"$f":"IF(SUMIF(Gifts!E$4:E$5000, A75,Gifts!B$4:B$5000) > 0, SUMIF(Gifts!E$4:E$5000, A75,Gifts!B$4:B$5000), \"\")","v":""}]
[null,{"$f":"IF(SUMIF(Gifts!E$4:E$5000, A76,Gifts!B$4:B$5000) > 0, SUMIF(Gifts!E$4:E$5000, A76,Gifts!B$4:B$5000), \"\")","v":""}]
[null,{"$f":"IF(SUMIF(Gifts!E$4:E$5000, A77,Gifts!B$4:B$5000) > 0, SUMIF(Gifts!E$4:E$5000, A77,Gifts!B$4:B$5000), \"\")","v":""}]
[null,{"$f":"IF(SUMIF(Gifts!E$4:E$5000, A78,Gifts!B$4:B$5000) > 0, SUMIF(Gifts!E$4:E$5000, A78,Gifts!B$4:B$5000), \"\")","v":""}]
[null,{"$f":"IF(SUMIF(Gifts!E$4:E$5000, A79,Gifts!B$4:B$5000) > 0, SUMIF(Gifts!E$4:E$5000, A79,Gifts!B$4:B$5000), \"\")","v":""}]
[null,{"$f":"IF(SUMIF(Gifts!E$4:E$5000, A80,Gifts!B$4:B$5000) > 0, SUMIF(Gifts!E$4:E$5000, A80,Gifts!B$4:B$5000), \"\")","v":""}]
[null,{"$f":"IF(SUMIF(Gifts!E$4:E$5000, A81,Gifts!B$4:B$5000) > 0, SUMIF(Gifts!E$4:E$5000, A81,Gifts!B$4:B$5000), \"\")","v":""}]
[null,{"$f":"IF(SUMIF(Gifts!E$4:E$5000, A82,Gifts!B$4:B$5000) > 0, SUMIF(Gifts!E$4:E$5000, A82,Gifts!B$4:B$5000), \"\")","v":""}]
[null,{"$f":"IF(SUMIF(Gifts!E$4:E$5000, A83,Gifts!B$4:B$5000) > 0, SUMIF(Gifts!E$4:E$5000, A83,Gifts!B$4:B$5000), \"\")","v":""}]
[null,{"$f":"IF(SUMIF(Gifts!E$4:E$5000, A84,Gifts!B$4:B$5000) > 0, SUMIF(Gifts!E$4:E$5000, A84,Gifts!B$4:B$5000), \"\")","v":""}]
[null,{"$f":"IF(SUMIF(Gifts!E$4:E$5000, A85,Gifts!B$4:B$5000) > 0, SUMIF(Gifts!E$4:E$5000, A85,Gifts!B$4:B$5000), \"\")","v":""}]
[null,{"$f":"IF(SUMIF(Gifts!E$4:E$5000, A86,Gifts!B$4:B$5000) > 0, SUMIF(Gifts!E$4:E$5000, A86,Gifts!B$4:B$5000), \"\")","v":""}]
[null,{"$f":"IF(SUMIF(Gifts!E$4:E$5000, A87,Gifts!B$4:B$5000) > 0, SUMIF(Gifts!E$4:E$5000, A87,Gifts!B$4:B$5000), \"\")","v":""}]
[null,{"$f":"IF(SUMIF(Gifts!E$4:E$5000, A88,Gifts!B$4:B$5000) > 0, SUMIF(Gifts!E$4:E$5000, A88,Gifts!B$4:B$5000), \"\")","v":""}]
[null,{"$f":"IF(SUMIF(Gifts!E$4:E$5000, A89,Gifts!B$4:B$5000) > 0, SUMIF(Gifts!E$4:E$5000, A89,Gifts!B$4:B$5000), \"\")","v":""}]
[null,{"$f":"IF(SUMIF(Gifts!E$4:E$5000, A90,Gifts!B$4:B$5000) > 0, SUMIF(Gifts!E$4:E$5000, A90,Gifts!B$4:B$5000), \"\")","v":""}]
[null,{"$f":"IF(SUMIF(Gifts!E$4:E$5000, A91,Gifts!B$4:B$5000) > 0, SUMIF(Gifts!E$4:E$5000, A91,Gifts!B$4:B$5000), \"\")","v":""}]
[null,{"$f":"IF(SUMIF(Gifts!E$4:E$5000, A92,Gifts!B$4:B$5000) > 0, SUMIF(Gifts!E$4:E$5000, A92,Gifts!B$4:B$5000), \"\")","v":""}]
[null,{"$f":"IF(SUMIF(Gifts!E$4:E$5000, A93,Gifts!B$4:B$5000) > 0, SUMIF(Gifts!E$4:E$5000, A93,Gifts!B$4:B$5000), \"\")","v":""}]
[null,{"$f":"IF(SUMIF(Gifts!E$4:E$5000, A94,Gifts!B$4:B$5000) > 0, SUMIF(Gifts!E$4:E$5000, A94,Gifts!B$4:B$5000), \"\")","v":""}]
[null,{"$f":"IF(SUMIF(Gifts!E$4:E$5000, A95,Gifts!B$4:B$5000) > 0, SUMIF(Gifts!E$4:E$5000, A95,Gifts!B$4:B$5000), \"\")","v":""}]
[null,{"$f":"IF(SUMIF(Gifts!E$4:E$5000, A96,Gifts!B$4:B$5000) > 0, SUMIF(Gifts!E$4:E$5000, A96,Gifts!B$4:B$5000), \"\")","v":""}]
[null,{"$f":"IF(SUMIF(Gifts!E$4:E$5000, A97,Gifts!B$4:B$5000) > 0, SUMIF(Gifts!E$4:E$5000, A97,Gifts!B$4:B$5000), \"\")","v":""}]
[null,{"$f":"IF(SUMIF(Gifts!E$4:E$5000, A98,Gifts!B$4:B$5000) > 0, SUMIF(Gifts!E$4:E$5000, A98,Gifts!B$4:B$5000), \"\")","v":""}]
[null,{"$f":"IF(SUMIF(Gifts!E$4:E$5000, A99,Gifts!B$4:B$5000) > 0, SUMIF(Gifts!E$4:E$5000, A99,Gifts!B$4:B$5000), \"\")","v":""}]
[null,{"$f":"IF(SUMIF(Gifts!E$4:E$5000, A100,Gifts!B$4:B$5000) > 0, SUMIF(Gifts!E$4:E$5000, A100,Gifts!B$4:B$5000), \"\")","v":""}]
[null,{"$f":"IF(SUMIF(Gifts!E$4:E$5000, A101,Gifts!B$4:B$5000) > 0, SUMIF(Gifts!E$4:E$5000, A101,Gifts!B$4:B$5000), \"\")","v":""}]
[null,{"$f":"IF(SUMIF(Gifts!E$4:E$5000, A102,Gifts!B$4:B$5000) > 0, SUMIF(Gifts!E$4:E$5000, A102,Gifts!B$4:B$5000), \"\")","v":""}]
[null,{"$f":"IF(SUMIF(Gifts!E$4:E$5000, A103,Gifts!B$4:B$5000) > 0, SUMIF(Gifts!E$4:E$5000, A103,Gifts!B$4:B$5000), \"\")","v":""}]
[null,{"$f":"IF(SUMIF(Gifts!E$4:E$5000, A104,Gifts!B$4:B$5000) > 0, SUMIF(Gifts!E$4:E$5000, A104,Gifts!B$4:B$5000), \"\")","v":""}]
[null,{"$f":"IF(SUMIF(Gifts!E$4:E$5000, A105,Gifts!B$4:B$5000) > 0, SUMIF(Gifts!E$4:E$5000, A105,Gifts!B$4:B$5000), \"\")","v":""}]
[null,{"$f":"IF(SUMIF(Gifts!E$4:E$5000, A106,Gifts!B$4:B$5000) > 0, SUMIF(Gifts!E$4:E$5000, A106,Gifts!B$4:B$5000), \"\")","v":""}]
[null,{"$f":"IF(SUMIF(Gifts!E$4:E$5000, A107,Gifts!B$4:B$5000) > 0, SUMIF(Gifts!E$4:E$5000, A107,Gifts!B$4:B$5000), \"\")","v":""}]
[null,{"$f":"IF(SUMIF(Gifts!E$4:E$5000, A108,Gifts!B$4:B$5000) > 0, SUMIF(Gifts!E$4:E$5000, A108,Gifts!B$4:B$5000), \"\")","v":""}]
[null,{"$f":"IF(SUMIF(Gifts!E$4:E$5000, A109,Gifts!B$4:B$5000) > 0, SUMIF(Gifts!E$4:E$5000, A109,Gifts!B$4:B$5000), \"\")","v":""}]
[null,{"$f":"IF(SUMIF(Gifts!E$4:E$5000, A110,Gifts!B$4:B$5000) > 0, SUMIF(Gifts!E$4:E$5000, A110,Gifts!B$4:B$5000), \"\")","v":""}]
[null,{"$f":"IF(SUMIF(Gifts!E$4:E$5000, A111,Gifts!B$4:B$5000) > 0, SUMIF(Gifts!E$4:E$5000, A111,Gifts!B$4:B$5000), \"\")","v":""}]
[null,{"$f":"IF(SUMIF(Gifts!E$4:E$5000, A112,Gifts!B$4:B$5000) > 0, SUMIF(Gifts!E$4:E$5000, A112,Gifts!B$4:B$5000), \"\")","v":""}]
[null,{"$f":"IF(SUMIF(Gifts!E$4:E$5000, A113,Gifts!B$4:B$5000) > 0, SUMIF(Gifts!E$4:E$5000, A113,Gifts!B$4:B$5000), \"\")","v":""}]
[null,{"$f":"IF(SUMIF(Gifts!E$4:E$5000, A114,Gifts!B$4:B$5000) > 0, SUMIF(Gifts!E$4:E$5000, A114,Gifts!B$4:B$5000), \"\")","v":""}]
[null,{"$f":"IF(SUMIF(Gifts!E$4:E$5000, A115,Gifts!B$4:B$5000) > 0, SUMIF(Gifts!E$4:E$5000, A115,Gifts!B$4:B$5000), \"\")","v":""}]
[null,{"$f":"IF(SUMIF(Gifts!E$4:E$5000, A116,Gifts!B$4:B$5000) > 0, SUMIF(Gifts!E$4:E$5000, A116,Gifts!B$4:B$5000), \"\")","v":""}]
[null,{"$f":"IF(SUMIF(Gifts!E$4:E$5000, A117,Gifts!B$4:B$5000) > 0, SUMIF(Gifts!E$4:E$5000, A117,Gifts!B$4:B$5000), \"\")","v":""}]
[null,{"$f":"IF(SUMIF(Gifts!E$4:E$5000, A118,Gifts!B$4:B$5000) > 0, SUMIF(Gifts!E$4:E$5000, A118,Gifts!B$4:B$5000), \"\")","v":""}]
[null,{"$f":"IF(SUMIF(Gifts!E$4:E$5000, A119,Gifts!B$4:B$5000) > 0, SUMIF(Gifts!E$4:E$5000, A119,Gifts!B$4:B$5000), \"\")","v":""}]
[null,{"$f":"IF(SUMIF(Gifts!E$4:E$5000, A120,Gifts!B$4:B$5000) > 0, SUMIF(Gifts!E$4:E$5000, A120,Gifts!B$4:B$5000), \"\")","v":""}]
[null,{"$f":"IF(SUMIF(Gifts!E$4:E$5000, A121,Gifts!B$4:B$5000) > 0, SUMIF(Gifts!E$4:E$5000, A121,Gifts!B$4:B$5000), \"\")","v":""}]
[null,{"$f":"IF(SUMIF(Gifts!E$4:E$5000, A122,Gifts!B$4:B$5000) > 0, SUMIF(Gifts!E$4:E$5000, A122,Gifts!B$4:B$5000), \"\")","v":""}]
[null,{"$f":"IF(SUMIF(Gifts!E$4:E$5000, A123,Gifts!B$4:B$5000) > 0, SUMIF(Gifts!E$4:E$5000, A123,Gifts!B$4:B$5000), \"\")","v":""}]
[null,{"$f":"IF(SUMIF(Gifts!E$4:E$5000, A124,Gifts!B$4:B$5000) > 0, SUMIF(Gifts!E$4:E$5000, A124,Gifts!B$4:B$5000), \"\")","v":""}]
[null,{"$f":"IF(SUMIF(Gifts!E$4:E$5000, A125,Gifts!B$4:B$5000) > 0, SUMIF(Gifts!E$4:E$5000, A125,Gifts!B$4:B$5000), \"\")","v":""}]
[null,{"$f":"IF(SUMIF(Gifts!E$4:E$5000, A126,Gifts!B$4:B$5000) > 0, SUMIF(Gifts!E$4:E$5000, A126,Gifts!B$4:B$5000), \"\")","v":""}]
[null,{"$f":"IF(SUMIF(Gifts!E$4:E$5000, A127,Gifts!B$4:B$5000) > 0, SUMIF(Gifts!E$4:E$5000, A127,Gifts!B$4:B$5000), \"\")","v":""}]
[null,{"$f":"IF(SUMIF(Gifts!E$4:E$5000, A128,Gifts!B$4:B$5000) > 0, SUMIF(Gifts!E$4:E$5000, A128,Gifts!B$4:B$5000), \"\")","v":""}]
[null,{"$f":"IF(SUMIF(Gifts!E$4:E$5000, A129,Gifts!B$4:B$5000) > 0, SUMIF(Gifts!E$4:E$5000, A129,Gifts!B$4:B$5000), \"\")","v":""}]
[null,{"$f":"IF(SUMIF(Gifts!E$4:E$5000, A130,Gifts!B$4:B$5000) > 0, SUMIF(Gifts!E$4:E$5000, A130,Gifts!B$4:B$5000), \"\")","v":""}]
[null,{"$f":"IF(SUMIF(Gifts!E$4:E$5000, A131,Gifts!B$4:B$5000) > 0, SUMIF(Gifts!E$4:E$5000, A131,Gifts!B$4:B$5000), \"\")","v":""}]
[null,{"$f":"IF(SUMIF(Gifts!E$4:E$5000, A132,Gifts!B$4:B$5000) > 0, SUMIF(Gifts!E$4:E$5000, A132,Gifts!B$4:B$5000), \"\")","v":""}]
[null,{"$f":"IF(SUMIF(Gifts!E$4:E$5000, A133,Gifts!B$4:B$5000) > 0, SUMIF(Gifts!E$4:E$5000, A133,Gifts!B$4:B$5000), \"\")","v":""}]
[null,{"$f":"IF(SUMIF(Gifts!E$4:E$5000, A134,Gifts!B$4:B$5000) > 0, SUMIF(Gifts!E$4:E$5000, A134,Gifts!B$4:B$5000), \"\")","v":""}]
[null,{"$f":"IF(SUMIF(Gifts!E$4:E$5000, A135,Gifts!B$4:B$5000) > 0, SUMIF(Gifts!E$4:E$5000, A135,Gifts!B$4:B$5000), \"\")","v":""}]
[null,{"$f":"IF(SUMIF(Gifts!E$4:E$5000, A136,Gifts!B$4:B$5000) > 0, SUMIF(Gifts!E$4:E$5000, A136,Gifts!B$4:B$5000), \"\")","v":""}]
[null,{"$f":"IF(SUMIF(Gifts!E$4:E$5000, A137,Gifts!B$4:B$5000) > 0, SUMIF(Gifts!E$4:E$5000, A137,Gifts!B$4:B$5000), \"\")","v":""}]
[null,{"$f":"IF(SUMIF(Gifts!E$4:E$5000, A138,Gifts!B$4:B$5000) > 0, SUMIF(Gifts!E$4:E$5000, A138,Gifts!B$4:B$5000), \"\")","v":""}]
[null,{"$f":"IF(SUMIF(Gifts!E$4:E$5000, A139,Gifts!B$4:B$5000) > 0, SUMIF(Gifts!E$4:E$5000, A139,Gifts!B$4:B$5000), \"\")","v":""}]
[null,{"$f":"IF(SUMIF(Gifts!E$4:E$5000, A140,Gifts!B$4:B$5000) > 0, SUMIF(Gifts!E$4:E$5000, A140,Gifts!B$4:B$5000), \"\")","v":""}]
[null,{"$f":"IF(SUMIF(Gifts!E$4:E$5000, A141,Gifts!B$4:B$5000) > 0, SUMIF(Gifts!E$4:E$5000, A141,Gifts!B$4:B$5000), \"\")","v":""}]
[null,{"$f":"IF(SUMIF(Gifts!E$4:E$5000, A142,Gifts!B$4:B$5000) > 0, SUMIF(Gifts!E$4:E$5000, A142,Gifts!B$4:B$5000), \"\")","v":""}]
[null,{"$f":"IF(SUMIF(Gifts!E$4:E$5000, A143,Gifts!B$4:B$5000) > 0, SUMIF(Gifts!E$4:E$5000, A143,Gifts!B$4:B$5000), \"\")","v":""}]
[null,{"$f":"IF(SUMIF(Gifts!E$4:E$5000, A144,Gifts!B$4:B$5000) > 0, SUMIF(Gifts!E$4:E$5000, A144,Gifts!B$4:B$5000), \"\")","v":""}]
[null,{"$f":"IF(SUMIF(Gifts!E$4:E$5000, A145,Gifts!B$4:B$5000) > 0, SUMIF(Gifts!E$4:E$5000, A145,Gifts!B$4:B$5000), \"\")","v":""}]
[null,{"$f":"IF(SUMIF(Gifts!E$4:E$5000, A146,Gifts!B$4:B$5000) > 0, SUMIF(Gifts!E$4:E$5000, A146,Gifts!B$4:B$5000), \"\")","v":""}]
[null,{"$f":"IF(SUMIF(Gifts!E$4:E$5000, A147,Gifts!B$4:B$5000) > 0, SUMIF(Gifts!E$4:E$5000, A147,Gifts!B$4:B$5000), \"\")","v":""}]
[null,{"$f":"IF(SUMIF(Gifts!E$4:E$5000, A148,Gifts!B$4:B$5000) > 0, SUMIF(Gifts!E$4:E$5000, A148,Gifts!B$4:B$5000), \"\")","v":""}]
[null,{"$f":"IF(SUMIF(Gifts!E$4:E$5000, A149,Gifts!B$4:B$5000) > 0, SUMIF(Gifts!E$4:E$5000, A149,Gifts!B$4:B$5000), \"\")","v":""}]
[null,{"$f":"IF(SUMIF(Gifts!E$4:E$5000, A150,Gifts!B$4:B$5000) > 0, SUMIF(Gifts!E$4:E$5000, A150,Gifts!B$4:B$5000), \"\")","v":""}]
[null,{"$f":"IF(SUMIF(Gifts!E$4:E$5000, A151,Gifts!B$4:B$5000) > 0, SUMIF(Gifts!E$4:E$5000, A151,Gifts!B$4:B$5000), \"\")","v":""}]
[null,{"$f":"IF(SUMIF(Gifts!E$4:E$5000, A152,Gifts!B$4:B$5000) > 0, SUMIF(Gifts!E$4:E$5000, A152,Gifts!B$4:B$5000), \"\")","v":""}]
[null,{"$f":"IF(SUMIF(Gifts!E$4:E$5000, A153,Gifts!B$4:B$5000) > 0, SUMIF(Gifts!E$4:E$5000, A153,Gifts!B$4:B$5000), \"\")","v":""}]
[null,{"$f":"IF(SUMIF(Gifts!E$4:E$5000, A154,Gifts!B$4:B$5000) > 0, SUMIF(Gifts!E$4:E$5000, A154,Gifts!B$4:B$5000), \"\")","v":""}]
[null,{"$f":"IF(SUMIF(Gifts!E$4:E$5000, A155,Gifts!B$4:B$5000) > 0, SUMIF(Gifts!E$4:E$5000, A155,Gifts!B$4:B$5000), \"\")","v":""}]
[null,{"$f":"IF(SUMIF(Gifts!E$4:E$5000, A156,Gifts!B$4:B$5000) > 0, SUMIF(Gifts!E$4:E$5000, A156,Gifts!B$4:B$5000), \"\")","v":""}]
[null,{"$f":"IF(SUMIF(Gifts!E$4:E$5000, A157,Gifts!B$4:B$5000) > 0, SUMIF(Gifts!E$4:E$5000, A157,Gifts!B$4:B$5000), \"\")","v":""}]
[null,{"$f":"IF(SUMIF(Gifts!E$4:E$5000, A158,Gifts!B$4:B$5000) > 0, SUMIF(Gifts!E$4:E$5000, A158,Gifts!B$4:B$5000), \"\")","v":""}]
[null,{"$f":"IF(SUMIF(Gifts!E$4:E$5000, A159,Gifts!B$4:B$5000) > 0, SUMIF(Gifts!E$4:E$5000, A159,Gifts!B$4:B$5000), \"\")","v":""}]
[null,{"$f":"IF(SUMIF(Gifts!E$4:E$5000, A160,Gifts!B$4:B$5000) > 0, SUMIF(Gifts!E$4:E$5000, A160,Gifts!B$4:B$5000), \"\")","v":""}]
[null,{"$f":"IF(SUMIF(Gifts!E$4:E$5000, A161,Gifts!B$4:B$5000) > 0, SUMIF(Gifts!E$4:E$5000, A161,Gifts!B$4:B$5000), \"\")","v":""}]
[null,{"$f":"IF(SUMIF(Gifts!E$4:E$5000, A162,Gifts!B$4:B$5000) > 0, SUMIF(Gifts!E$4:E$5000, A162,Gifts!B$4:B$5000), \"\")","v":""}]
[null,{"$f":"IF(SUMIF(Gifts!E$4:E$5000, A163,Gifts!B$4:B$5000) > 0, SUMIF(Gifts!E$4:E$5000, A163,Gifts!B$4:B$5000), \"\")","v":""}]
[null,{"$f":"IF(SUMIF(Gifts!E$4:E$5000, A164,Gifts!B$4:B$5000) > 0, SUMIF(Gifts!E$4:E$5000, A164,Gifts!B$4:B$5000), \"\")","v":""}]
[null,{"$f":"IF(SUMIF(Gifts!E$4:E$5000, A165,Gifts!B$4:B$5000) > 0, SUMIF(Gifts!E$4:E$5000, A165,Gifts!B$4:B$5000), \"\")","v":""}]
[null,{"$f":"IF(SUMIF(Gifts!E$4:E$5000, A166,Gifts!B$4:B$5000) > 0, SUMIF(Gifts!E$4:E$5000, A166,Gifts!B$4:B$5000), \"\")","v":""}]
[null,{"$f":"IF(SUMIF(Gifts!E$4:E$5000, A167,Gifts!B$4:B$5000) > 0, SUMIF(Gifts!E$4:E$5000, A167,Gifts!B$4:B$5000), \"\")","v":""}]
[null,{"$f":"IF(SUMIF(Gifts!E$4:E$5000, A168,Gifts!B$4:B$5000) > 0, SUMIF(Gifts!E$4:E$5000, A168,Gifts!B$4:B$5000), \"\")","v":""}]
[null,{"$f":"IF(SUMIF(Gifts!E$4:E$5000, A169,Gifts!B$4:B$5000) > 0, SUMIF(Gifts!E$4:E$5000, A169,Gifts!B$4:B$5000), \"\")","v":""}]
[null,{"$f":"IF(SUMIF(Gifts!E$4:E$5000, A170,Gifts!B$4:B$5000) > 0, SUMIF(Gifts!E$4:E$5000, A170,Gifts!B$4:B$5000), \"\")","v":""}]
[null,{"$f":"IF(SUMIF(Gifts!E$4:E$5000, A171,Gifts!B$4:B$5000) > 0, SUMIF(Gifts!E$4:E$5000, A171,Gifts!B$4:B$5000), \"\")","v":""}]
[null,{"$f":"IF(SUMIF(Gifts!E$4:E$5000, A172,Gifts!B$4:B$5000) > 0, SUMIF(Gifts!E$4:E$5000, A172,Gifts!B$4:B$5000), \"\")","v":""}]
[null,{"$f":"IF(SUMIF(Gifts!E$4:E$5000, A173,Gifts!B$4:B$5000) > 0, SUMIF(Gifts!E$4:E$5000, A173,Gifts!B$4:B$5000), \"\")","v":""}]
[null,{"$f":"IF(SUMIF(Gifts!E$4:E$5000, A174,Gifts!B$4:B$5000) > 0, SUMIF(Gifts!E$4:E$5000, A174,Gifts!B$4:B$5000), \"\")","v":""}]
[null,{"$f":"IF(SUMIF(Gifts!E$4:E$5000, A175,Gifts!B$4:B$5000) > 0, SUMIF(Gifts!E$4:E$5000, A175,Gifts!B$4:B$5000), \"\")","v":""}]
[null,{"$f":"IF(SUMIF(Gifts!E$4:E$5000, A176,Gifts!B$4:B$5000) > 0, SUMIF(Gifts!E$4:E$5000, A176,Gifts!B$4:B$5000), \"\")","v":""}]
[null,{"$f":"IF(SUMIF(Gifts!E$4:E$5000, A177,Gifts!B$4:B$5000) > 0, SUMIF(Gifts!E$4:E$5000, A177,Gifts!B$4:B$5000), \"\")","v":""}]
[null,{"$f":"IF(SUMIF(Gifts!E$4:E$5000, A178,Gifts!B$4:B$5000) > 0, SUMIF(Gifts!E$4:E$5000, A178,Gifts!B$4:B$5000), \"\")","v":""}]
[null,{"$f":"IF(SUMIF(Gifts!E$4:E$5000, A179,Gifts!B$4:B$5000) > 0, SUMIF(Gifts!E$4:E$5000, A179,Gifts!B$4:B$5000), \"\")","v":""}]
[null,{"$f":"IF(SUMIF(Gifts!E$4:E$5000, A180,Gifts!B$4:B$5000) > 0, SUMIF(Gifts!E$4:E$5000, A180,Gifts!B$4:B$5000), \"\")","v":""}]
[null,{"$f":"IF(SUMIF(Gifts!E$4:E$5000, A181,Gifts!B$4:B$5000) > 0, SUMIF(Gifts!E$4:E$5000, A181,Gifts!B$4:B$5000), \"\")","v":""}]
[null,{"$f":"IF(SUMIF(Gifts!E$4:E$5000, A182,Gifts!B$4:B$5000) > 0, SUMIF(Gifts!E$4:E$5000, A182,Gifts!B$4:B$5000), \"\")","v":""}]
[null,{"$f":"IF(SUMIF(Gifts!E$4:E$5000, A183,Gifts!B$4:B$5000) > 0, SUMIF(Gifts!E$4:E$5000, A183,Gifts!B$4:B$5000), \"\")","v":""}]
[null,{"$f":"IF(SUMIF(Gifts!E$4:E$5000, A184,Gifts!B$4:B$5000) > 0, SUMIF(Gifts!E$4:E$5000, A184,Gifts!B$4:B$5000), \"\")","v":""}]
[null,{"$f":"IF(SUMIF(Gifts!E$4:E$5000, A185,Gifts!B$4:B$5000) > 0, SUMIF(Gifts!E$4:E$5000, A185,Gifts!B$4:B$5000), \"\")","v":""}]
[null,{"$f":"IF(SUMIF(Gifts!E$4:E$5000, A186,Gifts!B$4:B$5000) > 0, SUMIF(Gifts!E$4:E$5000, A186,Gifts!B$4:B$5000), \"\")","v":""}]
[null,{"$f":"IF(SUMIF(Gifts!E$4:E$5000, A187,Gifts!B$4:B$5000) > 0, SUMIF(Gifts!E$4:E$5000, A187,Gifts!B$4:B$5000), \"\")","v":""}]
[null,{"$f":"IF(SUMIF(Gifts!E$4:E$5000, A188,Gifts!B$4:B$5000) > 0, SUMIF(Gifts!E$4:E$5000, A188,Gifts!B$4:B$5000), \"\")","v":""}]
[null,{"$f":"IF(SUMIF(Gifts!E$4:E$5000, A189,Gifts!B$4:B$5000) > 0, SUMIF(Gifts!E$4:E$5000, A189,Gifts!B$4:B$5000), \"\")","v":""}]
[null,{"$f":"IF(SUMIF(Gifts!E$4:E$5000, A190,Gifts!B$4:B$5000) > 0, SUMIF(Gifts!E$4:E$5000, A190,Gifts!B$4:B$5000), \"\")","v":""}]
[null,{"$f":"IF(SUMIF(Gifts!E$4:E$5000, A191,Gifts!B$4:B$5000) > 0, SUMIF(Gifts!E$4:E$5000, A191,Gifts!B$4:B$5000), \"\")","v":""}]
[null,{"$f":"IF(SUMIF(Gifts!E$4:E$5000, A192,Gifts!B$4:B$5000) > 0, SUMIF(Gifts!E$4:E$5000, A192,Gifts!B$4:B$5000), \"\")","v":""}]
[null,{"$f":"IF(SUMIF(Gifts!E$4:E$5000, A193,Gifts!B$4:B$5000) > 0, SUMIF(Gifts!E$4:E$5000, A193,Gifts!B$4:B$5000), \"\")","v":""}]
[null,{"$f":"IF(SUMIF(Gifts!E$4:E$5000, A194,Gifts!B$4:B$5000) > 0, SUMIF(Gifts!E$4:E$5000, A194,Gifts!B$4:B$5000), \"\")","v":""}]
[null,{"$f":"IF(SUMIF(Gifts!E$4:E$5000, A195,Gifts!B$4:B$5000) > 0, SUMIF(Gifts!E$4:E$5000, A195,Gifts!B$4:B$5000), \"\")","v":""}]
[null,{"$f":"IF(SUMIF(Gifts!E$4:E$5000, A196,Gifts!B$4:B$5000) > 0, SUMIF(Gifts!E$4:E$5000, A196,Gifts!B$4:B$5000), \"\")","v":""}]
[null,{"$f":"IF(SUMIF(Gifts!E$4:E$5000, A197,Gifts!B$4:B$5000) > 0, SUMIF(Gifts!E$4:E$5000, A197,Gifts!B$4:B$5000), \"\")","v":""}]
[null,{"$f":"IF(SUMIF(Gifts!E$4:E$5000, A198,Gifts!B$4:B$5000) > 0, SUMIF(Gifts!E$4:E$5000, A198,Gifts!B$4:B$5000), \"\")","v":""}]
[null,{"$f":"IF(SUMIF(Gifts!E$4:E$5000, A199,Gifts!B$4:B$5000) > 0, SUMIF(Gifts!E$4:E$5000, A199,Gifts!B$4:B$5000), \"\")","v":""}]
[null,{"$f":"IF(SUMIF(Gifts!E$4:E$5000, A200,Gifts!B$4:B$5000) > 0, SUMIF(Gifts!E$4:E$5000, A200,Gifts!B$4:B$5000), \"\")","v":""}]
[null,{"$f":"IF(SUMIF(Gifts!E$4:E$5000, A201,Gifts!B$4:B$5000) > 0, SUMIF(Gifts!E$4:E$5000, A201,Gifts!B$4:B$5000), \"\")","v":""}]
[null,{"$f":"IF(SUMIF(Gifts!E$4:E$5000, A202,Gifts!B$4:B$5000) > 0, SUMIF(Gifts!E$4:E$5000, A202,Gifts!B$4:B$5000), \"\")","v":""}]
[null,{"$f":"IF(SUMIF(Gifts!E$4:E$5000, A203,Gifts!B$4:B$5000) > 0, SUMIF(Gifts!E$4:E$5000, A203,Gifts!B$4:B$5000), \"\")","v":""}]
[null,{"$f":"IF(SUMIF(Gifts!E$4:E$5000, A204,Gifts!B$4:B$5000) > 0, SUMIF(Gifts!E$4:E$5000, A204,Gifts!B$4:B$5000), \"\")","v":""}]
[null,{"$f":"IF(SUMIF(Gifts!E$4:E$5000, A205,Gifts!B$4:B$5000) > 0, SUMIF(Gifts!E$4:E$5000, A205,Gifts!B$4:B$5000), \"\")","v":""}]
[null,{"$f":"IF(SUMIF(Gifts!E$4:E$5000, A206,Gifts!B$4:B$5000) > 0, SUMIF(Gifts!E$4:E$5000, A206,Gifts!B$4:B$5000), \"\")","v":""}]
[null,{"$f":"IF(SUMIF(Gifts!E$4:E$5000, A207,Gifts!B$4:B$5000) > 0, SUMIF(Gifts!E$4:E$5000, A207,Gifts!B$4:B$5000), \"\")","v":""}]
[null,{"$f":"IF(SUMIF(Gifts!E$4:E$5000, A208,Gifts!B$4:B$5000) > 0, SUMIF(Gifts!E$4:E$5000, A208,Gifts!B$4:B$5000), \"\")","v":""}]
[null,{"$f":"IF(SUMIF(Gifts!E$4:E$5000, A209,Gifts!B$4:B$5000) > 0, SUMIF(Gifts!E$4:E$5000, A209,Gifts!B$4:B$5000), \"\")","v":""}]
[null,{"$f":"IF(SUMIF(Gifts!E$4:E$5000, A210,Gifts!B$4:B$5000) > 0, SUMIF(Gifts!E$4:E$5000, A210,Gifts!B$4:B$5000), \"\")","v":""}]
[null,{"$f":"IF(SUMIF(Gifts!E$4:E$5000, A211,Gifts!B$4:B$5000) > 0, SUMIF(Gifts!E$4:E$5000, A211,Gifts!B$4:B$5000), \"\")","v":""}]
[null,{"$f":"IF(SUMIF(Gifts!E$4:E$5000, A212,Gifts!B$4:B$5000) > 0, SUMIF(Gifts!E$4:E$5000, A212,Gifts!B$4:B$5000), \"\")","v":""}]
[null,{"$f":"IF(SUMIF(Gifts!E$4:E$5000, A213,Gifts!B$4:B$5000) > 0, SUMIF(Gifts!E$4:E$5000, A213,Gifts!B$4:B$5000), \"\")","v":""}]
[null,{"$f":"IF(SUMIF(Gifts!E$4:E$5000, A214,Gifts!B$4:B$5000) > 0, SUMIF(Gifts!E$4:E$5000, A214,Gifts!B$4:B$5000), \"\")","v":""}]
[null,{"$f":"IF(SUMIF(Gifts!E$4:E$5000, A215,Gifts!B$4:B$5000) > 0, SUMIF(Gifts!E$4:E$5000, A215,Gifts!B$4:B$5000), \"\")","v":""}]
[null,{"$f":"IF(SUMIF(Gifts!E$4:E$5000, A216,Gifts!B$4:B$5000) > 0, SUMIF(Gifts!E$4:E$5000, A216,Gifts!B$4:B$5000), \"\")","v":""}]
[null,{"$f":"IF(SUMIF(Gifts!E$4:E$5000, A217,Gifts!B$4:B$5000) > 0, SUMIF(Gifts!E$4:E$5000, A217,Gifts!B$4:B$5000), \"\")","v":""}]
[null,{"$f":"IF(SUMIF(Gifts!E$4:E$5000, A218,Gifts!B$4:B$5000) > 0, SUMIF(Gifts!E$4:E$5000, A218,Gifts!B$4:B$5000), \"\")","v":""}]
[null,{"$f":"IF(SUMIF(Gifts!E$4:E$5000, A219,Gifts!B$4:B$5000) > 0, SUMIF(Gifts!E$4:E$5000, A219,Gifts!B$4:B$5000), \"\")","v":""}]
[null,{"$f":"IF(SUMIF(Gifts!E$4:E$5000, A220,Gifts!B$4:B$5000) > 0, SUMIF(Gifts!E$4:E$5000, A220,Gifts!B$4:B$5000), \"\")","v":""}]
[null,{"$f":"IF(SUMIF(Gifts!E$4:E$5000, A221,Gifts!B$4:B$5000) > 0, SUMIF(Gifts!E$4:E$5000, A221,Gifts!B$4:B$5000), \"\")","v":""}]
[null,{"$f":"IF(SUMIF(Gifts!E$4:E$5000, A222,Gifts!B$4:B$5000) > 0, SUMIF(Gifts!E$4:E$5000, A222,Gifts!B$4:B$5000), \"\")","v":""}]
[null,{"$f":"IF(SUMIF(Gifts!E$4:E$5000, A223,Gifts!B$4:B$5000) > 0, SUMIF(Gifts!E$4:E$5000, A223,Gifts!B$4:B$5000), \"\")","v":""}]
[null,{"$f":"IF(SUMIF(Gifts!E$4:E$5000, A224,Gifts!B$4:B$5000) > 0, SUMIF(Gifts!E$4:E$5000, A224,Gifts!B$4:B$5000), \"\")","v":""}]
[null,{"$f":"IF(SUMIF(Gifts!E$4:E$5000, A225,Gifts!B$4:B$5000) > 0, SUMIF(Gifts!E$4:E$5000, A225,Gifts!B$4:B$5000), \"\")","v":""}]
[null,{"$f":"IF(SUMIF(Gifts!E$4:E$5000, A226,Gifts!B$4:B$5000) > 0, SUMIF(Gifts!E$4:E$5000, A226,Gifts!B$4:B$5000), \"\")","v":""}]
[null,{"$f":"IF(SUMIF(Gifts!E$4:E$5000, A227,Gifts!B$4:B$5000) > 0, SUMIF(Gifts!E$4:E$5000, A227,Gifts!B$4:B$5000), \"\")","v":""}]
[null,{"$f":"IF(SUMIF(Gifts!E$4:E$5000, A228,Gifts!B$4:B$5000) > 0, SUMIF(Gifts!E$4:E$5000, A228,Gifts!B$4:B$5000), \"\")","v":""}]
[null,{"$f":"IF(SUMIF(Gifts!E$4:E$5000, A229,Gifts!B$4:B$5000) > 0, SUMIF(Gifts!E$4:E$5000, A229,Gifts!B$4:B$5000), \"\")","v":""}]
[null,{"$f":"IF(SUMIF(Gifts!E$4:E$5000, A230,Gifts!B$4:B$5000) > 0, SUMIF(Gifts!E$4:E$5000, A230,Gifts!B$4:B$5000), \"\")","v":""}]
[null,{"$f":"IF(SUMIF(Gifts!E$4:E$5000, A231,Gifts!B$4:B$5000) > 0, SUMIF(Gifts!E$4:E$5000, A231,Gifts!B$4:B$5000), \"\")","v":""}]
[null,{"$f":"IF(SUMIF(Gifts!E$4:E$5000, A232,Gifts!B$4:B$5000) > 0, SUMIF(Gifts!E$4:E$5000, A232,Gifts!B$4:B$5000), \"\")","v":""}]
[null,{"$f":"IF(SUMIF(Gifts!E$4:E$5000, A233,Gifts!B$4:B$5000) > 0, SUMIF(Gifts!E$4:E$5000, A233,Gifts!B$4:B$5000), \"\")","v":""}]
[null,{"$f":"IF(SUMIF(Gifts!E$4:E$5000, A234,Gifts!B$4:B$5000) > 0, SUMIF(Gifts!E$4:E$5000, A234,Gifts!B$4:B$5000), \"\")","v":""}]
[null,{"$f":"IF(SUMIF(Gifts!E$4:E$5000, A235,Gifts!B$4:B$5000) > 0, SUMIF(Gifts!E$4:E$5000, A235,Gifts!B$4:B$5000), \"\")","v":""}]
[null,{"$f":"IF(SUMIF(Gifts!E$4:E$5000, A236,Gifts!B$4:B$5000) > 0, SUMIF(Gifts!E$4:E$5000, A236,Gifts!B$4:B$5000), \"\")","v":""}]
[null,{"$f":"IF(SUMIF(Gifts!E$4:E$5000, A237,Gifts!B$4:B$5000) > 0, SUMIF(Gifts!E$4:E$5000, A237,Gifts!B$4:B$5000), \"\")","v":""}]
[null,{"$f":"IF(SUMIF(Gifts!E$4:E$5000, A238,Gifts!B$4:B$5000) > 0, SUMIF(Gifts!E$4:E$5000, A238,Gifts!B$4:B$5000), \"\")","v":""}]
[null,{"$f":"IF(SUMIF(Gifts!E$4:E$5000, A239,Gifts!B$4:B$5000) > 0, SUMIF(Gifts!E$4:E$5000, A239,Gifts!B$4:B$5000), \"\")","v":""}]
[null,{"$f":"IF(SUMIF(Gifts!E$4:E$5000, A240,Gifts!B$4:B$5000) > 0, SUMIF(Gifts!E$4:E$5000, A240,Gifts!B$4:B$5000), \"\")","v":""}]
[null,{"$f":"IF(SUMIF(Gifts!E$4:E$5000, A241,Gifts!B$4:B$5000) > 0, SUMIF(Gifts!E$4:E$5000, A241,Gifts!B$4:B$5000), \"\")","v":""}]
[null,{"$f":"IF(SUMIF(Gifts!E$4:E$5000, A242,Gifts!B$4:B$5000) > 0, SUMIF(Gifts!E$4:E$5000, A242,Gifts!B$4:B$5000), \"\")","v":""}]
[null,{"$f":"IF(SUMIF(Gifts!E$4:E$5000, A243,Gifts!B$4:B$5000) > 0, SUMIF(Gifts!E$4:E$5000, A243,Gifts!B$4:B$5000), \"\")","v":""}]
[null,{"$f":"IF(SUMIF(Gifts!E$4:E$5000, A244,Gifts!B$4:B$5000) > 0, SUMIF(Gifts!E$4:E$5000, A244,Gifts!B$4:B$5000), \"\")","v":""}]
[null,{"$f":"IF(SUMIF(Gifts!E$4:E$5000, A245,Gifts!B$4:B$5000) > 0, SUMIF(Gifts!E$4:E$5000, A245,Gifts!B$4:B$5000), \"\")","v":""}]
[null,{"$f":"IF(SUMIF(Gifts!E$4:E$5000, A246,Gifts!B$4:B$5000) > 0, SUMIF(Gifts!E$4:E$5000, A246,Gifts!B$4:B$5000), \"\")","v":""}]
[null,{"$f":"IF(SUMIF(Gifts!E$4:E$5000, A247,Gifts!B$4:B$5000) > 0, SUMIF(Gifts!E$4:E$5000, A247,Gifts!B$4:B$5000), \"\")","v":""}]
[null,{"$f":"IF(SUMIF(Gifts!E$4:E$5000, A248,Gifts!B$4:B$5000) > 0, SUMIF(Gifts!E$4:E$5000, A248,Gifts!B$4:B$5000), \"\")","v":""}]
[null,{"$f":"IF(SUMIF(Gifts!E$4:E$5000, A249,Gifts!B$4:B$5000) > 0, SUMIF(Gifts!E$4:E$5000, A249,Gifts!B$4:B$5000), \"\")","v":""}]
[null,{"$f":"IF(SUMIF(Gifts!E$4:E$5000, A250,Gifts!B$4:B$5000) > 0, SUMIF(Gifts!E$4:E$5000, A250,Gifts!B$4:B$5000), \"\")","v":""}]
[null,{"$f":"IF(SUMIF(Gifts!E$4:E$5000, A251,Gifts!B$4:B$5000) > 0, SUMIF(Gifts!E$4:E$5000, A251,Gifts!B$4:B$5000), \"\")","v":""}]
[null,{"$f":"IF(SUMIF(Gifts!E$4:E$5000, A252,Gifts!B$4:B$5000) > 0, SUMIF(Gifts!E$4:E$5000, A252,Gifts!B$4:B$5000), \"\")","v":""}]
[null,{"$f":"IF(SUMIF(Gifts!E$4:E$5000, A253,Gifts!B$4:B$5000) > 0, SUMIF(Gifts!E$4:E$5000, A253,Gifts!B$4:B$5000), \"\")","v":""}]
[null,{"$f":"IF(SUMIF(Gifts!E$4:E$5000, A254,Gifts!B$4:B$5000) > 0, SUMIF(Gifts!E$4:E$5000, A254,Gifts!B$4:B$5000), \"\")","v":""}]
[null,{"$f":"IF(SUMIF(Gifts!E$4:E$5000, A255,Gifts!B$4:B$5000) > 0, SUMIF(Gifts!E$4:E$5000, A255,Gifts!B$4:B$5000), \"\")","v":""}]
[null,{"$f":"IF(SUMIF(Gifts!E$4:E$5000, A256,Gifts!B$4:B$5000) > 0, SUMIF(Gifts!E$4:E$5000, A256,Gifts!B$4:B$5000), \"\")","v":""}]
[null,{"$f":"IF(SUMIF(Gifts!E$4:E$5000, A257,Gifts!B$4:B$5000) > 0, SUMIF(Gifts!E$4:E$5000, A257,Gifts!B$4:B$5000), \"\")","v":""}]
[null,{"$f":"IF(SUMIF(Gifts!E$4:E$5000, A258,Gifts!B$4:B$5000) > 0, SUMIF(Gifts!E$4:E$5000, A258,Gifts!B$4:B$5000), \"\")","v":""}]
[null,{"$f":"IF(SUMIF(Gifts!E$4:E$5000, A259,Gifts!B$4:B$5000) > 0, SUMIF(Gifts!E$4:E$5000, A259,Gifts!B$4:B$5000), \"\")","v":""}]
[null,{"$f":"IF(SUMIF(Gifts!E$4:E$5000, A260,Gifts!B$4:B$5000) > 0, SUMIF(Gifts!E$4:E$5000, A260,Gifts!B$4:B$5000), \"\")","v":""}]
[null,{"$f":"IF(SUMIF(Gifts!E$4:E$5000, A261,Gifts!B$4:B$5000) > 0, SUMIF(Gifts!E$4:E$5000, A261,Gifts!B$4:B$5000), \"\")","v":""}]
[null,{"$f":"IF(SUMIF(Gifts!E$4:E$5000, A262,Gifts!B$4:B$5000) > 0, SUMIF(Gifts!E$4:E$5000, A262,Gifts!B$4:B$5000), \"\")","v":""}]
[null,{"$f":"IF(SUMIF(Gifts!E$4:E$5000, A263,Gifts!B$4:B$5000) > 0, SUMIF(Gifts!E$4:E$5000, A263,Gifts!B$4:B$5000), \"\")","v":""}]
[null,{"$f":"IF(SUMIF(Gifts!E$4:E$5000, A264,Gifts!B$4:B$5000) > 0, SUMIF(Gifts!E$4:E$5000, A264,Gifts!B$4:B$5000), \"\")","v":""}]
[null,{"$f":"IF(SUMIF(Gifts!E$4:E$5000, A265,Gifts!B$4:B$5000) > 0, SUMIF(Gifts!E$4:E$5000, A265,Gifts!B$4:B$5000), \"\")","v":""}]
[null,{"$f":"IF(SUMIF(Gifts!E$4:E$5000, A266,Gifts!B$4:B$5000) > 0, SUMIF(Gifts!E$4:E$5000, A266,Gifts!B$4:B$5000), \"\")","v":""}]
[null,{"$f":"IF(SUMIF(Gifts!E$4:E$5000, A267,Gifts!B$4:B$5000) > 0, SUMIF(Gifts!E$4:E$5000, A267,Gifts!B$4:B$5000), \"\")","v":""}]
[null,{"$f":"IF(SUMIF(Gifts!E$4:E$5000, A268,Gifts!B$4:B$5000) > 0, SUMIF(Gifts!E$4:E$5000, A268,Gifts!B$4:B$5000), \"\")","v":""}]
[null,{"$f":"IF(SUMIF(Gifts!E$4:E$5000, A269,Gifts!B$4:B$5000) > 0, SUMIF(Gifts!E$4:E$5000, A269,Gifts!B$4:B$5000), \"\")","v":""}]
[null,{"$f":"IF(SUMIF(Gifts!E$4:E$5000, A270,Gifts!B$4:B$5000) > 0, SUMIF(Gifts!E$4:E$5000, A270,Gifts!B$4:B$5000), \"\")","v":""}]
[null,{"$f":"IF(SUMIF(Gifts!E$4:E$5000, A271,Gifts!B$4:B$5000) > 0, SUMIF(Gifts!E$4:E$5000, A271,Gifts!B$4:B$5000), \"\")","v":""}]
[null,{"$f":"IF(SUMIF(Gifts!E$4:E$5000, A272,Gifts!B$4:B$5000) > 0, SUMIF(Gifts!E$4:E$5000, A272,Gifts!B$4:B$5000), \"\")","v":""}]
[null,{"$f":"IF(SUMIF(Gifts!E$4:E$5000, A273,Gifts!B$4:B$5000) > 0, SUMIF(Gifts!E$4:E$5000, A273,Gifts!B$4:B$5000), \"\")","v":""}]
[null,{"$f":"IF(SUMIF(Gifts!E$4:E$5000, A274,Gifts!B$4:B$5000) > 0, SUMIF(Gifts!E$4:E$5000, A274,Gifts!B$4:B$5000), \"\")","v":""}]
[null,{"$f":"IF(SUMIF(Gifts!E$4:E$5000, A275,Gifts!B$4:B$5000) > 0, SUMIF(Gifts!E$4:E$5000, A275,Gifts!B$4:B$5000), \"\")","v":""}]
[null,{"$f":"IF(SUMIF(Gifts!E$4:E$5000, A276,Gifts!B$4:B$5000) > 0, SUMIF(Gifts!E$4:E$5000, A276,Gifts!B$4:B$5000), \"\")","v":""}]
[null,{"$f":"IF(SUMIF(Gifts!E$4:E$5000, A277,Gifts!B$4:B$5000) > 0, SUMIF(Gifts!E$4:E$5000, A277,Gifts!B$4:B$5000), \"\")","v":""}]
[null,{"$f":"IF(SUMIF(Gifts!E$4:E$5000, A278,Gifts!B$4:B$5000) > 0, SUMIF(Gifts!E$4:E$5000, A278,Gifts!B$4:B$5000), \"\")","v":""}]
[null,{"$f":"IF(SUMIF(Gifts!E$4:E$5000, A279,Gifts!B$4:B$5000) > 0, SUMIF(Gifts!E$4:E$5000, A279,Gifts!B$4:B$5000), \"\")","v":""}]
[null,{"$f":"IF(SUMIF(Gifts!E$4:E$5000, A280,Gifts!B$4:B$5000) > 0, SUMIF(Gifts!E$4:E$5000, A280,Gifts!B$4:B$5000), \"\")","v":""}]
[null,{"$f":"IF(SUMIF(Gifts!E$4:E$5000, A281,Gifts!B$4:B$5000) > 0, SUMIF(Gifts!E$4:E$5000, A281,Gifts!B$4:B$5000), \"\")","v":""}]
[null,{"$f":"IF(SUMIF(Gifts!E$4:E$5000, A282,Gifts!B$4:B$5000) > 0, SUMIF(Gifts!E$4:E$5000, A282,Gifts!B$4:B$5000), \"\")","v":""}]
[null,{"$f":"IF(SUMIF(Gifts!E$4:E$5000, A283,Gifts!B$4:B$5000) > 0, SUMIF(Gifts!E$4:E$5000, A283,Gifts!B$4:B$5000), \"\")","v":""}]
[null,{"$f":"IF(SUMIF(Gifts!E$4:E$5000, A284,Gifts!B$4:B$5000) > 0, SUMIF(Gifts!E$4:E$5000, A284,Gifts!B$4:B$5000), \"\")","v":""}]
[null,{"$f":"IF(SUMIF(Gifts!E$4:E$5000, A285,Gifts!B$4:B$5000) > 0, SUMIF(Gifts!E$4:E$5000, A285,Gifts!B$4:B$5000), \"\")","v":""}]
[null,{"$f":"IF(SUMIF(Gifts!E$4:E$5000, A286,Gifts!B$4:B$5000) > 0, SUMIF(Gifts!E$4:E$5000, A286,Gifts!B$4:B$5000), \"\")","v":""}]
[null,{"$f":"IF(SUMIF(Gifts!E$4:E$5000, A287,Gifts!B$4:B$5000) > 0, SUMIF(Gifts!E$4:E$5000, A287,Gifts!B$4:B$5000), \"\")","v":""}]
[null,{"$f":"IF(SUMIF(Gifts!E$4:E$5000, A288,Gifts!B$4:B$5000) > 0, SUMIF(Gifts!E$4:E$5000, A288,Gifts!B$4:B$5000), \"\")","v":""}]
[null,{"$f":"IF(SUMIF(Gifts!E$4:E$5000, A289,Gifts!B$4:B$5000) > 0, SUMIF(Gifts!E$4:E$5000, A289,Gifts!B$4:B$5000), \"\")","v":""}]
[null,{"$f":"IF(SUMIF(Gifts!E$4:E$5000, A290,Gifts!B$4:B$5000) > 0, SUMIF(Gifts!E$4:E$5000, A290,Gifts!B$4:B$5000), \"\")","v":""}]
[null,{"$f":"IF(SUMIF(Gifts!E$4:E$5000, A291,Gifts!B$4:B$5000) > 0, SUMIF(Gifts!E$4:E$5000, A291,Gifts!B$4:B$5000), \"\")","v":""}]
[null,{"$f":"IF(SUMIF(Gifts!E$4:E$5000, A292,Gifts!B$4:B$5000) > 0, SUMIF(Gifts!E$4:E$5000, A292,Gifts!B$4:B$5000), \"\")","v":""}]
[null,{"$f":"IF(SUMIF(Gifts!E$4:E$5000, A293,Gifts!B$4:B$5000) > 0, SUMIF(Gifts!E$4:E$5000, A293,Gifts!B$4:B$5000), \"\")","v":""}]
[null,{"$f":"IF(SUMIF(Gifts!E$4:E$5000, A294,Gifts!B$4:B$5000) > 0, SUMIF(Gifts!E$4:E$5000, A294,Gifts!B$4:B$5000), \"\")","v":""}]
[null,{"$f":"IF(SUMIF(Gifts!E$4:E$5000, A295,Gifts!B$4:B$5000) > 0, SUMIF(Gifts!E$4:E$5000, A295,Gifts!B$4:B$5000), \"\")","v":""}]
[null,{"$f":"IF(SUMIF(Gifts!E$4:E$5000, A296,Gifts!B$4:B$5000) > 0, SUMIF(Gifts!E$4:E$5000, A296,Gifts!B$4:B$5000), \"\")","v":""}]
[null,{"$f":"IF(SUMIF(Gifts!E$4:E$5000, A297,Gifts!B$4:B$5000) > 0, SUMIF(Gifts!E$4:E$5000, A297,Gifts!B$4:B$5000), \"\")","v":""}]
[null,{"$f":"IF(SUMIF(Gifts!E$4:E$5000, A298,Gifts!B$4:B$5000) > 0, SUMIF(Gifts!E$4:E$5000, A298,Gifts!B$4:B$5000), \"\")","v":""}]
[null,{"$f":"IF(SUMIF(Gifts!E$4:E$5000, A299,Gifts!B$4:B$5000) > 0, SUMIF(Gifts!E$4:E$5000, A299,Gifts!B$4:B$5000), \"\")","v":""}]
[null,{"$f":"IF(SUMIF(Gifts!E$4:E$5000, A300,Gifts!B$4:B$5000) > 0, SUMIF(Gifts!E$4:E$5000, A300,Gifts!B$4:B$5000), \"\")","v":""}]
[null,{"$f":"IF(SUMIF(Gifts!E$4:E$5000, A301,Gifts!B$4:B$5000) > 0, SUMIF(Gifts!E$4:E$5000, A301,Gifts!B$4:B$5000), \"\")","v":""}]
[null,{"$f":"IF(SUMIF(Gifts!E$4:E$5000, A302,Gifts!B$4:B$5000) > 0, SUMIF(Gifts!E$4:E$5000, A302,Gifts!B$4:B$5000), \"\")","v":""}]
[null,{"$f":"IF(SUMIF(Gifts!E$4:E$5000, A303,Gifts!B$4:B$5000) > 0, SUMIF(Gifts!E$4:E$5000, A303,Gifts!B$4:B$5000), \"\")","v":""}]
[null,{"$f":"IF(SUMIF(Gifts!E$4:E$5000, A304,Gifts!B$4:B$5000) > 0, SUMIF(Gifts!E$4:E$5000, A304,Gifts!B$4:B$5000), \"\")","v":""}]
[null,{"$f":"IF(SUMIF(Gifts!E$4:E$5000, A305,Gifts!B$4:B$5000) > 0, SUMIF(Gifts!E$4:E$5000, A305,Gifts!B$4:B$5000), \"\")","v":""}]
[null,{"$f":"IF(SUMIF(Gifts!E$4:E$5000, A306,Gifts!B$4:B$5000) > 0, SUMIF(Gifts!E$4:E$5000, A306,Gifts!B$4:B$5000), \"\")","v":""}]
[null,{"$f":"IF(SUMIF(Gifts!E$4:E$5000, A307,Gifts!B$4:B$5000) > 0, SUMIF(Gifts!E$4:E$5000, A307,Gifts!B$4:B$5000), \"\")","v":""}]
[null,{"$f":"IF(SUMIF(Gifts!E$4:E$5000, A308,Gifts!B$4:B$5000) > 0, SUMIF(Gifts!E$4:E$5000, A308,Gifts!B$4:B$5000), \"\")","v":""}]
[null,{"$f":"IF(SUMIF(Gifts!E$4:E$5000, A309,Gifts!B$4:B$5000) > 0, SUMIF(Gifts!E$4:E$5000, A309,Gifts!B$4:B$5000), \"\")","v":""}]
[null,{"$f":"IF(SUMIF(Gifts!E$4:E$5000, A310,Gifts!B$4:B$5000) > 0, SUMIF(Gifts!E$4:E$5000, A310,Gifts!B$4:B$5000), \"\")","v":""}]
[null,{"$f":"IF(SUMIF(Gifts!E$4:E$5000, A311,Gifts!B$4:B$5000) > 0, SUMIF(Gifts!E$4:E$5000, A311,Gifts!B$4:B$5000), \"\")","v":""}]
[null,{"$f":"IF(SUMIF(Gifts!E$4:E$5000, A312,Gifts!B$4:B$5000) > 0, SUMIF(Gifts!E$4:E$5000, A312,Gifts!B$4:B$5000), \"\")","v":""}]
[null,{"$f":"IF(SUMIF(Gifts!E$4:E$5000, A313,Gifts!B$4:B$5000) > 0, SUMIF(Gifts!E$4:E$5000, A313,Gifts!B$4:B$5000), \"\")","v":""}]
[null,{"$f":"IF(SUMIF(Gifts!E$4:E$5000, A314,Gifts!B$4:B$5000) > 0, SUMIF(Gifts!E$4:E$5000, A314,Gifts!B$4:B$5000), \"\")","v":""}]
[null,{"$f":"IF(SUMIF(Gifts!E$4:E$5000, A315,Gifts!B$4:B$5000) > 0, SUMIF(Gifts!E$4:E$5000, A315,Gifts!B$4:B$5000), \"\")","v":""}]
[null,{"$f":"IF(SUMIF(Gifts!E$4:E$5000, A316,Gifts!B$4:B$5000) > 0, SUMIF(Gifts!E$4:E$5000, A316,Gifts!B$4:B$5000), \"\")","v":""}]
[null,{"$f":"IF(SUMIF(Gifts!E$4:E$5000, A317,Gifts!B$4:B$5000) > 0, SUMIF(Gifts!E$4:E$5000, A317,Gifts!B$4:B$5000), \"\")","v":""}]
[null,{"$f":"IF(SUMIF(Gifts!E$4:E$5000, A318,Gifts!B$4:B$5000) > 0, SUMIF(Gifts!E$4:E$5000, A318,Gifts!B$4:B$5000), \"\")","v":""}]
[null,{"$f":"IF(SUMIF(Gifts!E$4:E$5000, A319,Gifts!B$4:B$5000) > 0, SUMIF(Gifts!E$4:E$5000, A319,Gifts!B$4:B$5000), \"\")","v":""}]
[null,{"$f":"IF(SUMIF(Gifts!E$4:E$5000, A320,Gifts!B$4:B$5000) > 0, SUMIF(Gifts!E$4:E$5000, A320,Gifts!B$4:B$5000), \"\")","v":""}]
[null,{"$f":"IF(SUMIF(Gifts!E$4:E$5000, A321,Gifts!B$4:B$5000) > 0, SUMIF(Gifts!E$4:E$5000, A321,Gifts!B$4:B$5000), \"\")","v":""}]
[null,{"$f":"IF(SUMIF(Gifts!E$4:E$5000, A322,Gifts!B$4:B$5000) > 0, SUMIF(Gifts!E$4:E$5000, A322,Gifts!B$4:B$5000), \"\")","v":""}]
[null,{"$f":"IF(SUMIF(Gifts!E$4:E$5000, A323,Gifts!B$4:B$5000) > 0, SUMIF(Gifts!E$4:E$5000, A323,Gifts!B$4:B$5000), \"\")","v":""}]
[null,{"$f":"IF(SUMIF(Gifts!E$4:E$5000, A324,Gifts!B$4:B$5000) > 0, SUMIF(Gifts!E$4:E$5000, A324,Gifts!B$4:B$5000), \"\")","v":""}]
[null,{"$f":"IF(SUMIF(Gifts!E$4:E$5000, A325,Gifts!B$4:B$5000) > 0, SUMIF(Gifts!E$4:E$5000, A325,Gifts!B$4:B$5000), \"\")","v":""}]
[null,{"$f":"IF(SUMIF(Gifts!E$4:E$5000, A326,Gifts!B$4:B$5000) > 0, SUMIF(Gifts!E$4:E$5000, A326,Gifts!B$4:B$5000), \"\")","v":""}]
[null,{"$f":"IF(SUMIF(Gifts!E$4:E$5000, A327,Gifts!B$4:B$5000) > 0, SUMIF(Gifts!E$4:E$5000, A327,Gifts!B$4:B$5000), \"\")","v":""}]
[null,{"$f":"IF(SUMIF(Gifts!E$4:E$5000, A328,Gifts!B$4:B$5000) > 0, SUMIF(Gifts!E$4:E$5000, A328,Gifts!B$4:B$5000), \"\")","v":""}]
[null,{"$f":"IF(SUMIF(Gifts!E$4:E$5000, A329,Gifts!B$4:B$5000) > 0, SUMIF(Gifts!E$4:E$5000, A329,Gifts!B$4:B$5000), \"\")","v":""}]
[null,{"$f":"IF(SUMIF(Gifts!E$4:E$5000, A330,Gifts!B$4:B$5000) > 0, SUMIF(Gifts!E$4:E$5000, A330,Gifts!B$4:B$5000), \"\")","v":""}]
[null,{"$f":"IF(SUMIF(Gifts!E$4:E$5000, A331,Gifts!B$4:B$5000) > 0, SUMIF(Gifts!E$4:E$5000, A331,Gifts!B$4:B$5000), \"\")","v":""}]
[null,{"$f":"IF(SUMIF(Gifts!E$4:E$5000, A332,Gifts!B$4:B$5000) > 0, SUMIF(Gifts!E$4:E$5000, A332,Gifts!B$4:B$5000), \"\")","v":""}]
[null,{"$f":"IF(SUMIF(Gifts!E$4:E$5000, A333,Gifts!B$4:B$5000) > 0, SUMIF(Gifts!E$4:E$5000, A333,Gifts!B$4:B$5000), \"\")","v":""}]
[null,{"$f":"IF(SUMIF(Gifts!E$4:E$5000, A334,Gifts!B$4:B$5000) > 0, SUMIF(Gifts!E$4:E$5000, A334,Gifts!B$4:B$5000), \"\")","v":""}]
[null,{"$f":"IF(SUMIF(Gifts!E$4:E$5000, A335,Gifts!B$4:B$5000) > 0, SUMIF(Gifts!E$4:E$5000, A335,Gifts!B$4:B$5000), \"\")","v":""}]
[null,{"$f":"IF(SUMIF(Gifts!E$4:E$5000, A336,Gifts!B$4:B$5000) > 0, SUMIF(Gifts!E$4:E$5000, A336,Gifts!B$4:B$5000), \"\")","v":""}]
[null,{"$f":"IF(SUMIF(Gifts!E$4:E$5000, A337,Gifts!B$4:B$5000) > 0, SUMIF(Gifts!E$4:E$5000, A337,Gifts!B$4:B$5000), \"\")","v":""}]
[null,{"$f":"IF(SUMIF(Gifts!E$4:E$5000, A338,Gifts!B$4:B$5000) > 0, SUMIF(Gifts!E$4:E$5000, A338,Gifts!B$4:B$5000), \"\")","v":""}]
[null,{"$f":"IF(SUMIF(Gifts!E$4:E$5000, A339,Gifts!B$4:B$5000) > 0, SUMIF(Gifts!E$4:E$5000, A339,Gifts!B$4:B$5000), \"\")","v":""}]
[null,{"$f":"IF(SUMIF(Gifts!E$4:E$5000, A340,Gifts!B$4:B$5000) > 0, SUMIF(Gifts!E$4:E$5000, A340,Gifts!B$4:B$5000), \"\")","v":""}]
[null,{"$f":"IF(SUMIF(Gifts!E$4:E$5000, A341,Gifts!B$4:B$5000) > 0, SUMIF(Gifts!E$4:E$5000, A341,Gifts!B$4:B$5000), \"\")","v":""}]
[null,{"$f":"IF(SUMIF(Gifts!E$4:E$5000, A342,Gifts!B$4:B$5000) > 0, SUMIF(Gifts!E$4:E$5000, A342,Gifts!B$4:B$5000), \"\")","v":""}]
[null,{"$f":"IF(SUMIF(Gifts!E$4:E$5000, A343,Gifts!B$4:B$5000) > 0, SUMIF(Gifts!E$4:E$5000, A343,Gifts!B$4:B$5000), \"\")","v":""}]
[null,{"$f":"IF(SUMIF(Gifts!E$4:E$5000, A344,Gifts!B$4:B$5000) > 0, SUMIF(Gifts!E$4:E$5000, A344,Gifts!B$4:B$5000), \"\")","v":""}]
[null,{"$f":"IF(SUMIF(Gifts!E$4:E$5000, A345,Gifts!B$4:B$5000) > 0, SUMIF(Gifts!E$4:E$5000, A345,Gifts!B$4:B$5000), \"\")","v":""}]
[null,{"$f":"IF(SUMIF(Gifts!E$4:E$5000, A346,Gifts!B$4:B$5000) > 0, SUMIF(Gifts!E$4:E$5000, A346,Gifts!B$4:B$5000), \"\")","v":""}]
[null,{"$f":"IF(SUMIF(Gifts!E$4:E$5000, A347,Gifts!B$4:B$5000) > 0, SUMIF(Gifts!E$4:E$5000, A347,Gifts!B$4:B$5000), \"\")","v":""}]
[null,{"$f":"IF(SUMIF(Gifts!E$4:E$5000, A348,Gifts!B$4:B$5000) > 0, SUMIF(Gifts!E$4:E$5000, A348,Gifts!B$4:B$5000), \"\")","v":""}]
[null,{"$f":"IF(SUMIF(Gifts!E$4:E$5000, A349,Gifts!B$4:B$5000) > 0, SUMIF(Gifts!E$4:E$5000, A349,Gifts!B$4:B$5000), \"\")","v":""}]
[null,{"$f":"IF(SUMIF(Gifts!E$4:E$5000, A350,Gifts!B$4:B$5000) > 0, SUMIF(Gifts!E$4:E$5000, A350,Gifts!B$4:B$5000), \"\")","v":""}]
[null,{"$f":"IF(SUMIF(Gifts!E$4:E$5000, A351,Gifts!B$4:B$5000) > 0, SUMIF(Gifts!E$4:E$5000, A351,Gifts!B$4:B$5000), \"\")","v":""}]
[null,{"$f":"IF(SUMIF(Gifts!E$4:E$5000, A352,Gifts!B$4:B$5000) > 0, SUMIF(Gifts!E$4:E$5000, A352,Gifts!B$4:B$5000), \"\")","v":""}]
[null,{"$f":"IF(SUMIF(Gifts!E$4:E$5000, A353,Gifts!B$4:B$5000) > 0, SUMIF(Gifts!E$4:E$5000, A353,Gifts!B$4:B$5000), \"\")","v":""}]
[null,{"$f":"IF(SUMIF(Gifts!E$4:E$5000, A354,Gifts!B$4:B$5000) > 0, SUMIF(Gifts!E$4:E$5000, A354,Gifts!B$4:B$5000), \"\")","v":""}]
[null,{"$f":"IF(SUMIF(Gifts!E$4:E$5000, A355,Gifts!B$4:B$5000) > 0, SUMIF(Gifts!E$4:E$5000, A355,Gifts!B$4:B$5000), \"\")","v":""}]
[null,{"$f":"IF(SUMIF(Gifts!E$4:E$5000, A356,Gifts!B$4:B$5000) > 0, SUMIF(Gifts!E$4:E$5000, A356,Gifts!B$4:B$5000), \"\")","v":""}]
[null,{"$f":"IF(SUMIF(Gifts!E$4:E$5000, A357,Gifts!B$4:B$5000) > 0, SUMIF(Gifts!E$4:E$5000, A357,Gifts!B$4:B$5000), \"\")","v":""}]
[null,{"$f":"IF(SUMIF(Gifts!E$4:E$5000, A358,Gifts!B$4:B$5000) > 0, SUMIF(Gifts!E$4:E$5000, A358,Gifts!B$4:B$5000), \"\")","v":""}]
[null,{"$f":"IF(SUMIF(Gifts!E$4:E$5000, A359,Gifts!B$4:B$5000) > 0, SUMIF(Gifts!E$4:E$5000, A359,Gifts!B$4:B$5000), \"\")","v":""}]
[null,{"$f":"IF(SUMIF(Gifts!E$4:E$5000, A360,Gifts!B$4:B$5000) > 0, SUMIF(Gifts!E$4:E$5000, A360,Gifts!B$4:B$5000), \"\")","v":""}]
[null,{"$f":"IF(SUMIF(Gifts!E$4:E$5000, A361,Gifts!B$4:B$5000) > 0, SUMIF(Gifts!E$4:E$5000, A361,Gifts!B$4:B$5000), \"\")","v":""}]
[null,{"$f":"IF(SUMIF(Gifts!E$4:E$5000, A362,Gifts!B$4:B$5000) > 0, SUMIF(Gifts!E$4:E$5000, A362,Gifts!B$4:B$5000), \"\")","v":""}]
[null,{"$f":"IF(SUMIF(Gifts!E$4:E$5000, A363,Gifts!B$4:B$5000) > 0, SUMIF(Gifts!E$4:E$5000, A363,Gifts!B$4:B$5000), \"\")","v":""}]
[null,{"$f":"IF(SUMIF(Gifts!E$4:E$5000, A364,Gifts!B$4:B$5000) > 0, SUMIF(Gifts!E$4:E$5000, A364,Gifts!B$4:B$5000), \"\")","v":""}]
[null,{"$f":"IF(SUMIF(Gifts!E$4:E$5000, A365,Gifts!B$4:B$5000) > 0, SUMIF(Gifts!E$4:E$5000, A365,Gifts!B$4:B$5000), \"\")","v":""}]
[null,{"$f":"IF(SUMIF(Gifts!E$4:E$5000, A366,Gifts!B$4:B$5000) > 0, SUMIF(Gifts!E$4:E$5000, A366,Gifts!B$4:B$5000), \"\")","v":""}]
[null,{"$f":"IF(SUMIF(Gifts!E$4:E$5000, A367,Gifts!B$4:B$5000) > 0, SUMIF(Gifts!E$4:E$5000, A367,Gifts!B$4:B$5000), \"\")","v":""}]
[null,{"$f":"IF(SUMIF(Gifts!E$4:E$5000, A368,Gifts!B$4:B$5000) > 0, SUMIF(Gifts!E$4:E$5000, A368,Gifts!B$4:B$5000), \"\")","v":""}]
[null,{"$f":"IF(SUMIF(Gifts!E$4:E$5000, A369,Gifts!B$4:B$5000) > 0, SUMIF(Gifts!E$4:E$5000, A369,Gifts!B$4:B$5000), \"\")","v":""}]
[null,{"$f":"IF(SUMIF(Gifts!E$4:E$5000, A370,Gifts!B$4:B$5000) > 0, SUMIF(Gifts!E$4:E$5000, A370,Gifts!B$4:B$5000), \"\")","v":""}]
[null,{"$f":"IF(SUMIF(Gifts!E$4:E$5000, A371,Gifts!B$4:B$5000) > 0, SUMIF(Gifts!E$4:E$5000, A371,Gifts!B$4:B$5000), \"\")","v":""}]
[null,{"$f":"IF(SUMIF(Gifts!E$4:E$5000, A372,Gifts!B$4:B$5000) > 0, SUMIF(Gifts!E$4:E$5000, A372,Gifts!B$4:B$5000), \"\")","v":""}]
[null,{"$f":"IF(SUMIF(Gifts!E$4:E$5000, A373,Gifts!B$4:B$5000) > 0, SUMIF(Gifts!E$4:E$5000, A373,Gifts!B$4:B$5000), \"\")","v":""}]
[null,{"$f":"IF(SUMIF(Gifts!E$4:E$5000, A374,Gifts!B$4:B$5000) > 0, SUMIF(Gifts!E$4:E$5000, A374,Gifts!B$4:B$5000), \"\")","v":""}]
[null,{"$f":"IF(SUMIF(Gifts!E$4:E$5000, A375,Gifts!B$4:B$5000) > 0, SUMIF(Gifts!E$4:E$5000, A375,Gifts!B$4:B$5000), \"\")","v":""}]
[null,{"$f":"IF(SUMIF(Gifts!E$4:E$5000, A376,Gifts!B$4:B$5000) > 0, SUMIF(Gifts!E$4:E$5000, A376,Gifts!B$4:B$5000), \"\")","v":""}]
[null,{"$f":"IF(SUMIF(Gifts!E$4:E$5000, A377,Gifts!B$4:B$5000) > 0, SUMIF(Gifts!E$4:E$5000, A377,Gifts!B$4:B$5000), \"\")","v":""}]
[null,{"$f":"IF(SUMIF(Gifts!E$4:E$5000, A378,Gifts!B$4:B$5000) > 0, SUMIF(Gifts!E$4:E$5000, A378,Gifts!B$4:B$5000), \"\")","v":""}]
[null,{"$f":"IF(SUMIF(Gifts!E$4:E$5000, A379,Gifts!B$4:B$5000) > 0, SUMIF(Gifts!E$4:E$5000, A379,Gifts!B$4:B$5000), \"\")","v":""}]
[null,{"$f":"IF(SUMIF(Gifts!E$4:E$5000, A380,Gifts!B$4:B$5000) > 0, SUMIF(Gifts!E$4:E$5000, A380,Gifts!B$4:B$5000), \"\")","v":""}]
[null,{"$f":"IF(SUMIF(Gifts!E$4:E$5000, A381,Gifts!B$4:B$5000) > 0, SUMIF(Gifts!E$4:E$5000, A381,Gifts!B$4:B$5000), \"\")","v":""}]
[null,{"$f":"IF(SUMIF(Gifts!E$4:E$5000, A382,Gifts!B$4:B$5000) > 0, SUMIF(Gifts!E$4:E$5000, A382,Gifts!B$4:B$5000), \"\")","v":""}]
[null,{"$f":"IF(SUMIF(Gifts!E$4:E$5000, A383,Gifts!B$4:B$5000) > 0, SUMIF(Gifts!E$4:E$5000, A383,Gifts!B$4:B$5000), \"\")","v":""}]
[null,{"$f":"IF(SUMIF(Gifts!E$4:E$5000, A384,Gifts!B$4:B$5000) > 0, SUMIF(Gifts!E$4:E$5000, A384,Gifts!B$4:B$5000), \"\")","v":""}]
[null,{"$f":"IF(SUMIF(Gifts!E$4:E$5000, A385,Gifts!B$4:B$5000) > 0, SUMIF(Gifts!E$4:E$5000, A385,Gifts!B$4:B$5000), \"\")","v":""}]
[null,{"$f":"IF(SUMIF(Gifts!E$4:E$5000, A386,Gifts!B$4:B$5000) > 0, SUMIF(Gifts!E$4:E$5000, A386,Gifts!B$4:B$5000), \"\")","v":""}]
[null,{"$f":"IF(SUMIF(Gifts!E$4:E$5000, A387,Gifts!B$4:B$5000) > 0, SUMIF(Gifts!E$4:E$5000, A387,Gifts!B$4:B$5000), \"\")","v":""}]
[null,{"$f":"IF(SUMIF(Gifts!E$4:E$5000, A388,Gifts!B$4:B$5000) > 0, SUMIF(Gifts!E$4:E$5000, A388,Gifts!B$4:B$5000), \"\")","v":""}]
[null,{"$f":"IF(SUMIF(Gifts!E$4:E$5000, A389,Gifts!B$4:B$5000) > 0, SUMIF(Gifts!E$4:E$5000, A389,Gifts!B$4:B$5000), \"\")","v":""}]
[null,{"$f":"IF(SUMIF(Gifts!E$4:E$5000, A390,Gifts!B$4:B$5000) > 0, SUMIF(Gifts!E$4:E$5000, A390,Gifts!B$4:B$5000), \"\")","v":""}]
[null,{"$f":"IF(SUMIF(Gifts!E$4:E$5000, A391,Gifts!B$4:B$5000) > 0, SUMIF(Gifts!E$4:E$5000, A391,Gifts!B$4:B$5000), \"\")","v":""}]
[null,{"$f":"IF(SUMIF(Gifts!E$4:E$5000, A392,Gifts!B$4:B$5000) > 0, SUMIF(Gifts!E$4:E$5000, A392,Gifts!B$4:B$5000), \"\")","v":""}]
[null,{"$f":"IF(SUMIF(Gifts!E$4:E$5000, A393,Gifts!B$4:B$5000) > 0, SUMIF(Gifts!E$4:E$5000, A393,Gifts!B$4:B$5000), \"\")","v":""}]
[null,{"$f":"IF(SUMIF(Gifts!E$4:E$5000, A394,Gifts!B$4:B$5000) > 0, SUMIF(Gifts!E$4:E$5000, A394,Gifts!B$4:B$5000), \"\")","v":""}]
[null,{"$f":"IF(SUMIF(Gifts!E$4:E$5000, A395,Gifts!B$4:B$5000) > 0, SUMIF(Gifts!E$4:E$5000, A395,Gifts!B$4:B$5000), \"\")","v":""}]
[null,{"$f":"IF(SUMIF(Gifts!E$4:E$5000, A396,Gifts!B$4:B$5000) > 0, SUMIF(Gifts!E$4:E$5000, A396,Gifts!B$4:B$5000), \"\")","v":""}]
[null,{"$f":"IF(SUMIF(Gifts!E$4:E$5000, A397,Gifts!B$4:B$5000) > 0, SUMIF(Gifts!E$4:E$5000, A397,Gifts!B$4:B$5000), \"\")","v":""}]
[null,{"$f":"IF(SUMIF(Gifts!E$4:E$5000, A398,Gifts!B$4:B$5000) > 0, SUMIF(Gifts!E$4:E$5000, A398,Gifts!B$4:B$5000), \"\")","v":""}]
[null,{"$f":"IF(SUMIF(Gifts!E$4:E$5000, A399,Gifts!B$4:B$5000) > 0, SUMIF(Gifts!E$4:E$5000, A399,Gifts!B$4:B$5000), \"\")","v":""}]
[null,{"$f":"IF(SUMIF(Gifts!E$4:E$5000, A400,Gifts!B$4:B$5000) > 0, SUMIF(Gifts!E$4:E$5000, A400,Gifts!B$4:B$5000), \"\")","v":""}]
[null,{"$f":"IF(SUMIF(Gifts!E$4:E$5000, A401,Gifts!B$4:B$5000) > 0, SUMIF(Gifts!E$4:E$5000, A401,Gifts!B$4:B$5000), \"\")","v":""}]
[null,{"$f":"IF(SUMIF(Gifts!E$4:E$5000, A402,Gifts!B$4:B$5000) > 0, SUMIF(Gifts!E$4:E$5000, A402,Gifts!B$4:B$5000), \"\")","v":""}]
[null,{"$f":"IF(SUMIF(Gifts!E$4:E$5000, A403,Gifts!B$4:B$5000) > 0, SUMIF(Gifts!E$4:E$5000, A403,Gifts!B$4:B$5000), \"\")","v":""}]
[null,{"$f":"IF(SUMIF(Gifts!E$4:E$5000, A404,Gifts!B$4:B$5000) > 0, SUMIF(Gifts!E$4:E$5000, A404,Gifts!B$4:B$5000), \"\")","v":""}]
[null,{"$f":"IF(SUMIF(Gifts!E$4:E$5000, A405,Gifts!B$4:B$5000) > 0, SUMIF(Gifts!E$4:E$5000, A405,Gifts!B$4:B$5000), \"\")","v":""}]
[null,{"$f":"IF(SUMIF(Gifts!E$4:E$5000, A406,Gifts!B$4:B$5000) > 0, SUMIF(Gifts!E$4:E$5000, A406,Gifts!B$4:B$5000), \"\")","v":""}]
[null,{"$f":"IF(SUMIF(Gifts!E$4:E$5000, A407,Gifts!B$4:B$5000) > 0, SUMIF(Gifts!E$4:E$5000, A407,Gifts!B$4:B$5000), \"\")","v":""}]
[null,{"$f":"IF(SUMIF(Gifts!E$4:E$5000, A408,Gifts!B$4:B$5000) > 0, SUMIF(Gifts!E$4:E$5000, A408,Gifts!B$4:B$5000), \"\")","v":""}]
[null,{"$f":"IF(SUMIF(Gifts!E$4:E$5000, A409,Gifts!B$4:B$5000) > 0, SUMIF(Gifts!E$4:E$5000, A409,Gifts!B$4:B$5000), \"\")","v":""}]
[null,{"$f":"IF(SUMIF(Gifts!E$4:E$5000, A410,Gifts!B$4:B$5000) > 0, SUMIF(Gifts!E$4:E$5000, A410,Gifts!B$4:B$5000), \"\")","v":""}]
[null,{"$f":"IF(SUMIF(Gifts!E$4:E$5000, A411,Gifts!B$4:B$5000) > 0, SUMIF(Gifts!E$4:E$5000, A411,Gifts!B$4:B$5000), \"\")","v":""}]
[null,{"$f":"IF(SUMIF(Gifts!E$4:E$5000, A412,Gifts!B$4:B$5000) > 0, SUMIF(Gifts!E$4:E$5000, A412,Gifts!B$4:B$5000), \"\")","v":""}]
[null,{"$f":"IF(SUMIF(Gifts!E$4:E$5000, A413,Gifts!B$4:B$5000) > 0, SUMIF(Gifts!E$4:E$5000, A413,Gifts!B$4:B$5000), \"\")","v":""}]
[null,{"$f":"IF(SUMIF(Gifts!E$4:E$5000, A414,Gifts!B$4:B$5000) > 0, SUMIF(Gifts!E$4:E$5000, A414,Gifts!B$4:B$5000), \"\")","v":""}]
[null,{"$f":"IF(SUMIF(Gifts!E$4:E$5000, A415,Gifts!B$4:B$5000) > 0, SUMIF(Gifts!E$4:E$5000, A415,Gifts!B$4:B$5000), \"\")","v":""}]
[null,{"$f":"IF(SUMIF(Gifts!E$4:E$5000, A416,Gifts!B$4:B$5000) > 0, SUMIF(Gifts!E$4:E$5000, A416,Gifts!B$4:B$5000), \"\")","v":""}]
[null,{"$f":"IF(SUMIF(Gifts!E$4:E$5000, A417,Gifts!B$4:B$5000) > 0, SUMIF(Gifts!E$4:E$5000, A417,Gifts!B$4:B$5000), \"\")","v":""}]
[null,{"$f":"IF(SUMIF(Gifts!E$4:E$5000, A418,Gifts!B$4:B$5000) > 0, SUMIF(Gifts!E$4:E$5000, A418,Gifts!B$4:B$5000), \"\")","v":""}]
[null,{"$f":"IF(SUMIF(Gifts!E$4:E$5000, A419,Gifts!B$4:B$5000) > 0, SUMIF(Gifts!E$4:E$5000, A419,Gifts!B$4:B$5000), \"\")","v":""}]
[null,{"$f":"IF(SUMIF(Gifts!E$4:E$5000, A420,Gifts!B$4:B$5000) > 0, SUMIF(Gifts!E$4:E$5000, A420,Gifts!B$4:B$5000), \"\")","v":""}]
[null,{"$f":"IF(SUMIF(Gifts!E$4:E$5000, A421,Gifts!B$4:B$5000) > 0, SUMIF(Gifts!E$4:E$5000, A421,Gifts!B$4:B$5000), \"\")","v":""}]
[null,{"$f":"IF(SUMIF(Gifts!E$4:E$5000, A422,Gifts!B$4:B$5000) > 0, SUMIF(Gifts!E$4:E$5000, A422,Gifts!B$4:B$5000), \"\")","v":""}]
[null,{"$f":"IF(SUMIF(Gifts!E$4:E$5000, A423,Gifts!B$4:B$5000) > 0, SUMIF(Gifts!E$4:E$5000, A423,Gifts!B$4:B$5000), \"\")","v":""}]
[null,{"$f":"IF(SUMIF(Gifts!E$4:E$5000, A424,Gifts!B$4:B$5000) > 0, SUMIF(Gifts!E$4:E$5000, A424,Gifts!B$4:B$5000), \"\")","v":""}]
[null,{"$f":"IF(SUMIF(Gifts!E$4:E$5000, A425,Gifts!B$4:B$5000) > 0, SUMIF(Gifts!E$4:E$5000, A425,Gifts!B$4:B$5000), \"\")","v":""}]
[null,{"$f":"IF(SUMIF(Gifts!E$4:E$5000, A426,Gifts!B$4:B$5000) > 0, SUMIF(Gifts!E$4:E$5000, A426,Gifts!B$4:B$5000), \"\")","v":""}]
[null,{"$f":"IF(SUMIF(Gifts!E$4:E$5000, A427,Gifts!B$4:B$5000) > 0, SUMIF(Gifts!E$4:E$5000, A427,Gifts!B$4:B$5000), \"\")","v":""}]
[null,{"$f":"IF(SUMIF(Gifts!E$4:E$5000, A428,Gifts!B$4:B$5000) > 0, SUMIF(Gifts!E$4:E$5000, A428,Gifts!B$4:B$5000), \"\")","v":""}]
[null,{"$f":"IF(SUMIF(Gifts!E$4:E$5000, A429,Gifts!B$4:B$5000) > 0, SUMIF(Gifts!E$4:E$5000, A429,Gifts!B$4:B$5000), \"\")","v":""}]
[null,{"$f":"IF(SUMIF(Gifts!E$4:E$5000, A430,Gifts!B$4:B$5000) > 0, SUMIF(Gifts!E$4:E$5000, A430,Gifts!B$4:B$5000), \"\")","v":""}]
[null,{"$f":"IF(SUMIF(Gifts!E$4:E$5000, A431,Gifts!B$4:B$5000) > 0, SUMIF(Gifts!E$4:E$5000, A431,Gifts!B$4:B$5000), \"\")","v":""}]
[null,{"$f":"IF(SUMIF(Gifts!E$4:E$5000, A432,Gifts!B$4:B$5000) > 0, SUMIF(Gifts!E$4:E$5000, A432,Gifts!B$4:B$5000), \"\")","v":""}]
[null,{"$f":"IF(SUMIF(Gifts!E$4:E$5000, A433,Gifts!B$4:B$5000) > 0, SUMIF(Gifts!E$4:E$5000, A433,Gifts!B$4:B$5000), \"\")","v":""}]
[null,{"$f":"IF(SUMIF(Gifts!E$4:E$5000, A434,Gifts!B$4:B$5000) > 0, SUMIF(Gifts!E$4:E$5000, A434,Gifts!B$4:B$5000), \"\")","v":""}]
[null,{"$f":"IF(SUMIF(Gifts!E$4:E$5000, A435,Gifts!B$4:B$5000) > 0, SUMIF(Gifts!E$4:E$5000, A435,Gifts!B$4:B$5000), \"\")","v":""}]
[null,{"$f":"IF(SUMIF(Gifts!E$4:E$5000, A436,Gifts!B$4:B$5000) > 0, SUMIF(Gifts!E$4:E$5000, A436,Gifts!B$4:B$5000), \"\")","v":""}]
[null,{"$f":"IF(SUMIF(Gifts!E$4:E$5000, A437,Gifts!B$4:B$5000) > 0, SUMIF(Gifts!E$4:E$5000, A437,Gifts!B$4:B$5000), \"\")","v":""}]
[null,{"$f":"IF(SUMIF(Gifts!E$4:E$5000, A438,Gifts!B$4:B$5000) > 0, SUMIF(Gifts!E$4:E$5000, A438,Gifts!B$4:B$5000), \"\")","v":""}]
[null,{"$f":"IF(SUMIF(Gifts!E$4:E$5000, A439,Gifts!B$4:B$5000) > 0, SUMIF(Gifts!E$4:E$5000, A439,Gifts!B$4:B$5000), \"\")","v":""}]
[null,{"$f":"IF(SUMIF(Gifts!E$4:E$5000, A440,Gifts!B$4:B$5000) > 0, SUMIF(Gifts!E$4:E$5000, A440,Gifts!B$4:B$5000), \"\")","v":""}]
[null,{"$f":"IF(SUMIF(Gifts!E$4:E$5000, A441,Gifts!B$4:B$5000) > 0, SUMIF(Gifts!E$4:E$5000, A441,Gifts!B$4:B$5000), \"\")","v":""}]
[null,{"$f":"IF(SUMIF(Gifts!E$4:E$5000, A442,Gifts!B$4:B$5000) > 0, SUMIF(Gifts!E$4:E$5000, A442,Gifts!B$4:B$5000), \"\")","v":""}]
[null,{"$f":"IF(SUMIF(Gifts!E$4:E$5000, A443,Gifts!B$4:B$5000) > 0, SUMIF(Gifts!E$4:E$5000, A443,Gifts!B$4:B$5000), \"\")","v":""}]
[null,{"$f":"IF(SUMIF(Gifts!E$4:E$5000, A444,Gifts!B$4:B$5000) > 0, SUMIF(Gifts!E$4:E$5000, A444,Gifts!B$4:B$5000), \"\")","v":""}]
[null,{"$f":"IF(SUMIF(Gifts!E$4:E$5000, A445,Gifts!B$4:B$5000) > 0, SUMIF(Gifts!E$4:E$5000, A445,Gifts!B$4:B$5000), \"\")","v":""}]
[null,{"$f":"IF(SUMIF(Gifts!E$4:E$5000, A446,Gifts!B$4:B$5000) > 0, SUMIF(Gifts!E$4:E$5000, A446,Gifts!B$4:B$5000), \"\")","v":""}]
[null,{"$f":"IF(SUMIF(Gifts!E$4:E$5000, A447,Gifts!B$4:B$5000) > 0, SUMIF(Gifts!E$4:E$5000, A447,Gifts!B$4:B$5000), \"\")","v":""}]
[null,{"$f":"IF(SUMIF(Gifts!E$4:E$5000, A448,Gifts!B$4:B$5000) > 0, SUMIF(Gifts!E$4:E$5000, A448,Gifts!B$4:B$5000), \"\")","v":""}]
[null,{"$f":"IF(SUMIF(Gifts!E$4:E$5000, A449,Gifts!B$4:B$5000) > 0, SUMIF(Gifts!E$4:E$5000, A449,Gifts!B$4:B$5000), \"\")","v":""}]
[null,{"$f":"IF(SUMIF(Gifts!E$4:E$5000, A450,Gifts!B$4:B$5000) > 0, SUMIF(Gifts!E$4:E$5000, A450,Gifts!B$4:B$5000), \"\")","v":""}]
[null,{"$f":"IF(SUMIF(Gifts!E$4:E$5000, A451,Gifts!B$4:B$5000) > 0, SUMIF(Gifts!E$4:E$5000, A451,Gifts!B$4:B$5000), \"\")","v":""}]
[null,{"$f":"IF(SUMIF(Gifts!E$4:E$5000, A452,Gifts!B$4:B$5000) > 0, SUMIF(Gifts!E$4:E$5000, A452,Gifts!B$4:B$5000), \"\")","v":""}]
[null,{"$f":"IF(SUMIF(Gifts!E$4:E$5000, A453,Gifts!B$4:B$5000) > 0, SUMIF(Gifts!E$4:E$5000, A453,Gifts!B$4:B$5000), \"\")","v":""}]
[null,{"$f":"IF(SUMIF(Gifts!E$4:E$5000, A454,Gifts!B$4:B$5000) > 0, SUMIF(Gifts!E$4:E$5000, A454,Gifts!B$4:B$5000), \"\")","v":""}]
[null,{"$f":"IF(SUMIF(Gifts!E$4:E$5000, A455,Gifts!B$4:B$5000) > 0, SUMIF(Gifts!E$4:E$5000, A455,Gifts!B$4:B$5000), \"\")","v":""}]
[null,{"$f":"IF(SUMIF(Gifts!E$4:E$5000, A456,Gifts!B$4:B$5000) > 0, SUMIF(Gifts!E$4:E$5000, A456,Gifts!B$4:B$5000), \"\")","v":""}]
[null,{"$f":"IF(SUMIF(Gifts!E$4:E$5000, A457,Gifts!B$4:B$5000) > 0, SUMIF(Gifts!E$4:E$5000, A457,Gifts!B$4:B$5000), \"\")","v":""}]
[null,{"$f":"IF(SUMIF(Gifts!E$4:E$5000, A458,Gifts!B$4:B$5000) > 0, SUMIF(Gifts!E$4:E$5000, A458,Gifts!B$4:B$5000), \"\")","v":""}]
[null,{"$f":"IF(SUMIF(Gifts!E$4:E$5000, A459,Gifts!B$4:B$5000) > 0, SUMIF(Gifts!E$4:E$5000, A459,Gifts!B$4:B$5000), \"\")","v":""}]
[null,{"$f":"IF(SUMIF(Gifts!E$4:E$5000, A460,Gifts!B$4:B$5000) > 0, SUMIF(Gifts!E$4:E$5000, A460,Gifts!B$4:B$5000), \"\")","v":""}]
[null,{"$f":"IF(SUMIF(Gifts!E$4:E$5000, A461,Gifts!B$4:B$5000) > 0, SUMIF(Gifts!E$4:E$5000, A461,Gifts!B$4:B$5000), \"\")","v":""}]
[null,{"$f":"IF(SUMIF(Gifts!E$4:E$5000, A462,Gifts!B$4:B$5000) > 0, SUMIF(Gifts!E$4:E$5000, A462,Gifts!B$4:B$5000), \"\")","v":""}]
[null,{"$f":"IF(SUMIF(Gifts!E$4:E$5000, A463,Gifts!B$4:B$5000) > 0, SUMIF(Gifts!E$4:E$5000, A463,Gifts!B$4:B$5000), \"\")","v":""}]
[null,{"$f":"IF(SUMIF(Gifts!E$4:E$5000, A464,Gifts!B$4:B$5000) > 0, SUMIF(Gifts!E$4:E$5000, A464,Gifts!B$4:B$5000), \"\")","v":""}]
[null,{"$f":"IF(SUMIF(Gifts!E$4:E$5000, A465,Gifts!B$4:B$5000) > 0, SUMIF(Gifts!E$4:E$5000, A465,Gifts!B$4:B$5000), \"\")","v":""}]
[null,{"$f":"IF(SUMIF(Gifts!E$4:E$5000, A466,Gifts!B$4:B$5000) > 0, SUMIF(Gifts!E$4:E$5000, A466,Gifts!B$4:B$5000), \"\")","v":""}]
[null,{"$f":"IF(SUMIF(Gifts!E$4:E$5000, A467,Gifts!B$4:B$5000) > 0, SUMIF(Gifts!E$4:E$5000, A467,Gifts!B$4:B$5000), \"\")","v":""}]
[null,{"$f":"IF(SUMIF(Gifts!E$4:E$5000, A468,Gifts!B$4:B$5000) > 0, SUMIF(Gifts!E$4:E$5000, A468,Gifts!B$4:B$5000), \"\")","v":""}]
[null,{"$f":"IF(SUMIF(Gifts!E$4:E$5000, A469,Gifts!B$4:B$5000) > 0, SUMIF(Gifts!E$4:E$5000, A469,Gifts!B$4:B$5000), \"\")","v":""}]
[null,{"$f":"IF(SUMIF(Gifts!E$4:E$5000, A470,Gifts!B$4:B$5000) > 0, SUMIF(Gifts!E$4:E$5000, A470,Gifts!B$4:B$5000), \"\")","v":""}]
[null,{"$f":"IF(SUMIF(Gifts!E$4:E$5000, A471,Gifts!B$4:B$5000) > 0, SUMIF(Gifts!E$4:E$5000, A471,Gifts!B$4:B$5000), \"\")","v":""}]
[null,{"$f":"IF(SUMIF(Gifts!E$4:E$5000, A472,Gifts!B$4:B$5000) > 0, SUMIF(Gifts!E$4:E$5000, A472,Gifts!B$4:B$5000), \"\")","v":""}]
[null,{"$f":"IF(SUMIF(Gifts!E$4:E$5000, A473,Gifts!B$4:B$5000) > 0, SUMIF(Gifts!E$4:E$5000, A473,Gifts!B$4:B$5000), \"\")","v":""}]
[null,{"$f":"IF(SUMIF(Gifts!E$4:E$5000, A474,Gifts!B$4:B$5000) > 0, SUMIF(Gifts!E$4:E$5000, A474,Gifts!B$4:B$5000), \"\")","v":""}]
[null,{"$f":"IF(SUMIF(Gifts!E$4:E$5000, A475,Gifts!B$4:B$5000) > 0, SUMIF(Gifts!E$4:E$5000, A475,Gifts!B$4:B$5000), \"\")","v":""}]
[null,{"$f":"IF(SUMIF(Gifts!E$4:E$5000, A476,Gifts!B$4:B$5000) > 0, SUMIF(Gifts!E$4:E$5000, A476,Gifts!B$4:B$5000), \"\")","v":""}]
[null,{"$f":"IF(SUMIF(Gifts!E$4:E$5000, A477,Gifts!B$4:B$5000) > 0, SUMIF(Gifts!E$4:E$5000, A477,Gifts!B$4:B$5000), \"\")","v":""}]
[null,{"$f":"IF(SUMIF(Gifts!E$4:E$5000, A478,Gifts!B$4:B$5000) > 0, SUMIF(Gifts!E$4:E$5000, A478,Gifts!B$4:B$5000), \"\")","v":""}]
[null,{"$f":"IF(SUMIF(Gifts!E$4:E$5000, A479,Gifts!B$4:B$5000) > 0, SUMIF(Gifts!E$4:E$5000, A479,Gifts!B$4:B$5000), \"\")","v":""}]
[null,{"$f":"IF(SUMIF(Gifts!E$4:E$5000, A480,Gifts!B$4:B$5000) > 0, SUMIF(Gifts!E$4:E$5000, A480,Gifts!B$4:B$5000), \"\")","v":""}]
[null,{"$f":"IF(SUMIF(Gifts!E$4:E$5000, A481,Gifts!B$4:B$5000) > 0, SUMIF(Gifts!E$4:E$5000, A481,Gifts!B$4:B$5000), \"\")","v":""}]
[null,{"$f":"IF(SUMIF(Gifts!E$4:E$5000, A482,Gifts!B$4:B$5000) > 0, SUMIF(Gifts!E$4:E$5000, A482,Gifts!B$4:B$5000), \"\")","v":""}]
[null,{"$f":"IF(SUMIF(Gifts!E$4:E$5000, A483,Gifts!B$4:B$5000) > 0, SUMIF(Gifts!E$4:E$5000, A483,Gifts!B$4:B$5000), \"\")","v":""}]
[null,{"$f":"IF(SUMIF(Gifts!E$4:E$5000, A484,Gifts!B$4:B$5000) > 0, SUMIF(Gifts!E$4:E$5000, A484,Gifts!B$4:B$5000), \"\")","v":""}]
[null,{"$f":"IF(SUMIF(Gifts!E$4:E$5000, A485,Gifts!B$4:B$5000) > 0, SUMIF(Gifts!E$4:E$5000, A485,Gifts!B$4:B$5000), \"\")","v":""}]
[null,{"$f":"IF(SUMIF(Gifts!E$4:E$5000, A486,Gifts!B$4:B$5000) > 0, SUMIF(Gifts!E$4:E$5000, A486,Gifts!B$4:B$5000), \"\")","v":""}]
[null,{"$f":"IF(SUMIF(Gifts!E$4:E$5000, A487,Gifts!B$4:B$5000) > 0, SUMIF(Gifts!E$4:E$5000, A487,Gifts!B$4:B$5000), \"\")","v":""}]
[null,{"$f":"IF(SUMIF(Gifts!E$4:E$5000, A488,Gifts!B$4:B$5000) > 0, SUMIF(Gifts!E$4:E$5000, A488,Gifts!B$4:B$5000), \"\")","v":""}]
[null,{"$f":"IF(SUMIF(Gifts!E$4:E$5000, A489,Gifts!B$4:B$5000) > 0, SUMIF(Gifts!E$4:E$5000, A489,Gifts!B$4:B$5000), \"\")","v":""}]
[null,{"$f":"IF(SUMIF(Gifts!E$4:E$5000, A490,Gifts!B$4:B$5000) > 0, SUMIF(Gifts!E$4:E$5000, A490,Gifts!B$4:B$5000), \"\")","v":""}]
[null,{"$f":"IF(SUMIF(Gifts!E$4:E$5000, A491,Gifts!B$4:B$5000) > 0, SUMIF(Gifts!E$4:E$5000, A491,Gifts!B$4:B$5000), \"\")","v":""}]
[null,{"$f":"IF(SUMIF(Gifts!E$4:E$5000, A492,Gifts!B$4:B$5000) > 0, SUMIF(Gifts!E$4:E$5000, A492,Gifts!B$4:B$5000), \"\")","v":""}]
[null,{"$f":"IF(SUMIF(Gifts!E$4:E$5000, A493,Gifts!B$4:B$5000) > 0, SUMIF(Gifts!E$4:E$5000, A493,Gifts!B$4:B$5000), \"\")","v":""}]
[null,{"$f":"IF(SUMIF(Gifts!E$4:E$5000, A494,Gifts!B$4:B$5000) > 0, SUMIF(Gifts!E$4:E$5000, A494,Gifts!B$4:B$5000), \"\")","v":""}]
[null,{"$f":"IF(SUMIF(Gifts!E$4:E$5000, A495,Gifts!B$4:B$5000) > 0, SUMIF(Gifts!E$4:E$5000, A495,Gifts!B$4:B$5000), \"\")","v":""}]
[null,{"$f":"IF(SUMIF(Gifts!E$4:E$5000, A496,Gifts!B$4:B$5000) > 0, SUMIF(Gifts!E$4:E$5000, A496,Gifts!B$4:B$5000), \"\")","v":""}]
[null,{"$f":"IF(SUMIF(Gifts!E$4:E$5000, A497,Gifts!B$4:B$5000) > 0, SUMIF(Gifts!E$4:E$5000, A497,Gifts!B$4:B$5000), \"\")","v":""}]
[null,{"$f":"IF(SUMIF(Gifts!E$4:E$5000, A498,Gifts!B$4:B$5000) > 0, SUMIF(Gifts!E$4:E$5000, A498,Gifts!B$4:B$5000), \"\")","v":""}]
[null,{"$f":"IF(SUMIF(Gifts!E$4:E$5000, A499,Gifts!B$4:B$5000) > 0, SUMIF(Gifts!E$4:E$5000, A499,Gifts!B$4:B$5000), \"\")","v":""}]
[null,{"$f":"IF(SUMIF(Gifts!E$4:E$5000, A500,Gifts!B$4:B$5000) > 0, SUMIF(Gifts!E$4:E$5000, A500,Gifts!B$4:B$5000), \"\")","v":""}]
[null,{"$f":"IF(SUMIF(Gifts!E$4:E$5000, A501,Gifts!B$4:B$5000) > 0, SUMIF(Gifts!E$4:E$5000, A501,Gifts!B$4:B$5000), \"\")","v":""}]
[null,{"$f":"IF(SUMIF(Gifts!E$4:E$5000, A502,Gifts!B$4:B$5000) > 0, SUMIF(Gifts!E$4:E$5000, A502,Gifts!B$4:B$5000), \"\")","v":""}]
[null,{"$f":"IF(SUMIF(Gifts!E$4:E$5000, A503,Gifts!B$4:B$5000) > 0, SUMIF(Gifts!E$4:E$5000, A503,Gifts!B$4:B$5000), \"\")","v":""}]
[null,{"$f":"IF(SUMIF(Gifts!E$4:E$5000, A504,Gifts!B$4:B$5000) > 0, SUMIF(Gifts!E$4:E$5000, A504,Gifts!B$4:B$5000), \"\")","v":""}]
[null,{"$f":"IF(SUMIF(Gifts!E$4:E$5000, A505,Gifts!B$4:B$5000) > 0, SUMIF(Gifts!E$4:E$5000, A505,Gifts!B$4:B$5000), \"\")","v":""}]
[null,{"$f":"IF(SUMIF(Gifts!E$4:E$5000, A506,Gifts!B$4:B$5000) > 0, SUMIF(Gifts!E$4:E$5000, A506,Gifts!B$4:B$5000), \"\")","v":""}]
[null,{"$f":"IF(SUMIF(Gifts!E$4:E$5000, A507,Gifts!B$4:B$5000) > 0, SUMIF(Gifts!E$4:E$5000, A507,Gifts!B$4:B$5000), \"\")","v":""}]
[null,{"$f":"IF(SUMIF(Gifts!E$4:E$5000, A508,Gifts!B$4:B$5000) > 0, SUMIF(Gifts!E$4:E$5000, A508,Gifts!B$4:B$5000), \"\")","v":""}]
[null,{"$f":"IF(SUMIF(Gifts!E$4:E$5000, A509,Gifts!B$4:B$5000) > 0, SUMIF(Gifts!E$4:E$5000, A509,Gifts!B$4:B$5000), \"\")","v":""}]
[null,{"$f":"IF(SUMIF(Gifts!E$4:E$5000, A510,Gifts!B$4:B$5000) > 0, SUMIF(Gifts!E$4:E$5000, A510,Gifts!B$4:B$5000), \"\")","v":""}]
[null,{"$f":"IF(SUMIF(Gifts!E$4:E$5000, A511,Gifts!B$4:B$5000) > 0, SUMIF(Gifts!E$4:E$5000, A511,Gifts!B$4:B$5000), \"\")","v":""}]
[null,{"$f":"IF(SUMIF(Gifts!E$4:E$5000, A512,Gifts!B$4:B$5000) > 0, SUMIF(Gifts!E$4:E$5000, A512,Gifts!B$4:B$5000), \"\")","v":""}]
[null,{"$f":"IF(SUMIF(Gifts!E$4:E$5000, A513,Gifts!B$4:B$5000) > 0, SUMIF(Gifts!E$4:E$5000, A513,Gifts!B$4:B$5000), \"\")","v":""}]
[null,{"$f":"IF(SUMIF(Gifts!E$4:E$5000, A514,Gifts!B$4:B$5000) > 0, SUMIF(Gifts!E$4:E$5000, A514,Gifts!B$4:B$5000), \"\")","v":""}]
[null,{"$f":"IF(SUMIF(Gifts!E$4:E$5000, A515,Gifts!B$4:B$5000) > 0, SUMIF(Gifts!E$4:E$5000, A515,Gifts!B$4:B$5000), \"\")","v":""}]
[null,{"$f":"IF(SUMIF(Gifts!E$4:E$5000, A516,Gifts!B$4:B$5000) > 0, SUMIF(Gifts!E$4:E$5000, A516,Gifts!B$4:B$5000), \"\")","v":""}]
[null,{"$f":"IF(SUMIF(Gifts!E$4:E$5000, A517,Gifts!B$4:B$5000) > 0, SUMIF(Gifts!E$4:E$5000, A517,Gifts!B$4:B$5000), \"\")","v":""}]
[null,{"$f":"IF(SUMIF(Gifts!E$4:E$5000, A518,Gifts!B$4:B$5000) > 0, SUMIF(Gifts!E$4:E$5000, A518,Gifts!B$4:B$5000), \"\")","v":""}]
[null,{"$f":"IF(SUMIF(Gifts!E$4:E$5000, A519,Gifts!B$4:B$5000) > 0, SUMIF(Gifts!E$4:E$5000, A519,Gifts!B$4:B$5000), \"\")","v":""}]
[null,{"$f":"IF(SUMIF(Gifts!E$4:E$5000, A520,Gifts!B$4:B$5000) > 0, SUMIF(Gifts!E$4:E$5000, A520,Gifts!B$4:B$5000), \"\")","v":""}]
[null,{"$f":"IF(SUMIF(Gifts!E$4:E$5000, A521,Gifts!B$4:B$5000) > 0, SUMIF(Gifts!E$4:E$5000, A521,Gifts!B$4:B$5000), \"\")","v":""}]
[null,{"$f":"IF(SUMIF(Gifts!E$4:E$5000, A522,Gifts!B$4:B$5000) > 0, SUMIF(Gifts!E$4:E$5000, A522,Gifts!B$4:B$5000), \"\")","v":""}]
[null,{"$f":"IF(SUMIF(Gifts!E$4:E$5000, A523,Gifts!B$4:B$5000) > 0, SUMIF(Gifts!E$4:E$5000, A523,Gifts!B$4:B$5000), \"\")","v":""}]
[null,{"$f":"IF(SUMIF(Gifts!E$4:E$5000, A524,Gifts!B$4:B$5000) > 0, SUMIF(Gifts!E$4:E$5000, A524,Gifts!B$4:B$5000), \"\")","v":""}]
[null,{"$f":"IF(SUMIF(Gifts!E$4:E$5000, A525,Gifts!B$4:B$5000) > 0, SUMIF(Gifts!E$4:E$5000, A525,Gifts!B$4:B$5000), \"\")","v":""}]
[null,{"$f":"IF(SUMIF(Gifts!E$4:E$5000, A526,Gifts!B$4:B$5000) > 0, SUMIF(Gifts!E$4:E$5000, A526,Gifts!B$4:B$5000), \"\")","v":""}]
[null,{"$f":"IF(SUMIF(Gifts!E$4:E$5000, A527,Gifts!B$4:B$5000) > 0, SUMIF(Gifts!E$4:E$5000, A527,Gifts!B$4:B$5000), \"\")","v":""}]
[null,{"$f":"IF(SUMIF(Gifts!E$4:E$5000, A528,Gifts!B$4:B$5000) > 0, SUMIF(Gifts!E$4:E$5000, A528,Gifts!B$4:B$5000), \"\")","v":""}]
[null,{"$f":"IF(SUMIF(Gifts!E$4:E$5000, A529,Gifts!B$4:B$5000) > 0, SUMIF(Gifts!E$4:E$5000, A529,Gifts!B$4:B$5000), \"\")","v":""}]
[null,{"$f":"IF(SUMIF(Gifts!E$4:E$5000, A530,Gifts!B$4:B$5000) > 0, SUMIF(Gifts!E$4:E$5000, A530,Gifts!B$4:B$5000), \"\")","v":""}]
[null,{"$f":"IF(SUMIF(Gifts!E$4:E$5000, A531,Gifts!B$4:B$5000) > 0, SUMIF(Gifts!E$4:E$5000, A531,Gifts!B$4:B$5000), \"\")","v":""}]
[null,{"$f":"IF(SUMIF(Gifts!E$4:E$5000, A532,Gifts!B$4:B$5000) > 0, SUMIF(Gifts!E$4:E$5000, A532,Gifts!B$4:B$5000), \"\")","v":""}]
[null,{"$f":"IF(SUMIF(Gifts!E$4:E$5000, A533,Gifts!B$4:B$5000) > 0, SUMIF(Gifts!E$4:E$5000, A533,Gifts!B$4:B$5000), \"\")","v":""}]
[null,{"$f":"IF(SUMIF(Gifts!E$4:E$5000, A534,Gifts!B$4:B$5000) > 0, SUMIF(Gifts!E$4:E$5000, A534,Gifts!B$4:B$5000), \"\")","v":""}]
[null,{"$f":"IF(SUMIF(Gifts!E$4:E$5000, A535,Gifts!B$4:B$5000) > 0, SUMIF(Gifts!E$4:E$5000, A535,Gifts!B$4:B$5000), \"\")","v":""}]
[null,{"$f":"IF(SUMIF(Gifts!E$4:E$5000, A536,Gifts!B$4:B$5000) > 0, SUMIF(Gifts!E$4:E$5000, A536,Gifts!B$4:B$5000), \"\")","v":""}]
[null,{"$f":"IF(SUMIF(Gifts!E$4:E$5000, A537,Gifts!B$4:B$5000) > 0, SUMIF(Gifts!E$4:E$5000, A537,Gifts!B$4:B$5000), \"\")","v":""}]
[null,{"$f":"IF(SUMIF(Gifts!E$4:E$5000, A538,Gifts!B$4:B$5000) > 0, SUMIF(Gifts!E$4:E$5000, A538,Gifts!B$4:B$5000), \"\")","v":""}]
[null,{"$f":"IF(SUMIF(Gifts!E$4:E$5000, A539,Gifts!B$4:B$5000) > 0, SUMIF(Gifts!E$4:E$5000, A539,Gifts!B$4:B$5000), \"\")","v":""}]
[null,{"$f":"IF(SUMIF(Gifts!E$4:E$5000, A540,Gifts!B$4:B$5000) > 0, SUMIF(Gifts!E$4:E$5000, A540,Gifts!B$4:B$5000), \"\")","v":""}]
[null,{"$f":"IF(SUMIF(Gifts!E$4:E$5000, A541,Gifts!B$4:B$5000) > 0, SUMIF(Gifts!E$4:E$5000, A541,Gifts!B$4:B$5000), \"\")","v":""}]
[null,{"$f":"IF(SUMIF(Gifts!E$4:E$5000, A542,Gifts!B$4:B$5000) > 0, SUMIF(Gifts!E$4:E$5000, A542,Gifts!B$4:B$5000), \"\")","v":""}]
[null,{"$f":"IF(SUMIF(Gifts!E$4:E$5000, A543,Gifts!B$4:B$5000) > 0, SUMIF(Gifts!E$4:E$5000, A543,Gifts!B$4:B$5000), \"\")","v":""}]
[null,{"$f":"IF(SUMIF(Gifts!E$4:E$5000, A544,Gifts!B$4:B$5000) > 0, SUMIF(Gifts!E$4:E$5000, A544,Gifts!B$4:B$5000), \"\")","v":""}]
[null,{"$f":"IF(SUMIF(Gifts!E$4:E$5000, A545,Gifts!B$4:B$5000) > 0, SUMIF(Gifts!E$4:E$5000, A545,Gifts!B$4:B$5000), \"\")","v":""}]
[null,{"$f":"IF(SUMIF(Gifts!E$4:E$5000, A546,Gifts!B$4:B$5000) > 0, SUMIF(Gifts!E$4:E$5000, A546,Gifts!B$4:B$5000), \"\")","v":""}]
[null,{"$f":"IF(SUMIF(Gifts!E$4:E$5000, A547,Gifts!B$4:B$5000) > 0, SUMIF(Gifts!E$4:E$5000, A547,Gifts!B$4:B$5000), \"\")","v":""}]
[null,{"$f":"IF(SUMIF(Gifts!E$4:E$5000, A548,Gifts!B$4:B$5000) > 0, SUMIF(Gifts!E$4:E$5000, A548,Gifts!B$4:B$5000), \"\")","v":""}]
[null,{"$f":"IF(SUMIF(Gifts!E$4:E$5000, A549,Gifts!B$4:B$5000) > 0, SUMIF(Gifts!E$4:E$5000, A549,Gifts!B$4:B$5000), \"\")","v":""}]
[null,{"$f":"IF(SUMIF(Gifts!E$4:E$5000, A550,Gifts!B$4:B$5000) > 0, SUMIF(Gifts!E$4:E$5000, A550,Gifts!B$4:B$5000), \"\")","v":""}]
[null,{"$f":"IF(SUMIF(Gifts!E$4:E$5000, A551,Gifts!B$4:B$5000) > 0, SUMIF(Gifts!E$4:E$5000, A551,Gifts!B$4:B$5000), \"\")","v":""}]
[null,{"$f":"IF(SUMIF(Gifts!E$4:E$5000, A552,Gifts!B$4:B$5000) > 0, SUMIF(Gifts!E$4:E$5000, A552,Gifts!B$4:B$5000), \"\")","v":""}]
[null,{"$f":"IF(SUMIF(Gifts!E$4:E$5000, A553,Gifts!B$4:B$5000) > 0, SUMIF(Gifts!E$4:E$5000, A553,Gifts!B$4:B$5000), \"\")","v":""}]
[null,{"$f":"IF(SUMIF(Gifts!E$4:E$5000, A554,Gifts!B$4:B$5000) > 0, SUMIF(Gifts!E$4:E$5000, A554,Gifts!B$4:B$5000), \"\")","v":""}]
[null,{"$f":"IF(SUMIF(Gifts!E$4:E$5000, A555,Gifts!B$4:B$5000) > 0, SUMIF(Gifts!E$4:E$5000, A555,Gifts!B$4:B$5000), \"\")","v":""}]
[null,{"$f":"IF(SUMIF(Gifts!E$4:E$5000, A556,Gifts!B$4:B$5000) > 0, SUMIF(Gifts!E$4:E$5000, A556,Gifts!B$4:B$5000), \"\")","v":""}]
[null,{"$f":"IF(SUMIF(Gifts!E$4:E$5000, A557,Gifts!B$4:B$5000) > 0, SUMIF(Gifts!E$4:E$5000, A557,Gifts!B$4:B$5000), \"\")","v":""}]
[null,{"$f":"IF(SUMIF(Gifts!E$4:E$5000, A558,Gifts!B$4:B$5000) > 0, SUMIF(Gifts!E$4:E$5000, A558,Gifts!B$4:B$5000), \"\")","v":""}]
[null,{"$f":"IF(SUMIF(Gifts!E$4:E$5000, A559,Gifts!B$4:B$5000) > 0, SUMIF(Gifts!E$4:E$5000, A559,Gifts!B$4:B$5000), \"\")","v":""}]
[null,{"$f":"IF(SUMIF(Gifts!E$4:E$5000, A560,Gifts!B$4:B$5000) > 0, SUMIF(Gifts!E$4:E$5000, A560,Gifts!B$4:B$5000), \"\")","v":""}]
[null,{"$f":"IF(SUMIF(Gifts!E$4:E$5000, A561,Gifts!B$4:B$5000) > 0, SUMIF(Gifts!E$4:E$5000, A561,Gifts!B$4:B$5000), \"\")","v":""}]
[null,{"$f":"IF(SUMIF(Gifts!E$4:E$5000, A562,Gifts!B$4:B$5000) > 0, SUMIF(Gifts!E$4:E$5000, A562,Gifts!B$4:B$5000), \"\")","v":""}]
[null,{"$f":"IF(SUMIF(Gifts!E$4:E$5000, A563,Gifts!B$4:B$5000) > 0, SUMIF(Gifts!E$4:E$5000, A563,Gifts!B$4:B$5000), \"\")","v":""}]
[null,{"$f":"IF(SUMIF(Gifts!E$4:E$5000, A564,Gifts!B$4:B$5000) > 0, SUMIF(Gifts!E$4:E$5000, A564,Gifts!B$4:B$5000), \"\")","v":""}]
[null,{"$f":"IF(SUMIF(Gifts!E$4:E$5000, A565,Gifts!B$4:B$5000) > 0, SUMIF(Gifts!E$4:E$5000, A565,Gifts!B$4:B$5000), \"\")","v":""}]
[null,{"$f":"IF(SUMIF(Gifts!E$4:E$5000, A566,Gifts!B$4:B$5000) > 0, SUMIF(Gifts!E$4:E$5000, A566,Gifts!B$4:B$5000), \"\")","v":""}]
[null,{"$f":"IF(SUMIF(Gifts!E$4:E$5000, A567,Gifts!B$4:B$5000) > 0, SUMIF(Gifts!E$4:E$5000, A567,Gifts!B$4:B$5000), \"\")","v":""}]
[null,{"$f":"IF(SUMIF(Gifts!E$4:E$5000, A568,Gifts!B$4:B$5000) > 0, SUMIF(Gifts!E$4:E$5000, A568,Gifts!B$4:B$5000), \"\")","v":""}]
[null,{"$f":"IF(SUMIF(Gifts!E$4:E$5000, A569,Gifts!B$4:B$5000) > 0, SUMIF(Gifts!E$4:E$5000, A569,Gifts!B$4:B$5000), \"\")","v":""}]
[null,{"$f":"IF(SUMIF(Gifts!E$4:E$5000, A570,Gifts!B$4:B$5000) > 0, SUMIF(Gifts!E$4:E$5000, A570,Gifts!B$4:B$5000), \"\")","v":""}]
[null,{"$f":"IF(SUMIF(Gifts!E$4:E$5000, A571,Gifts!B$4:B$5000) > 0, SUMIF(Gifts!E$4:E$5000, A571,Gifts!B$4:B$5000), \"\")","v":""}]
[null,{"$f":"IF(SUMIF(Gifts!E$4:E$5000, A572,Gifts!B$4:B$5000) > 0, SUMIF(Gifts!E$4:E$5000, A572,Gifts!B$4:B$5000), \"\")","v":""}]
[null,{"$f":"IF(SUMIF(Gifts!E$4:E$5000, A573,Gifts!B$4:B$5000) > 0, SUMIF(Gifts!E$4:E$5000, A573,Gifts!B$4:B$5000), \"\")","v":""}]
[null,{"$f":"IF(SUMIF(Gifts!E$4:E$5000, A574,Gifts!B$4:B$5000) > 0, SUMIF(Gifts!E$4:E$5000, A574,Gifts!B$4:B$5000), \"\")","v":""}]
[null,{"$f":"IF(SUMIF(Gifts!E$4:E$5000, A575,Gifts!B$4:B$5000) > 0, SUMIF(Gifts!E$4:E$5000, A575,Gifts!B$4:B$5000), \"\")","v":""}]
[null,{"$f":"IF(SUMIF(Gifts!E$4:E$5000, A576,Gifts!B$4:B$5000) > 0, SUMIF(Gifts!E$4:E$5000, A576,Gifts!B$4:B$5000), \"\")","v":""}]
[null,{"$f":"IF(SUMIF(Gifts!E$4:E$5000, A577,Gifts!B$4:B$5000) > 0, SUMIF(Gifts!E$4:E$5000, A577,Gifts!B$4:B$5000), \"\")","v":""}]
[null,{"$f":"IF(SUMIF(Gifts!E$4:E$5000, A578,Gifts!B$4:B$5000) > 0, SUMIF(Gifts!E$4:E$5000, A578,Gifts!B$4:B$5000), \"\")","v":""}]
[null,{"$f":"IF(SUMIF(Gifts!E$4:E$5000, A579,Gifts!B$4:B$5000) > 0, SUMIF(Gifts!E$4:E$5000, A579,Gifts!B$4:B$5000), \"\")","v":""}]
[null,{"$f":"IF(SUMIF(Gifts!E$4:E$5000, A580,Gifts!B$4:B$5000) > 0, SUMIF(Gifts!E$4:E$5000, A580,Gifts!B$4:B$5000), \"\")","v":""}]
[null,{"$f":"IF(SUMIF(Gifts!E$4:E$5000, A581,Gifts!B$4:B$5000) > 0, SUMIF(Gifts!E$4:E$5000, A581,Gifts!B$4:B$5000), \"\")","v":""}]
[null,{"$f":"IF(SUMIF(Gifts!E$4:E$5000, A582,Gifts!B$4:B$5000) > 0, SUMIF(Gifts!E$4:E$5000, A582,Gifts!B$4:B$5000), \"\")","v":""}]
[null,{"$f":"IF(SUMIF(Gifts!E$4:E$5000, A583,Gifts!B$4:B$5000) > 0, SUMIF(Gifts!E$4:E$5000, A583,Gifts!B$4:B$5000), \"\")","v":""}]
[null,{"$f":"IF(SUMIF(Gifts!E$4:E$5000, A584,Gifts!B$4:B$5000) > 0, SUMIF(Gifts!E$4:E$5000, A584,Gifts!B$4:B$5000), \"\")","v":""}]
[null,{"$f":"IF(SUMIF(Gifts!E$4:E$5000, A585,Gifts!B$4:B$5000) > 0, SUMIF(Gifts!E$4:E$5000, A585,Gifts!B$4:B$5000), \"\")","v":""}]
[null,{"$f":"IF(SUMIF(Gifts!E$4:E$5000, A586,Gifts!B$4:B$5000) > 0, SUMIF(Gifts!E$4:E$5000, A586,Gifts!B$4:B$5000), \"\")","v":""}]
[null,{"$f":"IF(SUMIF(Gifts!E$4:E$5000, A587,Gifts!B$4:B$5000) > 0, SUMIF(Gifts!E$4:E$5000, A587,Gifts!B$4:B$5000), \"\")","v":""}]
[null,{"$f":"IF(SUMIF(Gifts!E$4:E$5000, A588,Gifts!B$4:B$5000) > 0, SUMIF(Gifts!E$4:E$5000, A588,Gifts!B$4:B$5000), \"\")","v":""}]
[null,{"$f":"IF(SUMIF(Gifts!E$4:E$5000, A589,Gifts!B$4:B$5000) > 0, SUMIF(Gifts!E$4:E$5000, A589,Gifts!B$4:B$5000), \"\")","v":""}]
[null,{"$f":"IF(SUMIF(Gifts!E$4:E$5000, A590,Gifts!B$4:B$5000) > 0, SUMIF(Gifts!E$4:E$5000, A590,Gifts!B$4:B$5000), \"\")","v":""}]
[null,{"$f":"IF(SUMIF(Gifts!E$4:E$5000, A591,Gifts!B$4:B$5000) > 0, SUMIF(Gifts!E$4:E$5000, A591,Gifts!B$4:B$5000), \"\")","v":""}]
[null,{"$f":"IF(SUMIF(Gifts!E$4:E$5000, A592,Gifts!B$4:B$5000) > 0, SUMIF(Gifts!E$4:E$5000, A592,Gifts!B$4:B$5000), \"\")","v":""}]
[null,{"$f":"IF(SUMIF(Gifts!E$4:E$5000, A593,Gifts!B$4:B$5000) > 0, SUMIF(Gifts!E$4:E$5000, A593,Gifts!B$4:B$5000), \"\")","v":""}]
[null,{"$f":"IF(SUMIF(Gifts!E$4:E$5000, A594,Gifts!B$4:B$5000) > 0, SUMIF(Gifts!E$4:E$5000, A594,Gifts!B$4:B$5000), \"\")","v":""}]
[null,{"$f":"IF(SUMIF(Gifts!E$4:E$5000, A595,Gifts!B$4:B$5000) > 0, SUMIF(Gifts!E$4:E$5000, A595,Gifts!B$4:B$5000), \"\")","v":""}]
[null,{"$f":"IF(SUMIF(Gifts!E$4:E$5000, A596,Gifts!B$4:B$5000) > 0, SUMIF(Gifts!E$4:E$5000, A596,Gifts!B$4:B$5000), \"\")","v":""}]
[null,{"$f":"IF(SUMIF(Gifts!E$4:E$5000, A597,Gifts!B$4:B$5000) > 0, SUMIF(Gifts!E$4:E$5000, A597,Gifts!B$4:B$5000), \"\")","v":""}]
[null,{"$f":"IF(SUMIF(Gifts!E$4:E$5000, A598,Gifts!B$4:B$5000) > 0, SUMIF(Gifts!E$4:E$5000, A598,Gifts!B$4:B$5000), \"\")","v":""}]
[null,{"$f":"IF(SUMIF(Gifts!E$4:E$5000, A599,Gifts!B$4:B$5000) > 0, SUMIF(Gifts!E$4:E$5000, A599,Gifts!B$4:B$5000), \"\")","v":""}]
[null,{"$f":"IF(SUMIF(Gifts!E$4:E$5000, A600,Gifts!B$4:B$5000) > 0, SUMIF(Gifts!E$4:E$5000, A600,Gifts!B$4:B$5000), \"\")","v":""}]
[null,{"$f":"IF(SUMIF(Gifts!E$4:E$5000, A601,Gifts!B$4:B$5000) > 0, SUMIF(Gifts!E$4:E$5000, A601,Gifts!B$4:B$5000), \"\")","v":""}]
[null,{"$f":"IF(SUMIF(Gifts!E$4:E$5000, A602,Gifts!B$4:B$5000) > 0, SUMIF(Gifts!E$4:E$5000, A602,Gifts!B$4:B$5000), \"\")","v":""}]
[null,{"$f":"IF(SUMIF(Gifts!E$4:E$5000, A603,Gifts!B$4:B$5000) > 0, SUMIF(Gifts!E$4:E$5000, A603,Gifts!B$4:B$5000), \"\")","v":""}]
[null,{"$f":"IF(SUMIF(Gifts!E$4:E$5000, A604,Gifts!B$4:B$5000) > 0, SUMIF(Gifts!E$4:E$5000, A604,Gifts!B$4:B$5000), \"\")","v":""}]
[null,{"$f":"IF(SUMIF(Gifts!E$4:E$5000, A605,Gifts!B$4:B$5000) > 0, SUMIF(Gifts!E$4:E$5000, A605,Gifts!B$4:B$5000), \"\")","v":""}]
[null,{"$f":"IF(SUMIF(Gifts!E$4:E$5000, A606,Gifts!B$4:B$5000) > 0, SUMIF(Gifts!E$4:E$5000, A606,Gifts!B$4:B$5000), \"\")","v":""}]
[null,{"$f":"IF(SUMIF(Gifts!E$4:E$5000, A607,Gifts!B$4:B$5000) > 0, SUMIF(Gifts!E$4:E$5000, A607,Gifts!B$4:B$5000), \"\")","v":""}]
[null,{"$f":"IF(SUMIF(Gifts!E$4:E$5000, A608,Gifts!B$4:B$5000) > 0, SUMIF(Gifts!E$4:E$5000, A608,Gifts!B$4:B$5000), \"\")","v":""}]
[null,{"$f":"IF(SUMIF(Gifts!E$4:E$5000, A609,Gifts!B$4:B$5000) > 0, SUMIF(Gifts!E$4:E$5000, A609,Gifts!B$4:B$5000), \"\")","v":""}]
[null,{"$f":"IF(SUMIF(Gifts!E$4:E$5000, A610,Gifts!B$4:B$5000) > 0, SUMIF(Gifts!E$4:E$5000, A610,Gifts!B$4:B$5000), \"\")","v":""}]
[null,{"$f":"IF(SUMIF(Gifts!E$4:E$5000, A611,Gifts!B$4:B$5000) > 0, SUMIF(Gifts!E$4:E$5000, A611,Gifts!B$4:B$5000), \"\")","v":""}]
[null,{"$f":"IF(SUMIF(Gifts!E$4:E$5000, A612,Gifts!B$4:B$5000) > 0, SUMIF(Gifts!E$4:E$5000, A612,Gifts!B$4:B$5000), \"\")","v":""}]
[null,{"$f":"IF(SUMIF(Gifts!E$4:E$5000, A613,Gifts!B$4:B$5000) > 0, SUMIF(Gifts!E$4:E$5000, A613,Gifts!B$4:B$5000), \"\")","v":""}]
[null,{"$f":"IF(SUMIF(Gifts!E$4:E$5000, A614,Gifts!B$4:B$5000) > 0, SUMIF(Gifts!E$4:E$5000, A614,Gifts!B$4:B$5000), \"\")","v":""}]
[null,{"$f":"IF(SUMIF(Gifts!E$4:E$5000, A615,Gifts!B$4:B$5000) > 0, SUMIF(Gifts!E$4:E$5000, A615,Gifts!B$4:B$5000), \"\")","v":""}]
[null,{"$f":"IF(SUMIF(Gifts!E$4:E$5000, A616,Gifts!B$4:B$5000) > 0, SUMIF(Gifts!E$4:E$5000, A616,Gifts!B$4:B$5000), \"\")","v":""}]
[null,{"$f":"IF(SUMIF(Gifts!E$4:E$5000, A617,Gifts!B$4:B$5000) > 0, SUMIF(Gifts!E$4:E$5000, A617,Gifts!B$4:B$5000), \"\")","v":""}]
[null,{"$f":"IF(SUMIF(Gifts!E$4:E$5000, A618,Gifts!B$4:B$5000) > 0, SUMIF(Gifts!E$4:E$5000, A618,Gifts!B$4:B$5000), \"\")","v":""}]
[null,{"$f":"IF(SUMIF(Gifts!E$4:E$5000, A619,Gifts!B$4:B$5000) > 0, SUMIF(Gifts!E$4:E$5000, A619,Gifts!B$4:B$5000), \"\")","v":""}]
[null,{"$f":"IF(SUMIF(Gifts!E$4:E$5000, A620,Gifts!B$4:B$5000) > 0, SUMIF(Gifts!E$4:E$5000, A620,Gifts!B$4:B$5000), \"\")","v":""}]
[null,{"$f":"IF(SUMIF(Gifts!E$4:E$5000, A621,Gifts!B$4:B$5000) > 0, SUMIF(Gifts!E$4:E$5000, A621,Gifts!B$4:B$5000), \"\")","v":""}]
[null,{"$f":"IF(SUMIF(Gifts!E$4:E$5000, A622,Gifts!B$4:B$5000) > 0, SUMIF(Gifts!E$4:E$5000, A622,Gifts!B$4:B$5000), \"\")","v":""}]
[null,{"$f":"IF(SUMIF(Gifts!E$4:E$5000, A623,Gifts!B$4:B$5000) > 0, SUMIF(Gifts!E$4:E$5000, A623,Gifts!B$4:B$5000), \"\")","v":""}]
[null,{"$f":"IF(SUMIF(Gifts!E$4:E$5000, A624,Gifts!B$4:B$5000) > 0, SUMIF(Gifts!E$4:E$5000, A624,Gifts!B$4:B$5000), \"\")","v":""}]
[null,{"$f":"IF(SUMIF(Gifts!E$4:E$5000, A625,Gifts!B$4:B$5000) > 0, SUMIF(Gifts!E$4:E$5000, A625,Gifts!B$4:B$5000), \"\")","v":""}]
[null,{"$f":"IF(SUMIF(Gifts!E$4:E$5000, A626,Gifts!B$4:B$5000) > 0, SUMIF(Gifts!E$4:E$5000, A626,Gifts!B$4:B$5000), \"\")","v":""}]
[null,{"$f":"IF(SUMIF(Gifts!E$4:E$5000, A627,Gifts!B$4:B$5000) > 0, SUMIF(Gifts!E$4:E$5000, A627,Gifts!B$4:B$5000), \"\")","v":""}]
[null,{"$f":"IF(SUMIF(Gifts!E$4:E$5000, A628,Gifts!B$4:B$5000) > 0, SUMIF(Gifts!E$4:E$5000, A628,Gifts!B$4:B$5000), \"\")","v":""}]
[null,{"$f":"IF(SUMIF(Gifts!E$4:E$5000, A629,Gifts!B$4:B$5000) > 0, SUMIF(Gifts!E$4:E$5000, A629,Gifts!B$4:B$5000), \"\")","v":""}]
[null,{"$f":"IF(SUMIF(Gifts!E$4:E$5000, A630,Gifts!B$4:B$5000) > 0, SUMIF(Gifts!E$4:E$5000, A630,Gifts!B$4:B$5000), \"\")","v":""}]
[null,{"$f":"IF(SUMIF(Gifts!E$4:E$5000, A631,Gifts!B$4:B$5000) > 0, SUMIF(Gifts!E$4:E$5000, A631,Gifts!B$4:B$5000), \"\")","v":""}]
[null,{"$f":"IF(SUMIF(Gifts!E$4:E$5000, A632,Gifts!B$4:B$5000) > 0, SUMIF(Gifts!E$4:E$5000, A632,Gifts!B$4:B$5000), \"\")","v":""}]
[null,{"$f":"IF(SUMIF(Gifts!E$4:E$5000, A633,Gifts!B$4:B$5000) > 0, SUMIF(Gifts!E$4:E$5000, A633,Gifts!B$4:B$5000), \"\")","v":""}]
[null,{"$f":"IF(SUMIF(Gifts!E$4:E$5000, A634,Gifts!B$4:B$5000) > 0, SUMIF(Gifts!E$4:E$5000, A634,Gifts!B$4:B$5000), \"\")","v":""}]
[null,{"$f":"IF(SUMIF(Gifts!E$4:E$5000, A635,Gifts!B$4:B$5000) > 0, SUMIF(Gifts!E$4:E$5000, A635,Gifts!B$4:B$5000), \"\")","v":""}]
[null,{"$f":"IF(SUMIF(Gifts!E$4:E$5000, A636,Gifts!B$4:B$5000) > 0, SUMIF(Gifts!E$4:E$5000, A636,Gifts!B$4:B$5000), \"\")","v":""}]
[null,{"$f":"IF(SUMIF(Gifts!E$4:E$5000, A637,Gifts!B$4:B$5000) > 0, SUMIF(Gifts!E$4:E$5000, A637,Gifts!B$4:B$5000), \"\")","v":""}]
[null,{"$f":"IF(SUMIF(Gifts!E$4:E$5000, A638,Gifts!B$4:B$5000) > 0, SUMIF(Gifts!E$4:E$5000, A638,Gifts!B$4:B$5000), \"\")","v":""}]
[null,{"$f":"IF(SUMIF(Gifts!E$4:E$5000, A639,Gifts!B$4:B$5000) > 0, SUMIF(Gifts!E$4:E$5000, A639,Gifts!B$4:B$5000), \"\")","v":""}]
[null,{"$f":"IF(SUMIF(Gifts!E$4:E$5000, A640,Gifts!B$4:B$5000) > 0, SUMIF(Gifts!E$4:E$5000, A640,Gifts!B$4:B$5000), \"\")","v":""}]
[null,{"$f":"IF(SUMIF(Gifts!E$4:E$5000, A641,Gifts!B$4:B$5000) > 0, SUMIF(Gifts!E$4:E$5000, A641,Gifts!B$4:B$5000), \"\")","v":""}]
[null,{"$f":"IF(SUMIF(Gifts!E$4:E$5000, A642,Gifts!B$4:B$5000) > 0, SUMIF(Gifts!E$4:E$5000, A642,Gifts!B$4:B$5000), \"\")","v":""}]
[null,{"$f":"IF(SUMIF(Gifts!E$4:E$5000, A643,Gifts!B$4:B$5000) > 0, SUMIF(Gifts!E$4:E$5000, A643,Gifts!B$4:B$5000), \"\")","v":""}]
[null,{"$f":"IF(SUMIF(Gifts!E$4:E$5000, A644,Gifts!B$4:B$5000) > 0, SUMIF(Gifts!E$4:E$5000, A644,Gifts!B$4:B$5000), \"\")","v":""}]
[null,{"$f":"IF(SUMIF(Gifts!E$4:E$5000, A645,Gifts!B$4:B$5000) > 0, SUMIF(Gifts!E$4:E$5000, A645,Gifts!B$4:B$5000), \"\")","v":""}]
[null,{"$f":"IF(SUMIF(Gifts!E$4:E$5000, A646,Gifts!B$4:B$5000) > 0, SUMIF(Gifts!E$4:E$5000, A646,Gifts!B$4:B$5000), \"\")","v":""}]
[null,{"$f":"IF(SUMIF(Gifts!E$4:E$5000, A647,Gifts!B$4:B$5000) > 0, SUMIF(Gifts!E$4:E$5000, A647,Gifts!B$4:B$5000), \"\")","v":""}]
[null,{"$f":"IF(SUMIF(Gifts!E$4:E$5000, A648,Gifts!B$4:B$5000) > 0, SUMIF(Gifts!E$4:E$5000, A648,Gifts!B$4:B$5000), \"\")","v":""}]
[null,{"$f":"IF(SUMIF(Gifts!E$4:E$5000, A649,Gifts!B$4:B$5000) > 0, SUMIF(Gifts!E$4:E$5000, A649,Gifts!B$4:B$5000), \"\")","v":""}]
[null,{"$f":"IF(SUMIF(Gifts!E$4:E$5000, A650,Gifts!B$4:B$5000) > 0, SUMIF(Gifts!E$4:E$5000, A650,Gifts!B$4:B$5000), \"\")","v":""}]
[null,{"$f":"IF(SUMIF(Gifts!E$4:E$5000, A651,Gifts!B$4:B$5000) > 0, SUMIF(Gifts!E$4:E$5000, A651,Gifts!B$4:B$5000), \"\")","v":""}]
[null,{"$f":"IF(SUMIF(Gifts!E$4:E$5000, A652,Gifts!B$4:B$5000) > 0, SUMIF(Gifts!E$4:E$5000, A652,Gifts!B$4:B$5000), \"\")","v":""}]
[null,{"$f":"IF(SUMIF(Gifts!E$4:E$5000, A653,Gifts!B$4:B$5000) > 0, SUMIF(Gifts!E$4:E$5000, A653,Gifts!B$4:B$5000), \"\")","v":""}]
[null,{"$f":"IF(SUMIF(Gifts!E$4:E$5000, A654,Gifts!B$4:B$5000) > 0, SUMIF(Gifts!E$4:E$5000, A654,Gifts!B$4:B$5000), \"\")","v":""}]
[null,{"$f":"IF(SUMIF(Gifts!E$4:E$5000, A655,Gifts!B$4:B$5000) > 0, SUMIF(Gifts!E$4:E$5000, A655,Gifts!B$4:B$5000), \"\")","v":""}]
[null,{"$f":"IF(SUMIF(Gifts!E$4:E$5000, A656,Gifts!B$4:B$5000) > 0, SUMIF(Gifts!E$4:E$5000, A656,Gifts!B$4:B$5000), \"\")","v":""}]
[null,{"$f":"IF(SUMIF(Gifts!E$4:E$5000, A657,Gifts!B$4:B$5000) > 0, SUMIF(Gifts!E$4:E$5000, A657,Gifts!B$4:B$5000), \"\")","v":""}]
[null,{"$f":"IF(SUMIF(Gifts!E$4:E$5000, A658,Gifts!B$4:B$5000) > 0, SUMIF(Gifts!E$4:E$5000, A658,Gifts!B$4:B$5000), \"\")","v":""}]
[null,{"$f":"IF(SUMIF(Gifts!E$4:E$5000, A659,Gifts!B$4:B$5000) > 0, SUMIF(Gifts!E$4:E$5000, A659,Gifts!B$4:B$5000), \"\")","v":""}]
[null,{"$f":"IF(SUMIF(Gifts!E$4:E$5000, A660,Gifts!B$4:B$5000) > 0, SUMIF(Gifts!E$4:E$5000, A660,Gifts!B$4:B$5000), \"\")","v":""}]
[null,{"$f":"IF(SUMIF(Gifts!E$4:E$5000, A661,Gifts!B$4:B$5000) > 0, SUMIF(Gifts!E$4:E$5000, A661,Gifts!B$4:B$5000), \"\")","v":""}]
[null,{"$f":"IF(SUMIF(Gifts!E$4:E$5000, A662,Gifts!B$4:B$5000) > 0, SUMIF(Gifts!E$4:E$5000, A662,Gifts!B$4:B$5000), \"\")","v":""}]
[null,{"$f":"IF(SUMIF(Gifts!E$4:E$5000, A663,Gifts!B$4:B$5000) > 0, SUMIF(Gifts!E$4:E$5000, A663,Gifts!B$4:B$5000), \"\")","v":""}]
[null,{"$f":"IF(SUMIF(Gifts!E$4:E$5000, A664,Gifts!B$4:B$5000) > 0, SUMIF(Gifts!E$4:E$5000, A664,Gifts!B$4:B$5000), \"\")","v":""}]
[null,{"$f":"IF(SUMIF(Gifts!E$4:E$5000, A665,Gifts!B$4:B$5000) > 0, SUMIF(Gifts!E$4:E$5000, A665,Gifts!B$4:B$5000), \"\")","v":""}]
[null,{"$f":"IF(SUMIF(Gifts!E$4:E$5000, A666,Gifts!B$4:B$5000) > 0, SUMIF(Gifts!E$4:E$5000, A666,Gifts!B$4:B$5000), \"\")","v":""}]
[null,{"$f":"IF(SUMIF(Gifts!E$4:E$5000, A667,Gifts!B$4:B$5000) > 0, SUMIF(Gifts!E$4:E$5000, A667,Gifts!B$4:B$5000), \"\")","v":""}]
[null,{"$f":"IF(SUMIF(Gifts!E$4:E$5000, A668,Gifts!B$4:B$5000) > 0, SUMIF(Gifts!E$4:E$5000, A668,Gifts!B$4:B$5000), \"\")","v":""}]
[null,{"$f":"IF(SUMIF(Gifts!E$4:E$5000, A669,Gifts!B$4:B$5000) > 0, SUMIF(Gifts!E$4:E$5000, A669,Gifts!B$4:B$5000), \"\")","v":""}]
[null,{"$f":"IF(SUMIF(Gifts!E$4:E$5000, A670,Gifts!B$4:B$5000) > 0, SUMIF(Gifts!E$4:E$5000, A670,Gifts!B$4:B$5000), \"\")","v":""}]
[null,{"$f":"IF(SUMIF(Gifts!E$4:E$5000, A671,Gifts!B$4:B$5000) > 0, SUMIF(Gifts!E$4:E$5000, A671,Gifts!B$4:B$5000), \"\")","v":""}]
[null,{"$f":"IF(SUMIF(Gifts!E$4:E$5000, A672,Gifts!B$4:B$5000) > 0, SUMIF(Gifts!E$4:E$5000, A672,Gifts!B$4:B$5000), \"\")","v":""}]
[null,{"$f":"IF(SUMIF(Gifts!E$4:E$5000, A673,Gifts!B$4:B$5000) > 0, SUMIF(Gifts!E$4:E$5000, A673,Gifts!B$4:B$5000), \"\")","v":""}]
[null,{"$f":"IF(SUMIF(Gifts!E$4:E$5000, A674,Gifts!B$4:B$5000) > 0, SUMIF(Gifts!E$4:E$5000, A674,Gifts!B$4:B$5000), \"\")","v":""}]
[null,{"$f":"IF(SUMIF(Gifts!E$4:E$5000, A675,Gifts!B$4:B$5000) > 0, SUMIF(Gifts!E$4:E$5000, A675,Gifts!B$4:B$5000), \"\")","v":""}]
[null,{"$f":"IF(SUMIF(Gifts!E$4:E$5000, A676,Gifts!B$4:B$5000) > 0, SUMIF(Gifts!E$4:E$5000, A676,Gifts!B$4:B$5000), \"\")","v":""}]
[null,{"$f":"IF(SUMIF(Gifts!E$4:E$5000, A677,Gifts!B$4:B$5000) > 0, SUMIF(Gifts!E$4:E$5000, A677,Gifts!B$4:B$5000), \"\")","v":""}]
[null,{"$f":"IF(SUMIF(Gifts!E$4:E$5000, A678,Gifts!B$4:B$5000) > 0, SUMIF(Gifts!E$4:E$5000, A678,Gifts!B$4:B$5000), \"\")","v":""}]
[null,{"$f":"IF(SUMIF(Gifts!E$4:E$5000, A679,Gifts!B$4:B$5000) > 0, SUMIF(Gifts!E$4:E$5000, A679,Gifts!B$4:B$5000), \"\")","v":""}]
[null,{"$f":"IF(SUMIF(Gifts!E$4:E$5000, A680,Gifts!B$4:B$5000) > 0, SUMIF(Gifts!E$4:E$5000, A680,Gifts!B$4:B$5000), \"\")","v":""}]
[null,{"$f":"IF(SUMIF(Gifts!E$4:E$5000, A681,Gifts!B$4:B$5000) > 0, SUMIF(Gifts!E$4:E$5000, A681,Gifts!B$4:B$5000), \"\")","v":""}]
[null,{"$f":"IF(SUMIF(Gifts!E$4:E$5000, A682,Gifts!B$4:B$5000) > 0, SUMIF(Gifts!E$4:E$5000, A682,Gifts!B$4:B$5000), \"\")","v":""}]
[null,{"$f":"IF(SUMIF(Gifts!E$4:E$5000, A683,Gifts!B$4:B$5000) > 0, SUMIF(Gifts!E$4:E$5000, A683,Gifts!B$4:B$5000), \"\")","v":""}]
[null,{"$f":"IF(SUMIF(Gifts!E$4:E$5000, A684,Gifts!B$4:B$5000) > 0, SUMIF(Gifts!E$4:E$5000, A684,Gifts!B$4:B$5000), \"\")","v":""}]
[null,{"$f":"IF(SUMIF(Gifts!E$4:E$5000, A685,Gifts!B$4:B$5000) > 0, SUMIF(Gifts!E$4:E$5000, A685,Gifts!B$4:B$5000), \"\")","v":""}]
[null,{"$f":"IF(SUMIF(Gifts!E$4:E$5000, A686,Gifts!B$4:B$5000) > 0, SUMIF(Gifts!E$4:E$5000, A686,Gifts!B$4:B$5000), \"\")","v":""}]
[null,{"$f":"IF(SUMIF(Gifts!E$4:E$5000, A687,Gifts!B$4:B$5000) > 0, SUMIF(Gifts!E$4:E$5000, A687,Gifts!B$4:B$5000), \"\")","v":""}]
[null,{"$f":"IF(SUMIF(Gifts!E$4:E$5000, A688,Gifts!B$4:B$5000) > 0, SUMIF(Gifts!E$4:E$5000, A688,Gifts!B$4:B$5000), \"\")","v":""}]
[null,{"$f":"IF(SUMIF(Gifts!E$4:E$5000, A689,Gifts!B$4:B$5000) > 0, SUMIF(Gifts!E$4:E$5000, A689,Gifts!B$4:B$5000), \"\")","v":""}]
[null,{"$f":"IF(SUMIF(Gifts!E$4:E$5000, A690,Gifts!B$4:B$5000) > 0, SUMIF(Gifts!E$4:E$5000, A690,Gifts!B$4:B$5000), \"\")","v":""}]
[null,{"$f":"IF(SUMIF(Gifts!E$4:E$5000, A691,Gifts!B$4:B$5000) > 0, SUMIF(Gifts!E$4:E$5000, A691,Gifts!B$4:B$5000), \"\")","v":""}]
[null,{"$f":"IF(SUMIF(Gifts!E$4:E$5000, A692,Gifts!B$4:B$5000) > 0, SUMIF(Gifts!E$4:E$5000, A692,Gifts!B$4:B$5000), \"\")","v":""}]
[null,{"$f":"IF(SUMIF(Gifts!E$4:E$5000, A693,Gifts!B$4:B$5000) > 0, SUMIF(Gifts!E$4:E$5000, A693,Gifts!B$4:B$5000), \"\")","v":""}]
[null,{"$f":"IF(SUMIF(Gifts!E$4:E$5000, A694,Gifts!B$4:B$5000) > 0, SUMIF(Gifts!E$4:E$5000, A694,Gifts!B$4:B$5000), \"\")","v":""}]
[null,{"$f":"IF(SUMIF(Gifts!E$4:E$5000, A695,Gifts!B$4:B$5000) > 0, SUMIF(Gifts!E$4:E$5000, A695,Gifts!B$4:B$5000), \"\")","v":""}]
[null,{"$f":"IF(SUMIF(Gifts!E$4:E$5000, A696,Gifts!B$4:B$5000) > 0, SUMIF(Gifts!E$4:E$5000, A696,Gifts!B$4:B$5000), \"\")","v":""}]
[null,{"$f":"IF(SUMIF(Gifts!E$4:E$5000, A697,Gifts!B$4:B$5000) > 0, SUMIF(Gifts!E$4:E$5000, A697,Gifts!B$4:B$5000), \"\")","v":""}]
[null,{"$f":"IF(SUMIF(Gifts!E$4:E$5000, A698,Gifts!B$4:B$5000) > 0, SUMIF(Gifts!E$4:E$5000, A698,Gifts!B$4:B$5000), \"\")","v":""}]
[null,{"$f":"IF(SUMIF(Gifts!E$4:E$5000, A699,Gifts!B$4:B$5000) > 0, SUMIF(Gifts!E$4:E$5000, A699,Gifts!B$4:B$5000), \"\")","v":""}]
[null,{"$f":"IF(SUMIF(Gifts!E$4:E$5000, A700,Gifts!B$4:B$5000) > 0, SUMIF(Gifts!E$4:E$5000, A700,Gifts!B$4:B$5000), \"\")","v":""}]
[null,{"$f":"IF(SUMIF(Gifts!E$4:E$5000, A701,Gifts!B$4:B$5000) > 0, SUMIF(Gifts!E$4:E$5000, A701,Gifts!B$4:B$5000), \"\")","v":""}]
[null,{"$f":"IF(SUMIF(Gifts!E$4:E$5000, A702,Gifts!B$4:B$5000) > 0, SUMIF(Gifts!E$4:E$5000, A702,Gifts!B$4:B$5000), \"\")","v":""}]
[null,{"$f":"IF(SUMIF(Gifts!E$4:E$5000, A703,Gifts!B$4:B$5000) > 0, SUMIF(Gifts!E$4:E$5000, A703,Gifts!B$4:B$5000), \"\")","v":""}]
[null,{"$f":"IF(SUMIF(Gifts!E$4:E$5000, A704,Gifts!B$4:B$5000) > 0, SUMIF(Gifts!E$4:E$5000, A704,Gifts!B$4:B$5000), \"\")","v":""}]
[null,{"$f":"IF(SUMIF(Gifts!E$4:E$5000, A705,Gifts!B$4:B$5000) > 0, SUMIF(Gifts!E$4:E$5000, A705,Gifts!B$4:B$5000), \"\")","v":""}]
[null,{"$f":"IF(SUMIF(Gifts!E$4:E$5000, A706,Gifts!B$4:B$5000) > 0, SUMIF(Gifts!E$4:E$5000, A706,Gifts!B$4:B$5000), \"\")","v":""}]
[null,{"$f":"IF(SUMIF(Gifts!E$4:E$5000, A707,Gifts!B$4:B$5000) > 0, SUMIF(Gifts!E$4:E$5000, A707,Gifts!B$4:B$5000), \"\")","v":""}]
[null,{"$f":"IF(SUMIF(Gifts!E$4:E$5000, A708,Gifts!B$4:B$5000) > 0, SUMIF(Gifts!E$4:E$5000, A708,Gifts!B$4:B$5000), \"\")","v":""}]
[null,{"$f":"IF(SUMIF(Gifts!E$4:E$5000, A709,Gifts!B$4:B$5000) > 0, SUMIF(Gifts!E$4:E$5000, A709,Gifts!B$4:B$5000), \"\")","v":""}]
[null,{"$f":"IF(SUMIF(Gifts!E$4:E$5000, A710,Gifts!B$4:B$5000) > 0, SUMIF(Gifts!E$4:E$5000, A710,Gifts!B$4:B$5000), \"\")","v":""}]
[null,{"$f":"IF(SUMIF(Gifts!E$4:E$5000, A711,Gifts!B$4:B$5000) > 0, SUMIF(Gifts!E$4:E$5000, A711,Gifts!B$4:B$5000), \"\")","v":""}]
[null,{"$f":"IF(SUMIF(Gifts!E$4:E$5000, A712,Gifts!B$4:B$5000) > 0, SUMIF(Gifts!E$4:E$5000, A712,Gifts!B$4:B$5000), \"\")","v":""}]
[null,{"$f":"IF(SUMIF(Gifts!E$4:E$5000, A713,Gifts!B$4:B$5000) > 0, SUMIF(Gifts!E$4:E$5000, A713,Gifts!B$4:B$5000), \"\")","v":""}]
[null,{"$f":"IF(SUMIF(Gifts!E$4:E$5000, A714,Gifts!B$4:B$5000) > 0, SUMIF(Gifts!E$4:E$5000, A714,Gifts!B$4:B$5000), \"\")","v":""}]
[null,{"$f":"IF(SUMIF(Gifts!E$4:E$5000, A715,Gifts!B$4:B$5000) > 0, SUMIF(Gifts!E$4:E$5000, A715,Gifts!B$4:B$5000), \"\")","v":""}]
[null,{"$f":"IF(SUMIF(Gifts!E$4:E$5000, A716,Gifts!B$4:B$5000) > 0, SUMIF(Gifts!E$4:E$5000, A716,Gifts!B$4:B$5000), \"\")","v":""}]
[null,{"$f":"IF(SUMIF(Gifts!E$4:E$5000, A717,Gifts!B$4:B$5000) > 0, SUMIF(Gifts!E$4:E$5000, A717,Gifts!B$4:B$5000), \"\")","v":""}]
[null,{"$f":"IF(SUMIF(Gifts!E$4:E$5000, A718,Gifts!B$4:B$5000) > 0, SUMIF(Gifts!E$4:E$5000, A718,Gifts!B$4:B$5000), \"\")","v":""}]
[null,{"$f":"IF(SUMIF(Gifts!E$4:E$5000, A719,Gifts!B$4:B$5000) > 0, SUMIF(Gifts!E$4:E$5000, A719,Gifts!B$4:B$5000), \"\")","v":""}]
[null,{"$f":"IF(SUMIF(Gifts!E$4:E$5000, A720,Gifts!B$4:B$5000) > 0, SUMIF(Gifts!E$4:E$5000, A720,Gifts!B$4:B$5000), \"\")","v":""}]
[null,{"$f":"IF(SUMIF(Gifts!E$4:E$5000, A721,Gifts!B$4:B$5000) > 0, SUMIF(Gifts!E$4:E$5000, A721,Gifts!B$4:B$5000), \"\")","v":""}]
[null,{"$f":"IF(SUMIF(Gifts!E$4:E$5000, A722,Gifts!B$4:B$5000) > 0, SUMIF(Gifts!E$4:E$5000, A722,Gifts!B$4:B$5000), \"\")","v":""}]
[null,{"$f":"IF(SUMIF(Gifts!E$4:E$5000, A723,Gifts!B$4:B$5000) > 0, SUMIF(Gifts!E$4:E$5000, A723,Gifts!B$4:B$5000), \"\")","v":""}]
[null,{"$f":"IF(SUMIF(Gifts!E$4:E$5000, A724,Gifts!B$4:B$5000) > 0, SUMIF(Gifts!E$4:E$5000, A724,Gifts!B$4:B$5000), \"\")","v":""}]
[null,{"$f":"IF(SUMIF(Gifts!E$4:E$5000, A725,Gifts!B$4:B$5000) > 0, SUMIF(Gifts!E$4:E$5000, A725,Gifts!B$4:B$5000), \"\")","v":""}]
[null,{"$f":"IF(SUMIF(Gifts!E$4:E$5000, A726,Gifts!B$4:B$5000) > 0, SUMIF(Gifts!E$4:E$5000, A726,Gifts!B$4:B$5000), \"\")","v":""}]
[null,{"$f":"IF(SUMIF(Gifts!E$4:E$5000, A727,Gifts!B$4:B$5000) > 0, SUMIF(Gifts!E$4:E$5000, A727,Gifts!B$4:B$5000), \"\")","v":""}]
[null,{"$f":"IF(SUMIF(Gifts!E$4:E$5000, A728,Gifts!B$4:B$5000) > 0, SUMIF(Gifts!E$4:E$5000, A728,Gifts!B$4:B$5000), \"\")","v":""}]
[null,{"$f":"IF(SUMIF(Gifts!E$4:E$5000, A729,Gifts!B$4:B$5000) > 0, SUMIF(Gifts!E$4:E$5000, A729,Gifts!B$4:B$5000), \"\")","v":""}]
[null,{"$f":"IF(SUMIF(Gifts!E$4:E$5000, A730,Gifts!B$4:B$5000) > 0, SUMIF(Gifts!E$4:E$5000, A730,Gifts!B$4:B$5000), \"\")","v":""}]
[null,{"$f":"IF(SUMIF(Gifts!E$4:E$5000, A731,Gifts!B$4:B$5000) > 0, SUMIF(Gifts!E$4:E$5000, A731,Gifts!B$4:B$5000), \"\")","v":""}]
[null,{"$f":"IF(SUMIF(Gifts!E$4:E$5000, A732,Gifts!B$4:B$5000) > 0, SUMIF(Gifts!E$4:E$5000, A732,Gifts!B$4:B$5000), \"\")","v":""}]
[null,{"$f":"IF(SUMIF(Gifts!E$4:E$5000, A733,Gifts!B$4:B$5000) > 0, SUMIF(Gifts!E$4:E$5000, A733,Gifts!B$4:B$5000), \"\")","v":""}]
[null,{"$f":"IF(SUMIF(Gifts!E$4:E$5000, A734,Gifts!B$4:B$5000) > 0, SUMIF(Gifts!E$4:E$5000, A734,Gifts!B$4:B$5000), \"\")","v":""}]
[null,{"$f":"IF(SUMIF(Gifts!E$4:E$5000, A735,Gifts!B$4:B$5000) > 0, SUMIF(Gifts!E$4:E$5000, A735,Gifts!B$4:B$5000), \"\")","v":""}]
[null,{"$f":"IF(SUMIF(Gifts!E$4:E$5000, A736,Gifts!B$4:B$5000) > 0, SUMIF(Gifts!E$4:E$5000, A736,Gifts!B$4:B$5000), \"\")","v":""}]
[null,{"$f":"IF(SUMIF(Gifts!E$4:E$5000, A737,Gifts!B$4:B$5000) > 0, SUMIF(Gifts!E$4:E$5000, A737,Gifts!B$4:B$5000), \"\")","v":""}]
[null,{"$f":"IF(SUMIF(Gifts!E$4:E$5000, A738,Gifts!B$4:B$5000) > 0, SUMIF(Gifts!E$4:E$5000, A738,Gifts!B$4:B$5000), \"\")","v":""}]
[null,{"$f":"IF(SUMIF(Gifts!E$4:E$5000, A739,Gifts!B$4:B$5000) > 0, SUMIF(Gifts!E$4:E$5000, A739,Gifts!B$4:B$5000), \"\")","v":""}]
[null,{"$f":"IF(SUMIF(Gifts!E$4:E$5000, A740,Gifts!B$4:B$5000) > 0, SUMIF(Gifts!E$4:E$5000, A740,Gifts!B$4:B$5000), \"\")","v":""}]
[null,{"$f":"IF(SUMIF(Gifts!E$4:E$5000, A741,Gifts!B$4:B$5000) > 0, SUMIF(Gifts!E$4:E$5000, A741,Gifts!B$4:B$5000), \"\")","v":""}]
[null,{"$f":"IF(SUMIF(Gifts!E$4:E$5000, A742,Gifts!B$4:B$5000) > 0, SUMIF(Gifts!E$4:E$5000, A742,Gifts!B$4:B$5000), \"\")","v":""}]
[null,{"$f":"IF(SUMIF(Gifts!E$4:E$5000, A743,Gifts!B$4:B$5000) > 0, SUMIF(Gifts!E$4:E$5000, A743,Gifts!B$4:B$5000), \"\")","v":""}]
[null,{"$f":"IF(SUMIF(Gifts!E$4:E$5000, A744,Gifts!B$4:B$5000) > 0, SUMIF(Gifts!E$4:E$5000, A744,Gifts!B$4:B$5000), \"\")","v":""}]
[null,{"$f":"IF(SUMIF(Gifts!E$4:E$5000, A745,Gifts!B$4:B$5000) > 0, SUMIF(Gifts!E$4:E$5000, A745,Gifts!B$4:B$5000), \"\")","v":""}]
[null,{"$f":"IF(SUMIF(Gifts!E$4:E$5000, A746,Gifts!B$4:B$5000) > 0, SUMIF(Gifts!E$4:E$5000, A746,Gifts!B$4:B$5000), \"\")","v":""}]
[null,{"$f":"IF(SUMIF(Gifts!E$4:E$5000, A747,Gifts!B$4:B$5000) > 0, SUMIF(Gifts!E$4:E$5000, A747,Gifts!B$4:B$5000), \"\")","v":""}]
[null,{"$f":"IF(SUMIF(Gifts!E$4:E$5000, A748,Gifts!B$4:B$5000) > 0, SUMIF(Gifts!E$4:E$5000, A748,Gifts!B$4:B$5000), \"\")","v":""}]
[null,{"$f":"IF(SUMIF(Gifts!E$4:E$5000, A749,Gifts!B$4:B$5000) > 0, SUMIF(Gifts!E$4:E$5000, A749,Gifts!B$4:B$5000), \"\")","v":""}]
[null,{"$f":"IF(SUMIF(Gifts!E$4:E$5000, A750,Gifts!B$4:B$5000) > 0, SUMIF(Gifts!E$4:E$5000, A750,Gifts!B$4:B$5000), \"\")","v":""}]
[null,{"$f":"IF(SUMIF(Gifts!E$4:E$5000, A751,Gifts!B$4:B$5000) > 0, SUMIF(Gifts!E$4:E$5000, A751,Gifts!B$4:B$5000), \"\")","v":""}]
[null,{"$f":"IF(SUMIF(Gifts!E$4:E$5000, A752,Gifts!B$4:B$5000) > 0, SUMIF(Gifts!E$4:E$5000, A752,Gifts!B$4:B$5000), \"\")","v":""}]
[null,{"$f":"IF(SUMIF(Gifts!E$4:E$5000, A753,Gifts!B$4:B$5000) > 0, SUMIF(Gifts!E$4:E$5000, A753,Gifts!B$4:B$5000), \"\")","v":""}]
[null,{"$f":"IF(SUMIF(Gifts!E$4:E$5000, A754,Gifts!B$4:B$5000) > 0, SUMIF(Gifts!E$4:E$5000, A754,Gifts!B$4:B$5000), \"\")","v":""}]
[null,{"$f":"IF(SUMIF(Gifts!E$4:E$5000, A755,Gifts!B$4:B$5000) > 0, SUMIF(Gifts!E$4:E$5000, A755,Gifts!B$4:B$5000), \"\")","v":""}]
[null,{"$f":"IF(SUMIF(Gifts!E$4:E$5000, A756,Gifts!B$4:B$5000) > 0, SUMIF(Gifts!E$4:E$5000, A756,Gifts!B$4:B$5000), \"\")","v":""}]
[null,{"$f":"IF(SUMIF(Gifts!E$4:E$5000, A757,Gifts!B$4:B$5000) > 0, SUMIF(Gifts!E$4:E$5000, A757,Gifts!B$4:B$5000), \"\")","v":""}]
[null,{"$f":"IF(SUMIF(Gifts!E$4:E$5000, A758,Gifts!B$4:B$5000) > 0, SUMIF(Gifts!E$4:E$5000, A758,Gifts!B$4:B$5000), \"\")","v":""}]
[null,{"$f":"IF(SUMIF(Gifts!E$4:E$5000, A759,Gifts!B$4:B$5000) > 0, SUMIF(Gifts!E$4:E$5000, A759,Gifts!B$4:B$5000), \"\")","v":""}]
[null,{"$f":"IF(SUMIF(Gifts!E$4:E$5000, A760,Gifts!B$4:B$5000) > 0, SUMIF(Gifts!E$4:E$5000, A760,Gifts!B$4:B$5000), \"\")","v":""}]
[null,{"$f":"IF(SUMIF(Gifts!E$4:E$5000, A761,Gifts!B$4:B$5000) > 0, SUMIF(Gifts!E$4:E$5000, A761,Gifts!B$4:B$5000), \"\")","v":""}]
[null,{"$f":"IF(SUMIF(Gifts!E$4:E$5000, A762,Gifts!B$4:B$5000) > 0, SUMIF(Gifts!E$4:E$5000, A762,Gifts!B$4:B$5000), \"\")","v":""}]
[null,{"$f":"IF(SUMIF(Gifts!E$4:E$5000, A763,Gifts!B$4:B$5000) > 0, SUMIF(Gifts!E$4:E$5000, A763,Gifts!B$4:B$5000), \"\")","v":""}]
[null,{"$f":"IF(SUMIF(Gifts!E$4:E$5000, A764,Gifts!B$4:B$5000) > 0, SUMIF(Gifts!E$4:E$5000, A764,Gifts!B$4:B$5000), \"\")","v":""}]
[null,{"$f":"IF(SUMIF(Gifts!E$4:E$5000, A765,Gifts!B$4:B$5000) > 0, SUMIF(Gifts!E$4:E$5000, A765,Gifts!B$4:B$5000), \"\")","v":""}]
[null,{"$f":"IF(SUMIF(Gifts!E$4:E$5000, A766,Gifts!B$4:B$5000) > 0, SUMIF(Gifts!E$4:E$5000, A766,Gifts!B$4:B$5000), \"\")","v":""}]
[null,{"$f":"IF(SUMIF(Gifts!E$4:E$5000, A767,Gifts!B$4:B$5000) > 0, SUMIF(Gifts!E$4:E$5000, A767,Gifts!B$4:B$5000), \"\")","v":""}]
[null,{"$f":"IF(SUMIF(Gifts!E$4:E$5000, A768,Gifts!B$4:B$5000) > 0, SUMIF(Gifts!E$4:E$5000, A768,Gifts!B$4:B$5000), \"\")","v":""}]
[null,{"$f":"IF(SUMIF(Gifts!E$4:E$5000, A769,Gifts!B$4:B$5000) > 0, SUMIF(Gifts!E$4:E$5000, A769,Gifts!B$4:B$5000), \"\")","v":""}]
[null,{"$f":"IF(SUMIF(Gifts!E$4:E$5000, A770,Gifts!B$4:B$5000) > 0, SUMIF(Gifts!E$4:E$5000, A770,Gifts!B$4:B$5000), \"\")","v":""}]
[null,{"$f":"IF(SUMIF(Gifts!E$4:E$5000, A771,Gifts!B$4:B$5000) > 0, SUMIF(Gifts!E$4:E$5000, A771,Gifts!B$4:B$5000), \"\")","v":""}]
[null,{"$f":"IF(SUMIF(Gifts!E$4:E$5000, A772,Gifts!B$4:B$5000) > 0, SUMIF(Gifts!E$4:E$5000, A772,Gifts!B$4:B$5000), \"\")","v":""}]
[null,{"$f":"IF(SUMIF(Gifts!E$4:E$5000, A773,Gifts!B$4:B$5000) > 0, SUMIF(Gifts!E$4:E$5000, A773,Gifts!B$4:B$5000), \"\")","v":""}]
[null,{"$f":"IF(SUMIF(Gifts!E$4:E$5000, A774,Gifts!B$4:B$5000) > 0, SUMIF(Gifts!E$4:E$5000, A774,Gifts!B$4:B$5000), \"\")","v":""}]
[null,{"$f":"IF(SUMIF(Gifts!E$4:E$5000, A775,Gifts!B$4:B$5000) > 0, SUMIF(Gifts!E$4:E$5000, A775,Gifts!B$4:B$5000), \"\")","v":""}]
[null,{"$f":"IF(SUMIF(Gifts!E$4:E$5000, A776,Gifts!B$4:B$5000) > 0, SUMIF(Gifts!E$4:E$5000, A776,Gifts!B$4:B$5000), \"\")","v":""}]
[null,{"$f":"IF(SUMIF(Gifts!E$4:E$5000, A777,Gifts!B$4:B$5000) > 0, SUMIF(Gifts!E$4:E$5000, A777,Gifts!B$4:B$5000), \"\")","v":""}]
[null,{"$f":"IF(SUMIF(Gifts!E$4:E$5000, A778,Gifts!B$4:B$5000) > 0, SUMIF(Gifts!E$4:E$5000, A778,Gifts!B$4:B$5000), \"\")","v":""}]
[null,{"$f":"IF(SUMIF(Gifts!E$4:E$5000, A779,Gifts!B$4:B$5000) > 0, SUMIF(Gifts!E$4:E$5000, A779,Gifts!B$4:B$5000), \"\")","v":""}]
[null,{"$f":"IF(SUMIF(Gifts!E$4:E$5000, A780,Gifts!B$4:B$5000) > 0, SUMIF(Gifts!E$4:E$5000, A780,Gifts!B$4:B$5000), \"\")","v":""}]
[null,{"$f":"IF(SUMIF(Gifts!E$4:E$5000, A781,Gifts!B$4:B$5000) > 0, SUMIF(Gifts!E$4:E$5000, A781,Gifts!B$4:B$5000), \"\")","v":""}]
[null,{"$f":"IF(SUMIF(Gifts!E$4:E$5000, A782,Gifts!B$4:B$5000) > 0, SUMIF(Gifts!E$4:E$5000, A782,Gifts!B$4:B$5000), \"\")","v":""}]
[null,{"$f":"IF(SUMIF(Gifts!E$4:E$5000, A783,Gifts!B$4:B$5000) > 0, SUMIF(Gifts!E$4:E$5000, A783,Gifts!B$4:B$5000), \"\")","v":""}]
[null,{"$f":"IF(SUMIF(Gifts!E$4:E$5000, A784,Gifts!B$4:B$5000) > 0, SUMIF(Gifts!E$4:E$5000, A784,Gifts!B$4:B$5000), \"\")","v":""}]
[null,{"$f":"IF(SUMIF(Gifts!E$4:E$5000, A785,Gifts!B$4:B$5000) > 0, SUMIF(Gifts!E$4:E$5000, A785,Gifts!B$4:B$5000), \"\")","v":""}]
[null,{"$f":"IF(SUMIF(Gifts!E$4:E$5000, A786,Gifts!B$4:B$5000) > 0, SUMIF(Gifts!E$4:E$5000, A786,Gifts!B$4:B$5000), \"\")","v":""}]
[null,{"$f":"IF(SUMIF(Gifts!E$4:E$5000, A787,Gifts!B$4:B$5000) > 0, SUMIF(Gifts!E$4:E$5000, A787,Gifts!B$4:B$5000), \"\")","v":""}]
[null,{"$f":"IF(SUMIF(Gifts!E$4:E$5000, A788,Gifts!B$4:B$5000) > 0, SUMIF(Gifts!E$4:E$5000, A788,Gifts!B$4:B$5000), \"\")","v":""}]
[null,{"$f":"IF(SUMIF(Gifts!E$4:E$5000, A789,Gifts!B$4:B$5000) > 0, SUMIF(Gifts!E$4:E$5000, A789,Gifts!B$4:B$5000), \"\")","v":""}]
[null,{"$f":"IF(SUMIF(Gifts!E$4:E$5000, A790,Gifts!B$4:B$5000) > 0, SUMIF(Gifts!E$4:E$5000, A790,Gifts!B$4:B$5000), \"\")","v":""}]
[null,{"$f":"IF(SUMIF(Gifts!E$4:E$5000, A791,Gifts!B$4:B$5000) > 0, SUMIF(Gifts!E$4:E$5000, A791,Gifts!B$4:B$5000), \"\")","v":""}]
[null,{"$f":"IF(SUMIF(Gifts!E$4:E$5000, A792,Gifts!B$4:B$5000) > 0, SUMIF(Gifts!E$4:E$5000, A792,Gifts!B$4:B$5000), \"\")","v":""}]
[null,{"$f":"IF(SUMIF(Gifts!E$4:E$5000, A793,Gifts!B$4:B$5000) > 0, SUMIF(Gifts!E$4:E$5000, A793,Gifts!B$4:B$5000), \"\")","v":""}]
[null,{"$f":"IF(SUMIF(Gifts!E$4:E$5000, A794,Gifts!B$4:B$5000) > 0, SUMIF(Gifts!E$4:E$5000, A794,Gifts!B$4:B$5000), \"\")","v":""}]
[null,{"$f":"IF(SUMIF(Gifts!E$4:E$5000, A795,Gifts!B$4:B$5000) > 0, SUMIF(Gifts!E$4:E$5000, A795,Gifts!B$4:B$5000), \"\")","v":""}]
[null,{"$f":"IF(SUMIF(Gifts!E$4:E$5000, A796,Gifts!B$4:B$5000) > 0, SUMIF(Gifts!E$4:E$5000, A796,Gifts!B$4:B$5000), \"\")","v":""}]
[null,{"$f":"IF(SUMIF(Gifts!E$4:E$5000, A797,Gifts!B$4:B$5000) > 0, SUMIF(Gifts!E$4:E$5000, A797,Gifts!B$4:B$5000), \"\")","v":""}]
[null,{"$f":"IF(SUMIF(Gifts!E$4:E$5000, A798,Gifts!B$4:B$5000) > 0, SUMIF(Gifts!E$4:E$5000, A798,Gifts!B$4:B$5000), \"\")","v":""}]
[null,{"$f":"IF(SUMIF(Gifts!E$4:E$5000, A799,Gifts!B$4:B$5000) > 0, SUMIF(Gifts!E$4:E$5000, A799,Gifts!B$4:B$5000), \"\")","v":""}]
[null,{"$f":"IF(SUMIF(Gifts!E$4:E$5000, A800,Gifts!B$4:B$5000) > 0, SUMIF(Gifts!E$4:E$5000, A800,Gifts!B$4:B$5000), \"\")","v":""}]
[null,{"$f":"IF(SUMIF(Gifts!E$4:E$5000, A801,Gifts!B$4:B$5000) > 0, SUMIF(Gifts!E$4:E$5000, A801,Gifts!B$4:B$5000), \"\")","v":""}]
[null,{"$f":"IF(SUMIF(Gifts!E$4:E$5000, A802,Gifts!B$4:B$5000) > 0, SUMIF(Gifts!E$4:E$5000, A802,Gifts!B$4:B$5000), \"\")","v":""}]
[null,{"$f":"IF(SUMIF(Gifts!E$4:E$5000, A803,Gifts!B$4:B$5000) > 0, SUMIF(Gifts!E$4:E$5000, A803,Gifts!B$4:B$5000), \"\")","v":""}]
[null,{"$f":"IF(SUMIF(Gifts!E$4:E$5000, A804,Gifts!B$4:B$5000) > 0, SUMIF(Gifts!E$4:E$5000, A804,Gifts!B$4:B$5000), \"\")","v":""}]
[null,{"$f":"IF(SUMIF(Gifts!E$4:E$5000, A805,Gifts!B$4:B$5000) > 0, SUMIF(Gifts!E$4:E$5000, A805,Gifts!B$4:B$5000), \"\")","v":""}]
[null,{"$f":"IF(SUMIF(Gifts!E$4:E$5000, A806,Gifts!B$4:B$5000) > 0, SUMIF(Gifts!E$4:E$5000, A806,Gifts!B$4:B$5000), \"\")","v":""}]
[null,{"$f":"IF(SUMIF(Gifts!E$4:E$5000, A807,Gifts!B$4:B$5000) > 0, SUMIF(Gifts!E$4:E$5000, A807,Gifts!B$4:B$5000), \"\")","v":""}]
[null,{"$f":"IF(SUMIF(Gifts!E$4:E$5000, A808,Gifts!B$4:B$5000) > 0, SUMIF(Gifts!E$4:E$5000, A808,Gifts!B$4:B$5000), \"\")","v":""}]
[null,{"$f":"IF(SUMIF(Gifts!E$4:E$5000, A809,Gifts!B$4:B$5000) > 0, SUMIF(Gifts!E$4:E$5000, A809,Gifts!B$4:B$5000), \"\")","v":""}]
[null,{"$f":"IF(SUMIF(Gifts!E$4:E$5000, A810,Gifts!B$4:B$5000) > 0, SUMIF(Gifts!E$4:E$5000, A810,Gifts!B$4:B$5000), \"\")","v":""}]
[null,{"$f":"IF(SUMIF(Gifts!E$4:E$5000, A811,Gifts!B$4:B$5000) > 0, SUMIF(Gifts!E$4:E$5000, A811,Gifts!B$4:B$5000), \"\")","v":""}]
[null,{"$f":"IF(SUMIF(Gifts!E$4:E$5000, A812,Gifts!B$4:B$5000) > 0, SUMIF(Gifts!E$4:E$5000, A812,Gifts!B$4:B$5000), \"\")","v":""}]
[null,{"$f":"IF(SUMIF(Gifts!E$4:E$5000, A813,Gifts!B$4:B$5000) > 0, SUMIF(Gifts!E$4:E$5000, A813,Gifts!B$4:B$5000), \"\")","v":""}]
[null,{"$f":"IF(SUMIF(Gifts!E$4:E$5000, A814,Gifts!B$4:B$5000) > 0, SUMIF(Gifts!E$4:E$5000, A814,Gifts!B$4:B$5000), \"\")","v":""}]
[null,{"$f":"IF(SUMIF(Gifts!E$4:E$5000, A815,Gifts!B$4:B$5000) > 0, SUMIF(Gifts!E$4:E$5000, A815,Gifts!B$4:B$5000), \"\")","v":""}]
[null,{"$f":"IF(SUMIF(Gifts!E$4:E$5000, A816,Gifts!B$4:B$5000) > 0, SUMIF(Gifts!E$4:E$5000, A816,Gifts!B$4:B$5000), \"\")","v":""}]
[null,{"$f":"IF(SUMIF(Gifts!E$4:E$5000, A817,Gifts!B$4:B$5000) > 0, SUMIF(Gifts!E$4:E$5000, A817,Gifts!B$4:B$5000), \"\")","v":""}]
[null,{"$f":"IF(SUMIF(Gifts!E$4:E$5000, A818,Gifts!B$4:B$5000) > 0, SUMIF(Gifts!E$4:E$5000, A818,Gifts!B$4:B$5000), \"\")","v":""}]
[null,{"$f":"IF(SUMIF(Gifts!E$4:E$5000, A819,Gifts!B$4:B$5000) > 0, SUMIF(Gifts!E$4:E$5000, A819,Gifts!B$4:B$5000), \"\")","v":""}]
[null,{"$f":"IF(SUMIF(Gifts!E$4:E$5000, A820,Gifts!B$4:B$5000) > 0, SUMIF(Gifts!E$4:E$5000, A820,Gifts!B$4:B$5000), \"\")","v":""}]
[null,{"$f":"IF(SUMIF(Gifts!E$4:E$5000, A821,Gifts!B$4:B$5000) > 0, SUMIF(Gifts!E$4:E$5000, A821,Gifts!B$4:B$5000), \"\")","v":""}]
[null,{"$f":"IF(SUMIF(Gifts!E$4:E$5000, A822,Gifts!B$4:B$5000) > 0, SUMIF(Gifts!E$4:E$5000, A822,Gifts!B$4:B$5000), \"\")","v":""}]
[null,{"$f":"IF(SUMIF(Gifts!E$4:E$5000, A823,Gifts!B$4:B$5000) > 0, SUMIF(Gifts!E$4:E$5000, A823,Gifts!B$4:B$5000), \"\")","v":""}]
[null,{"$f":"IF(SUMIF(Gifts!E$4:E$5000, A824,Gifts!B$4:B$5000) > 0, SUMIF(Gifts!E$4:E$5000, A824,Gifts!B$4:B$5000), \"\")","v":""}]
[null,{"$f":"IF(SUMIF(Gifts!E$4:E$5000, A825,Gifts!B$4:B$5000) > 0, SUMIF(Gifts!E$4:E$5000, A825,Gifts!B$4:B$5000), \"\")","v":""}]
[null,{"$f":"IF(SUMIF(Gifts!E$4:E$5000, A826,Gifts!B$4:B$5000) > 0, SUMIF(Gifts!E$4:E$5000, A826,Gifts!B$4:B$5000), \"\")","v":""}]
[null,{"$f":"IF(SUMIF(Gifts!E$4:E$5000, A827,Gifts!B$4:B$5000) > 0, SUMIF(Gifts!E$4:E$5000, A827,Gifts!B$4:B$5000), \"\")","v":""}]
[null,{"$f":"IF(SUMIF(Gifts!E$4:E$5000, A828,Gifts!B$4:B$5000) > 0, SUMIF(Gifts!E$4:E$5000, A828,Gifts!B$4:B$5000), \"\")","v":""}]
[null,{"$f":"IF(SUMIF(Gifts!E$4:E$5000, A829,Gifts!B$4:B$5000) > 0, SUMIF(Gifts!E$4:E$5000, A829,Gifts!B$4:B$5000), \"\")","v":""}]
[null,{"$f":"IF(SUMIF(Gifts!E$4:E$5000, A830,Gifts!B$4:B$5000) > 0, SUMIF(Gifts!E$4:E$5000, A830,Gifts!B$4:B$5000), \"\")","v":""}]
[null,{"$f":"IF(SUMIF(Gifts!E$4:E$5000, A831,Gifts!B$4:B$5000) > 0, SUMIF(Gifts!E$4:E$5000, A831,Gifts!B$4:B$5000), \"\")","v":""}]
[null,{"$f":"IF(SUMIF(Gifts!E$4:E$5000, A832,Gifts!B$4:B$5000) > 0, SUMIF(Gifts!E$4:E$5000, A832,Gifts!B$4:B$5000), \"\")","v":""}]
[null,{"$f":"IF(SUMIF(Gifts!E$4:E$5000, A833,Gifts!B$4:B$5000) > 0, SUMIF(Gifts!E$4:E$5000, A833,Gifts!B$4:B$5000), \"\")","v":""}]
[null,{"$f":"IF(SUMIF(Gifts!E$4:E$5000, A834,Gifts!B$4:B$5000) > 0, SUMIF(Gifts!E$4:E$5000, A834,Gifts!B$4:B$5000), \"\")","v":""}]
[null,{"$f":"IF(SUMIF(Gifts!E$4:E$5000, A835,Gifts!B$4:B$5000) > 0, SUMIF(Gifts!E$4:E$5000, A835,Gifts!B$4:B$5000), \"\")","v":""}]
[null,{"$f":"IF(SUMIF(Gifts!E$4:E$5000, A836,Gifts!B$4:B$5000) > 0, SUMIF(Gifts!E$4:E$5000, A836,Gifts!B$4:B$5000), \"\")","v":""}]
[null,{"$f":"IF(SUMIF(Gifts!E$4:E$5000, A837,Gifts!B$4:B$5000) > 0, SUMIF(Gifts!E$4:E$5000, A837,Gifts!B$4:B$5000), \"\")","v":""}]
[null,{"$f":"IF(SUMIF(Gifts!E$4:E$5000, A838,Gifts!B$4:B$5000) > 0, SUMIF(Gifts!E$4:E$5000, A838,Gifts!B$4:B$5000), \"\")","v":""}]
[null,{"$f":"IF(SUMIF(Gifts!E$4:E$5000, A839,Gifts!B$4:B$5000) > 0, SUMIF(Gifts!E$4:E$5000, A839,Gifts!B$4:B$5000), \"\")","v":""}]
[null,{"$f":"IF(SUMIF(Gifts!E$4:E$5000, A840,Gifts!B$4:B$5000) > 0, SUMIF(Gifts!E$4:E$5000, A840,Gifts!B$4:B$5000), \"\")","v":""}]
[null,{"$f":"IF(SUMIF(Gifts!E$4:E$5000, A841,Gifts!B$4:B$5000) > 0, SUMIF(Gifts!E$4:E$5000, A841,Gifts!B$4:B$5000), \"\")","v":""}]
[null,{"$f":"IF(SUMIF(Gifts!E$4:E$5000, A842,Gifts!B$4:B$5000) > 0, SUMIF(Gifts!E$4:E$5000, A842,Gifts!B$4:B$5000), \"\")","v":""}]
[null,{"$f":"IF(SUMIF(Gifts!E$4:E$5000, A843,Gifts!B$4:B$5000) > 0, SUMIF(Gifts!E$4:E$5000, A843,Gifts!B$4:B$5000), \"\")","v":""}]
[null,{"$f":"IF(SUMIF(Gifts!E$4:E$5000, A844,Gifts!B$4:B$5000) > 0, SUMIF(Gifts!E$4:E$5000, A844,Gifts!B$4:B$5000), \"\")","v":""}]
[null,{"$f":"IF(SUMIF(Gifts!E$4:E$5000, A845,Gifts!B$4:B$5000) > 0, SUMIF(Gifts!E$4:E$5000, A845,Gifts!B$4:B$5000), \"\")","v":""}]
[null,{"$f":"IF(SUMIF(Gifts!E$4:E$5000, A846,Gifts!B$4:B$5000) > 0, SUMIF(Gifts!E$4:E$5000, A846,Gifts!B$4:B$5000), \"\")","v":""}]
[null,{"$f":"IF(SUMIF(Gifts!E$4:E$5000, A847,Gifts!B$4:B$5000) > 0, SUMIF(Gifts!E$4:E$5000, A847,Gifts!B$4:B$5000), \"\")","v":""}]
[null,{"$f":"IF(SUMIF(Gifts!E$4:E$5000, A848,Gifts!B$4:B$5000) > 0, SUMIF(Gifts!E$4:E$5000, A848,Gifts!B$4:B$5000), \"\")","v":""}]
[null,{"$f":"IF(SUMIF(Gifts!E$4:E$5000, A849,Gifts!B$4:B$5000) > 0, SUMIF(Gifts!E$4:E$5000, A849,Gifts!B$4:B$5000), \"\")","v":""}]
[null,{"$f":"IF(SUMIF(Gifts!E$4:E$5000, A850,Gifts!B$4:B$5000) > 0, SUMIF(Gifts!E$4:E$5000, A850,Gifts!B$4:B$5000), \"\")","v":""}]
[null,{"$f":"IF(SUMIF(Gifts!E$4:E$5000, A851,Gifts!B$4:B$5000) > 0, SUMIF(Gifts!E$4:E$5000, A851,Gifts!B$4:B$5000), \"\")","v":""}]
[null,{"$f":"IF(SUMIF(Gifts!E$4:E$5000, A852,Gifts!B$4:B$5000) > 0, SUMIF(Gifts!E$4:E$5000, A852,Gifts!B$4:B$5000), \"\")","v":""}]
[null,{"$f":"IF(SUMIF(Gifts!E$4:E$5000, A853,Gifts!B$4:B$5000) > 0, SUMIF(Gifts!E$4:E$5000, A853,Gifts!B$4:B$5000), \"\")","v":""}]
[null,{"$f":"IF(SUMIF(Gifts!E$4:E$5000, A854,Gifts!B$4:B$5000) > 0, SUMIF(Gifts!E$4:E$5000, A854,Gifts!B$4:B$5000), \"\")","v":""}]
[null,{"$f":"IF(SUMIF(Gifts!E$4:E$5000, A855,Gifts!B$4:B$5000) > 0, SUMIF(Gifts!E$4:E$5000, A855,Gifts!B$4:B$5000), \"\")","v":""}]
[null,{"$f":"IF(SUMIF(Gifts!E$4:E$5000, A856,Gifts!B$4:B$5000) > 0, SUMIF(Gifts!E$4:E$5000, A856,Gifts!B$4:B$5000), \"\")","v":""}]
[null,{"$f":"IF(SUMIF(Gifts!E$4:E$5000, A857,Gifts!B$4:B$5000) > 0, SUMIF(Gifts!E$4:E$5000, A857,Gifts!B$4:B$5000), \"\")","v":""}]
[null,{"$f":"IF(SUMIF(Gifts!E$4:E$5000, A858,Gifts!B$4:B$5000) > 0, SUMIF(Gifts!E$4:E$5000, A858,Gifts!B$4:B$5000), \"\")","v":""}]
[null,{"$f":"IF(SUMIF(Gifts!E$4:E$5000, A859,Gifts!B$4:B$5000) > 0, SUMIF(Gifts!E$4:E$5000, A859,Gifts!B$4:B$5000), \"\")","v":""}]
[null,{"$f":"IF(SUMIF(Gifts!E$4:E$5000, A860,Gifts!B$4:B$5000) > 0, SUMIF(Gifts!E$4:E$5000, A860,Gifts!B$4:B$5000), \"\")","v":""}]
[null,{"$f":"IF(SUMIF(Gifts!E$4:E$5000, A861,Gifts!B$4:B$5000) > 0, SUMIF(Gifts!E$4:E$5000, A861,Gifts!B$4:B$5000), \"\")","v":""}]
[null,{"$f":"IF(SUMIF(Gifts!E$4:E$5000, A862,Gifts!B$4:B$5000) > 0, SUMIF(Gifts!E$4:E$5000, A862,Gifts!B$4:B$5000), \"\")","v":""}]
[null,{"$f":"IF(SUMIF(Gifts!E$4:E$5000, A863,Gifts!B$4:B$5000) > 0, SUMIF(Gifts!E$4:E$5000, A863,Gifts!B$4:B$5000), \"\")","v":""}]
[null,{"$f":"IF(SUMIF(Gifts!E$4:E$5000, A864,Gifts!B$4:B$5000) > 0, SUMIF(Gifts!E$4:E$5000, A864,Gifts!B$4:B$5000), \"\")","v":""}]
[null,{"$f":"IF(SUMIF(Gifts!E$4:E$5000, A865,Gifts!B$4:B$5000) > 0, SUMIF(Gifts!E$4:E$5000, A865,Gifts!B$4:B$5000), \"\")","v":""}]
[null,{"$f":"IF(SUMIF(Gifts!E$4:E$5000, A866,Gifts!B$4:B$5000) > 0, SUMIF(Gifts!E$4:E$5000, A866,Gifts!B$4:B$5000), \"\")","v":""}]
[null,{"$f":"IF(SUMIF(Gifts!E$4:E$5000, A867,Gifts!B$4:B$5000) > 0, SUMIF(Gifts!E$4:E$5000, A867,Gifts!B$4:B$5000), \"\")","v":""}]
[null,{"$f":"IF(SUMIF(Gifts!E$4:E$5000, A868,Gifts!B$4:B$5000) > 0, SUMIF(Gifts!E$4:E$5000, A868,Gifts!B$4:B$5000), \"\")","v":""}]
[null,{"$f":"IF(SUMIF(Gifts!E$4:E$5000, A869,Gifts!B$4:B$5000) > 0, SUMIF(Gifts!E$4:E$5000, A869,Gifts!B$4:B$5000), \"\")","v":""}]
[null,{"$f":"IF(SUMIF(Gifts!E$4:E$5000, A870,Gifts!B$4:B$5000) > 0, SUMIF(Gifts!E$4:E$5000, A870,Gifts!B$4:B$5000), \"\")","v":""}]
[null,{"$f":"IF(SUMIF(Gifts!E$4:E$5000, A871,Gifts!B$4:B$5000) > 0, SUMIF(Gifts!E$4:E$5000, A871,Gifts!B$4:B$5000), \"\")","v":""}]
[null,{"$f":"IF(SUMIF(Gifts!E$4:E$5000, A872,Gifts!B$4:B$5000) > 0, SUMIF(Gifts!E$4:E$5000, A872,Gifts!B$4:B$5000), \"\")","v":""}]
[null,{"$f":"IF(SUMIF(Gifts!E$4:E$5000, A873,Gifts!B$4:B$5000) > 0, SUMIF(Gifts!E$4:E$5000, A873,Gifts!B$4:B$5000), \"\")","v":""}]
[null,{"$f":"IF(SUMIF(Gifts!E$4:E$5000, A874,Gifts!B$4:B$5000) > 0, SUMIF(Gifts!E$4:E$5000, A874,Gifts!B$4:B$5000), \"\")","v":""}]
[null,{"$f":"IF(SUMIF(Gifts!E$4:E$5000, A875,Gifts!B$4:B$5000) > 0, SUMIF(Gifts!E$4:E$5000, A875,Gifts!B$4:B$5000), \"\")","v":""}]
[null,{"$f":"IF(SUMIF(Gifts!E$4:E$5000, A876,Gifts!B$4:B$5000) > 0, SUMIF(Gifts!E$4:E$5000, A876,Gifts!B$4:B$5000), \"\")","v":""}]
[null,{"$f":"IF(SUMIF(Gifts!E$4:E$5000, A877,Gifts!B$4:B$5000) > 0, SUMIF(Gifts!E$4:E$5000, A877,Gifts!B$4:B$5000), \"\")","v":""}]
[null,{"$f":"IF(SUMIF(Gifts!E$4:E$5000, A878,Gifts!B$4:B$5000) > 0, SUMIF(Gifts!E$4:E$5000, A878,Gifts!B$4:B$5000), \"\")","v":""}]
[null,{"$f":"IF(SUMIF(Gifts!E$4:E$5000, A879,Gifts!B$4:B$5000) > 0, SUMIF(Gifts!E$4:E$5000, A879,Gifts!B$4:B$5000), \"\")","v":""}]
[null,{"$f":"IF(SUMIF(Gifts!E$4:E$5000, A880,Gifts!B$4:B$5000) > 0, SUMIF(Gifts!E$4:E$5000, A880,Gifts!B$4:B$5000), \"\")","v":""}]
[null,{"$f":"IF(SUMIF(Gifts!E$4:E$5000, A881,Gifts!B$4:B$5000) > 0, SUMIF(Gifts!E$4:E$5000, A881,Gifts!B$4:B$5000), \"\")","v":""}]
[null,{"$f":"IF(SUMIF(Gifts!E$4:E$5000, A882,Gifts!B$4:B$5000) > 0, SUMIF(Gifts!E$4:E$5000, A882,Gifts!B$4:B$5000), \"\")","v":""}]
[null,{"$f":"IF(SUMIF(Gifts!E$4:E$5000, A883,Gifts!B$4:B$5000) > 0, SUMIF(Gifts!E$4:E$5000, A883,Gifts!B$4:B$5000), \"\")","v":""}]
[null,{"$f":"IF(SUMIF(Gifts!E$4:E$5000, A884,Gifts!B$4:B$5000) > 0, SUMIF(Gifts!E$4:E$5000, A884,Gifts!B$4:B$5000), \"\")","v":""}]
[null,{"$f":"IF(SUMIF(Gifts!E$4:E$5000, A885,Gifts!B$4:B$5000) > 0, SUMIF(Gifts!E$4:E$5000, A885,Gifts!B$4:B$5000), \"\")","v":""}]
[null,{"$f":"IF(SUMIF(Gifts!E$4:E$5000, A886,Gifts!B$4:B$5000) > 0, SUMIF(Gifts!E$4:E$5000, A886,Gifts!B$4:B$5000), \"\")","v":""}]
[null,{"$f":"IF(SUMIF(Gifts!E$4:E$5000, A887,Gifts!B$4:B$5000) > 0, SUMIF(Gifts!E$4:E$5000, A887,Gifts!B$4:B$5000), \"\")","v":""}]
[null,{"$f":"IF(SUMIF(Gifts!E$4:E$5000, A888,Gifts!B$4:B$5000) > 0, SUMIF(Gifts!E$4:E$5000, A888,Gifts!B$4:B$5000), \"\")","v":""}]
[null,{"$f":"IF(SUMIF(Gifts!E$4:E$5000, A889,Gifts!B$4:B$5000) > 0, SUMIF(Gifts!E$4:E$5000, A889,Gifts!B$4:B$5000), \"\")","v":""}]
[null,{"$f":"IF(SUMIF(Gifts!E$4:E$5000, A890,Gifts!B$4:B$5000) > 0, SUMIF(Gifts!E$4:E$5000, A890,Gifts!B$4:B$5000), \"\")","v":""}]
[null,{"$f":"IF(SUMIF(Gifts!E$4:E$5000, A891,Gifts!B$4:B$5000) > 0, SUMIF(Gifts!E$4:E$5000, A891,Gifts!B$4:B$5000), \"\")","v":""}]
[null,{"$f":"IF(SUMIF(Gifts!E$4:E$5000, A892,Gifts!B$4:B$5000) > 0, SUMIF(Gifts!E$4:E$5000, A892,Gifts!B$4:B$5000), \"\")","v":""}]
[null,{"$f":"IF(SUMIF(Gifts!E$4:E$5000, A893,Gifts!B$4:B$5000) > 0, SUMIF(Gifts!E$4:E$5000, A893,Gifts!B$4:B$5000), \"\")","v":""}]
[null,{"$f":"IF(SUMIF(Gifts!E$4:E$5000, A894,Gifts!B$4:B$5000) > 0, SUMIF(Gifts!E$4:E$5000, A894,Gifts!B$4:B$5000), \"\")","v":""}]
[null,{"$f":"IF(SUMIF(Gifts!E$4:E$5000, A895,Gifts!B$4:B$5000) > 0, SUMIF(Gifts!E$4:E$5000, A895,Gifts!B$4:B$5000), \"\")","v":""}]
[null,{"$f":"IF(SUMIF(Gifts!E$4:E$5000, A896,Gifts!B$4:B$5000) > 0, SUMIF(Gifts!E$4:E$5000, A896,Gifts!B$4:B$5000), \"\")","v":""}]
[null,{"$f":"IF(SUMIF(Gifts!E$4:E$5000, A897,Gifts!B$4:B$5000) > 0, SUMIF(Gifts!E$4:E$5000, A897,Gifts!B$4:B$5000), \"\")","v":""}]
[null,{"$f":"IF(SUMIF(Gifts!E$4:E$5000, A898,Gifts!B$4:B$5000) > 0, SUMIF(Gifts!E$4:E$5000, A898,Gifts!B$4:B$5000), \"\")","v":""}]
[null,{"$f":"IF(SUMIF(Gifts!E$4:E$5000, A899,Gifts!B$4:B$5000) > 0, SUMIF(Gifts!E$4:E$5000, A899,Gifts!B$4:B$5000), \"\")","v":""}]
[null,{"$f":"IF(SUMIF(Gifts!E$4:E$5000, A900,Gifts!B$4:B$5000) > 0, SUMIF(Gifts!E$4:E$5000, A900,Gifts!B$4:B$5000), \"\")","v":""}]
[null,{"$f":"IF(SUMIF(Gifts!E$4:E$5000, A901,Gifts!B$4:B$5000) > 0, SUMIF(Gifts!E$4:E$5000, A901,Gifts!B$4:B$5000), \"\")","v":""}]
[null,{"$f":"IF(SUMIF(Gifts!E$4:E$5000, A902,Gifts!B$4:B$5000) > 0, SUMIF(Gifts!E$4:E$5000, A902,Gifts!B$4:B$5000), \"\")","v":""}]
[null,{"$f":"IF(SUMIF(Gifts!E$4:E$5000, A903,Gifts!B$4:B$5000) > 0, SUMIF(Gifts!E$4:E$5000, A903,Gifts!B$4:B$5000), \"\")","v":""}]
[null,{"$f":"IF(SUMIF(Gifts!E$4:E$5000, A904,Gifts!B$4:B$5000) > 0, SUMIF(Gifts!E$4:E$5000, A904,Gifts!B$4:B$5000), \"\")","v":""}]
[null,{"$f":"IF(SUMIF(Gifts!E$4:E$5000, A905,Gifts!B$4:B$5000) > 0, SUMIF(Gifts!E$4:E$5000, A905,Gifts!B$4:B$5000), \"\")","v":""}]
[null,{"$f":"IF(SUMIF(Gifts!E$4:E$5000, A906,Gifts!B$4:B$5000) > 0, SUMIF(Gifts!E$4:E$5000, A906,Gifts!B$4:B$5000), \"\")","v":""}]
[null,{"$f":"IF(SUMIF(Gifts!E$4:E$5000, A907,Gifts!B$4:B$5000) > 0, SUMIF(Gifts!E$4:E$5000, A907,Gifts!B$4:B$5000), \"\")","v":""}]
[null,{"$f":"IF(SUMIF(Gifts!E$4:E$5000, A908,Gifts!B$4:B$5000) > 0, SUMIF(Gifts!E$4:E$5000, A908,Gifts!B$4:B$5000), \"\")","v":""}]
[null,{"$f":"IF(SUMIF(Gifts!E$4:E$5000, A909,Gifts!B$4:B$5000) > 0, SUMIF(Gifts!E$4:E$5000, A909,Gifts!B$4:B$5000), \"\")","v":""}]
[null,{"$f":"IF(SUMIF(Gifts!E$4:E$5000, A910,Gifts!B$4:B$5000) > 0, SUMIF(Gifts!E$4:E$5000, A910,Gifts!B$4:B$5000), \"\")","v":""}]
[null,{"$f":"IF(SUMIF(Gifts!E$4:E$5000, A911,Gifts!B$4:B$5000) > 0, SUMIF(Gifts!E$4:E$5000, A911,Gifts!B$4:B$5000), \"\")","v":""}]
[null,{"$f":"IF(SUMIF(Gifts!E$4:E$5000, A912,Gifts!B$4:B$5000) > 0, SUMIF(Gifts!E$4:E$5000, A912,Gifts!B$4:B$5000), \"\")","v":""}]
[null,{"$f":"IF(SUMIF(Gifts!E$4:E$5000, A913,Gifts!B$4:B$5000) > 0, SUMIF(Gifts!E$4:E$5000, A913,Gifts!B$4:B$5000), \"\")","v":""}]
[null,{"$f":"IF(SUMIF(Gifts!E$4:E$5000, A914,Gifts!B$4:B$5000) > 0, SUMIF(Gifts!E$4:E$5000, A914,Gifts!B$4:B$5000), \"\")","v":""}]
[null,{"$f":"IF(SUMIF(Gifts!E$4:E$5000, A915,Gifts!B$4:B$5000) > 0, SUMIF(Gifts!E$4:E$5000, A915,Gifts!B$4:B$5000), \"\")","v":""}]
[null,{"$f":"IF(SUMIF(Gifts!E$4:E$5000, A916,Gifts!B$4:B$5000) > 0, SUMIF(Gifts!E$4:E$5000, A916,Gifts!B$4:B$5000), \"\")","v":""}]
[null,{"$f":"IF(SUMIF(Gifts!E$4:E$5000, A917,Gifts!B$4:B$5000) > 0, SUMIF(Gifts!E$4:E$5000, A917,Gifts!B$4:B$5000), \"\")","v":""}]
[null,{"$f":"IF(SUMIF(Gifts!E$4:E$5000, A918,Gifts!B$4:B$5000) > 0, SUMIF(Gifts!E$4:E$5000, A918,Gifts!B$4:B$5000), \"\")","v":""}]
[null,{"$f":"IF(SUMIF(Gifts!E$4:E$5000, A919,Gifts!B$4:B$5000) > 0, SUMIF(Gifts!E$4:E$5000, A919,Gifts!B$4:B$5000), \"\")","v":""}]
[null,{"$f":"IF(SUMIF(Gifts!E$4:E$5000, A920,Gifts!B$4:B$5000) > 0, SUMIF(Gifts!E$4:E$5000, A920,Gifts!B$4:B$5000), \"\")","v":""}]
[null,{"$f":"IF(SUMIF(Gifts!E$4:E$5000, A921,Gifts!B$4:B$5000) > 0, SUMIF(Gifts!E$4:E$5000, A921,Gifts!B$4:B$5000), \"\")","v":""}]
[null,{"$f":"IF(SUMIF(Gifts!E$4:E$5000, A922,Gifts!B$4:B$5000) > 0, SUMIF(Gifts!E$4:E$5000, A922,Gifts!B$4:B$5000), \"\")","v":""}]
[null,{"$f":"IF(SUMIF(Gifts!E$4:E$5000, A923,Gifts!B$4:B$5000) > 0, SUMIF(Gifts!E$4:E$5000, A923,Gifts!B$4:B$5000), \"\")","v":""}]
[null,{"$f":"IF(SUMIF(Gifts!E$4:E$5000, A924,Gifts!B$4:B$5000) > 0, SUMIF(Gifts!E$4:E$5000, A924,Gifts!B$4:B$5000), \"\")","v":""}]
[null,{"$f":"IF(SUMIF(Gifts!E$4:E$5000, A925,Gifts!B$4:B$5000) > 0, SUMIF(Gifts!E$4:E$5000, A925,Gifts!B$4:B$5000), \"\")","v":""}]
[null,{"$f":"IF(SUMIF(Gifts!E$4:E$5000, A926,Gifts!B$4:B$5000) > 0, SUMIF(Gifts!E$4:E$5000, A926,Gifts!B$4:B$5000), \"\")","v":""}]
[null,{"$f":"IF(SUMIF(Gifts!E$4:E$5000, A927,Gifts!B$4:B$5000) > 0, SUMIF(Gifts!E$4:E$5000, A927,Gifts!B$4:B$5000), \"\")","v":""}]
[null,{"$f":"IF(SUMIF(Gifts!E$4:E$5000, A928,Gifts!B$4:B$5000) > 0, SUMIF(Gifts!E$4:E$5000, A928,Gifts!B$4:B$5000), \"\")","v":""}]
[null,{"$f":"IF(SUMIF(Gifts!E$4:E$5000, A929,Gifts!B$4:B$5000) > 0, SUMIF(Gifts!E$4:E$5000, A929,Gifts!B$4:B$5000), \"\")","v":""}]
[null,{"$f":"IF(SUMIF(Gifts!E$4:E$5000, A930,Gifts!B$4:B$5000) > 0, SUMIF(Gifts!E$4:E$5000, A930,Gifts!B$4:B$5000), \"\")","v":""}]
[null,{"$f":"IF(SUMIF(Gifts!E$4:E$5000, A931,Gifts!B$4:B$5000) > 0, SUMIF(Gifts!E$4:E$5000, A931,Gifts!B$4:B$5000), \"\")","v":""}]
[null,{"$f":"IF(SUMIF(Gifts!E$4:E$5000, A932,Gifts!B$4:B$5000) > 0, SUMIF(Gifts!E$4:E$5000, A932,Gifts!B$4:B$5000), \"\")","v":""}]
[null,{"$f":"IF(SUMIF(Gifts!E$4:E$5000, A933,Gifts!B$4:B$5000) > 0, SUMIF(Gifts!E$4:E$5000, A933,Gifts!B$4:B$5000), \"\")","v":""}]
[null,{"$f":"IF(SUMIF(Gifts!E$4:E$5000, A934,Gifts!B$4:B$5000) > 0, SUMIF(Gifts!E$4:E$5000, A934,Gifts!B$4:B$5000), \"\")","v":""}]
[null,{"$f":"IF(SUMIF(Gifts!E$4:E$5000, A935,Gifts!B$4:B$5000) > 0, SUMIF(Gifts!E$4:E$5000, A935,Gifts!B$4:B$5000), \"\")","v":""}]
[null,{"$f":"IF(SUMIF(Gifts!E$4:E$5000, A936,Gifts!B$4:B$5000) > 0, SUMIF(Gifts!E$4:E$5000, A936,Gifts!B$4:B$5000), \"\")","v":""}]
[null,{"$f":"IF(SUMIF(Gifts!E$4:E$5000, A937,Gifts!B$4:B$5000) > 0, SUMIF(Gifts!E$4:E$5000, A937,Gifts!B$4:B$5000), \"\")","v":""}]
[null,{"$f":"IF(SUMIF(Gifts!E$4:E$5000, A938,Gifts!B$4:B$5000) > 0, SUMIF(Gifts!E$4:E$5000, A938,Gifts!B$4:B$5000), \"\")","v":""}]
[null,{"$f":"IF(SUMIF(Gifts!E$4:E$5000, A939,Gifts!B$4:B$5000) > 0, SUMIF(Gifts!E$4:E$5000, A939,Gifts!B$4:B$5000), \"\")","v":""}]
[null,{"$f":"IF(SUMIF(Gifts!E$4:E$5000, A940,Gifts!B$4:B$5000) > 0, SUMIF(Gifts!E$4:E$5000, A940,Gifts!B$4:B$5000), \"\")","v":""}]
[null,{"$f":"IF(SUMIF(Gifts!E$4:E$5000, A941,Gifts!B$4:B$5000) > 0, SUMIF(Gifts!E$4:E$5000, A941,Gifts!B$4:B$5000), \"\")","v":""}]
[null,{"$f":"IF(SUMIF(Gifts!E$4:E$5000, A942,Gifts!B$4:B$5000) > 0, SUMIF(Gifts!E$4:E$5000, A942,Gifts!B$4:B$5000), \"\")","v":""}]
[null,{"$f":"IF(SUMIF(Gifts!E$4:E$5000, A943,Gifts!B$4:B$5000) > 0, SUMIF(Gifts!E$4:E$5000, A943,Gifts!B$4:B$5000), \"\")","v":""}]
[null,{"$f":"IF(SUMIF(Gifts!E$4:E$5000, A944,Gifts!B$4:B$5000) > 0, SUMIF(Gifts!E$4:E$5000, A944,Gifts!B$4:B$5000), \"\")","v":""}]
[null,{"$f":"IF(SUMIF(Gifts!E$4:E$5000, A945,Gifts!B$4:B$5000) > 0, SUMIF(Gifts!E$4:E$5000, A945,Gifts!B$4:B$5000), \"\")","v":""}]
[null,{"$f":"IF(SUMIF(Gifts!E$4:E$5000, A946,Gifts!B$4:B$5000) > 0, SUMIF(Gifts!E$4:E$5000, A946,Gifts!B$4:B$5000), \"\")","v":""}]
[null,{"$f":"IF(SUMIF(Gifts!E$4:E$5000, A947,Gifts!B$4:B$5000) > 0, SUMIF(Gifts!E$4:E$5000, A947,Gifts!B$4:B$5000), \"\")","v":""}]
[null,{"$f":"IF(SUMIF(Gifts!E$4:E$5000, A948,Gifts!B$4:B$5000) > 0, SUMIF(Gifts!E$4:E$5000, A948,Gifts!B$4:B$5000), \"\")","v":""}]
[null,{"$f":"IF(SUMIF(Gifts!E$4:E$5000, A949,Gifts!B$4:B$5000) > 0, SUMIF(Gifts!E$4:E$5000, A949,Gifts!B$4:B$5000), \"\")","v":""}]
[null,{"$f":"IF(SUMIF(Gifts!E$4:E$5000, A950,Gifts!B$4:B$5000) > 0, SUMIF(Gifts!E$4:E$5000, A950,Gifts!B$4:B$5000), \"\")","v":""}]
[null,{"$f":"IF(SUMIF(Gifts!E$4:E$5000, A951,Gifts!B$4:B$5000) > 0, SUMIF(Gifts!E$4:E$5000, A951,Gifts!B$4:B$5000), \"\")","v":""}]
[null,{"$f":"IF(SUMIF(Gifts!E$4:E$5000, A952,Gifts!B$4:B$5000) > 0, SUMIF(Gifts!E$4:E$5000, A952,Gifts!B$4:B$5000), \"\")","v":""}]
[null,{"$f":"IF(SUMIF(Gifts!E$4:E$5000, A953,Gifts!B$4:B$5000) > 0, SUMIF(Gifts!E$4:E$5000, A953,Gifts!B$4:B$5000), \"\")","v":""}]
[null,{"$f":"IF(SUMIF(Gifts!E$4:E$5000, A954,Gifts!B$4:B$5000) > 0, SUMIF(Gifts!E$4:E$5000, A954,Gifts!B$4:B$5000), \"\")","v":""}]
[null,{"$f":"IF(SUMIF(Gifts!E$4:E$5000, A955,Gifts!B$4:B$5000) > 0, SUMIF(Gifts!E$4:E$5000, A955,Gifts!B$4:B$5000), \"\")","v":""}]
[null,{"$f":"IF(SUMIF(Gifts!E$4:E$5000, A956,Gifts!B$4:B$5000) > 0, SUMIF(Gifts!E$4:E$5000, A956,Gifts!B$4:B$5000), \"\")","v":""}]
[null,{"$f":"IF(SUMIF(Gifts!E$4:E$5000, A957,Gifts!B$4:B$5000) > 0, SUMIF(Gifts!E$4:E$5000, A957,Gifts!B$4:B$5000), \"\")","v":""}]
[null,{"$f":"IF(SUMIF(Gifts!E$4:E$5000, A958,Gifts!B$4:B$5000) > 0, SUMIF(Gifts!E$4:E$5000, A958,Gifts!B$4:B$5000), \"\")","v":""}]
[null,{"$f":"IF(SUMIF(Gifts!E$4:E$5000, A959,Gifts!B$4:B$5000) > 0, SUMIF(Gifts!E$4:E$5000, A959,Gifts!B$4:B$5000), \"\")","v":""}]
[null,{"$f":"IF(SUMIF(Gifts!E$4:E$5000, A960,Gifts!B$4:B$5000) > 0, SUMIF(Gifts!E$4:E$5000, A960,Gifts!B$4:B$5000), \"\")","v":""}]
[null,{"$f":"IF(SUMIF(Gifts!E$4:E$5000, A961,Gifts!B$4:B$5000) > 0, SUMIF(Gifts!E$4:E$5000, A961,Gifts!B$4:B$5000), \"\")","v":""}]
[null,{"$f":"IF(SUMIF(Gifts!E$4:E$5000, A962,Gifts!B$4:B$5000) > 0, SUMIF(Gifts!E$4:E$5000, A962,Gifts!B$4:B$5000), \"\")","v":""}]
[null,{"$f":"IF(SUMIF(Gifts!E$4:E$5000, A963,Gifts!B$4:B$5000) > 0, SUMIF(Gifts!E$4:E$5000, A963,Gifts!B$4:B$5000), \"\")","v":""}]
[null,{"$f":"IF(SUMIF(Gifts!E$4:E$5000, A964,Gifts!B$4:B$5000) > 0, SUMIF(Gifts!E$4:E$5000, A964,Gifts!B$4:B$5000), \"\")","v":""}]
[null,{"$f":"IF(SUMIF(Gifts!E$4:E$5000, A965,Gifts!B$4:B$5000) > 0, SUMIF(Gifts!E$4:E$5000, A965,Gifts!B$4:B$5000), \"\")","v":""}]
[null,{"$f":"IF(SUMIF(Gifts!E$4:E$5000, A966,Gifts!B$4:B$5000) > 0, SUMIF(Gifts!E$4:E$5000, A966,Gifts!B$4:B$5000), \"\")","v":""}]
[null,{"$f":"IF(SUMIF(Gifts!E$4:E$5000, A967,Gifts!B$4:B$5000) > 0, SUMIF(Gifts!E$4:E$5000, A967,Gifts!B$4:B$5000), \"\")","v":""}]
[null,{"$f":"IF(SUMIF(Gifts!E$4:E$5000, A968,Gifts!B$4:B$5000) > 0, SUMIF(Gifts!E$4:E$5000, A968,Gifts!B$4:B$5000), \"\")","v":""}]
[null,{"$f":"IF(SUMIF(Gifts!E$4:E$5000, A969,Gifts!B$4:B$5000) > 0, SUMIF(Gifts!E$4:E$5000, A969,Gifts!B$4:B$5000), \"\")","v":""}]
[null,{"$f":"IF(SUMIF(Gifts!E$4:E$5000, A970,Gifts!B$4:B$5000) > 0, SUMIF(Gifts!E$4:E$5000, A970,Gifts!B$4:B$5000), \"\")","v":""}]
[null,{"$f":"IF(SUMIF(Gifts!E$4:E$5000, A971,Gifts!B$4:B$5000) > 0, SUMIF(Gifts!E$4:E$5000, A971,Gifts!B$4:B$5000), \"\")","v":""}]
[null,{"$f":"IF(SUMIF(Gifts!E$4:E$5000, A972,Gifts!B$4:B$5000) > 0, SUMIF(Gifts!E$4:E$5000, A972,Gifts!B$4:B$5000), \"\")","v":""}]
[null,{"$f":"IF(SUMIF(Gifts!E$4:E$5000, A973,Gifts!B$4:B$5000) > 0, SUMIF(Gifts!E$4:E$5000, A973,Gifts!B$4:B$5000), \"\")","v":""}]
[null,{"$f":"IF(SUMIF(Gifts!E$4:E$5000, A974,Gifts!B$4:B$5000) > 0, SUMIF(Gifts!E$4:E$5000, A974,Gifts!B$4:B$5000), \"\")","v":""}]
[null,{"$f":"IF(SUMIF(Gifts!E$4:E$5000, A975,Gifts!B$4:B$5000) > 0, SUMIF(Gifts!E$4:E$5000, A975,Gifts!B$4:B$5000), \"\")","v":""}]
[null,{"$f":"IF(SUMIF(Gifts!E$4:E$5000, A976,Gifts!B$4:B$5000) > 0, SUMIF(Gifts!E$4:E$5000, A976,Gifts!B$4:B$5000), \"\")","v":""}]
[null,{"$f":"IF(SUMIF(Gifts!E$4:E$5000, A977,Gifts!B$4:B$5000) > 0, SUMIF(Gifts!E$4:E$5000, A977,Gifts!B$4:B$5000), \"\")","v":""}]
[null,{"$f":"IF(SUMIF(Gifts!E$4:E$5000, A978,Gifts!B$4:B$5000) > 0, SUMIF(Gifts!E$4:E$5000, A978,Gifts!B$4:B$5000), \"\")","v":""}]
[null,{"$f":"IF(SUMIF(Gifts!E$4:E$5000, A979,Gifts!B$4:B$5000) > 0, SUMIF(Gifts!E$4:E$5000, A979,Gifts!B$4:B$5000), \"\")","v":""}]
[null,{"$f":"IF(SUMIF(Gifts!E$4:E$5000, A980,Gifts!B$4:B$5000) > 0, SUMIF(Gifts!E$4:E$5000, A980,Gifts!B$4:B$5000), \"\")","v":""}]
[null,{"$f":"IF(SUMIF(Gifts!E$4:E$5000, A981,Gifts!B$4:B$5000) > 0, SUMIF(Gifts!E$4:E$5000, A981,Gifts!B$4:B$5000), \"\")","v":""}]
[null,{"$f":"IF(SUMIF(Gifts!E$4:E$5000, A982,Gifts!B$4:B$5000) > 0, SUMIF(Gifts!E$4:E$5000, A982,Gifts!B$4:B$5000), \"\")","v":""}]
[null,{"$f":"IF(SUMIF(Gifts!E$4:E$5000, A983,Gifts!B$4:B$5000) > 0, SUMIF(Gifts!E$4:E$5000, A983,Gifts!B$4:B$5000), \"\")","v":""}]
[null,{"$f":"IF(SUMIF(Gifts!E$4:E$5000, A984,Gifts!B$4:B$5000) > 0, SUMIF(Gifts!E$4:E$5000, A984,Gifts!B$4:B$5000), \"\")","v":""}]
[null,{"$f":"IF(SUMIF(Gifts!E$4:E$5000, A985,Gifts!B$4:B$5000) > 0, SUMIF(Gifts!E$4:E$5000, A985,Gifts!B$4:B$5000), \"\")","v":""}]
[null,{"$f":"IF(SUMIF(Gifts!E$4:E$5000, A986,Gifts!B$4:B$5000) > 0, SUMIF(Gifts!E$4:E$5000, A986,Gifts!B$4:B$5000), \"\")","v":""}]
[null,{"$f":"IF(SUMIF(Gifts!E$4:E$5000, A987,Gifts!B$4:B$5000) > 0, SUMIF(Gifts!E$4:E$5000, A987,Gifts!B$4:B$5000), \"\")","v":""}]
[null,{"$f":"IF(SUMIF(Gifts!E$4:E$5000, A988,Gifts!B$4:B$5000) > 0, SUMIF(Gifts!E$4:E$5000, A988,Gifts!B$4:B$5000), \"\")","v":""}]
[null,{"$f":"IF(SUMIF(Gifts!E$4:E$5000, A989,Gifts!B$4:B$5000) > 0, SUMIF(Gifts!E$4:E$5000, A989,Gifts!B$4:B$5000), \"\")","v":""}]
[null,{"$f":"IF(SUMIF(Gifts!E$4:E$5000, A990,Gifts!B$4:B$5000) > 0, SUMIF(Gifts!E$4:E$5000, A990,Gifts!B$4:B$5000), \"\")","v":""}]
[null,{"$f":"IF(SUMIF(Gifts!E$4:E$5000, A991,Gifts!B$4:B$5000) > 0, SUMIF(Gifts!E$4:E$5000, A991,Gifts!B$4:B$5000), \"\")","v":""}]
[null,{"$f":"IF(SUMIF(Gifts!E$4:E$5000, A992,Gifts!B$4:B$5000) > 0, SUMIF(Gifts!E$4:E$5000, A992,Gifts!B$4:B$5000), \"\")","v":""}]
[null,{"$f":"IF(SUMIF(Gifts!E$4:E$5000, A993,Gifts!B$4:B$5000) > 0, SUMIF(Gifts!E$4:E$5000, A993,Gifts!B$4:B$5000), \"\")","v":""}]
[null,{"$f":"IF(SUMIF(Gifts!E$4:E$5000, A994,Gifts!B$4:B$5000) > 0, SUMIF(Gifts!E$4:E$5000, A994,Gifts!B$4:B$5000), \"\")","v":""}]
[null,{"$f":"IF(SUMIF(Gifts!E$4:E$5000, A995,Gifts!B$4:B$5000) > 0, SUMIF(Gifts!E$4:E$5000, A995,Gifts!B$4:B$5000), \"\")","v":""}]
[null,{"$f":"IF(SUMIF(Gifts!E$4:E$5000, A996,Gifts!B$4:B$5000) > 0, SUMIF(Gifts!E$4:E$5000, A996,Gifts!B$4:B$5000), \"\")","v":""}]
[null,{"$f":"IF(SUMIF(Gifts!E$4:E$5000, A997,Gifts!B$4:B$5000) > 0, SUMIF(Gifts!E$4:E$5000, A997,Gifts!B$4:B$5000), \"\")","v":""}]
[null,{"$f":"IF(SUMIF(Gifts!E$4:E$5000, A998,Gifts!B$4:B$5000) > 0, SUMIF(Gifts!E$4:E$5000, A998,Gifts!B$4:B$5000), \"\")","v":""}]
[null,{"$f":"IF(SUMIF(Gifts!E$4:E$5000, A999,Gifts!B$4:B$5000) > 0, SUMIF(Gifts!E$4:E$5000, A999,Gifts!B$4:B$5000), \"\")","v":""}]
[null,{"$f":"IF(SUMIF(Gifts!E$4:E$5000, A1000,Gifts!B$4:B$5000) > 0, SUMIF(Gifts!E$4:E$5000, A1000,Gifts!B$4:B$5000), \"\")","v":""}]

{"sheet":"Funds","index":5,"n_rows":1000,"n_cols":3,"rows_kept":1000,"cut":false,"hidden":false,"merged":[]}
["Fund Data"]
["Name","Account Number","Total"]
["Sample Fund",null,{"$f":"IF(SUMIF(Gifts!F$4:F$5000, A3,Gifts!B$4:B$5000) > 0, SUMIF(Gifts!F$4:F$5000, A3,Gifts!B$4:B$5000), \"\")","v":100}]
[null,null,{"$f":"IF(SUMIF(Gifts!F$4:F$5000, A4,Gifts!B$4:B$5000) > 0, SUMIF(Gifts!F$4:F$5000, A4,Gifts!B$4:B$5000), \"\")","v":""}]
[null,null,{"$f":"IF(SUMIF(Gifts!F$4:F$5000, A5,Gifts!B$4:B$5000) > 0, SUMIF(Gifts!F$4:F$5000, A5,Gifts!B$4:B$5000), \"\")","v":""}]
[null,null,{"$f":"IF(SUMIF(Gifts!F$4:F$5000, A6,Gifts!B$4:B$5000) > 0, SUMIF(Gifts!F$4:F$5000, A6,Gifts!B$4:B$5000), \"\")","v":""}]
[null,null,{"$f":"IF(SUMIF(Gifts!F$4:F$5000, A7,Gifts!B$4:B$5000) > 0, SUMIF(Gifts!F$4:F$5000, A7,Gifts!B$4:B$5000), \"\")","v":""}]
[null,null,{"$f":"IF(SUMIF(Gifts!F$4:F$5000, A8,Gifts!B$4:B$5000) > 0, SUMIF(Gifts!F$4:F$5000, A8,Gifts!B$4:B$5000), \"\")","v":""}]
[null,null,{"$f":"IF(SUMIF(Gifts!F$4:F$5000, A9,Gifts!B$4:B$5000) > 0, SUMIF(Gifts!F$4:F$5000, A9,Gifts!B$4:B$5000), \"\")","v":""}]
[null,null,{"$f":"IF(SUMIF(Gifts!F$4:F$5000, A10,Gifts!B$4:B$5000) > 0, SUMIF(Gifts!F$4:F$5000, A10,Gifts!B$4:B$5000), \"\")","v":""}]
[null,null,{"$f":"IF(SUMIF(Gifts!F$4:F$5000, A11,Gifts!B$4:B$5000) > 0, SUMIF(Gifts!F$4:F$5000, A11,Gifts!B$4:B$5000), \"\")","v":""}]
[null,null,{"$f":"IF(SUMIF(Gifts!F$4:F$5000, A12,Gifts!B$4:B$5000) > 0, SUMIF(Gifts!F$4:F$5000, A12,Gifts!B$4:B$5000), \"\")","v":""}]
[null,null,{"$f":"IF(SUMIF(Gifts!F$4:F$5000, A13,Gifts!B$4:B$5000) > 0, SUMIF(Gifts!F$4:F$5000, A13,Gifts!B$4:B$5000), \"\")","v":""}]
[null,null,{"$f":"IF(SUMIF(Gifts!F$4:F$5000, A14,Gifts!B$4:B$5000) > 0, SUMIF(Gifts!F$4:F$5000, A14,Gifts!B$4:B$5000), \"\")","v":""}]
[null,null,{"$f":"IF(SUMIF(Gifts!F$4:F$5000, A15,Gifts!B$4:B$5000) > 0, SUMIF(Gifts!F$4:F$5000, A15,Gifts!B$4:B$5000), \"\")","v":""}]
[null,null,{"$f":"IF(SUMIF(Gifts!F$4:F$5000, A16,Gifts!B$4:B$5000) > 0, SUMIF(Gifts!F$4:F$5000, A16,Gifts!B$4:B$5000), \"\")","v":""}]
[null,null,{"$f":"IF(SUMIF(Gifts!F$4:F$5000, A17,Gifts!B$4:B$5000) > 0, SUMIF(Gifts!F$4:F$5000, A17,Gifts!B$4:B$5000), \"\")","v":""}]
[null,null,{"$f":"IF(SUMIF(Gifts!F$4:F$5000, A18,Gifts!B$4:B$5000) > 0, SUMIF(Gifts!F$4:F$5000, A18,Gifts!B$4:B$5000), \"\")","v":""}]
[null,null,{"$f":"IF(SUMIF(Gifts!F$4:F$5000, A19,Gifts!B$4:B$5000) > 0, SUMIF(Gifts!F$4:F$5000, A19,Gifts!B$4:B$5000), \"\")","v":""}]
[null,null,{"$f":"IF(SUMIF(Gifts!F$4:F$5000, A20,Gifts!B$4:B$5000) > 0, SUMIF(Gifts!F$4:F$5000, A20,Gifts!B$4:B$5000), \"\")","v":""}]
[null,null,{"$f":"IF(SUMIF(Gifts!F$4:F$5000, A21,Gifts!B$4:B$5000) > 0, SUMIF(Gifts!F$4:F$5000, A21,Gifts!B$4:B$5000), \"\")","v":""}]
[null,null,{"$f":"IF(SUMIF(Gifts!F$4:F$5000, A22,Gifts!B$4:B$5000) > 0, SUMIF(Gifts!F$4:F$5000, A22,Gifts!B$4:B$5000), \"\")","v":""}]
[null,null,{"$f":"IF(SUMIF(Gifts!F$4:F$5000, A23,Gifts!B$4:B$5000) > 0, SUMIF(Gifts!F$4:F$5000, A23,Gifts!B$4:B$5000), \"\")","v":""}]
[null,null,{"$f":"IF(SUMIF(Gifts!F$4:F$5000, A24,Gifts!B$4:B$5000) > 0, SUMIF(Gifts!F$4:F$5000, A24,Gifts!B$4:B$5000), \"\")","v":""}]
[null,null,{"$f":"IF(SUMIF(Gifts!F$4:F$5000, A25,Gifts!B$4:B$5000) > 0, SUMIF(Gifts!F$4:F$5000, A25,Gifts!B$4:B$5000), \"\")","v":""}]
[null,null,{"$f":"IF(SUMIF(Gifts!F$4:F$5000, A26,Gifts!B$4:B$5000) > 0, SUMIF(Gifts!F$4:F$5000, A26,Gifts!B$4:B$5000), \"\")","v":""}]
[null,null,{"$f":"IF(SUMIF(Gifts!F$4:F$5000, A27,Gifts!B$4:B$5000) > 0, SUMIF(Gifts!F$4:F$5000, A27,Gifts!B$4:B$5000), \"\")","v":""}]
[null,null,{"$f":"IF(SUMIF(Gifts!F$4:F$5000, A28,Gifts!B$4:B$5000) > 0, SUMIF(Gifts!F$4:F$5000, A28,Gifts!B$4:B$5000), \"\")","v":""}]
[null,null,{"$f":"IF(SUMIF(Gifts!F$4:F$5000, A29,Gifts!B$4:B$5000) > 0, SUMIF(Gifts!F$4:F$5000, A29,Gifts!B$4:B$5000), \"\")","v":""}]
[null,null,{"$f":"IF(SUMIF(Gifts!F$4:F$5000, A30,Gifts!B$4:B$5000) > 0, SUMIF(Gifts!F$4:F$5000, A30,Gifts!B$4:B$5000), \"\")","v":""}]
[null,null,{"$f":"IF(SUMIF(Gifts!F$4:F$5000, A31,Gifts!B$4:B$5000) > 0, SUMIF(Gifts!F$4:F$5000, A31,Gifts!B$4:B$5000), \"\")","v":""}]
[null,null,{"$f":"IF(SUMIF(Gifts!F$4:F$5000, A32,Gifts!B$4:B$5000) > 0, SUMIF(Gifts!F$4:F$5000, A32,Gifts!B$4:B$5000), \"\")","v":""}]
[null,null,{"$f":"IF(SUMIF(Gifts!F$4:F$5000, A33,Gifts!B$4:B$5000) > 0, SUMIF(Gifts!F$4:F$5000, A33,Gifts!B$4:B$5000), \"\")","v":""}]
[null,null,{"$f":"IF(SUMIF(Gifts!F$4:F$5000, A34,Gifts!B$4:B$5000) > 0, SUMIF(Gifts!F$4:F$5000, A34,Gifts!B$4:B$5000), \"\")","v":""}]
[null,null,{"$f":"IF(SUMIF(Gifts!F$4:F$5000, A35,Gifts!B$4:B$5000) > 0, SUMIF(Gifts!F$4:F$5000, A35,Gifts!B$4:B$5000), \"\")","v":""}]
[null,null,{"$f":"IF(SUMIF(Gifts!F$4:F$5000, A36,Gifts!B$4:B$5000) > 0, SUMIF(Gifts!F$4:F$5000, A36,Gifts!B$4:B$5000), \"\")","v":""}]
[null,null,{"$f":"IF(SUMIF(Gifts!F$4:F$5000, A37,Gifts!B$4:B$5000) > 0, SUMIF(Gifts!F$4:F$5000, A37,Gifts!B$4:B$5000), \"\")","v":""}]
[null,null,{"$f":"IF(SUMIF(Gifts!F$4:F$5000, A38,Gifts!B$4:B$5000) > 0, SUMIF(Gifts!F$4:F$5000, A38,Gifts!B$4:B$5000), \"\")","v":""}]
[null,null,{"$f":"IF(SUMIF(Gifts!F$4:F$5000, A39,Gifts!B$4:B$5000) > 0, SUMIF(Gifts!F$4:F$5000, A39,Gifts!B$4:B$5000), \"\")","v":""}]
[null,null,{"$f":"IF(SUMIF(Gifts!F$4:F$5000, A40,Gifts!B$4:B$5000) > 0, SUMIF(Gifts!F$4:F$5000, A40,Gifts!B$4:B$5000), \"\")","v":""}]
[null,null,{"$f":"IF(SUMIF(Gifts!F$4:F$5000, A41,Gifts!B$4:B$5000) > 0, SUMIF(Gifts!F$4:F$5000, A41,Gifts!B$4:B$5000), \"\")","v":""}]
[null,null,{"$f":"IF(SUMIF(Gifts!F$4:F$5000, A42,Gifts!B$4:B$5000) > 0, SUMIF(Gifts!F$4:F$5000, A42,Gifts!B$4:B$5000), \"\")","v":""}]
[null,null,{"$f":"IF(SUMIF(Gifts!F$4:F$5000, A43,Gifts!B$4:B$5000) > 0, SUMIF(Gifts!F$4:F$5000, A43,Gifts!B$4:B$5000), \"\")","v":""}]
[null,null,{"$f":"IF(SUMIF(Gifts!F$4:F$5000, A44,Gifts!B$4:B$5000) > 0, SUMIF(Gifts!F$4:F$5000, A44,Gifts!B$4:B$5000), \"\")","v":""}]
[null,null,{"$f":"IF(SUMIF(Gifts!F$4:F$5000, A45,Gifts!B$4:B$5000) > 0, SUMIF(Gifts!F$4:F$5000, A45,Gifts!B$4:B$5000), \"\")","v":""}]
[null,null,{"$f":"IF(SUMIF(Gifts!F$4:F$5000, A46,Gifts!B$4:B$5000) > 0, SUMIF(Gifts!F$4:F$5000, A46,Gifts!B$4:B$5000), \"\")","v":""}]
[null,null,{"$f":"IF(SUMIF(Gifts!F$4:F$5000, A47,Gifts!B$4:B$5000) > 0, SUMIF(Gifts!F$4:F$5000, A47,Gifts!B$4:B$5000), \"\")","v":""}]
[null,null,{"$f":"IF(SUMIF(Gifts!F$4:F$5000, A48,Gifts!B$4:B$5000) > 0, SUMIF(Gifts!F$4:F$5000, A48,Gifts!B$4:B$5000), \"\")","v":""}]
[null,null,{"$f":"IF(SUMIF(Gifts!F$4:F$5000, A49,Gifts!B$4:B$5000) > 0, SUMIF(Gifts!F$4:F$5000, A49,Gifts!B$4:B$5000), \"\")","v":""}]
[null,null,{"$f":"IF(SUMIF(Gifts!F$4:F$5000, A50,Gifts!B$4:B$5000) > 0, SUMIF(Gifts!F$4:F$5000, A50,Gifts!B$4:B$5000), \"\")","v":""}]
[null,null,{"$f":"IF(SUMIF(Gifts!F$4:F$5000, A51,Gifts!B$4:B$5000) > 0, SUMIF(Gifts!F$4:F$5000, A51,Gifts!B$4:B$5000), \"\")","v":""}]
[null,null,{"$f":"IF(SUMIF(Gifts!F$4:F$5000, A52,Gifts!B$4:B$5000) > 0, SUMIF(Gifts!F$4:F$5000, A52,Gifts!B$4:B$5000), \"\")","v":""}]
[null,null,{"$f":"IF(SUMIF(Gifts!F$4:F$5000, A53,Gifts!B$4:B$5000) > 0, SUMIF(Gifts!F$4:F$5000, A53,Gifts!B$4:B$5000), \"\")","v":""}]
[null,null,{"$f":"IF(SUMIF(Gifts!F$4:F$5000, A54,Gifts!B$4:B$5000) > 0, SUMIF(Gifts!F$4:F$5000, A54,Gifts!B$4:B$5000), \"\")","v":""}]
[null,null,{"$f":"IF(SUMIF(Gifts!F$4:F$5000, A55,Gifts!B$4:B$5000) > 0, SUMIF(Gifts!F$4:F$5000, A55,Gifts!B$4:B$5000), \"\")","v":""}]
[null,null,{"$f":"IF(SUMIF(Gifts!F$4:F$5000, A56,Gifts!B$4:B$5000) > 0, SUMIF(Gifts!F$4:F$5000, A56,Gifts!B$4:B$5000), \"\")","v":""}]
[null,null,{"$f":"IF(SUMIF(Gifts!F$4:F$5000, A57,Gifts!B$4:B$5000) > 0, SUMIF(Gifts!F$4:F$5000, A57,Gifts!B$4:B$5000), \"\")","v":""}]
[null,null,{"$f":"IF(SUMIF(Gifts!F$4:F$5000, A58,Gifts!B$4:B$5000) > 0, SUMIF(Gifts!F$4:F$5000, A58,Gifts!B$4:B$5000), \"\")","v":""}]
[null,null,{"$f":"IF(SUMIF(Gifts!F$4:F$5000, A59,Gifts!B$4:B$5000) > 0, SUMIF(Gifts!F$4:F$5000, A59,Gifts!B$4:B$5000), \"\")","v":""}]
[null,null,{"$f":"IF(SUMIF(Gifts!F$4:F$5000, A60,Gifts!B$4:B$5000) > 0, SUMIF(Gifts!F$4:F$5000, A60,Gifts!B$4:B$5000), \"\")","v":""}]
[null,null,{"$f":"IF(SUMIF(Gifts!F$4:F$5000, A61,Gifts!B$4:B$5000) > 0, SUMIF(Gifts!F$4:F$5000, A61,Gifts!B$4:B$5000), \"\")","v":""}]
[null,null,{"$f":"IF(SUMIF(Gifts!F$4:F$5000, A62,Gifts!B$4:B$5000) > 0, SUMIF(Gifts!F$4:F$5000, A62,Gifts!B$4:B$5000), \"\")","v":""}]
[null,null,{"$f":"IF(SUMIF(Gifts!F$4:F$5000, A63,Gifts!B$4:B$5000) > 0, SUMIF(Gifts!F$4:F$5000, A63,Gifts!B$4:B$5000), \"\")","v":""}]
[null,null,{"$f":"IF(SUMIF(Gifts!F$4:F$5000, A64,Gifts!B$4:B$5000) > 0, SUMIF(Gifts!F$4:F$5000, A64,Gifts!B$4:B$5000), \"\")","v":""}]
[null,null,{"$f":"IF(SUMIF(Gifts!F$4:F$5000, A65,Gifts!B$4:B$5000) > 0, SUMIF(Gifts!F$4:F$5000, A65,Gifts!B$4:B$5000), \"\")","v":""}]
[null,null,{"$f":"IF(SUMIF(Gifts!F$4:F$5000, A66,Gifts!B$4:B$5000) > 0, SUMIF(Gifts!F$4:F$5000, A66,Gifts!B$4:B$5000), \"\")","v":""}]
[null,null,{"$f":"IF(SUMIF(Gifts!F$4:F$5000, A67,Gifts!B$4:B$5000) > 0, SUMIF(Gifts!F$4:F$5000, A67,Gifts!B$4:B$5000), \"\")","v":""}]
[null,null,{"$f":"IF(SUMIF(Gifts!F$4:F$5000, A68,Gifts!B$4:B$5000) > 0, SUMIF(Gifts!F$4:F$5000, A68,Gifts!B$4:B$5000), \"\")","v":""}]
[null,null,{"$f":"IF(SUMIF(Gifts!F$4:F$5000, A69,Gifts!B$4:B$5000) > 0, SUMIF(Gifts!F$4:F$5000, A69,Gifts!B$4:B$5000), \"\")","v":""}]
[null,null,{"$f":"IF(SUMIF(Gifts!F$4:F$5000, A70,Gifts!B$4:B$5000) > 0, SUMIF(Gifts!F$4:F$5000, A70,Gifts!B$4:B$5000), \"\")","v":""}]
[null,null,{"$f":"IF(SUMIF(Gifts!F$4:F$5000, A71,Gifts!B$4:B$5000) > 0, SUMIF(Gifts!F$4:F$5000, A71,Gifts!B$4:B$5000), \"\")","v":""}]
[null,null,{"$f":"IF(SUMIF(Gifts!F$4:F$5000, A72,Gifts!B$4:B$5000) > 0, SUMIF(Gifts!F$4:F$5000, A72,Gifts!B$4:B$5000), \"\")","v":""}]
[null,null,{"$f":"IF(SUMIF(Gifts!F$4:F$5000, A73,Gifts!B$4:B$5000) > 0, SUMIF(Gifts!F$4:F$5000, A73,Gifts!B$4:B$5000), \"\")","v":""}]
[null,null,{"$f":"IF(SUMIF(Gifts!F$4:F$5000, A74,Gifts!B$4:B$5000) > 0, SUMIF(Gifts!F$4:F$5000, A74,Gifts!B$4:B$5000), \"\")","v":""}]
[null,null,{"$f":"IF(SUMIF(Gifts!F$4:F$5000, A75,Gifts!B$4:B$5000) > 0, SUMIF(Gifts!F$4:F$5000, A75,Gifts!B$4:B$5000), \"\")","v":""}]
[null,null,{"$f":"IF(SUMIF(Gifts!F$4:F$5000, A76,Gifts!B$4:B$5000) > 0, SUMIF(Gifts!F$4:F$5000, A76,Gifts!B$4:B$5000), \"\")","v":""}]
[null,null,{"$f":"IF(SUMIF(Gifts!F$4:F$5000, A77,Gifts!B$4:B$5000) > 0, SUMIF(Gifts!F$4:F$5000, A77,Gifts!B$4:B$5000), \"\")","v":""}]
[null,null,{"$f":"IF(SUMIF(Gifts!F$4:F$5000, A78,Gifts!B$4:B$5000) > 0, SUMIF(Gifts!F$4:F$5000, A78,Gifts!B$4:B$5000), \"\")","v":""}]
[null,null,{"$f":"IF(SUMIF(Gifts!F$4:F$5000, A79,Gifts!B$4:B$5000) > 0, SUMIF(Gifts!F$4:F$5000, A79,Gifts!B$4:B$5000), \"\")","v":""}]
[null,null,{"$f":"IF(SUMIF(Gifts!F$4:F$5000, A80,Gifts!B$4:B$5000) > 0, SUMIF(Gifts!F$4:F$5000, A80,Gifts!B$4:B$5000), \"\")","v":""}]
[null,null,{"$f":"IF(SUMIF(Gifts!F$4:F$5000, A81,Gifts!B$4:B$5000) > 0, SUMIF(Gifts!F$4:F$5000, A81,Gifts!B$4:B$5000), \"\")","v":""}]
[null,null,{"$f":"IF(SUMIF(Gifts!F$4:F$5000, A82,Gifts!B$4:B$5000) > 0, SUMIF(Gifts!F$4:F$5000, A82,Gifts!B$4:B$5000), \"\")","v":""}]
[null,null,{"$f":"IF(SUMIF(Gifts!F$4:F$5000, A83,Gifts!B$4:B$5000) > 0, SUMIF(Gifts!F$4:F$5000, A83,Gifts!B$4:B$5000), \"\")","v":""}]
[null,null,{"$f":"IF(SUMIF(Gifts!F$4:F$5000, A84,Gifts!B$4:B$5000) > 0, SUMIF(Gifts!F$4:F$5000, A84,Gifts!B$4:B$5000), \"\")","v":""}]
[null,null,{"$f":"IF(SUMIF(Gifts!F$4:F$5000, A85,Gifts!B$4:B$5000) > 0, SUMIF(Gifts!F$4:F$5000, A85,Gifts!B$4:B$5000), \"\")","v":""}]
[null,null,{"$f":"IF(SUMIF(Gifts!F$4:F$5000, A86,Gifts!B$4:B$5000) > 0, SUMIF(Gifts!F$4:F$5000, A86,Gifts!B$4:B$5000), \"\")","v":""}]
[null,null,{"$f":"IF(SUMIF(Gifts!F$4:F$5000, A87,Gifts!B$4:B$5000) > 0, SUMIF(Gifts!F$4:F$5000, A87,Gifts!B$4:B$5000), \"\")","v":""}]
[null,null,{"$f":"IF(SUMIF(Gifts!F$4:F$5000, A88,Gifts!B$4:B$5000) > 0, SUMIF(Gifts!F$4:F$5000, A88,Gifts!B$4:B$5000), \"\")","v":""}]
[null,null,{"$f":"IF(SUMIF(Gifts!F$4:F$5000, A89,Gifts!B$4:B$5000) > 0, SUMIF(Gifts!F$4:F$5000, A89,Gifts!B$4:B$5000), \"\")","v":""}]
[null,null,{"$f":"IF(SUMIF(Gifts!F$4:F$5000, A90,Gifts!B$4:B$5000) > 0, SUMIF(Gifts!F$4:F$5000, A90,Gifts!B$4:B$5000), \"\")","v":""}]
[null,null,{"$f":"IF(SUMIF(Gifts!F$4:F$5000, A91,Gifts!B$4:B$5000) > 0, SUMIF(Gifts!F$4:F$5000, A91,Gifts!B$4:B$5000), \"\")","v":""}]
[null,null,{"$f":"IF(SUMIF(Gifts!F$4:F$5000, A92,Gifts!B$4:B$5000) > 0, SUMIF(Gifts!F$4:F$5000, A92,Gifts!B$4:B$5000), \"\")","v":""}]
[null,null,{"$f":"IF(SUMIF(Gifts!F$4:F$5000, A93,Gifts!B$4:B$5000) > 0, SUMIF(Gifts!F$4:F$5000, A93,Gifts!B$4:B$5000), \"\")","v":""}]
[null,null,{"$f":"IF(SUMIF(Gifts!F$4:F$5000, A94,Gifts!B$4:B$5000) > 0, SUMIF(Gifts!F$4:F$5000, A94,Gifts!B$4:B$5000), \"\")","v":""}]
[null,null,{"$f":"IF(SUMIF(Gifts!F$4:F$5000, A95,Gifts!B$4:B$5000) > 0, SUMIF(Gifts!F$4:F$5000, A95,Gifts!B$4:B$5000), \"\")","v":""}]
[null,null,{"$f":"IF(SUMIF(Gifts!F$4:F$5000, A96,Gifts!B$4:B$5000) > 0, SUMIF(Gifts!F$4:F$5000, A96,Gifts!B$4:B$5000), \"\")","v":""}]
[null,null,{"$f":"IF(SUMIF(Gifts!F$4:F$5000, A97,Gifts!B$4:B$5000) > 0, SUMIF(Gifts!F$4:F$5000, A97,Gifts!B$4:B$5000), \"\")","v":""}]
[null,null,{"$f":"IF(SUMIF(Gifts!F$4:F$5000, A98,Gifts!B$4:B$5000) > 0, SUMIF(Gifts!F$4:F$5000, A98,Gifts!B$4:B$5000), \"\")","v":""}]
[null,null,{"$f":"IF(SUMIF(Gifts!F$4:F$5000, A99,Gifts!B$4:B$5000) > 0, SUMIF(Gifts!F$4:F$5000, A99,Gifts!B$4:B$5000), \"\")","v":""}]
[null,null,{"$f":"IF(SUMIF(Gifts!F$4:F$5000, A100,Gifts!B$4:B$5000) > 0, SUMIF(Gifts!F$4:F$5000, A100,Gifts!B$4:B$5000), \"\")","v":""}]
[null,null,{"$f":"IF(SUMIF(Gifts!F$4:F$5000, A101,Gifts!B$4:B$5000) > 0, SUMIF(Gifts!F$4:F$5000, A101,Gifts!B$4:B$5000), \"\")","v":""}]
[null,null,{"$f":"IF(SUMIF(Gifts!F$4:F$5000, A102,Gifts!B$4:B$5000) > 0, SUMIF(Gifts!F$4:F$5000, A102,Gifts!B$4:B$5000), \"\")","v":""}]
[null,null,{"$f":"IF(SUMIF(Gifts!F$4:F$5000, A103,Gifts!B$4:B$5000) > 0, SUMIF(Gifts!F$4:F$5000, A103,Gifts!B$4:B$5000), \"\")","v":""}]
[null,null,{"$f":"IF(SUMIF(Gifts!F$4:F$5000, A104,Gifts!B$4:B$5000) > 0, SUMIF(Gifts!F$4:F$5000, A104,Gifts!B$4:B$5000), \"\")","v":""}]
[null,null,{"$f":"IF(SUMIF(Gifts!F$4:F$5000, A105,Gifts!B$4:B$5000) > 0, SUMIF(Gifts!F$4:F$5000, A105,Gifts!B$4:B$5000), \"\")","v":""}]
[null,null,{"$f":"IF(SUMIF(Gifts!F$4:F$5000, A106,Gifts!B$4:B$5000) > 0, SUMIF(Gifts!F$4:F$5000, A106,Gifts!B$4:B$5000), \"\")","v":""}]
[null,null,{"$f":"IF(SUMIF(Gifts!F$4:F$5000, A107,Gifts!B$4:B$5000) > 0, SUMIF(Gifts!F$4:F$5000, A107,Gifts!B$4:B$5000), \"\")","v":""}]
[null,null,{"$f":"IF(SUMIF(Gifts!F$4:F$5000, A108,Gifts!B$4:B$5000) > 0, SUMIF(Gifts!F$4:F$5000, A108,Gifts!B$4:B$5000), \"\")","v":""}]
[null,null,{"$f":"IF(SUMIF(Gifts!F$4:F$5000, A109,Gifts!B$4:B$5000) > 0, SUMIF(Gifts!F$4:F$5000, A109,Gifts!B$4:B$5000), \"\")","v":""}]
[null,null,{"$f":"IF(SUMIF(Gifts!F$4:F$5000, A110,Gifts!B$4:B$5000) > 0, SUMIF(Gifts!F$4:F$5000, A110,Gifts!B$4:B$5000), \"\")","v":""}]
[null,null,{"$f":"IF(SUMIF(Gifts!F$4:F$5000, A111,Gifts!B$4:B$5000) > 0, SUMIF(Gifts!F$4:F$5000, A111,Gifts!B$4:B$5000), \"\")","v":""}]
[null,null,{"$f":"IF(SUMIF(Gifts!F$4:F$5000, A112,Gifts!B$4:B$5000) > 0, SUMIF(Gifts!F$4:F$5000, A112,Gifts!B$4:B$5000), \"\")","v":""}]
[null,null,{"$f":"IF(SUMIF(Gifts!F$4:F$5000, A113,Gifts!B$4:B$5000) > 0, SUMIF(Gifts!F$4:F$5000, A113,Gifts!B$4:B$5000), \"\")","v":""}]
[null,null,{"$f":"IF(SUMIF(Gifts!F$4:F$5000, A114,Gifts!B$4:B$5000) > 0, SUMIF(Gifts!F$4:F$5000, A114,Gifts!B$4:B$5000), \"\")","v":""}]
[null,null,{"$f":"IF(SUMIF(Gifts!F$4:F$5000, A115,Gifts!B$4:B$5000) > 0, SUMIF(Gifts!F$4:F$5000, A115,Gifts!B$4:B$5000), \"\")","v":""}]
[null,null,{"$f":"IF(SUMIF(Gifts!F$4:F$5000, A116,Gifts!B$4:B$5000) > 0, SUMIF(Gifts!F$4:F$5000, A116,Gifts!B$4:B$5000), \"\")","v":""}]
[null,null,{"$f":"IF(SUMIF(Gifts!F$4:F$5000, A117,Gifts!B$4:B$5000) > 0, SUMIF(Gifts!F$4:F$5000, A117,Gifts!B$4:B$5000), \"\")","v":""}]
[null,null,{"$f":"IF(SUMIF(Gifts!F$4:F$5000, A118,Gifts!B$4:B$5000) > 0, SUMIF(Gifts!F$4:F$5000, A118,Gifts!B$4:B$5000), \"\")","v":""}]
[null,null,{"$f":"IF(SUMIF(Gifts!F$4:F$5000, A119,Gifts!B$4:B$5000) > 0, SUMIF(Gifts!F$4:F$5000, A119,Gifts!B$4:B$5000), \"\")","v":""}]
[null,null,{"$f":"IF(SUMIF(Gifts!F$4:F$5000, A120,Gifts!B$4:B$5000) > 0, SUMIF(Gifts!F$4:F$5000, A120,Gifts!B$4:B$5000), \"\")","v":""}]
[null,null,{"$f":"IF(SUMIF(Gifts!F$4:F$5000, A121,Gifts!B$4:B$5000) > 0, SUMIF(Gifts!F$4:F$5000, A121,Gifts!B$4:B$5000), \"\")","v":""}]
[null,null,{"$f":"IF(SUMIF(Gifts!F$4:F$5000, A122,Gifts!B$4:B$5000) > 0, SUMIF(Gifts!F$4:F$5000, A122,Gifts!B$4:B$5000), \"\")","v":""}]
[null,null,{"$f":"IF(SUMIF(Gifts!F$4:F$5000, A123,Gifts!B$4:B$5000) > 0, SUMIF(Gifts!F$4:F$5000, A123,Gifts!B$4:B$5000), \"\")","v":""}]
[null,null,{"$f":"IF(SUMIF(Gifts!F$4:F$5000, A124,Gifts!B$4:B$5000) > 0, SUMIF(Gifts!F$4:F$5000, A124,Gifts!B$4:B$5000), \"\")","v":""}]
[null,null,{"$f":"IF(SUMIF(Gifts!F$4:F$5000, A125,Gifts!B$4:B$5000) > 0, SUMIF(Gifts!F$4:F$5000, A125,Gifts!B$4:B$5000), \"\")","v":""}]
[null,null,{"$f":"IF(SUMIF(Gifts!F$4:F$5000, A126,Gifts!B$4:B$5000) > 0, SUMIF(Gifts!F$4:F$5000, A126,Gifts!B$4:B$5000), \"\")","v":""}]
[null,null,{"$f":"IF(SUMIF(Gifts!F$4:F$5000, A127,Gifts!B$4:B$5000) > 0, SUMIF(Gifts!F$4:F$5000, A127,Gifts!B$4:B$5000), \"\")","v":""}]
[null,null,{"$f":"IF(SUMIF(Gifts!F$4:F$5000, A128,Gifts!B$4:B$5000) > 0, SUMIF(Gifts!F$4:F$5000, A128,Gifts!B$4:B$5000), \"\")","v":""}]
[null,null,{"$f":"IF(SUMIF(Gifts!F$4:F$5000, A129,Gifts!B$4:B$5000) > 0, SUMIF(Gifts!F$4:F$5000, A129,Gifts!B$4:B$5000), \"\")","v":""}]
[null,null,{"$f":"IF(SUMIF(Gifts!F$4:F$5000, A130,Gifts!B$4:B$5000) > 0, SUMIF(Gifts!F$4:F$5000, A130,Gifts!B$4:B$5000), \"\")","v":""}]
[null,null,{"$f":"IF(SUMIF(Gifts!F$4:F$5000, A131,Gifts!B$4:B$5000) > 0, SUMIF(Gifts!F$4:F$5000, A131,Gifts!B$4:B$5000), \"\")","v":""}]
[null,null,{"$f":"IF(SUMIF(Gifts!F$4:F$5000, A132,Gifts!B$4:B$5000) > 0, SUMIF(Gifts!F$4:F$5000, A132,Gifts!B$4:B$5000), \"\")","v":""}]
[null,null,{"$f":"IF(SUMIF(Gifts!F$4:F$5000, A133,Gifts!B$4:B$5000) > 0, SUMIF(Gifts!F$4:F$5000, A133,Gifts!B$4:B$5000), \"\")","v":""}]
[null,null,{"$f":"IF(SUMIF(Gifts!F$4:F$5000, A134,Gifts!B$4:B$5000) > 0, SUMIF(Gifts!F$4:F$5000, A134,Gifts!B$4:B$5000), \"\")","v":""}]
[null,null,{"$f":"IF(SUMIF(Gifts!F$4:F$5000, A135,Gifts!B$4:B$5000) > 0, SUMIF(Gifts!F$4:F$5000, A135,Gifts!B$4:B$5000), \"\")","v":""}]
[null,null,{"$f":"IF(SUMIF(Gifts!F$4:F$5000, A136,Gifts!B$4:B$5000) > 0, SUMIF(Gifts!F$4:F$5000, A136,Gifts!B$4:B$5000), \"\")","v":""}]
[null,null,{"$f":"IF(SUMIF(Gifts!F$4:F$5000, A137,Gifts!B$4:B$5000) > 0, SUMIF(Gifts!F$4:F$5000, A137,Gifts!B$4:B$5000), \"\")","v":""}]
[null,null,{"$f":"IF(SUMIF(Gifts!F$4:F$5000, A138,Gifts!B$4:B$5000) > 0, SUMIF(Gifts!F$4:F$5000, A138,Gifts!B$4:B$5000), \"\")","v":""}]
[null,null,{"$f":"IF(SUMIF(Gifts!F$4:F$5000, A139,Gifts!B$4:B$5000) > 0, SUMIF(Gifts!F$4:F$5000, A139,Gifts!B$4:B$5000), \"\")","v":""}]
[null,null,{"$f":"IF(SUMIF(Gifts!F$4:F$5000, A140,Gifts!B$4:B$5000) > 0, SUMIF(Gifts!F$4:F$5000, A140,Gifts!B$4:B$5000), \"\")","v":""}]
[null,null,{"$f":"IF(SUMIF(Gifts!F$4:F$5000, A141,Gifts!B$4:B$5000) > 0, SUMIF(Gifts!F$4:F$5000, A141,Gifts!B$4:B$5000), \"\")","v":""}]
[null,null,{"$f":"IF(SUMIF(Gifts!F$4:F$5000, A142,Gifts!B$4:B$5000) > 0, SUMIF(Gifts!F$4:F$5000, A142,Gifts!B$4:B$5000), \"\")","v":""}]
[null,null,{"$f":"IF(SUMIF(Gifts!F$4:F$5000, A143,Gifts!B$4:B$5000) > 0, SUMIF(Gifts!F$4:F$5000, A143,Gifts!B$4:B$5000), \"\")","v":""}]
[null,null,{"$f":"IF(SUMIF(Gifts!F$4:F$5000, A144,Gifts!B$4:B$5000) > 0, SUMIF(Gifts!F$4:F$5000, A144,Gifts!B$4:B$5000), \"\")","v":""}]
[null,null,{"$f":"IF(SUMIF(Gifts!F$4:F$5000, A145,Gifts!B$4:B$5000) > 0, SUMIF(Gifts!F$4:F$5000, A145,Gifts!B$4:B$5000), \"\")","v":""}]
[null,null,{"$f":"IF(SUMIF(Gifts!F$4:F$5000, A146,Gifts!B$4:B$5000) > 0, SUMIF(Gifts!F$4:F$5000, A146,Gifts!B$4:B$5000), \"\")","v":""}]
[null,null,{"$f":"IF(SUMIF(Gifts!F$4:F$5000, A147,Gifts!B$4:B$5000) > 0, SUMIF(Gifts!F$4:F$5000, A147,Gifts!B$4:B$5000), \"\")","v":""}]
[null,null,{"$f":"IF(SUMIF(Gifts!F$4:F$5000, A148,Gifts!B$4:B$5000) > 0, SUMIF(Gifts!F$4:F$5000, A148,Gifts!B$4:B$5000), \"\")","v":""}]
[null,null,{"$f":"IF(SUMIF(Gifts!F$4:F$5000, A149,Gifts!B$4:B$5000) > 0, SUMIF(Gifts!F$4:F$5000, A149,Gifts!B$4:B$5000), \"\")","v":""}]
[null,null,{"$f":"IF(SUMIF(Gifts!F$4:F$5000, A150,Gifts!B$4:B$5000) > 0, SUMIF(Gifts!F$4:F$5000, A150,Gifts!B$4:B$5000), \"\")","v":""}]
[null,null,{"$f":"IF(SUMIF(Gifts!F$4:F$5000, A151,Gifts!B$4:B$5000) > 0, SUMIF(Gifts!F$4:F$5000, A151,Gifts!B$4:B$5000), \"\")","v":""}]
[null,null,{"$f":"IF(SUMIF(Gifts!F$4:F$5000, A152,Gifts!B$4:B$5000) > 0, SUMIF(Gifts!F$4:F$5000, A152,Gifts!B$4:B$5000), \"\")","v":""}]
[null,null,{"$f":"IF(SUMIF(Gifts!F$4:F$5000, A153,Gifts!B$4:B$5000) > 0, SUMIF(Gifts!F$4:F$5000, A153,Gifts!B$4:B$5000), \"\")","v":""}]
[null,null,{"$f":"IF(SUMIF(Gifts!F$4:F$5000, A154,Gifts!B$4:B$5000) > 0, SUMIF(Gifts!F$4:F$5000, A154,Gifts!B$4:B$5000), \"\")","v":""}]
[null,null,{"$f":"IF(SUMIF(Gifts!F$4:F$5000, A155,Gifts!B$4:B$5000) > 0, SUMIF(Gifts!F$4:F$5000, A155,Gifts!B$4:B$5000), \"\")","v":""}]
[null,null,{"$f":"IF(SUMIF(Gifts!F$4:F$5000, A156,Gifts!B$4:B$5000) > 0, SUMIF(Gifts!F$4:F$5000, A156,Gifts!B$4:B$5000), \"\")","v":""}]
[null,null,{"$f":"IF(SUMIF(Gifts!F$4:F$5000, A157,Gifts!B$4:B$5000) > 0, SUMIF(Gifts!F$4:F$5000, A157,Gifts!B$4:B$5000), \"\")","v":""}]
[null,null,{"$f":"IF(SUMIF(Gifts!F$4:F$5000, A158,Gifts!B$4:B$5000) > 0, SUMIF(Gifts!F$4:F$5000, A158,Gifts!B$4:B$5000), \"\")","v":""}]
[null,null,{"$f":"IF(SUMIF(Gifts!F$4:F$5000, A159,Gifts!B$4:B$5000) > 0, SUMIF(Gifts!F$4:F$5000, A159,Gifts!B$4:B$5000), \"\")","v":""}]
[null,null,{"$f":"IF(SUMIF(Gifts!F$4:F$5000, A160,Gifts!B$4:B$5000) > 0, SUMIF(Gifts!F$4:F$5000, A160,Gifts!B$4:B$5000), \"\")","v":""}]
[null,null,{"$f":"IF(SUMIF(Gifts!F$4:F$5000, A161,Gifts!B$4:B$5000) > 0, SUMIF(Gifts!F$4:F$5000, A161,Gifts!B$4:B$5000), \"\")","v":""}]
[null,null,{"$f":"IF(SUMIF(Gifts!F$4:F$5000, A162,Gifts!B$4:B$5000) > 0, SUMIF(Gifts!F$4:F$5000, A162,Gifts!B$4:B$5000), \"\")","v":""}]
[null,null,{"$f":"IF(SUMIF(Gifts!F$4:F$5000, A163,Gifts!B$4:B$5000) > 0, SUMIF(Gifts!F$4:F$5000, A163,Gifts!B$4:B$5000), \"\")","v":""}]
[null,null,{"$f":"IF(SUMIF(Gifts!F$4:F$5000, A164,Gifts!B$4:B$5000) > 0, SUMIF(Gifts!F$4:F$5000, A164,Gifts!B$4:B$5000), \"\")","v":""}]
[null,null,{"$f":"IF(SUMIF(Gifts!F$4:F$5000, A165,Gifts!B$4:B$5000) > 0, SUMIF(Gifts!F$4:F$5000, A165,Gifts!B$4:B$5000), \"\")","v":""}]
[null,null,{"$f":"IF(SUMIF(Gifts!F$4:F$5000, A166,Gifts!B$4:B$5000) > 0, SUMIF(Gifts!F$4:F$5000, A166,Gifts!B$4:B$5000), \"\")","v":""}]
[null,null,{"$f":"IF(SUMIF(Gifts!F$4:F$5000, A167,Gifts!B$4:B$5000) > 0, SUMIF(Gifts!F$4:F$5000, A167,Gifts!B$4:B$5000), \"\")","v":""}]
[null,null,{"$f":"IF(SUMIF(Gifts!F$4:F$5000, A168,Gifts!B$4:B$5000) > 0, SUMIF(Gifts!F$4:F$5000, A168,Gifts!B$4:B$5000), \"\")","v":""}]
[null,null,{"$f":"IF(SUMIF(Gifts!F$4:F$5000, A169,Gifts!B$4:B$5000) > 0, SUMIF(Gifts!F$4:F$5000, A169,Gifts!B$4:B$5000), \"\")","v":""}]
[null,null,{"$f":"IF(SUMIF(Gifts!F$4:F$5000, A170,Gifts!B$4:B$5000) > 0, SUMIF(Gifts!F$4:F$5000, A170,Gifts!B$4:B$5000), \"\")","v":""}]
[null,null,{"$f":"IF(SUMIF(Gifts!F$4:F$5000, A171,Gifts!B$4:B$5000) > 0, SUMIF(Gifts!F$4:F$5000, A171,Gifts!B$4:B$5000), \"\")","v":""}]
[null,null,{"$f":"IF(SUMIF(Gifts!F$4:F$5000, A172,Gifts!B$4:B$5000) > 0, SUMIF(Gifts!F$4:F$5000, A172,Gifts!B$4:B$5000), \"\")","v":""}]
[null,null,{"$f":"IF(SUMIF(Gifts!F$4:F$5000, A173,Gifts!B$4:B$5000) > 0, SUMIF(Gifts!F$4:F$5000, A173,Gifts!B$4:B$5000), \"\")","v":""}]
[null,null,{"$f":"IF(SUMIF(Gifts!F$4:F$5000, A174,Gifts!B$4:B$5000) > 0, SUMIF(Gifts!F$4:F$5000, A174,Gifts!B$4:B$5000), \"\")","v":""}]
[null,null,{"$f":"IF(SUMIF(Gifts!F$4:F$5000, A175,Gifts!B$4:B$5000) > 0, SUMIF(Gifts!F$4:F$5000, A175,Gifts!B$4:B$5000), \"\")","v":""}]
[null,null,{"$f":"IF(SUMIF(Gifts!F$4:F$5000, A176,Gifts!B$4:B$5000) > 0, SUMIF(Gifts!F$4:F$5000, A176,Gifts!B$4:B$5000), \"\")","v":""}]
[null,null,{"$f":"IF(SUMIF(Gifts!F$4:F$5000, A177,Gifts!B$4:B$5000) > 0, SUMIF(Gifts!F$4:F$5000, A177,Gifts!B$4:B$5000), \"\")","v":""}]
[null,null,{"$f":"IF(SUMIF(Gifts!F$4:F$5000, A178,Gifts!B$4:B$5000) > 0, SUMIF(Gifts!F$4:F$5000, A178,Gifts!B$4:B$5000), \"\")","v":""}]
[null,null,{"$f":"IF(SUMIF(Gifts!F$4:F$5000, A179,Gifts!B$4:B$5000) > 0, SUMIF(Gifts!F$4:F$5000, A179,Gifts!B$4:B$5000), \"\")","v":""}]
[null,null,{"$f":"IF(SUMIF(Gifts!F$4:F$5000, A180,Gifts!B$4:B$5000) > 0, SUMIF(Gifts!F$4:F$5000, A180,Gifts!B$4:B$5000), \"\")","v":""}]
[null,null,{"$f":"IF(SUMIF(Gifts!F$4:F$5000, A181,Gifts!B$4:B$5000) > 0, SUMIF(Gifts!F$4:F$5000, A181,Gifts!B$4:B$5000), \"\")","v":""}]
[null,null,{"$f":"IF(SUMIF(Gifts!F$4:F$5000, A182,Gifts!B$4:B$5000) > 0, SUMIF(Gifts!F$4:F$5000, A182,Gifts!B$4:B$5000), \"\")","v":""}]
[null,null,{"$f":"IF(SUMIF(Gifts!F$4:F$5000, A183,Gifts!B$4:B$5000) > 0, SUMIF(Gifts!F$4:F$5000, A183,Gifts!B$4:B$5000), \"\")","v":""}]
[null,null,{"$f":"IF(SUMIF(Gifts!F$4:F$5000, A184,Gifts!B$4:B$5000) > 0, SUMIF(Gifts!F$4:F$5000, A184,Gifts!B$4:B$5000), \"\")","v":""}]
[null,null,{"$f":"IF(SUMIF(Gifts!F$4:F$5000, A185,Gifts!B$4:B$5000) > 0, SUMIF(Gifts!F$4:F$5000, A185,Gifts!B$4:B$5000), \"\")","v":""}]
[null,null,{"$f":"IF(SUMIF(Gifts!F$4:F$5000, A186,Gifts!B$4:B$5000) > 0, SUMIF(Gifts!F$4:F$5000, A186,Gifts!B$4:B$5000), \"\")","v":""}]
[null,null,{"$f":"IF(SUMIF(Gifts!F$4:F$5000, A187,Gifts!B$4:B$5000) > 0, SUMIF(Gifts!F$4:F$5000, A187,Gifts!B$4:B$5000), \"\")","v":""}]
[null,null,{"$f":"IF(SUMIF(Gifts!F$4:F$5000, A188,Gifts!B$4:B$5000) > 0, SUMIF(Gifts!F$4:F$5000, A188,Gifts!B$4:B$5000), \"\")","v":""}]
[null,null,{"$f":"IF(SUMIF(Gifts!F$4:F$5000, A189,Gifts!B$4:B$5000) > 0, SUMIF(Gifts!F$4:F$5000, A189,Gifts!B$4:B$5000), \"\")","v":""}]
[null,null,{"$f":"IF(SUMIF(Gifts!F$4:F$5000, A190,Gifts!B$4:B$5000) > 0, SUMIF(Gifts!F$4:F$5000, A190,Gifts!B$4:B$5000), \"\")","v":""}]
[null,null,{"$f":"IF(SUMIF(Gifts!F$4:F$5000, A191,Gifts!B$4:B$5000) > 0, SUMIF(Gifts!F$4:F$5000, A191,Gifts!B$4:B$5000), \"\")","v":""}]
[null,null,{"$f":"IF(SUMIF(Gifts!F$4:F$5000, A192,Gifts!B$4:B$5000) > 0, SUMIF(Gifts!F$4:F$5000, A192,Gifts!B$4:B$5000), \"\")","v":""}]
[null,null,{"$f":"IF(SUMIF(Gifts!F$4:F$5000, A193,Gifts!B$4:B$5000) > 0, SUMIF(Gifts!F$4:F$5000, A193,Gifts!B$4:B$5000), \"\")","v":""}]
[null,null,{"$f":"IF(SUMIF(Gifts!F$4:F$5000, A194,Gifts!B$4:B$5000) > 0, SUMIF(Gifts!F$4:F$5000, A194,Gifts!B$4:B$5000), \"\")","v":""}]
[null,null,{"$f":"IF(SUMIF(Gifts!F$4:F$5000, A195,Gifts!B$4:B$5000) > 0, SUMIF(Gifts!F$4:F$5000, A195,Gifts!B$4:B$5000), \"\")","v":""}]
[null,null,{"$f":"IF(SUMIF(Gifts!F$4:F$5000, A196,Gifts!B$4:B$5000) > 0, SUMIF(Gifts!F$4:F$5000, A196,Gifts!B$4:B$5000), \"\")","v":""}]
[null,null,{"$f":"IF(SUMIF(Gifts!F$4:F$5000, A197,Gifts!B$4:B$5000) > 0, SUMIF(Gifts!F$4:F$5000, A197,Gifts!B$4:B$5000), \"\")","v":""}]
[null,null,{"$f":"IF(SUMIF(Gifts!F$4:F$5000, A198,Gifts!B$4:B$5000) > 0, SUMIF(Gifts!F$4:F$5000, A198,Gifts!B$4:B$5000), \"\")","v":""}]
[null,null,{"$f":"IF(SUMIF(Gifts!F$4:F$5000, A199,Gifts!B$4:B$5000) > 0, SUMIF(Gifts!F$4:F$5000, A199,Gifts!B$4:B$5000), \"\")","v":""}]
[null,null,{"$f":"IF(SUMIF(Gifts!F$4:F$5000, A200,Gifts!B$4:B$5000) > 0, SUMIF(Gifts!F$4:F$5000, A200,Gifts!B$4:B$5000), \"\")","v":""}]
[null,null,{"$f":"IF(SUMIF(Gifts!F$4:F$5000, A201,Gifts!B$4:B$5000) > 0, SUMIF(Gifts!F$4:F$5000, A201,Gifts!B$4:B$5000), \"\")","v":""}]
[null,null,{"$f":"IF(SUMIF(Gifts!F$4:F$5000, A202,Gifts!B$4:B$5000) > 0, SUMIF(Gifts!F$4:F$5000, A202,Gifts!B$4:B$5000), \"\")","v":""}]
[null,null,{"$f":"IF(SUMIF(Gifts!F$4:F$5000, A203,Gifts!B$4:B$5000) > 0, SUMIF(Gifts!F$4:F$5000, A203,Gifts!B$4:B$5000), \"\")","v":""}]
[null,null,{"$f":"IF(SUMIF(Gifts!F$4:F$5000, A204,Gifts!B$4:B$5000) > 0, SUMIF(Gifts!F$4:F$5000, A204,Gifts!B$4:B$5000), \"\")","v":""}]
[null,null,{"$f":"IF(SUMIF(Gifts!F$4:F$5000, A205,Gifts!B$4:B$5000) > 0, SUMIF(Gifts!F$4:F$5000, A205,Gifts!B$4:B$5000), \"\")","v":""}]
[null,null,{"$f":"IF(SUMIF(Gifts!F$4:F$5000, A206,Gifts!B$4:B$5000) > 0, SUMIF(Gifts!F$4:F$5000, A206,Gifts!B$4:B$5000), \"\")","v":""}]
[null,null,{"$f":"IF(SUMIF(Gifts!F$4:F$5000, A207,Gifts!B$4:B$5000) > 0, SUMIF(Gifts!F$4:F$5000, A207,Gifts!B$4:B$5000), \"\")","v":""}]
[null,null,{"$f":"IF(SUMIF(Gifts!F$4:F$5000, A208,Gifts!B$4:B$5000) > 0, SUMIF(Gifts!F$4:F$5000, A208,Gifts!B$4:B$5000), \"\")","v":""}]
[null,null,{"$f":"IF(SUMIF(Gifts!F$4:F$5000, A209,Gifts!B$4:B$5000) > 0, SUMIF(Gifts!F$4:F$5000, A209,Gifts!B$4:B$5000), \"\")","v":""}]
[null,null,{"$f":"IF(SUMIF(Gifts!F$4:F$5000, A210,Gifts!B$4:B$5000) > 0, SUMIF(Gifts!F$4:F$5000, A210,Gifts!B$4:B$5000), \"\")","v":""}]
[null,null,{"$f":"IF(SUMIF(Gifts!F$4:F$5000, A211,Gifts!B$4:B$5000) > 0, SUMIF(Gifts!F$4:F$5000, A211,Gifts!B$4:B$5000), \"\")","v":""}]
[null,null,{"$f":"IF(SUMIF(Gifts!F$4:F$5000, A212,Gifts!B$4:B$5000) > 0, SUMIF(Gifts!F$4:F$5000, A212,Gifts!B$4:B$5000), \"\")","v":""}]
[null,null,{"$f":"IF(SUMIF(Gifts!F$4:F$5000, A213,Gifts!B$4:B$5000) > 0, SUMIF(Gifts!F$4:F$5000, A213,Gifts!B$4:B$5000), \"\")","v":""}]
[null,null,{"$f":"IF(SUMIF(Gifts!F$4:F$5000, A214,Gifts!B$4:B$5000) > 0, SUMIF(Gifts!F$4:F$5000, A214,Gifts!B$4:B$5000), \"\")","v":""}]
[null,null,{"$f":"IF(SUMIF(Gifts!F$4:F$5000, A215,Gifts!B$4:B$5000) > 0, SUMIF(Gifts!F$4:F$5000, A215,Gifts!B$4:B$5000), \"\")","v":""}]
[null,null,{"$f":"IF(SUMIF(Gifts!F$4:F$5000, A216,Gifts!B$4:B$5000) > 0, SUMIF(Gifts!F$4:F$5000, A216,Gifts!B$4:B$5000), \"\")","v":""}]
[null,null,{"$f":"IF(SUMIF(Gifts!F$4:F$5000, A217,Gifts!B$4:B$5000) > 0, SUMIF(Gifts!F$4:F$5000, A217,Gifts!B$4:B$5000), \"\")","v":""}]
[null,null,{"$f":"IF(SUMIF(Gifts!F$4:F$5000, A218,Gifts!B$4:B$5000) > 0, SUMIF(Gifts!F$4:F$5000, A218,Gifts!B$4:B$5000), \"\")","v":""}]
[null,null,{"$f":"IF(SUMIF(Gifts!F$4:F$5000, A219,Gifts!B$4:B$5000) > 0, SUMIF(Gifts!F$4:F$5000, A219,Gifts!B$4:B$5000), \"\")","v":""}]
[null,null,{"$f":"IF(SUMIF(Gifts!F$4:F$5000, A220,Gifts!B$4:B$5000) > 0, SUMIF(Gifts!F$4:F$5000, A220,Gifts!B$4:B$5000), \"\")","v":""}]
[null,null,{"$f":"IF(SUMIF(Gifts!F$4:F$5000, A221,Gifts!B$4:B$5000) > 0, SUMIF(Gifts!F$4:F$5000, A221,Gifts!B$4:B$5000), \"\")","v":""}]
[null,null,{"$f":"IF(SUMIF(Gifts!F$4:F$5000, A222,Gifts!B$4:B$5000) > 0, SUMIF(Gifts!F$4:F$5000, A222,Gifts!B$4:B$5000), \"\")","v":""}]
[null,null,{"$f":"IF(SUMIF(Gifts!F$4:F$5000, A223,Gifts!B$4:B$5000) > 0, SUMIF(Gifts!F$4:F$5000, A223,Gifts!B$4:B$5000), \"\")","v":""}]
[null,null,{"$f":"IF(SUMIF(Gifts!F$4:F$5000, A224,Gifts!B$4:B$5000) > 0, SUMIF(Gifts!F$4:F$5000, A224,Gifts!B$4:B$5000), \"\")","v":""}]
[null,null,{"$f":"IF(SUMIF(Gifts!F$4:F$5000, A225,Gifts!B$4:B$5000) > 0, SUMIF(Gifts!F$4:F$5000, A225,Gifts!B$4:B$5000), \"\")","v":""}]
[null,null,{"$f":"IF(SUMIF(Gifts!F$4:F$5000, A226,Gifts!B$4:B$5000) > 0, SUMIF(Gifts!F$4:F$5000, A226,Gifts!B$4:B$5000), \"\")","v":""}]
[null,null,{"$f":"IF(SUMIF(Gifts!F$4:F$5000, A227,Gifts!B$4:B$5000) > 0, SUMIF(Gifts!F$4:F$5000, A227,Gifts!B$4:B$5000), \"\")","v":""}]
[null,null,{"$f":"IF(SUMIF(Gifts!F$4:F$5000, A228,Gifts!B$4:B$5000) > 0, SUMIF(Gifts!F$4:F$5000, A228,Gifts!B$4:B$5000), \"\")","v":""}]
[null,null,{"$f":"IF(SUMIF(Gifts!F$4:F$5000, A229,Gifts!B$4:B$5000) > 0, SUMIF(Gifts!F$4:F$5000, A229,Gifts!B$4:B$5000), \"\")","v":""}]
[null,null,{"$f":"IF(SUMIF(Gifts!F$4:F$5000, A230,Gifts!B$4:B$5000) > 0, SUMIF(Gifts!F$4:F$5000, A230,Gifts!B$4:B$5000), \"\")","v":""}]
[null,null,{"$f":"IF(SUMIF(Gifts!F$4:F$5000, A231,Gifts!B$4:B$5000) > 0, SUMIF(Gifts!F$4:F$5000, A231,Gifts!B$4:B$5000), \"\")","v":""}]
[null,null,{"$f":"IF(SUMIF(Gifts!F$4:F$5000, A232,Gifts!B$4:B$5000) > 0, SUMIF(Gifts!F$4:F$5000, A232,Gifts!B$4:B$5000), \"\")","v":""}]
[null,null,{"$f":"IF(SUMIF(Gifts!F$4:F$5000, A233,Gifts!B$4:B$5000) > 0, SUMIF(Gifts!F$4:F$5000, A233,Gifts!B$4:B$5000), \"\")","v":""}]
[null,null,{"$f":"IF(SUMIF(Gifts!F$4:F$5000, A234,Gifts!B$4:B$5000) > 0, SUMIF(Gifts!F$4:F$5000, A234,Gifts!B$4:B$5000), \"\")","v":""}]
[null,null,{"$f":"IF(SUMIF(Gifts!F$4:F$5000, A235,Gifts!B$4:B$5000) > 0, SUMIF(Gifts!F$4:F$5000, A235,Gifts!B$4:B$5000), \"\")","v":""}]
[null,null,{"$f":"IF(SUMIF(Gifts!F$4:F$5000, A236,Gifts!B$4:B$5000) > 0, SUMIF(Gifts!F$4:F$5000, A236,Gifts!B$4:B$5000), \"\")","v":""}]
[null,null,{"$f":"IF(SUMIF(Gifts!F$4:F$5000, A237,Gifts!B$4:B$5000) > 0, SUMIF(Gifts!F$4:F$5000, A237,Gifts!B$4:B$5000), \"\")","v":""}]
[null,null,{"$f":"IF(SUMIF(Gifts!F$4:F$5000, A238,Gifts!B$4:B$5000) > 0, SUMIF(Gifts!F$4:F$5000, A238,Gifts!B$4:B$5000), \"\")","v":""}]
[null,null,{"$f":"IF(SUMIF(Gifts!F$4:F$5000, A239,Gifts!B$4:B$5000) > 0, SUMIF(Gifts!F$4:F$5000, A239,Gifts!B$4:B$5000), \"\")","v":""}]
[null,null,{"$f":"IF(SUMIF(Gifts!F$4:F$5000, A240,Gifts!B$4:B$5000) > 0, SUMIF(Gifts!F$4:F$5000, A240,Gifts!B$4:B$5000), \"\")","v":""}]
[null,null,{"$f":"IF(SUMIF(Gifts!F$4:F$5000, A241,Gifts!B$4:B$5000) > 0, SUMIF(Gifts!F$4:F$5000, A241,Gifts!B$4:B$5000), \"\")","v":""}]
[null,null,{"$f":"IF(SUMIF(Gifts!F$4:F$5000, A242,Gifts!B$4:B$5000) > 0, SUMIF(Gifts!F$4:F$5000, A242,Gifts!B$4:B$5000), \"\")","v":""}]
[null,null,{"$f":"IF(SUMIF(Gifts!F$4:F$5000, A243,Gifts!B$4:B$5000) > 0, SUMIF(Gifts!F$4:F$5000, A243,Gifts!B$4:B$5000), \"\")","v":""}]
[null,null,{"$f":"IF(SUMIF(Gifts!F$4:F$5000, A244,Gifts!B$4:B$5000) > 0, SUMIF(Gifts!F$4:F$5000, A244,Gifts!B$4:B$5000), \"\")","v":""}]
[null,null,{"$f":"IF(SUMIF(Gifts!F$4:F$5000, A245,Gifts!B$4:B$5000) > 0, SUMIF(Gifts!F$4:F$5000, A245,Gifts!B$4:B$5000), \"\")","v":""}]
[null,null,{"$f":"IF(SUMIF(Gifts!F$4:F$5000, A246,Gifts!B$4:B$5000) > 0, SUMIF(Gifts!F$4:F$5000, A246,Gifts!B$4:B$5000), \"\")","v":""}]
[null,null,{"$f":"IF(SUMIF(Gifts!F$4:F$5000, A247,Gifts!B$4:B$5000) > 0, SUMIF(Gifts!F$4:F$5000, A247,Gifts!B$4:B$5000), \"\")","v":""}]
[null,null,{"$f":"IF(SUMIF(Gifts!F$4:F$5000, A248,Gifts!B$4:B$5000) > 0, SUMIF(Gifts!F$4:F$5000, A248,Gifts!B$4:B$5000), \"\")","v":""}]
[null,null,{"$f":"IF(SUMIF(Gifts!F$4:F$5000, A249,Gifts!B$4:B$5000) > 0, SUMIF(Gifts!F$4:F$5000, A249,Gifts!B$4:B$5000), \"\")","v":""}]
[null,null,{"$f":"IF(SUMIF(Gifts!F$4:F$5000, A250,Gifts!B$4:B$5000) > 0, SUMIF(Gifts!F$4:F$5000, A250,Gifts!B$4:B$5000), \"\")","v":""}]
[null,null,{"$f":"IF(SUMIF(Gifts!F$4:F$5000, A251,Gifts!B$4:B$5000) > 0, SUMIF(Gifts!F$4:F$5000, A251,Gifts!B$4:B$5000), \"\")","v":""}]
[null,null,{"$f":"IF(SUMIF(Gifts!F$4:F$5000, A252,Gifts!B$4:B$5000) > 0, SUMIF(Gifts!F$4:F$5000, A252,Gifts!B$4:B$5000), \"\")","v":""}]
[null,null,{"$f":"IF(SUMIF(Gifts!F$4:F$5000, A253,Gifts!B$4:B$5000) > 0, SUMIF(Gifts!F$4:F$5000, A253,Gifts!B$4:B$5000), \"\")","v":""}]
[null,null,{"$f":"IF(SUMIF(Gifts!F$4:F$5000, A254,Gifts!B$4:B$5000) > 0, SUMIF(Gifts!F$4:F$5000, A254,Gifts!B$4:B$5000), \"\")","v":""}]
[null,null,{"$f":"IF(SUMIF(Gifts!F$4:F$5000, A255,Gifts!B$4:B$5000) > 0, SUMIF(Gifts!F$4:F$5000, A255,Gifts!B$4:B$5000), \"\")","v":""}]
[null,null,{"$f":"IF(SUMIF(Gifts!F$4:F$5000, A256,Gifts!B$4:B$5000) > 0, SUMIF(Gifts!F$4:F$5000, A256,Gifts!B$4:B$5000), \"\")","v":""}]
[null,null,{"$f":"IF(SUMIF(Gifts!F$4:F$5000, A257,Gifts!B$4:B$5000) > 0, SUMIF(Gifts!F$4:F$5000, A257,Gifts!B$4:B$5000), \"\")","v":""}]
[null,null,{"$f":"IF(SUMIF(Gifts!F$4:F$5000, A258,Gifts!B$4:B$5000) > 0, SUMIF(Gifts!F$4:F$5000, A258,Gifts!B$4:B$5000), \"\")","v":""}]
[null,null,{"$f":"IF(SUMIF(Gifts!F$4:F$5000, A259,Gifts!B$4:B$5000) > 0, SUMIF(Gifts!F$4:F$5000, A259,Gifts!B$4:B$5000), \"\")","v":""}]
[null,null,{"$f":"IF(SUMIF(Gifts!F$4:F$5000, A260,Gifts!B$4:B$5000) > 0, SUMIF(Gifts!F$4:F$5000, A260,Gifts!B$4:B$5000), \"\")","v":""}]
[null,null,{"$f":"IF(SUMIF(Gifts!F$4:F$5000, A261,Gifts!B$4:B$5000) > 0, SUMIF(Gifts!F$4:F$5000, A261,Gifts!B$4:B$5000), \"\")","v":""}]
[null,null,{"$f":"IF(SUMIF(Gifts!F$4:F$5000, A262,Gifts!B$4:B$5000) > 0, SUMIF(Gifts!F$4:F$5000, A262,Gifts!B$4:B$5000), \"\")","v":""}]
[null,null,{"$f":"IF(SUMIF(Gifts!F$4:F$5000, A263,Gifts!B$4:B$5000) > 0, SUMIF(Gifts!F$4:F$5000, A263,Gifts!B$4:B$5000), \"\")","v":""}]
[null,null,{"$f":"IF(SUMIF(Gifts!F$4:F$5000, A264,Gifts!B$4:B$5000) > 0, SUMIF(Gifts!F$4:F$5000, A264,Gifts!B$4:B$5000), \"\")","v":""}]
[null,null,{"$f":"IF(SUMIF(Gifts!F$4:F$5000, A265,Gifts!B$4:B$5000) > 0, SUMIF(Gifts!F$4:F$5000, A265,Gifts!B$4:B$5000), \"\")","v":""}]
[null,null,{"$f":"IF(SUMIF(Gifts!F$4:F$5000, A266,Gifts!B$4:B$5000) > 0, SUMIF(Gifts!F$4:F$5000, A266,Gifts!B$4:B$5000), \"\")","v":""}]
[null,null,{"$f":"IF(SUMIF(Gifts!F$4:F$5000, A267,Gifts!B$4:B$5000) > 0, SUMIF(Gifts!F$4:F$5000, A267,Gifts!B$4:B$5000), \"\")","v":""}]
[null,null,{"$f":"IF(SUMIF(Gifts!F$4:F$5000, A268,Gifts!B$4:B$5000) > 0, SUMIF(Gifts!F$4:F$5000, A268,Gifts!B$4:B$5000), \"\")","v":""}]
[null,null,{"$f":"IF(SUMIF(Gifts!F$4:F$5000, A269,Gifts!B$4:B$5000) > 0, SUMIF(Gifts!F$4:F$5000, A269,Gifts!B$4:B$5000), \"\")","v":""}]
[null,null,{"$f":"IF(SUMIF(Gifts!F$4:F$5000, A270,Gifts!B$4:B$5000) > 0, SUMIF(Gifts!F$4:F$5000, A270,Gifts!B$4:B$5000), \"\")","v":""}]
[null,null,{"$f":"IF(SUMIF(Gifts!F$4:F$5000, A271,Gifts!B$4:B$5000) > 0, SUMIF(Gifts!F$4:F$5000, A271,Gifts!B$4:B$5000), \"\")","v":""}]
[null,null,{"$f":"IF(SUMIF(Gifts!F$4:F$5000, A272,Gifts!B$4:B$5000) > 0, SUMIF(Gifts!F$4:F$5000, A272,Gifts!B$4:B$5000), \"\")","v":""}]
[null,null,{"$f":"IF(SUMIF(Gifts!F$4:F$5000, A273,Gifts!B$4:B$5000) > 0, SUMIF(Gifts!F$4:F$5000, A273,Gifts!B$4:B$5000), \"\")","v":""}]
[null,null,{"$f":"IF(SUMIF(Gifts!F$4:F$5000, A274,Gifts!B$4:B$5000) > 0, SUMIF(Gifts!F$4:F$5000, A274,Gifts!B$4:B$5000), \"\")","v":""}]
[null,null,{"$f":"IF(SUMIF(Gifts!F$4:F$5000, A275,Gifts!B$4:B$5000) > 0, SUMIF(Gifts!F$4:F$5000, A275,Gifts!B$4:B$5000), \"\")","v":""}]
[null,null,{"$f":"IF(SUMIF(Gifts!F$4:F$5000, A276,Gifts!B$4:B$5000) > 0, SUMIF(Gifts!F$4:F$5000, A276,Gifts!B$4:B$5000), \"\")","v":""}]
[null,null,{"$f":"IF(SUMIF(Gifts!F$4:F$5000, A277,Gifts!B$4:B$5000) > 0, SUMIF(Gifts!F$4:F$5000, A277,Gifts!B$4:B$5000), \"\")","v":""}]
[null,null,{"$f":"IF(SUMIF(Gifts!F$4:F$5000, A278,Gifts!B$4:B$5000) > 0, SUMIF(Gifts!F$4:F$5000, A278,Gifts!B$4:B$5000), \"\")","v":""}]
[null,null,{"$f":"IF(SUMIF(Gifts!F$4:F$5000, A279,Gifts!B$4:B$5000) > 0, SUMIF(Gifts!F$4:F$5000, A279,Gifts!B$4:B$5000), \"\")","v":""}]
[null,null,{"$f":"IF(SUMIF(Gifts!F$4:F$5000, A280,Gifts!B$4:B$5000) > 0, SUMIF(Gifts!F$4:F$5000, A280,Gifts!B$4:B$5000), \"\")","v":""}]
[null,null,{"$f":"IF(SUMIF(Gifts!F$4:F$5000, A281,Gifts!B$4:B$5000) > 0, SUMIF(Gifts!F$4:F$5000, A281,Gifts!B$4:B$5000), \"\")","v":""}]
[null,null,{"$f":"IF(SUMIF(Gifts!F$4:F$5000, A282,Gifts!B$4:B$5000) > 0, SUMIF(Gifts!F$4:F$5000, A282,Gifts!B$4:B$5000), \"\")","v":""}]
[null,null,{"$f":"IF(SUMIF(Gifts!F$4:F$5000, A283,Gifts!B$4:B$5000) > 0, SUMIF(Gifts!F$4:F$5000, A283,Gifts!B$4:B$5000), \"\")","v":""}]
[null,null,{"$f":"IF(SUMIF(Gifts!F$4:F$5000, A284,Gifts!B$4:B$5000) > 0, SUMIF(Gifts!F$4:F$5000, A284,Gifts!B$4:B$5000), \"\")","v":""}]
[null,null,{"$f":"IF(SUMIF(Gifts!F$4:F$5000, A285,Gifts!B$4:B$5000) > 0, SUMIF(Gifts!F$4:F$5000, A285,Gifts!B$4:B$5000), \"\")","v":""}]
[null,null,{"$f":"IF(SUMIF(Gifts!F$4:F$5000, A286,Gifts!B$4:B$5000) > 0, SUMIF(Gifts!F$4:F$5000, A286,Gifts!B$4:B$5000), \"\")","v":""}]
[null,null,{"$f":"IF(SUMIF(Gifts!F$4:F$5000, A287,Gifts!B$4:B$5000) > 0, SUMIF(Gifts!F$4:F$5000, A287,Gifts!B$4:B$5000), \"\")","v":""}]
[null,null,{"$f":"IF(SUMIF(Gifts!F$4:F$5000, A288,Gifts!B$4:B$5000) > 0, SUMIF(Gifts!F$4:F$5000, A288,Gifts!B$4:B$5000), \"\")","v":""}]
[null,null,{"$f":"IF(SUMIF(Gifts!F$4:F$5000, A289,Gifts!B$4:B$5000) > 0, SUMIF(Gifts!F$4:F$5000, A289,Gifts!B$4:B$5000), \"\")","v":""}]
[null,null,{"$f":"IF(SUMIF(Gifts!F$4:F$5000, A290,Gifts!B$4:B$5000) > 0, SUMIF(Gifts!F$4:F$5000, A290,Gifts!B$4:B$5000), \"\")","v":""}]
[null,null,{"$f":"IF(SUMIF(Gifts!F$4:F$5000, A291,Gifts!B$4:B$5000) > 0, SUMIF(Gifts!F$4:F$5000, A291,Gifts!B$4:B$5000), \"\")","v":""}]
[null,null,{"$f":"IF(SUMIF(Gifts!F$4:F$5000, A292,Gifts!B$4:B$5000) > 0, SUMIF(Gifts!F$4:F$5000, A292,Gifts!B$4:B$5000), \"\")","v":""}]
[null,null,{"$f":"IF(SUMIF(Gifts!F$4:F$5000, A293,Gifts!B$4:B$5000) > 0, SUMIF(Gifts!F$4:F$5000, A293,Gifts!B$4:B$5000), \"\")","v":""}]
[null,null,{"$f":"IF(SUMIF(Gifts!F$4:F$5000, A294,Gifts!B$4:B$5000) > 0, SUMIF(Gifts!F$4:F$5000, A294,Gifts!B$4:B$5000), \"\")","v":""}]
[null,null,{"$f":"IF(SUMIF(Gifts!F$4:F$5000, A295,Gifts!B$4:B$5000) > 0, SUMIF(Gifts!F$4:F$5000, A295,Gifts!B$4:B$5000), \"\")","v":""}]
[null,null,{"$f":"IF(SUMIF(Gifts!F$4:F$5000, A296,Gifts!B$4:B$5000) > 0, SUMIF(Gifts!F$4:F$5000, A296,Gifts!B$4:B$5000), \"\")","v":""}]
[null,null,{"$f":"IF(SUMIF(Gifts!F$4:F$5000, A297,Gifts!B$4:B$5000) > 0, SUMIF(Gifts!F$4:F$5000, A297,Gifts!B$4:B$5000), \"\")","v":""}]
[null,null,{"$f":"IF(SUMIF(Gifts!F$4:F$5000, A298,Gifts!B$4:B$5000) > 0, SUMIF(Gifts!F$4:F$5000, A298,Gifts!B$4:B$5000), \"\")","v":""}]
[null,null,{"$f":"IF(SUMIF(Gifts!F$4:F$5000, A299,Gifts!B$4:B$5000) > 0, SUMIF(Gifts!F$4:F$5000, A299,Gifts!B$4:B$5000), \"\")","v":""}]
[null,null,{"$f":"IF(SUMIF(Gifts!F$4:F$5000, A300,Gifts!B$4:B$5000) > 0, SUMIF(Gifts!F$4:F$5000, A300,Gifts!B$4:B$5000), \"\")","v":""}]
[null,null,{"$f":"IF(SUMIF(Gifts!F$4:F$5000, A301,Gifts!B$4:B$5000) > 0, SUMIF(Gifts!F$4:F$5000, A301,Gifts!B$4:B$5000), \"\")","v":""}]
[null,null,{"$f":"IF(SUMIF(Gifts!F$4:F$5000, A302,Gifts!B$4:B$5000) > 0, SUMIF(Gifts!F$4:F$5000, A302,Gifts!B$4:B$5000), \"\")","v":""}]
[null,null,{"$f":"IF(SUMIF(Gifts!F$4:F$5000, A303,Gifts!B$4:B$5000) > 0, SUMIF(Gifts!F$4:F$5000, A303,Gifts!B$4:B$5000), \"\")","v":""}]
[null,null,{"$f":"IF(SUMIF(Gifts!F$4:F$5000, A304,Gifts!B$4:B$5000) > 0, SUMIF(Gifts!F$4:F$5000, A304,Gifts!B$4:B$5000), \"\")","v":""}]
[null,null,{"$f":"IF(SUMIF(Gifts!F$4:F$5000, A305,Gifts!B$4:B$5000) > 0, SUMIF(Gifts!F$4:F$5000, A305,Gifts!B$4:B$5000), \"\")","v":""}]
[null,null,{"$f":"IF(SUMIF(Gifts!F$4:F$5000, A306,Gifts!B$4:B$5000) > 0, SUMIF(Gifts!F$4:F$5000, A306,Gifts!B$4:B$5000), \"\")","v":""}]
[null,null,{"$f":"IF(SUMIF(Gifts!F$4:F$5000, A307,Gifts!B$4:B$5000) > 0, SUMIF(Gifts!F$4:F$5000, A307,Gifts!B$4:B$5000), \"\")","v":""}]
[null,null,{"$f":"IF(SUMIF(Gifts!F$4:F$5000, A308,Gifts!B$4:B$5000) > 0, SUMIF(Gifts!F$4:F$5000, A308,Gifts!B$4:B$5000), \"\")","v":""}]
[null,null,{"$f":"IF(SUMIF(Gifts!F$4:F$5000, A309,Gifts!B$4:B$5000) > 0, SUMIF(Gifts!F$4:F$5000, A309,Gifts!B$4:B$5000), \"\")","v":""}]
[null,null,{"$f":"IF(SUMIF(Gifts!F$4:F$5000, A310,Gifts!B$4:B$5000) > 0, SUMIF(Gifts!F$4:F$5000, A310,Gifts!B$4:B$5000), \"\")","v":""}]
[null,null,{"$f":"IF(SUMIF(Gifts!F$4:F$5000, A311,Gifts!B$4:B$5000) > 0, SUMIF(Gifts!F$4:F$5000, A311,Gifts!B$4:B$5000), \"\")","v":""}]
[null,null,{"$f":"IF(SUMIF(Gifts!F$4:F$5000, A312,Gifts!B$4:B$5000) > 0, SUMIF(Gifts!F$4:F$5000, A312,Gifts!B$4:B$5000), \"\")","v":""}]
[null,null,{"$f":"IF(SUMIF(Gifts!F$4:F$5000, A313,Gifts!B$4:B$5000) > 0, SUMIF(Gifts!F$4:F$5000, A313,Gifts!B$4:B$5000), \"\")","v":""}]
[null,null,{"$f":"IF(SUMIF(Gifts!F$4:F$5000, A314,Gifts!B$4:B$5000) > 0, SUMIF(Gifts!F$4:F$5000, A314,Gifts!B$4:B$5000), \"\")","v":""}]
[null,null,{"$f":"IF(SUMIF(Gifts!F$4:F$5000, A315,Gifts!B$4:B$5000) > 0, SUMIF(Gifts!F$4:F$5000, A315,Gifts!B$4:B$5000), \"\")","v":""}]
[null,null,{"$f":"IF(SUMIF(Gifts!F$4:F$5000, A316,Gifts!B$4:B$5000) > 0, SUMIF(Gifts!F$4:F$5000, A316,Gifts!B$4:B$5000), \"\")","v":""}]
[null,null,{"$f":"IF(SUMIF(Gifts!F$4:F$5000, A317,Gifts!B$4:B$5000) > 0, SUMIF(Gifts!F$4:F$5000, A317,Gifts!B$4:B$5000), \"\")","v":""}]
[null,null,{"$f":"IF(SUMIF(Gifts!F$4:F$5000, A318,Gifts!B$4:B$5000) > 0, SUMIF(Gifts!F$4:F$5000, A318,Gifts!B$4:B$5000), \"\")","v":""}]
[null,null,{"$f":"IF(SUMIF(Gifts!F$4:F$5000, A319,Gifts!B$4:B$5000) > 0, SUMIF(Gifts!F$4:F$5000, A319,Gifts!B$4:B$5000), \"\")","v":""}]
[null,null,{"$f":"IF(SUMIF(Gifts!F$4:F$5000, A320,Gifts!B$4:B$5000) > 0, SUMIF(Gifts!F$4:F$5000, A320,Gifts!B$4:B$5000), \"\")","v":""}]
[null,null,{"$f":"IF(SUMIF(Gifts!F$4:F$5000, A321,Gifts!B$4:B$5000) > 0, SUMIF(Gifts!F$4:F$5000, A321,Gifts!B$4:B$5000), \"\")","v":""}]
[null,null,{"$f":"IF(SUMIF(Gifts!F$4:F$5000, A322,Gifts!B$4:B$5000) > 0, SUMIF(Gifts!F$4:F$5000, A322,Gifts!B$4:B$5000), \"\")","v":""}]
[null,null,{"$f":"IF(SUMIF(Gifts!F$4:F$5000, A323,Gifts!B$4:B$5000) > 0, SUMIF(Gifts!F$4:F$5000, A323,Gifts!B$4:B$5000), \"\")","v":""}]
[null,null,{"$f":"IF(SUMIF(Gifts!F$4:F$5000, A324,Gifts!B$4:B$5000) > 0, SUMIF(Gifts!F$4:F$5000, A324,Gifts!B$4:B$5000), \"\")","v":""}]
[null,null,{"$f":"IF(SUMIF(Gifts!F$4:F$5000, A325,Gifts!B$4:B$5000) > 0, SUMIF(Gifts!F$4:F$5000, A325,Gifts!B$4:B$5000), \"\")","v":""}]
[null,null,{"$f":"IF(SUMIF(Gifts!F$4:F$5000, A326,Gifts!B$4:B$5000) > 0, SUMIF(Gifts!F$4:F$5000, A326,Gifts!B$4:B$5000), \"\")","v":""}]
[null,null,{"$f":"IF(SUMIF(Gifts!F$4:F$5000, A327,Gifts!B$4:B$5000) > 0, SUMIF(Gifts!F$4:F$5000, A327,Gifts!B$4:B$5000), \"\")","v":""}]
[null,null,{"$f":"IF(SUMIF(Gifts!F$4:F$5000, A328,Gifts!B$4:B$5000) > 0, SUMIF(Gifts!F$4:F$5000, A328,Gifts!B$4:B$5000), \"\")","v":""}]
[null,null,{"$f":"IF(SUMIF(Gifts!F$4:F$5000, A329,Gifts!B$4:B$5000) > 0, SUMIF(Gifts!F$4:F$5000, A329,Gifts!B$4:B$5000), \"\")","v":""}]
[null,null,{"$f":"IF(SUMIF(Gifts!F$4:F$5000, A330,Gifts!B$4:B$5000) > 0, SUMIF(Gifts!F$4:F$5000, A330,Gifts!B$4:B$5000), \"\")","v":""}]
[null,null,{"$f":"IF(SUMIF(Gifts!F$4:F$5000, A331,Gifts!B$4:B$5000) > 0, SUMIF(Gifts!F$4:F$5000, A331,Gifts!B$4:B$5000), \"\")","v":""}]
[null,null,{"$f":"IF(SUMIF(Gifts!F$4:F$5000, A332,Gifts!B$4:B$5000) > 0, SUMIF(Gifts!F$4:F$5000, A332,Gifts!B$4:B$5000), \"\")","v":""}]
[null,null,{"$f":"IF(SUMIF(Gifts!F$4:F$5000, A333,Gifts!B$4:B$5000) > 0, SUMIF(Gifts!F$4:F$5000, A333,Gifts!B$4:B$5000), \"\")","v":""}]
[null,null,{"$f":"IF(SUMIF(Gifts!F$4:F$5000, A334,Gifts!B$4:B$5000) > 0, SUMIF(Gifts!F$4:F$5000, A334,Gifts!B$4:B$5000), \"\")","v":""}]
[null,null,{"$f":"IF(SUMIF(Gifts!F$4:F$5000, A335,Gifts!B$4:B$5000) > 0, SUMIF(Gifts!F$4:F$5000, A335,Gifts!B$4:B$5000), \"\")","v":""}]
[null,null,{"$f":"IF(SUMIF(Gifts!F$4:F$5000, A336,Gifts!B$4:B$5000) > 0, SUMIF(Gifts!F$4:F$5000, A336,Gifts!B$4:B$5000), \"\")","v":""}]
[null,null,{"$f":"IF(SUMIF(Gifts!F$4:F$5000, A337,Gifts!B$4:B$5000) > 0, SUMIF(Gifts!F$4:F$5000, A337,Gifts!B$4:B$5000), \"\")","v":""}]
[null,null,{"$f":"IF(SUMIF(Gifts!F$4:F$5000, A338,Gifts!B$4:B$5000) > 0, SUMIF(Gifts!F$4:F$5000, A338,Gifts!B$4:B$5000), \"\")","v":""}]
[null,null,{"$f":"IF(SUMIF(Gifts!F$4:F$5000, A339,Gifts!B$4:B$5000) > 0, SUMIF(Gifts!F$4:F$5000, A339,Gifts!B$4:B$5000), \"\")","v":""}]
[null,null,{"$f":"IF(SUMIF(Gifts!F$4:F$5000, A340,Gifts!B$4:B$5000) > 0, SUMIF(Gifts!F$4:F$5000, A340,Gifts!B$4:B$5000), \"\")","v":""}]
[null,null,{"$f":"IF(SUMIF(Gifts!F$4:F$5000, A341,Gifts!B$4:B$5000) > 0, SUMIF(Gifts!F$4:F$5000, A341,Gifts!B$4:B$5000), \"\")","v":""}]
[null,null,{"$f":"IF(SUMIF(Gifts!F$4:F$5000, A342,Gifts!B$4:B$5000) > 0, SUMIF(Gifts!F$4:F$5000, A342,Gifts!B$4:B$5000), \"\")","v":""}]
[null,null,{"$f":"IF(SUMIF(Gifts!F$4:F$5000, A343,Gifts!B$4:B$5000) > 0, SUMIF(Gifts!F$4:F$5000, A343,Gifts!B$4:B$5000), \"\")","v":""}]
[null,null,{"$f":"IF(SUMIF(Gifts!F$4:F$5000, A344,Gifts!B$4:B$5000) > 0, SUMIF(Gifts!F$4:F$5000, A344,Gifts!B$4:B$5000), \"\")","v":""}]
[null,null,{"$f":"IF(SUMIF(Gifts!F$4:F$5000, A345,Gifts!B$4:B$5000) > 0, SUMIF(Gifts!F$4:F$5000, A345,Gifts!B$4:B$5000), \"\")","v":""}]
[null,null,{"$f":"IF(SUMIF(Gifts!F$4:F$5000, A346,Gifts!B$4:B$5000) > 0, SUMIF(Gifts!F$4:F$5000, A346,Gifts!B$4:B$5000), \"\")","v":""}]
[null,null,{"$f":"IF(SUMIF(Gifts!F$4:F$5000, A347,Gifts!B$4:B$5000) > 0, SUMIF(Gifts!F$4:F$5000, A347,Gifts!B$4:B$5000), \"\")","v":""}]
[null,null,{"$f":"IF(SUMIF(Gifts!F$4:F$5000, A348,Gifts!B$4:B$5000) > 0, SUMIF(Gifts!F$4:F$5000, A348,Gifts!B$4:B$5000), \"\")","v":""}]
[null,null,{"$f":"IF(SUMIF(Gifts!F$4:F$5000, A349,Gifts!B$4:B$5000) > 0, SUMIF(Gifts!F$4:F$5000, A349,Gifts!B$4:B$5000), \"\")","v":""}]
[null,null,{"$f":"IF(SUMIF(Gifts!F$4:F$5000, A350,Gifts!B$4:B$5000) > 0, SUMIF(Gifts!F$4:F$5000, A350,Gifts!B$4:B$5000), \"\")","v":""}]
[null,null,{"$f":"IF(SUMIF(Gifts!F$4:F$5000, A351,Gifts!B$4:B$5000) > 0, SUMIF(Gifts!F$4:F$5000, A351,Gifts!B$4:B$5000), \"\")","v":""}]
[null,null,{"$f":"IF(SUMIF(Gifts!F$4:F$5000, A352,Gifts!B$4:B$5000) > 0, SUMIF(Gifts!F$4:F$5000, A352,Gifts!B$4:B$5000), \"\")","v":""}]
[null,null,{"$f":"IF(SUMIF(Gifts!F$4:F$5000, A353,Gifts!B$4:B$5000) > 0, SUMIF(Gifts!F$4:F$5000, A353,Gifts!B$4:B$5000), \"\")","v":""}]
[null,null,{"$f":"IF(SUMIF(Gifts!F$4:F$5000, A354,Gifts!B$4:B$5000) > 0, SUMIF(Gifts!F$4:F$5000, A354,Gifts!B$4:B$5000), \"\")","v":""}]
[null,null,{"$f":"IF(SUMIF(Gifts!F$4:F$5000, A355,Gifts!B$4:B$5000) > 0, SUMIF(Gifts!F$4:F$5000, A355,Gifts!B$4:B$5000), \"\")","v":""}]
[null,null,{"$f":"IF(SUMIF(Gifts!F$4:F$5000, A356,Gifts!B$4:B$5000) > 0, SUMIF(Gifts!F$4:F$5000, A356,Gifts!B$4:B$5000), \"\")","v":""}]
[null,null,{"$f":"IF(SUMIF(Gifts!F$4:F$5000, A357,Gifts!B$4:B$5000) > 0, SUMIF(Gifts!F$4:F$5000, A357,Gifts!B$4:B$5000), \"\")","v":""}]
[null,null,{"$f":"IF(SUMIF(Gifts!F$4:F$5000, A358,Gifts!B$4:B$5000) > 0, SUMIF(Gifts!F$4:F$5000, A358,Gifts!B$4:B$5000), \"\")","v":""}]
[null,null,{"$f":"IF(SUMIF(Gifts!F$4:F$5000, A359,Gifts!B$4:B$5000) > 0, SUMIF(Gifts!F$4:F$5000, A359,Gifts!B$4:B$5000), \"\")","v":""}]
[null,null,{"$f":"IF(SUMIF(Gifts!F$4:F$5000, A360,Gifts!B$4:B$5000) > 0, SUMIF(Gifts!F$4:F$5000, A360,Gifts!B$4:B$5000), \"\")","v":""}]
[null,null,{"$f":"IF(SUMIF(Gifts!F$4:F$5000, A361,Gifts!B$4:B$5000) > 0, SUMIF(Gifts!F$4:F$5000, A361,Gifts!B$4:B$5000), \"\")","v":""}]
[null,null,{"$f":"IF(SUMIF(Gifts!F$4:F$5000, A362,Gifts!B$4:B$5000) > 0, SUMIF(Gifts!F$4:F$5000, A362,Gifts!B$4:B$5000), \"\")","v":""}]
[null,null,{"$f":"IF(SUMIF(Gifts!F$4:F$5000, A363,Gifts!B$4:B$5000) > 0, SUMIF(Gifts!F$4:F$5000, A363,Gifts!B$4:B$5000), \"\")","v":""}]
[null,null,{"$f":"IF(SUMIF(Gifts!F$4:F$5000, A364,Gifts!B$4:B$5000) > 0, SUMIF(Gifts!F$4:F$5000, A364,Gifts!B$4:B$5000), \"\")","v":""}]
[null,null,{"$f":"IF(SUMIF(Gifts!F$4:F$5000, A365,Gifts!B$4:B$5000) > 0, SUMIF(Gifts!F$4:F$5000, A365,Gifts!B$4:B$5000), \"\")","v":""}]
[null,null,{"$f":"IF(SUMIF(Gifts!F$4:F$5000, A366,Gifts!B$4:B$5000) > 0, SUMIF(Gifts!F$4:F$5000, A366,Gifts!B$4:B$5000), \"\")","v":""}]
[null,null,{"$f":"IF(SUMIF(Gifts!F$4:F$5000, A367,Gifts!B$4:B$5000) > 0, SUMIF(Gifts!F$4:F$5000, A367,Gifts!B$4:B$5000), \"\")","v":""}]
[null,null,{"$f":"IF(SUMIF(Gifts!F$4:F$5000, A368,Gifts!B$4:B$5000) > 0, SUMIF(Gifts!F$4:F$5000, A368,Gifts!B$4:B$5000), \"\")","v":""}]
[null,null,{"$f":"IF(SUMIF(Gifts!F$4:F$5000, A369,Gifts!B$4:B$5000) > 0, SUMIF(Gifts!F$4:F$5000, A369,Gifts!B$4:B$5000), \"\")","v":""}]
[null,null,{"$f":"IF(SUMIF(Gifts!F$4:F$5000, A370,Gifts!B$4:B$5000) > 0, SUMIF(Gifts!F$4:F$5000, A370,Gifts!B$4:B$5000), \"\")","v":""}]
[null,null,{"$f":"IF(SUMIF(Gifts!F$4:F$5000, A371,Gifts!B$4:B$5000) > 0, SUMIF(Gifts!F$4:F$5000, A371,Gifts!B$4:B$5000), \"\")","v":""}]
[null,null,{"$f":"IF(SUMIF(Gifts!F$4:F$5000, A372,Gifts!B$4:B$5000) > 0, SUMIF(Gifts!F$4:F$5000, A372,Gifts!B$4:B$5000), \"\")","v":""}]
[null,null,{"$f":"IF(SUMIF(Gifts!F$4:F$5000, A373,Gifts!B$4:B$5000) > 0, SUMIF(Gifts!F$4:F$5000, A373,Gifts!B$4:B$5000), \"\")","v":""}]
[null,null,{"$f":"IF(SUMIF(Gifts!F$4:F$5000, A374,Gifts!B$4:B$5000) > 0, SUMIF(Gifts!F$4:F$5000, A374,Gifts!B$4:B$5000), \"\")","v":""}]
[null,null,{"$f":"IF(SUMIF(Gifts!F$4:F$5000, A375,Gifts!B$4:B$5000) > 0, SUMIF(Gifts!F$4:F$5000, A375,Gifts!B$4:B$5000), \"\")","v":""}]
[null,null,{"$f":"IF(SUMIF(Gifts!F$4:F$5000, A376,Gifts!B$4:B$5000) > 0, SUMIF(Gifts!F$4:F$5000, A376,Gifts!B$4:B$5000), \"\")","v":""}]
[null,null,{"$f":"IF(SUMIF(Gifts!F$4:F$5000, A377,Gifts!B$4:B$5000) > 0, SUMIF(Gifts!F$4:F$5000, A377,Gifts!B$4:B$5000), \"\")","v":""}]
[null,null,{"$f":"IF(SUMIF(Gifts!F$4:F$5000, A378,Gifts!B$4:B$5000) > 0, SUMIF(Gifts!F$4:F$5000, A378,Gifts!B$4:B$5000), \"\")","v":""}]
[null,null,{"$f":"IF(SUMIF(Gifts!F$4:F$5000, A379,Gifts!B$4:B$5000) > 0, SUMIF(Gifts!F$4:F$5000, A379,Gifts!B$4:B$5000), \"\")","v":""}]
[null,null,{"$f":"IF(SUMIF(Gifts!F$4:F$5000, A380,Gifts!B$4:B$5000) > 0, SUMIF(Gifts!F$4:F$5000, A380,Gifts!B$4:B$5000), \"\")","v":""}]
[null,null,{"$f":"IF(SUMIF(Gifts!F$4:F$5000, A381,Gifts!B$4:B$5000) > 0, SUMIF(Gifts!F$4:F$5000, A381,Gifts!B$4:B$5000), \"\")","v":""}]
[null,null,{"$f":"IF(SUMIF(Gifts!F$4:F$5000, A382,Gifts!B$4:B$5000) > 0, SUMIF(Gifts!F$4:F$5000, A382,Gifts!B$4:B$5000), \"\")","v":""}]
[null,null,{"$f":"IF(SUMIF(Gifts!F$4:F$5000, A383,Gifts!B$4:B$5000) > 0, SUMIF(Gifts!F$4:F$5000, A383,Gifts!B$4:B$5000), \"\")","v":""}]
[null,null,{"$f":"IF(SUMIF(Gifts!F$4:F$5000, A384,Gifts!B$4:B$5000) > 0, SUMIF(Gifts!F$4:F$5000, A384,Gifts!B$4:B$5000), \"\")","v":""}]
[null,null,{"$f":"IF(SUMIF(Gifts!F$4:F$5000, A385,Gifts!B$4:B$5000) > 0, SUMIF(Gifts!F$4:F$5000, A385,Gifts!B$4:B$5000), \"\")","v":""}]
[null,null,{"$f":"IF(SUMIF(Gifts!F$4:F$5000, A386,Gifts!B$4:B$5000) > 0, SUMIF(Gifts!F$4:F$5000, A386,Gifts!B$4:B$5000), \"\")","v":""}]
[null,null,{"$f":"IF(SUMIF(Gifts!F$4:F$5000, A387,Gifts!B$4:B$5000) > 0, SUMIF(Gifts!F$4:F$5000, A387,Gifts!B$4:B$5000), \"\")","v":""}]
[null,null,{"$f":"IF(SUMIF(Gifts!F$4:F$5000, A388,Gifts!B$4:B$5000) > 0, SUMIF(Gifts!F$4:F$5000, A388,Gifts!B$4:B$5000), \"\")","v":""}]
[null,null,{"$f":"IF(SUMIF(Gifts!F$4:F$5000, A389,Gifts!B$4:B$5000) > 0, SUMIF(Gifts!F$4:F$5000, A389,Gifts!B$4:B$5000), \"\")","v":""}]
[null,null,{"$f":"IF(SUMIF(Gifts!F$4:F$5000, A390,Gifts!B$4:B$5000) > 0, SUMIF(Gifts!F$4:F$5000, A390,Gifts!B$4:B$5000), \"\")","v":""}]
[null,null,{"$f":"IF(SUMIF(Gifts!F$4:F$5000, A391,Gifts!B$4:B$5000) > 0, SUMIF(Gifts!F$4:F$5000, A391,Gifts!B$4:B$5000), \"\")","v":""}]
[null,null,{"$f":"IF(SUMIF(Gifts!F$4:F$5000, A392,Gifts!B$4:B$5000) > 0, SUMIF(Gifts!F$4:F$5000, A392,Gifts!B$4:B$5000), \"\")","v":""}]
[null,null,{"$f":"IF(SUMIF(Gifts!F$4:F$5000, A393,Gifts!B$4:B$5000) > 0, SUMIF(Gifts!F$4:F$5000, A393,Gifts!B$4:B$5000), \"\")","v":""}]
[null,null,{"$f":"IF(SUMIF(Gifts!F$4:F$5000, A394,Gifts!B$4:B$5000) > 0, SUMIF(Gifts!F$4:F$5000, A394,Gifts!B$4:B$5000), \"\")","v":""}]
[null,null,{"$f":"IF(SUMIF(Gifts!F$4:F$5000, A395,Gifts!B$4:B$5000) > 0, SUMIF(Gifts!F$4:F$5000, A395,Gifts!B$4:B$5000), \"\")","v":""}]
[null,null,{"$f":"IF(SUMIF(Gifts!F$4:F$5000, A396,Gifts!B$4:B$5000) > 0, SUMIF(Gifts!F$4:F$5000, A396,Gifts!B$4:B$5000), \"\")","v":""}]
[null,null,{"$f":"IF(SUMIF(Gifts!F$4:F$5000, A397,Gifts!B$4:B$5000) > 0, SUMIF(Gifts!F$4:F$5000, A397,Gifts!B$4:B$5000), \"\")","v":""}]
[null,null,{"$f":"IF(SUMIF(Gifts!F$4:F$5000, A398,Gifts!B$4:B$5000) > 0, SUMIF(Gifts!F$4:F$5000, A398,Gifts!B$4:B$5000), \"\")","v":""}]
[null,null,{"$f":"IF(SUMIF(Gifts!F$4:F$5000, A399,Gifts!B$4:B$5000) > 0, SUMIF(Gifts!F$4:F$5000, A399,Gifts!B$4:B$5000), \"\")","v":""}]
[null,null,{"$f":"IF(SUMIF(Gifts!F$4:F$5000, A400,Gifts!B$4:B$5000) > 0, SUMIF(Gifts!F$4:F$5000, A400,Gifts!B$4:B$5000), \"\")","v":""}]
[null,null,{"$f":"IF(SUMIF(Gifts!F$4:F$5000, A401,Gifts!B$4:B$5000) > 0, SUMIF(Gifts!F$4:F$5000, A401,Gifts!B$4:B$5000), \"\")","v":""}]
[null,null,{"$f":"IF(SUMIF(Gifts!F$4:F$5000, A402,Gifts!B$4:B$5000) > 0, SUMIF(Gifts!F$4:F$5000, A402,Gifts!B$4:B$5000), \"\")","v":""}]
[null,null,{"$f":"IF(SUMIF(Gifts!F$4:F$5000, A403,Gifts!B$4:B$5000) > 0, SUMIF(Gifts!F$4:F$5000, A403,Gifts!B$4:B$5000), \"\")","v":""}]
[null,null,{"$f":"IF(SUMIF(Gifts!F$4:F$5000, A404,Gifts!B$4:B$5000) > 0, SUMIF(Gifts!F$4:F$5000, A404,Gifts!B$4:B$5000), \"\")","v":""}]
[null,null,{"$f":"IF(SUMIF(Gifts!F$4:F$5000, A405,Gifts!B$4:B$5000) > 0, SUMIF(Gifts!F$4:F$5000, A405,Gifts!B$4:B$5000), \"\")","v":""}]
[null,null,{"$f":"IF(SUMIF(Gifts!F$4:F$5000, A406,Gifts!B$4:B$5000) > 0, SUMIF(Gifts!F$4:F$5000, A406,Gifts!B$4:B$5000), \"\")","v":""}]
[null,null,{"$f":"IF(SUMIF(Gifts!F$4:F$5000, A407,Gifts!B$4:B$5000) > 0, SUMIF(Gifts!F$4:F$5000, A407,Gifts!B$4:B$5000), \"\")","v":""}]
[null,null,{"$f":"IF(SUMIF(Gifts!F$4:F$5000, A408,Gifts!B$4:B$5000) > 0, SUMIF(Gifts!F$4:F$5000, A408,Gifts!B$4:B$5000), \"\")","v":""}]
[null,null,{"$f":"IF(SUMIF(Gifts!F$4:F$5000, A409,Gifts!B$4:B$5000) > 0, SUMIF(Gifts!F$4:F$5000, A409,Gifts!B$4:B$5000), \"\")","v":""}]
[null,null,{"$f":"IF(SUMIF(Gifts!F$4:F$5000, A410,Gifts!B$4:B$5000) > 0, SUMIF(Gifts!F$4:F$5000, A410,Gifts!B$4:B$5000), \"\")","v":""}]
[null,null,{"$f":"IF(SUMIF(Gifts!F$4:F$5000, A411,Gifts!B$4:B$5000) > 0, SUMIF(Gifts!F$4:F$5000, A411,Gifts!B$4:B$5000), \"\")","v":""}]
[null,null,{"$f":"IF(SUMIF(Gifts!F$4:F$5000, A412,Gifts!B$4:B$5000) > 0, SUMIF(Gifts!F$4:F$5000, A412,Gifts!B$4:B$5000), \"\")","v":""}]
[null,null,{"$f":"IF(SUMIF(Gifts!F$4:F$5000, A413,Gifts!B$4:B$5000) > 0, SUMIF(Gifts!F$4:F$5000, A413,Gifts!B$4:B$5000), \"\")","v":""}]
[null,null,{"$f":"IF(SUMIF(Gifts!F$4:F$5000, A414,Gifts!B$4:B$5000) > 0, SUMIF(Gifts!F$4:F$5000, A414,Gifts!B$4:B$5000), \"\")","v":""}]
[null,null,{"$f":"IF(SUMIF(Gifts!F$4:F$5000, A415,Gifts!B$4:B$5000) > 0, SUMIF(Gifts!F$4:F$5000, A415,Gifts!B$4:B$5000), \"\")","v":""}]
[null,null,{"$f":"IF(SUMIF(Gifts!F$4:F$5000, A416,Gifts!B$4:B$5000) > 0, SUMIF(Gifts!F$4:F$5000, A416,Gifts!B$4:B$5000), \"\")","v":""}]
[null,null,{"$f":"IF(SUMIF(Gifts!F$4:F$5000, A417,Gifts!B$4:B$5000) > 0, SUMIF(Gifts!F$4:F$5000, A417,Gifts!B$4:B$5000), \"\")","v":""}]
[null,null,{"$f":"IF(SUMIF(Gifts!F$4:F$5000, A418,Gifts!B$4:B$5000) > 0, SUMIF(Gifts!F$4:F$5000, A418,Gifts!B$4:B$5000), \"\")","v":""}]
[null,null,{"$f":"IF(SUMIF(Gifts!F$4:F$5000, A419,Gifts!B$4:B$5000) > 0, SUMIF(Gifts!F$4:F$5000, A419,Gifts!B$4:B$5000), \"\")","v":""}]
[null,null,{"$f":"IF(SUMIF(Gifts!F$4:F$5000, A420,Gifts!B$4:B$5000) > 0, SUMIF(Gifts!F$4:F$5000, A420,Gifts!B$4:B$5000), \"\")","v":""}]
[null,null,{"$f":"IF(SUMIF(Gifts!F$4:F$5000, A421,Gifts!B$4:B$5000) > 0, SUMIF(Gifts!F$4:F$5000, A421,Gifts!B$4:B$5000), \"\")","v":""}]
[null,null,{"$f":"IF(SUMIF(Gifts!F$4:F$5000, A422,Gifts!B$4:B$5000) > 0, SUMIF(Gifts!F$4:F$5000, A422,Gifts!B$4:B$5000), \"\")","v":""}]
[null,null,{"$f":"IF(SUMIF(Gifts!F$4:F$5000, A423,Gifts!B$4:B$5000) > 0, SUMIF(Gifts!F$4:F$5000, A423,Gifts!B$4:B$5000), \"\")","v":""}]
[null,null,{"$f":"IF(SUMIF(Gifts!F$4:F$5000, A424,Gifts!B$4:B$5000) > 0, SUMIF(Gifts!F$4:F$5000, A424,Gifts!B$4:B$5000), \"\")","v":""}]
[null,null,{"$f":"IF(SUMIF(Gifts!F$4:F$5000, A425,Gifts!B$4:B$5000) > 0, SUMIF(Gifts!F$4:F$5000, A425,Gifts!B$4:B$5000), \"\")","v":""}]
[null,null,{"$f":"IF(SUMIF(Gifts!F$4:F$5000, A426,Gifts!B$4:B$5000) > 0, SUMIF(Gifts!F$4:F$5000, A426,Gifts!B$4:B$5000), \"\")","v":""}]
[null,null,{"$f":"IF(SUMIF(Gifts!F$4:F$5000, A427,Gifts!B$4:B$5000) > 0, SUMIF(Gifts!F$4:F$5000, A427,Gifts!B$4:B$5000), \"\")","v":""}]
[null,null,{"$f":"IF(SUMIF(Gifts!F$4:F$5000, A428,Gifts!B$4:B$5000) > 0, SUMIF(Gifts!F$4:F$5000, A428,Gifts!B$4:B$5000), \"\")","v":""}]
[null,null,{"$f":"IF(SUMIF(Gifts!F$4:F$5000, A429,Gifts!B$4:B$5000) > 0, SUMIF(Gifts!F$4:F$5000, A429,Gifts!B$4:B$5000), \"\")","v":""}]
[null,null,{"$f":"IF(SUMIF(Gifts!F$4:F$5000, A430,Gifts!B$4:B$5000) > 0, SUMIF(Gifts!F$4:F$5000, A430,Gifts!B$4:B$5000), \"\")","v":""}]
[null,null,{"$f":"IF(SUMIF(Gifts!F$4:F$5000, A431,Gifts!B$4:B$5000) > 0, SUMIF(Gifts!F$4:F$5000, A431,Gifts!B$4:B$5000), \"\")","v":""}]
[null,null,{"$f":"IF(SUMIF(Gifts!F$4:F$5000, A432,Gifts!B$4:B$5000) > 0, SUMIF(Gifts!F$4:F$5000, A432,Gifts!B$4:B$5000), \"\")","v":""}]
[null,null,{"$f":"IF(SUMIF(Gifts!F$4:F$5000, A433,Gifts!B$4:B$5000) > 0, SUMIF(Gifts!F$4:F$5000, A433,Gifts!B$4:B$5000), \"\")","v":""}]
[null,null,{"$f":"IF(SUMIF(Gifts!F$4:F$5000, A434,Gifts!B$4:B$5000) > 0, SUMIF(Gifts!F$4:F$5000, A434,Gifts!B$4:B$5000), \"\")","v":""}]
[null,null,{"$f":"IF(SUMIF(Gifts!F$4:F$5000, A435,Gifts!B$4:B$5000) > 0, SUMIF(Gifts!F$4:F$5000, A435,Gifts!B$4:B$5000), \"\")","v":""}]
[null,null,{"$f":"IF(SUMIF(Gifts!F$4:F$5000, A436,Gifts!B$4:B$5000) > 0, SUMIF(Gifts!F$4:F$5000, A436,Gifts!B$4:B$5000), \"\")","v":""}]
[null,null,{"$f":"IF(SUMIF(Gifts!F$4:F$5000, A437,Gifts!B$4:B$5000) > 0, SUMIF(Gifts!F$4:F$5000, A437,Gifts!B$4:B$5000), \"\")","v":""}]
[null,null,{"$f":"IF(SUMIF(Gifts!F$4:F$5000, A438,Gifts!B$4:B$5000) > 0, SUMIF(Gifts!F$4:F$5000, A438,Gifts!B$4:B$5000), \"\")","v":""}]
[null,null,{"$f":"IF(SUMIF(Gifts!F$4:F$5000, A439,Gifts!B$4:B$5000) > 0, SUMIF(Gifts!F$4:F$5000, A439,Gifts!B$4:B$5000), \"\")","v":""}]
[null,null,{"$f":"IF(SUMIF(Gifts!F$4:F$5000, A440,Gifts!B$4:B$5000) > 0, SUMIF(Gifts!F$4:F$5000, A440,Gifts!B$4:B$5000), \"\")","v":""}]
[null,null,{"$f":"IF(SUMIF(Gifts!F$4:F$5000, A441,Gifts!B$4:B$5000) > 0, SUMIF(Gifts!F$4:F$5000, A441,Gifts!B$4:B$5000), \"\")","v":""}]
[null,null,{"$f":"IF(SUMIF(Gifts!F$4:F$5000, A442,Gifts!B$4:B$5000) > 0, SUMIF(Gifts!F$4:F$5000, A442,Gifts!B$4:B$5000), \"\")","v":""}]
[null,null,{"$f":"IF(SUMIF(Gifts!F$4:F$5000, A443,Gifts!B$4:B$5000) > 0, SUMIF(Gifts!F$4:F$5000, A443,Gifts!B$4:B$5000), \"\")","v":""}]
[null,null,{"$f":"IF(SUMIF(Gifts!F$4:F$5000, A444,Gifts!B$4:B$5000) > 0, SUMIF(Gifts!F$4:F$5000, A444,Gifts!B$4:B$5000), \"\")","v":""}]
[null,null,{"$f":"IF(SUMIF(Gifts!F$4:F$5000, A445,Gifts!B$4:B$5000) > 0, SUMIF(Gifts!F$4:F$5000, A445,Gifts!B$4:B$5000), \"\")","v":""}]
[null,null,{"$f":"IF(SUMIF(Gifts!F$4:F$5000, A446,Gifts!B$4:B$5000) > 0, SUMIF(Gifts!F$4:F$5000, A446,Gifts!B$4:B$5000), \"\")","v":""}]
[null,null,{"$f":"IF(SUMIF(Gifts!F$4:F$5000, A447,Gifts!B$4:B$5000) > 0, SUMIF(Gifts!F$4:F$5000, A447,Gifts!B$4:B$5000), \"\")","v":""}]
[null,null,{"$f":"IF(SUMIF(Gifts!F$4:F$5000, A448,Gifts!B$4:B$5000) > 0, SUMIF(Gifts!F$4:F$5000, A448,Gifts!B$4:B$5000), \"\")","v":""}]
[null,null,{"$f":"IF(SUMIF(Gifts!F$4:F$5000, A449,Gifts!B$4:B$5000) > 0, SUMIF(Gifts!F$4:F$5000, A449,Gifts!B$4:B$5000), \"\")","v":""}]
[null,null,{"$f":"IF(SUMIF(Gifts!F$4:F$5000, A450,Gifts!B$4:B$5000) > 0, SUMIF(Gifts!F$4:F$5000, A450,Gifts!B$4:B$5000), \"\")","v":""}]
[null,null,{"$f":"IF(SUMIF(Gifts!F$4:F$5000, A451,Gifts!B$4:B$5000) > 0, SUMIF(Gifts!F$4:F$5000, A451,Gifts!B$4:B$5000), \"\")","v":""}]
[null,null,{"$f":"IF(SUMIF(Gifts!F$4:F$5000, A452,Gifts!B$4:B$5000) > 0, SUMIF(Gifts!F$4:F$5000, A452,Gifts!B$4:B$5000), \"\")","v":""}]
[null,null,{"$f":"IF(SUMIF(Gifts!F$4:F$5000, A453,Gifts!B$4:B$5000) > 0, SUMIF(Gifts!F$4:F$5000, A453,Gifts!B$4:B$5000), \"\")","v":""}]
[null,null,{"$f":"IF(SUMIF(Gifts!F$4:F$5000, A454,Gifts!B$4:B$5000) > 0, SUMIF(Gifts!F$4:F$5000, A454,Gifts!B$4:B$5000), \"\")","v":""}]
[null,null,{"$f":"IF(SUMIF(Gifts!F$4:F$5000, A455,Gifts!B$4:B$5000) > 0, SUMIF(Gifts!F$4:F$5000, A455,Gifts!B$4:B$5000), \"\")","v":""}]
[null,null,{"$f":"IF(SUMIF(Gifts!F$4:F$5000, A456,Gifts!B$4:B$5000) > 0, SUMIF(Gifts!F$4:F$5000, A456,Gifts!B$4:B$5000), \"\")","v":""}]
[null,null,{"$f":"IF(SUMIF(Gifts!F$4:F$5000, A457,Gifts!B$4:B$5000) > 0, SUMIF(Gifts!F$4:F$5000, A457,Gifts!B$4:B$5000), \"\")","v":""}]
[null,null,{"$f":"IF(SUMIF(Gifts!F$4:F$5000, A458,Gifts!B$4:B$5000) > 0, SUMIF(Gifts!F$4:F$5000, A458,Gifts!B$4:B$5000), \"\")","v":""}]
[null,null,{"$f":"IF(SUMIF(Gifts!F$4:F$5000, A459,Gifts!B$4:B$5000) > 0, SUMIF(Gifts!F$4:F$5000, A459,Gifts!B$4:B$5000), \"\")","v":""}]
[null,null,{"$f":"IF(SUMIF(Gifts!F$4:F$5000, A460,Gifts!B$4:B$5000) > 0, SUMIF(Gifts!F$4:F$5000, A460,Gifts!B$4:B$5000), \"\")","v":""}]
[null,null,{"$f":"IF(SUMIF(Gifts!F$4:F$5000, A461,Gifts!B$4:B$5000) > 0, SUMIF(Gifts!F$4:F$5000, A461,Gifts!B$4:B$5000), \"\")","v":""}]
[null,null,{"$f":"IF(SUMIF(Gifts!F$4:F$5000, A462,Gifts!B$4:B$5000) > 0, SUMIF(Gifts!F$4:F$5000, A462,Gifts!B$4:B$5000), \"\")","v":""}]
[null,null,{"$f":"IF(SUMIF(Gifts!F$4:F$5000, A463,Gifts!B$4:B$5000) > 0, SUMIF(Gifts!F$4:F$5000, A463,Gifts!B$4:B$5000), \"\")","v":""}]
[null,null,{"$f":"IF(SUMIF(Gifts!F$4:F$5000, A464,Gifts!B$4:B$5000) > 0, SUMIF(Gifts!F$4:F$5000, A464,Gifts!B$4:B$5000), \"\")","v":""}]
[null,null,{"$f":"IF(SUMIF(Gifts!F$4:F$5000, A465,Gifts!B$4:B$5000) > 0, SUMIF(Gifts!F$4:F$5000, A465,Gifts!B$4:B$5000), \"\")","v":""}]
[null,null,{"$f":"IF(SUMIF(Gifts!F$4:F$5000, A466,Gifts!B$4:B$5000) > 0, SUMIF(Gifts!F$4:F$5000, A466,Gifts!B$4:B$5000), \"\")","v":""}]
[null,null,{"$f":"IF(SUMIF(Gifts!F$4:F$5000, A467,Gifts!B$4:B$5000) > 0, SUMIF(Gifts!F$4:F$5000, A467,Gifts!B$4:B$5000), \"\")","v":""}]
[null,null,{"$f":"IF(SUMIF(Gifts!F$4:F$5000, A468,Gifts!B$4:B$5000) > 0, SUMIF(Gifts!F$4:F$5000, A468,Gifts!B$4:B$5000), \"\")","v":""}]
[null,null,{"$f":"IF(SUMIF(Gifts!F$4:F$5000, A469,Gifts!B$4:B$5000) > 0, SUMIF(Gifts!F$4:F$5000, A469,Gifts!B$4:B$5000), \"\")","v":""}]
[null,null,{"$f":"IF(SUMIF(Gifts!F$4:F$5000, A470,Gifts!B$4:B$5000) > 0, SUMIF(Gifts!F$4:F$5000, A470,Gifts!B$4:B$5000), \"\")","v":""}]
[null,null,{"$f":"IF(SUMIF(Gifts!F$4:F$5000, A471,Gifts!B$4:B$5000) > 0, SUMIF(Gifts!F$4:F$5000, A471,Gifts!B$4:B$5000), \"\")","v":""}]
[null,null,{"$f":"IF(SUMIF(Gifts!F$4:F$5000, A472,Gifts!B$4:B$5000) > 0, SUMIF(Gifts!F$4:F$5000, A472,Gifts!B$4:B$5000), \"\")","v":""}]
[null,null,{"$f":"IF(SUMIF(Gifts!F$4:F$5000, A473,Gifts!B$4:B$5000) > 0, SUMIF(Gifts!F$4:F$5000, A473,Gifts!B$4:B$5000), \"\")","v":""}]
[null,null,{"$f":"IF(SUMIF(Gifts!F$4:F$5000, A474,Gifts!B$4:B$5000) > 0, SUMIF(Gifts!F$4:F$5000, A474,Gifts!B$4:B$5000), \"\")","v":""}]
[null,null,{"$f":"IF(SUMIF(Gifts!F$4:F$5000, A475,Gifts!B$4:B$5000) > 0, SUMIF(Gifts!F$4:F$5000, A475,Gifts!B$4:B$5000), \"\")","v":""}]
[null,null,{"$f":"IF(SUMIF(Gifts!F$4:F$5000, A476,Gifts!B$4:B$5000) > 0, SUMIF(Gifts!F$4:F$5000, A476,Gifts!B$4:B$5000), \"\")","v":""}]
[null,null,{"$f":"IF(SUMIF(Gifts!F$4:F$5000, A477,Gifts!B$4:B$5000) > 0, SUMIF(Gifts!F$4:F$5000, A477,Gifts!B$4:B$5000), \"\")","v":""}]
[null,null,{"$f":"IF(SUMIF(Gifts!F$4:F$5000, A478,Gifts!B$4:B$5000) > 0, SUMIF(Gifts!F$4:F$5000, A478,Gifts!B$4:B$5000), \"\")","v":""}]
[null,null,{"$f":"IF(SUMIF(Gifts!F$4:F$5000, A479,Gifts!B$4:B$5000) > 0, SUMIF(Gifts!F$4:F$5000, A479,Gifts!B$4:B$5000), \"\")","v":""}]
[null,null,{"$f":"IF(SUMIF(Gifts!F$4:F$5000, A480,Gifts!B$4:B$5000) > 0, SUMIF(Gifts!F$4:F$5000, A480,Gifts!B$4:B$5000), \"\")","v":""}]
[null,null,{"$f":"IF(SUMIF(Gifts!F$4:F$5000, A481,Gifts!B$4:B$5000) > 0, SUMIF(Gifts!F$4:F$5000, A481,Gifts!B$4:B$5000), \"\")","v":""}]
[null,null,{"$f":"IF(SUMIF(Gifts!F$4:F$5000, A482,Gifts!B$4:B$5000) > 0, SUMIF(Gifts!F$4:F$5000, A482,Gifts!B$4:B$5000), \"\")","v":""}]
[null,null,{"$f":"IF(SUMIF(Gifts!F$4:F$5000, A483,Gifts!B$4:B$5000) > 0, SUMIF(Gifts!F$4:F$5000, A483,Gifts!B$4:B$5000), \"\")","v":""}]
[null,null,{"$f":"IF(SUMIF(Gifts!F$4:F$5000, A484,Gifts!B$4:B$5000) > 0, SUMIF(Gifts!F$4:F$5000, A484,Gifts!B$4:B$5000), \"\")","v":""}]
[null,null,{"$f":"IF(SUMIF(Gifts!F$4:F$5000, A485,Gifts!B$4:B$5000) > 0, SUMIF(Gifts!F$4:F$5000, A485,Gifts!B$4:B$5000), \"\")","v":""}]
[null,null,{"$f":"IF(SUMIF(Gifts!F$4:F$5000, A486,Gifts!B$4:B$5000) > 0, SUMIF(Gifts!F$4:F$5000, A486,Gifts!B$4:B$5000), \"\")","v":""}]
[null,null,{"$f":"IF(SUMIF(Gifts!F$4:F$5000, A487,Gifts!B$4:B$5000) > 0, SUMIF(Gifts!F$4:F$5000, A487,Gifts!B$4:B$5000), \"\")","v":""}]
[null,null,{"$f":"IF(SUMIF(Gifts!F$4:F$5000, A488,Gifts!B$4:B$5000) > 0, SUMIF(Gifts!F$4:F$5000, A488,Gifts!B$4:B$5000), \"\")","v":""}]
[null,null,{"$f":"IF(SUMIF(Gifts!F$4:F$5000, A489,Gifts!B$4:B$5000) > 0, SUMIF(Gifts!F$4:F$5000, A489,Gifts!B$4:B$5000), \"\")","v":""}]
[null,null,{"$f":"IF(SUMIF(Gifts!F$4:F$5000, A490,Gifts!B$4:B$5000) > 0, SUMIF(Gifts!F$4:F$5000, A490,Gifts!B$4:B$5000), \"\")","v":""}]
[null,null,{"$f":"IF(SUMIF(Gifts!F$4:F$5000, A491,Gifts!B$4:B$5000) > 0, SUMIF(Gifts!F$4:F$5000, A491,Gifts!B$4:B$5000), \"\")","v":""}]
[null,null,{"$f":"IF(SUMIF(Gifts!F$4:F$5000, A492,Gifts!B$4:B$5000) > 0, SUMIF(Gifts!F$4:F$5000, A492,Gifts!B$4:B$5000), \"\")","v":""}]
[null,null,{"$f":"IF(SUMIF(Gifts!F$4:F$5000, A493,Gifts!B$4:B$5000) > 0, SUMIF(Gifts!F$4:F$5000, A493,Gifts!B$4:B$5000), \"\")","v":""}]
[null,null,{"$f":"IF(SUMIF(Gifts!F$4:F$5000, A494,Gifts!B$4:B$5000) > 0, SUMIF(Gifts!F$4:F$5000, A494,Gifts!B$4:B$5000), \"\")","v":""}]
[null,null,{"$f":"IF(SUMIF(Gifts!F$4:F$5000, A495,Gifts!B$4:B$5000) > 0, SUMIF(Gifts!F$4:F$5000, A495,Gifts!B$4:B$5000), \"\")","v":""}]
[null,null,{"$f":"IF(SUMIF(Gifts!F$4:F$5000, A496,Gifts!B$4:B$5000) > 0, SUMIF(Gifts!F$4:F$5000, A496,Gifts!B$4:B$5000), \"\")","v":""}]
[null,null,{"$f":"IF(SUMIF(Gifts!F$4:F$5000, A497,Gifts!B$4:B$5000) > 0, SUMIF(Gifts!F$4:F$5000, A497,Gifts!B$4:B$5000), \"\")","v":""}]
[null,null,{"$f":"IF(SUMIF(Gifts!F$4:F$5000, A498,Gifts!B$4:B$5000) > 0, SUMIF(Gifts!F$4:F$5000, A498,Gifts!B$4:B$5000), \"\")","v":""}]
[null,null,{"$f":"IF(SUMIF(Gifts!F$4:F$5000, A499,Gifts!B$4:B$5000) > 0, SUMIF(Gifts!F$4:F$5000, A499,Gifts!B$4:B$5000), \"\")","v":""}]
[null,null,{"$f":"IF(SUMIF(Gifts!F$4:F$5000, A500,Gifts!B$4:B$5000) > 0, SUMIF(Gifts!F$4:F$5000, A500,Gifts!B$4:B$5000), \"\")","v":""}]
[null,null,{"$f":"IF(SUMIF(Gifts!F$4:F$5000, A501,Gifts!B$4:B$5000) > 0, SUMIF(Gifts!F$4:F$5000, A501,Gifts!B$4:B$5000), \"\")","v":""}]
[null,null,{"$f":"IF(SUMIF(Gifts!F$4:F$5000, A502,Gifts!B$4:B$5000) > 0, SUMIF(Gifts!F$4:F$5000, A502,Gifts!B$4:B$5000), \"\")","v":""}]
[null,null,{"$f":"IF(SUMIF(Gifts!F$4:F$5000, A503,Gifts!B$4:B$5000) > 0, SUMIF(Gifts!F$4:F$5000, A503,Gifts!B$4:B$5000), \"\")","v":""}]
[null,null,{"$f":"IF(SUMIF(Gifts!F$4:F$5000, A504,Gifts!B$4:B$5000) > 0, SUMIF(Gifts!F$4:F$5000, A504,Gifts!B$4:B$5000), \"\")","v":""}]
[null,null,{"$f":"IF(SUMIF(Gifts!F$4:F$5000, A505,Gifts!B$4:B$5000) > 0, SUMIF(Gifts!F$4:F$5000, A505,Gifts!B$4:B$5000), \"\")","v":""}]
[null,null,{"$f":"IF(SUMIF(Gifts!F$4:F$5000, A506,Gifts!B$4:B$5000) > 0, SUMIF(Gifts!F$4:F$5000, A506,Gifts!B$4:B$5000), \"\")","v":""}]
[null,null,{"$f":"IF(SUMIF(Gifts!F$4:F$5000, A507,Gifts!B$4:B$5000) > 0, SUMIF(Gifts!F$4:F$5000, A507,Gifts!B$4:B$5000), \"\")","v":""}]
[null,null,{"$f":"IF(SUMIF(Gifts!F$4:F$5000, A508,Gifts!B$4:B$5000) > 0, SUMIF(Gifts!F$4:F$5000, A508,Gifts!B$4:B$5000), \"\")","v":""}]
[null,null,{"$f":"IF(SUMIF(Gifts!F$4:F$5000, A509,Gifts!B$4:B$5000) > 0, SUMIF(Gifts!F$4:F$5000, A509,Gifts!B$4:B$5000), \"\")","v":""}]
[null,null,{"$f":"IF(SUMIF(Gifts!F$4:F$5000, A510,Gifts!B$4:B$5000) > 0, SUMIF(Gifts!F$4:F$5000, A510,Gifts!B$4:B$5000), \"\")","v":""}]
[null,null,{"$f":"IF(SUMIF(Gifts!F$4:F$5000, A511,Gifts!B$4:B$5000) > 0, SUMIF(Gifts!F$4:F$5000, A511,Gifts!B$4:B$5000), \"\")","v":""}]
[null,null,{"$f":"IF(SUMIF(Gifts!F$4:F$5000, A512,Gifts!B$4:B$5000) > 0, SUMIF(Gifts!F$4:F$5000, A512,Gifts!B$4:B$5000), \"\")","v":""}]
[null,null,{"$f":"IF(SUMIF(Gifts!F$4:F$5000, A513,Gifts!B$4:B$5000) > 0, SUMIF(Gifts!F$4:F$5000, A513,Gifts!B$4:B$5000), \"\")","v":""}]
[null,null,{"$f":"IF(SUMIF(Gifts!F$4:F$5000, A514,Gifts!B$4:B$5000) > 0, SUMIF(Gifts!F$4:F$5000, A514,Gifts!B$4:B$5000), \"\")","v":""}]
[null,null,{"$f":"IF(SUMIF(Gifts!F$4:F$5000, A515,Gifts!B$4:B$5000) > 0, SUMIF(Gifts!F$4:F$5000, A515,Gifts!B$4:B$5000), \"\")","v":""}]
[null,null,{"$f":"IF(SUMIF(Gifts!F$4:F$5000, A516,Gifts!B$4:B$5000) > 0, SUMIF(Gifts!F$4:F$5000, A516,Gifts!B$4:B$5000), \"\")","v":""}]
[null,null,{"$f":"IF(SUMIF(Gifts!F$4:F$5000, A517,Gifts!B$4:B$5000) > 0, SUMIF(Gifts!F$4:F$5000, A517,Gifts!B$4:B$5000), \"\")","v":""}]
[null,null,{"$f":"IF(SUMIF(Gifts!F$4:F$5000, A518,Gifts!B$4:B$5000) > 0, SUMIF(Gifts!F$4:F$5000, A518,Gifts!B$4:B$5000), \"\")","v":""}]
[null,null,{"$f":"IF(SUMIF(Gifts!F$4:F$5000, A519,Gifts!B$4:B$5000) > 0, SUMIF(Gifts!F$4:F$5000, A519,Gifts!B$4:B$5000), \"\")","v":""}]
[null,null,{"$f":"IF(SUMIF(Gifts!F$4:F$5000, A520,Gifts!B$4:B$5000) > 0, SUMIF(Gifts!F$4:F$5000, A520,Gifts!B$4:B$5000), \"\")","v":""}]
[null,null,{"$f":"IF(SUMIF(Gifts!F$4:F$5000, A521,Gifts!B$4:B$5000) > 0, SUMIF(Gifts!F$4:F$5000, A521,Gifts!B$4:B$5000), \"\")","v":""}]
[null,null,{"$f":"IF(SUMIF(Gifts!F$4:F$5000, A522,Gifts!B$4:B$5000) > 0, SUMIF(Gifts!F$4:F$5000, A522,Gifts!B$4:B$5000), \"\")","v":""}]
[null,null,{"$f":"IF(SUMIF(Gifts!F$4:F$5000, A523,Gifts!B$4:B$5000) > 0, SUMIF(Gifts!F$4:F$5000, A523,Gifts!B$4:B$5000), \"\")","v":""}]
[null,null,{"$f":"IF(SUMIF(Gifts!F$4:F$5000, A524,Gifts!B$4:B$5000) > 0, SUMIF(Gifts!F$4:F$5000, A524,Gifts!B$4:B$5000), \"\")","v":""}]
[null,null,{"$f":"IF(SUMIF(Gifts!F$4:F$5000, A525,Gifts!B$4:B$5000) > 0, SUMIF(Gifts!F$4:F$5000, A525,Gifts!B$4:B$5000), \"\")","v":""}]
[null,null,{"$f":"IF(SUMIF(Gifts!F$4:F$5000, A526,Gifts!B$4:B$5000) > 0, SUMIF(Gifts!F$4:F$5000, A526,Gifts!B$4:B$5000), \"\")","v":""}]
[null,null,{"$f":"IF(SUMIF(Gifts!F$4:F$5000, A527,Gifts!B$4:B$5000) > 0, SUMIF(Gifts!F$4:F$5000, A527,Gifts!B$4:B$5000), \"\")","v":""}]
[null,null,{"$f":"IF(SUMIF(Gifts!F$4:F$5000, A528,Gifts!B$4:B$5000) > 0, SUMIF(Gifts!F$4:F$5000, A528,Gifts!B$4:B$5000), \"\")","v":""}]
[null,null,{"$f":"IF(SUMIF(Gifts!F$4:F$5000, A529,Gifts!B$4:B$5000) > 0, SUMIF(Gifts!F$4:F$5000, A529,Gifts!B$4:B$5000), \"\")","v":""}]
[null,null,{"$f":"IF(SUMIF(Gifts!F$4:F$5000, A530,Gifts!B$4:B$5000) > 0, SUMIF(Gifts!F$4:F$5000, A530,Gifts!B$4:B$5000), \"\")","v":""}]
[null,null,{"$f":"IF(SUMIF(Gifts!F$4:F$5000, A531,Gifts!B$4:B$5000) > 0, SUMIF(Gifts!F$4:F$5000, A531,Gifts!B$4:B$5000), \"\")","v":""}]
[null,null,{"$f":"IF(SUMIF(Gifts!F$4:F$5000, A532,Gifts!B$4:B$5000) > 0, SUMIF(Gifts!F$4:F$5000, A532,Gifts!B$4:B$5000), \"\")","v":""}]
[null,null,{"$f":"IF(SUMIF(Gifts!F$4:F$5000, A533,Gifts!B$4:B$5000) > 0, SUMIF(Gifts!F$4:F$5000, A533,Gifts!B$4:B$5000), \"\")","v":""}]
[null,null,{"$f":"IF(SUMIF(Gifts!F$4:F$5000, A534,Gifts!B$4:B$5000) > 0, SUMIF(Gifts!F$4:F$5000, A534,Gifts!B$4:B$5000), \"\")","v":""}]
[null,null,{"$f":"IF(SUMIF(Gifts!F$4:F$5000, A535,Gifts!B$4:B$5000) > 0, SUMIF(Gifts!F$4:F$5000, A535,Gifts!B$4:B$5000), \"\")","v":""}]
[null,null,{"$f":"IF(SUMIF(Gifts!F$4:F$5000, A536,Gifts!B$4:B$5000) > 0, SUMIF(Gifts!F$4:F$5000, A536,Gifts!B$4:B$5000), \"\")","v":""}]
[null,null,{"$f":"IF(SUMIF(Gifts!F$4:F$5000, A537,Gifts!B$4:B$5000) > 0, SUMIF(Gifts!F$4:F$5000, A537,Gifts!B$4:B$5000), \"\")","v":""}]
[null,null,{"$f":"IF(SUMIF(Gifts!F$4:F$5000, A538,Gifts!B$4:B$5000) > 0, SUMIF(Gifts!F$4:F$5000, A538,Gifts!B$4:B$5000), \"\")","v":""}]
[null,null,{"$f":"IF(SUMIF(Gifts!F$4:F$5000, A539,Gifts!B$4:B$5000) > 0, SUMIF(Gifts!F$4:F$5000, A539,Gifts!B$4:B$5000), \"\")","v":""}]
[null,null,{"$f":"IF(SUMIF(Gifts!F$4:F$5000, A540,Gifts!B$4:B$5000) > 0, SUMIF(Gifts!F$4:F$5000, A540,Gifts!B$4:B$5000), \"\")","v":""}]
[null,null,{"$f":"IF(SUMIF(Gifts!F$4:F$5000, A541,Gifts!B$4:B$5000) > 0, SUMIF(Gifts!F$4:F$5000, A541,Gifts!B$4:B$5000), \"\")","v":""}]
[null,null,{"$f":"IF(SUMIF(Gifts!F$4:F$5000, A542,Gifts!B$4:B$5000) > 0, SUMIF(Gifts!F$4:F$5000, A542,Gifts!B$4:B$5000), \"\")","v":""}]
[null,null,{"$f":"IF(SUMIF(Gifts!F$4:F$5000, A543,Gifts!B$4:B$5000) > 0, SUMIF(Gifts!F$4:F$5000, A543,Gifts!B$4:B$5000), \"\")","v":""}]
[null,null,{"$f":"IF(SUMIF(Gifts!F$4:F$5000, A544,Gifts!B$4:B$5000) > 0, SUMIF(Gifts!F$4:F$5000, A544,Gifts!B$4:B$5000), \"\")","v":""}]
[null,null,{"$f":"IF(SUMIF(Gifts!F$4:F$5000, A545,Gifts!B$4:B$5000) > 0, SUMIF(Gifts!F$4:F$5000, A545,Gifts!B$4:B$5000), \"\")","v":""}]
[null,null,{"$f":"IF(SUMIF(Gifts!F$4:F$5000, A546,Gifts!B$4:B$5000) > 0, SUMIF(Gifts!F$4:F$5000, A546,Gifts!B$4:B$5000), \"\")","v":""}]
[null,null,{"$f":"IF(SUMIF(Gifts!F$4:F$5000, A547,Gifts!B$4:B$5000) > 0, SUMIF(Gifts!F$4:F$5000, A547,Gifts!B$4:B$5000), \"\")","v":""}]
[null,null,{"$f":"IF(SUMIF(Gifts!F$4:F$5000, A548,Gifts!B$4:B$5000) > 0, SUMIF(Gifts!F$4:F$5000, A548,Gifts!B$4:B$5000), \"\")","v":""}]
[null,null,{"$f":"IF(SUMIF(Gifts!F$4:F$5000, A549,Gifts!B$4:B$5000) > 0, SUMIF(Gifts!F$4:F$5000, A549,Gifts!B$4:B$5000), \"\")","v":""}]
[null,null,{"$f":"IF(SUMIF(Gifts!F$4:F$5000, A550,Gifts!B$4:B$5000) > 0, SUMIF(Gifts!F$4:F$5000, A550,Gifts!B$4:B$5000), \"\")","v":""}]
[null,null,{"$f":"IF(SUMIF(Gifts!F$4:F$5000, A551,Gifts!B$4:B$5000) > 0, SUMIF(Gifts!F$4:F$5000, A551,Gifts!B$4:B$5000), \"\")","v":""}]
[null,null,{"$f":"IF(SUMIF(Gifts!F$4:F$5000, A552,Gifts!B$4:B$5000) > 0, SUMIF(Gifts!F$4:F$5000, A552,Gifts!B$4:B$5000), \"\")","v":""}]
[null,null,{"$f":"IF(SUMIF(Gifts!F$4:F$5000, A553,Gifts!B$4:B$5000) > 0, SUMIF(Gifts!F$4:F$5000, A553,Gifts!B$4:B$5000), \"\")","v":""}]
[null,null,{"$f":"IF(SUMIF(Gifts!F$4:F$5000, A554,Gifts!B$4:B$5000) > 0, SUMIF(Gifts!F$4:F$5000, A554,Gifts!B$4:B$5000), \"\")","v":""}]
[null,null,{"$f":"IF(SUMIF(Gifts!F$4:F$5000, A555,Gifts!B$4:B$5000) > 0, SUMIF(Gifts!F$4:F$5000, A555,Gifts!B$4:B$5000), \"\")","v":""}]
[null,null,{"$f":"IF(SUMIF(Gifts!F$4:F$5000, A556,Gifts!B$4:B$5000) > 0, SUMIF(Gifts!F$4:F$5000, A556,Gifts!B$4:B$5000), \"\")","v":""}]
[null,null,{"$f":"IF(SUMIF(Gifts!F$4:F$5000, A557,Gifts!B$4:B$5000) > 0, SUMIF(Gifts!F$4:F$5000, A557,Gifts!B$4:B$5000), \"\")","v":""}]
[null,null,{"$f":"IF(SUMIF(Gifts!F$4:F$5000, A558,Gifts!B$4:B$5000) > 0, SUMIF(Gifts!F$4:F$5000, A558,Gifts!B$4:B$5000), \"\")","v":""}]
[null,null,{"$f":"IF(SUMIF(Gifts!F$4:F$5000, A559,Gifts!B$4:B$5000) > 0, SUMIF(Gifts!F$4:F$5000, A559,Gifts!B$4:B$5000), \"\")","v":""}]
[null,null,{"$f":"IF(SUMIF(Gifts!F$4:F$5000, A560,Gifts!B$4:B$5000) > 0, SUMIF(Gifts!F$4:F$5000, A560,Gifts!B$4:B$5000), \"\")","v":""}]
[null,null,{"$f":"IF(SUMIF(Gifts!F$4:F$5000, A561,Gifts!B$4:B$5000) > 0, SUMIF(Gifts!F$4:F$5000, A561,Gifts!B$4:B$5000), \"\")","v":""}]
[null,null,{"$f":"IF(SUMIF(Gifts!F$4:F$5000, A562,Gifts!B$4:B$5000) > 0, SUMIF(Gifts!F$4:F$5000, A562,Gifts!B$4:B$5000), \"\")","v":""}]
[null,null,{"$f":"IF(SUMIF(Gifts!F$4:F$5000, A563,Gifts!B$4:B$5000) > 0, SUMIF(Gifts!F$4:F$5000, A563,Gifts!B$4:B$5000), \"\")","v":""}]
[null,null,{"$f":"IF(SUMIF(Gifts!F$4:F$5000, A564,Gifts!B$4:B$5000) > 0, SUMIF(Gifts!F$4:F$5000, A564,Gifts!B$4:B$5000), \"\")","v":""}]
[null,null,{"$f":"IF(SUMIF(Gifts!F$4:F$5000, A565,Gifts!B$4:B$5000) > 0, SUMIF(Gifts!F$4:F$5000, A565,Gifts!B$4:B$5000), \"\")","v":""}]
[null,null,{"$f":"IF(SUMIF(Gifts!F$4:F$5000, A566,Gifts!B$4:B$5000) > 0, SUMIF(Gifts!F$4:F$5000, A566,Gifts!B$4:B$5000), \"\")","v":""}]
[null,null,{"$f":"IF(SUMIF(Gifts!F$4:F$5000, A567,Gifts!B$4:B$5000) > 0, SUMIF(Gifts!F$4:F$5000, A567,Gifts!B$4:B$5000), \"\")","v":""}]
[null,null,{"$f":"IF(SUMIF(Gifts!F$4:F$5000, A568,Gifts!B$4:B$5000) > 0, SUMIF(Gifts!F$4:F$5000, A568,Gifts!B$4:B$5000), \"\")","v":""}]
[null,null,{"$f":"IF(SUMIF(Gifts!F$4:F$5000, A569,Gifts!B$4:B$5000) > 0, SUMIF(Gifts!F$4:F$5000, A569,Gifts!B$4:B$5000), \"\")","v":""}]
[null,null,{"$f":"IF(SUMIF(Gifts!F$4:F$5000, A570,Gifts!B$4:B$5000) > 0, SUMIF(Gifts!F$4:F$5000, A570,Gifts!B$4:B$5000), \"\")","v":""}]
[null,null,{"$f":"IF(SUMIF(Gifts!F$4:F$5000, A571,Gifts!B$4:B$5000) > 0, SUMIF(Gifts!F$4:F$5000, A571,Gifts!B$4:B$5000), \"\")","v":""}]
[null,null,{"$f":"IF(SUMIF(Gifts!F$4:F$5000, A572,Gifts!B$4:B$5000) > 0, SUMIF(Gifts!F$4:F$5000, A572,Gifts!B$4:B$5000), \"\")","v":""}]
[null,null,{"$f":"IF(SUMIF(Gifts!F$4:F$5000, A573,Gifts!B$4:B$5000) > 0, SUMIF(Gifts!F$4:F$5000, A573,Gifts!B$4:B$5000), \"\")","v":""}]
[null,null,{"$f":"IF(SUMIF(Gifts!F$4:F$5000, A574,Gifts!B$4:B$5000) > 0, SUMIF(Gifts!F$4:F$5000, A574,Gifts!B$4:B$5000), \"\")","v":""}]
[null,null,{"$f":"IF(SUMIF(Gifts!F$4:F$5000, A575,Gifts!B$4:B$5000) > 0, SUMIF(Gifts!F$4:F$5000, A575,Gifts!B$4:B$5000), \"\")","v":""}]
[null,null,{"$f":"IF(SUMIF(Gifts!F$4:F$5000, A576,Gifts!B$4:B$5000) > 0, SUMIF(Gifts!F$4:F$5000, A576,Gifts!B$4:B$5000), \"\")","v":""}]
[null,null,{"$f":"IF(SUMIF(Gifts!F$4:F$5000, A577,Gifts!B$4:B$5000) > 0, SUMIF(Gifts!F$4:F$5000, A577,Gifts!B$4:B$5000), \"\")","v":""}]
[null,null,{"$f":"IF(SUMIF(Gifts!F$4:F$5000, A578,Gifts!B$4:B$5000) > 0, SUMIF(Gifts!F$4:F$5000, A578,Gifts!B$4:B$5000), \"\")","v":""}]
[null,null,{"$f":"IF(SUMIF(Gifts!F$4:F$5000, A579,Gifts!B$4:B$5000) > 0, SUMIF(Gifts!F$4:F$5000, A579,Gifts!B$4:B$5000), \"\")","v":""}]
[null,null,{"$f":"IF(SUMIF(Gifts!F$4:F$5000, A580,Gifts!B$4:B$5000) > 0, SUMIF(Gifts!F$4:F$5000, A580,Gifts!B$4:B$5000), \"\")","v":""}]
[null,null,{"$f":"IF(SUMIF(Gifts!F$4:F$5000, A581,Gifts!B$4:B$5000) > 0, SUMIF(Gifts!F$4:F$5000, A581,Gifts!B$4:B$5000), \"\")","v":""}]
[null,null,{"$f":"IF(SUMIF(Gifts!F$4:F$5000, A582,Gifts!B$4:B$5000) > 0, SUMIF(Gifts!F$4:F$5000, A582,Gifts!B$4:B$5000), \"\")","v":""}]
[null,null,{"$f":"IF(SUMIF(Gifts!F$4:F$5000, A583,Gifts!B$4:B$5000) > 0, SUMIF(Gifts!F$4:F$5000, A583,Gifts!B$4:B$5000), \"\")","v":""}]
[null,null,{"$f":"IF(SUMIF(Gifts!F$4:F$5000, A584,Gifts!B$4:B$5000) > 0, SUMIF(Gifts!F$4:F$5000, A584,Gifts!B$4:B$5000), \"\")","v":""}]
[null,null,{"$f":"IF(SUMIF(Gifts!F$4:F$5000, A585,Gifts!B$4:B$5000) > 0, SUMIF(Gifts!F$4:F$5000, A585,Gifts!B$4:B$5000), \"\")","v":""}]
[null,null,{"$f":"IF(SUMIF(Gifts!F$4:F$5000, A586,Gifts!B$4:B$5000) > 0, SUMIF(Gifts!F$4:F$5000, A586,Gifts!B$4:B$5000), \"\")","v":""}]
[null,null,{"$f":"IF(SUMIF(Gifts!F$4:F$5000, A587,Gifts!B$4:B$5000) > 0, SUMIF(Gifts!F$4:F$5000, A587,Gifts!B$4:B$5000), \"\")","v":""}]
[null,null,{"$f":"IF(SUMIF(Gifts!F$4:F$5000, A588,Gifts!B$4:B$5000) > 0, SUMIF(Gifts!F$4:F$5000, A588,Gifts!B$4:B$5000), \"\")","v":""}]
[null,null,{"$f":"IF(SUMIF(Gifts!F$4:F$5000, A589,Gifts!B$4:B$5000) > 0, SUMIF(Gifts!F$4:F$5000, A589,Gifts!B$4:B$5000), \"\")","v":""}]
[null,null,{"$f":"IF(SUMIF(Gifts!F$4:F$5000, A590,Gifts!B$4:B$5000) > 0, SUMIF(Gifts!F$4:F$5000, A590,Gifts!B$4:B$5000), \"\")","v":""}]
[null,null,{"$f":"IF(SUMIF(Gifts!F$4:F$5000, A591,Gifts!B$4:B$5000) > 0, SUMIF(Gifts!F$4:F$5000, A591,Gifts!B$4:B$5000), \"\")","v":""}]
[null,null,{"$f":"IF(SUMIF(Gifts!F$4:F$5000, A592,Gifts!B$4:B$5000) > 0, SUMIF(Gifts!F$4:F$5000, A592,Gifts!B$4:B$5000), \"\")","v":""}]
[null,null,{"$f":"IF(SUMIF(Gifts!F$4:F$5000, A593,Gifts!B$4:B$5000) > 0, SUMIF(Gifts!F$4:F$5000, A593,Gifts!B$4:B$5000), \"\")","v":""}]
[null,null,{"$f":"IF(SUMIF(Gifts!F$4:F$5000, A594,Gifts!B$4:B$5000) > 0, SUMIF(Gifts!F$4:F$5000, A594,Gifts!B$4:B$5000), \"\")","v":""}]
[null,null,{"$f":"IF(SUMIF(Gifts!F$4:F$5000, A595,Gifts!B$4:B$5000) > 0, SUMIF(Gifts!F$4:F$5000, A595,Gifts!B$4:B$5000), \"\")","v":""}]
[null,null,{"$f":"IF(SUMIF(Gifts!F$4:F$5000, A596,Gifts!B$4:B$5000) > 0, SUMIF(Gifts!F$4:F$5000, A596,Gifts!B$4:B$5000), \"\")","v":""}]
[null,null,{"$f":"IF(SUMIF(Gifts!F$4:F$5000, A597,Gifts!B$4:B$5000) > 0, SUMIF(Gifts!F$4:F$5000, A597,Gifts!B$4:B$5000), \"\")","v":""}]
[null,null,{"$f":"IF(SUMIF(Gifts!F$4:F$5000, A598,Gifts!B$4:B$5000) > 0, SUMIF(Gifts!F$4:F$5000, A598,Gifts!B$4:B$5000), \"\")","v":""}]
[null,null,{"$f":"IF(SUMIF(Gifts!F$4:F$5000, A599,Gifts!B$4:B$5000) > 0, SUMIF(Gifts!F$4:F$5000, A599,Gifts!B$4:B$5000), \"\")","v":""}]
[null,null,{"$f":"IF(SUMIF(Gifts!F$4:F$5000, A600,Gifts!B$4:B$5000) > 0, SUMIF(Gifts!F$4:F$5000, A600,Gifts!B$4:B$5000), \"\")","v":""}]
[null,null,{"$f":"IF(SUMIF(Gifts!F$4:F$5000, A601,Gifts!B$4:B$5000) > 0, SUMIF(Gifts!F$4:F$5000, A601,Gifts!B$4:B$5000), \"\")","v":""}]
[null,null,{"$f":"IF(SUMIF(Gifts!F$4:F$5000, A602,Gifts!B$4:B$5000) > 0, SUMIF(Gifts!F$4:F$5000, A602,Gifts!B$4:B$5000), \"\")","v":""}]
[null,null,{"$f":"IF(SUMIF(Gifts!F$4:F$5000, A603,Gifts!B$4:B$5000) > 0, SUMIF(Gifts!F$4:F$5000, A603,Gifts!B$4:B$5000), \"\")","v":""}]
[null,null,{"$f":"IF(SUMIF(Gifts!F$4:F$5000, A604,Gifts!B$4:B$5000) > 0, SUMIF(Gifts!F$4:F$5000, A604,Gifts!B$4:B$5000), \"\")","v":""}]
[null,null,{"$f":"IF(SUMIF(Gifts!F$4:F$5000, A605,Gifts!B$4:B$5000) > 0, SUMIF(Gifts!F$4:F$5000, A605,Gifts!B$4:B$5000), \"\")","v":""}]
[null,null,{"$f":"IF(SUMIF(Gifts!F$4:F$5000, A606,Gifts!B$4:B$5000) > 0, SUMIF(Gifts!F$4:F$5000, A606,Gifts!B$4:B$5000), \"\")","v":""}]
[null,null,{"$f":"IF(SUMIF(Gifts!F$4:F$5000, A607,Gifts!B$4:B$5000) > 0, SUMIF(Gifts!F$4:F$5000, A607,Gifts!B$4:B$5000), \"\")","v":""}]
[null,null,{"$f":"IF(SUMIF(Gifts!F$4:F$5000, A608,Gifts!B$4:B$5000) > 0, SUMIF(Gifts!F$4:F$5000, A608,Gifts!B$4:B$5000), \"\")","v":""}]
[null,null,{"$f":"IF(SUMIF(Gifts!F$4:F$5000, A609,Gifts!B$4:B$5000) > 0, SUMIF(Gifts!F$4:F$5000, A609,Gifts!B$4:B$5000), \"\")","v":""}]
[null,null,{"$f":"IF(SUMIF(Gifts!F$4:F$5000, A610,Gifts!B$4:B$5000) > 0, SUMIF(Gifts!F$4:F$5000, A610,Gifts!B$4:B$5000), \"\")","v":""}]
[null,null,{"$f":"IF(SUMIF(Gifts!F$4:F$5000, A611,Gifts!B$4:B$5000) > 0, SUMIF(Gifts!F$4:F$5000, A611,Gifts!B$4:B$5000), \"\")","v":""}]
[null,null,{"$f":"IF(SUMIF(Gifts!F$4:F$5000, A612,Gifts!B$4:B$5000) > 0, SUMIF(Gifts!F$4:F$5000, A612,Gifts!B$4:B$5000), \"\")","v":""}]
[null,null,{"$f":"IF(SUMIF(Gifts!F$4:F$5000, A613,Gifts!B$4:B$5000) > 0, SUMIF(Gifts!F$4:F$5000, A613,Gifts!B$4:B$5000), \"\")","v":""}]
[null,null,{"$f":"IF(SUMIF(Gifts!F$4:F$5000, A614,Gifts!B$4:B$5000) > 0, SUMIF(Gifts!F$4:F$5000, A614,Gifts!B$4:B$5000), \"\")","v":""}]
[null,null,{"$f":"IF(SUMIF(Gifts!F$4:F$5000, A615,Gifts!B$4:B$5000) > 0, SUMIF(Gifts!F$4:F$5000, A615,Gifts!B$4:B$5000), \"\")","v":""}]
[null,null,{"$f":"IF(SUMIF(Gifts!F$4:F$5000, A616,Gifts!B$4:B$5000) > 0, SUMIF(Gifts!F$4:F$5000, A616,Gifts!B$4:B$5000), \"\")","v":""}]
[null,null,{"$f":"IF(SUMIF(Gifts!F$4:F$5000, A617,Gifts!B$4:B$5000) > 0, SUMIF(Gifts!F$4:F$5000, A617,Gifts!B$4:B$5000), \"\")","v":""}]
[null,null,{"$f":"IF(SUMIF(Gifts!F$4:F$5000, A618,Gifts!B$4:B$5000) > 0, SUMIF(Gifts!F$4:F$5000, A618,Gifts!B$4:B$5000), \"\")","v":""}]
[null,null,{"$f":"IF(SUMIF(Gifts!F$4:F$5000, A619,Gifts!B$4:B$5000) > 0, SUMIF(Gifts!F$4:F$5000, A619,Gifts!B$4:B$5000), \"\")","v":""}]
[null,null,{"$f":"IF(SUMIF(Gifts!F$4:F$5000, A620,Gifts!B$4:B$5000) > 0, SUMIF(Gifts!F$4:F$5000, A620,Gifts!B$4:B$5000), \"\")","v":""}]
[null,null,{"$f":"IF(SUMIF(Gifts!F$4:F$5000, A621,Gifts!B$4:B$5000) > 0, SUMIF(Gifts!F$4:F$5000, A621,Gifts!B$4:B$5000), \"\")","v":""}]
[null,null,{"$f":"IF(SUMIF(Gifts!F$4:F$5000, A622,Gifts!B$4:B$5000) > 0, SUMIF(Gifts!F$4:F$5000, A622,Gifts!B$4:B$5000), \"\")","v":""}]
[null,null,{"$f":"IF(SUMIF(Gifts!F$4:F$5000, A623,Gifts!B$4:B$5000) > 0, SUMIF(Gifts!F$4:F$5000, A623,Gifts!B$4:B$5000), \"\")","v":""}]
[null,null,{"$f":"IF(SUMIF(Gifts!F$4:F$5000, A624,Gifts!B$4:B$5000) > 0, SUMIF(Gifts!F$4:F$5000, A624,Gifts!B$4:B$5000), \"\")","v":""}]
[null,null,{"$f":"IF(SUMIF(Gifts!F$4:F$5000, A625,Gifts!B$4:B$5000) > 0, SUMIF(Gifts!F$4:F$5000, A625,Gifts!B$4:B$5000), \"\")","v":""}]
[null,null,{"$f":"IF(SUMIF(Gifts!F$4:F$5000, A626,Gifts!B$4:B$5000) > 0, SUMIF(Gifts!F$4:F$5000, A626,Gifts!B$4:B$5000), \"\")","v":""}]
[null,null,{"$f":"IF(SUMIF(Gifts!F$4:F$5000, A627,Gifts!B$4:B$5000) > 0, SUMIF(Gifts!F$4:F$5000, A627,Gifts!B$4:B$5000), \"\")","v":""}]
[null,null,{"$f":"IF(SUMIF(Gifts!F$4:F$5000, A628,Gifts!B$4:B$5000) > 0, SUMIF(Gifts!F$4:F$5000, A628,Gifts!B$4:B$5000), \"\")","v":""}]
[null,null,{"$f":"IF(SUMIF(Gifts!F$4:F$5000, A629,Gifts!B$4:B$5000) > 0, SUMIF(Gifts!F$4:F$5000, A629,Gifts!B$4:B$5000), \"\")","v":""}]
[null,null,{"$f":"IF(SUMIF(Gifts!F$4:F$5000, A630,Gifts!B$4:B$5000) > 0, SUMIF(Gifts!F$4:F$5000, A630,Gifts!B$4:B$5000), \"\")","v":""}]
[null,null,{"$f":"IF(SUMIF(Gifts!F$4:F$5000, A631,Gifts!B$4:B$5000) > 0, SUMIF(Gifts!F$4:F$5000, A631,Gifts!B$4:B$5000), \"\")","v":""}]
[null,null,{"$f":"IF(SUMIF(Gifts!F$4:F$5000, A632,Gifts!B$4:B$5000) > 0, SUMIF(Gifts!F$4:F$5000, A632,Gifts!B$4:B$5000), \"\")","v":""}]
[null,null,{"$f":"IF(SUMIF(Gifts!F$4:F$5000, A633,Gifts!B$4:B$5000) > 0, SUMIF(Gifts!F$4:F$5000, A633,Gifts!B$4:B$5000), \"\")","v":""}]
[null,null,{"$f":"IF(SUMIF(Gifts!F$4:F$5000, A634,Gifts!B$4:B$5000) > 0, SUMIF(Gifts!F$4:F$5000, A634,Gifts!B$4:B$5000), \"\")","v":""}]
[null,null,{"$f":"IF(SUMIF(Gifts!F$4:F$5000, A635,Gifts!B$4:B$5000) > 0, SUMIF(Gifts!F$4:F$5000, A635,Gifts!B$4:B$5000), \"\")","v":""}]
[null,null,{"$f":"IF(SUMIF(Gifts!F$4:F$5000, A636,Gifts!B$4:B$5000) > 0, SUMIF(Gifts!F$4:F$5000, A636,Gifts!B$4:B$5000), \"\")","v":""}]
[null,null,{"$f":"IF(SUMIF(Gifts!F$4:F$5000, A637,Gifts!B$4:B$5000) > 0, SUMIF(Gifts!F$4:F$5000, A637,Gifts!B$4:B$5000), \"\")","v":""}]
[null,null,{"$f":"IF(SUMIF(Gifts!F$4:F$5000, A638,Gifts!B$4:B$5000) > 0, SUMIF(Gifts!F$4:F$5000, A638,Gifts!B$4:B$5000), \"\")","v":""}]
[null,null,{"$f":"IF(SUMIF(Gifts!F$4:F$5000, A639,Gifts!B$4:B$5000) > 0, SUMIF(Gifts!F$4:F$5000, A639,Gifts!B$4:B$5000), \"\")","v":""}]
[null,null,{"$f":"IF(SUMIF(Gifts!F$4:F$5000, A640,Gifts!B$4:B$5000) > 0, SUMIF(Gifts!F$4:F$5000, A640,Gifts!B$4:B$5000), \"\")","v":""}]
[null,null,{"$f":"IF(SUMIF(Gifts!F$4:F$5000, A641,Gifts!B$4:B$5000) > 0, SUMIF(Gifts!F$4:F$5000, A641,Gifts!B$4:B$5000), \"\")","v":""}]
[null,null,{"$f":"IF(SUMIF(Gifts!F$4:F$5000, A642,Gifts!B$4:B$5000) > 0, SUMIF(Gifts!F$4:F$5000, A642,Gifts!B$4:B$5000), \"\")","v":""}]
[null,null,{"$f":"IF(SUMIF(Gifts!F$4:F$5000, A643,Gifts!B$4:B$5000) > 0, SUMIF(Gifts!F$4:F$5000, A643,Gifts!B$4:B$5000), \"\")","v":""}]
[null,null,{"$f":"IF(SUMIF(Gifts!F$4:F$5000, A644,Gifts!B$4:B$5000) > 0, SUMIF(Gifts!F$4:F$5000, A644,Gifts!B$4:B$5000), \"\")","v":""}]
[null,null,{"$f":"IF(SUMIF(Gifts!F$4:F$5000, A645,Gifts!B$4:B$5000) > 0, SUMIF(Gifts!F$4:F$5000, A645,Gifts!B$4:B$5000), \"\")","v":""}]
[null,null,{"$f":"IF(SUMIF(Gifts!F$4:F$5000, A646,Gifts!B$4:B$5000) > 0, SUMIF(Gifts!F$4:F$5000, A646,Gifts!B$4:B$5000), \"\")","v":""}]
[null,null,{"$f":"IF(SUMIF(Gifts!F$4:F$5000, A647,Gifts!B$4:B$5000) > 0, SUMIF(Gifts!F$4:F$5000, A647,Gifts!B$4:B$5000), \"\")","v":""}]
[null,null,{"$f":"IF(SUMIF(Gifts!F$4:F$5000, A648,Gifts!B$4:B$5000) > 0, SUMIF(Gifts!F$4:F$5000, A648,Gifts!B$4:B$5000), \"\")","v":""}]
[null,null,{"$f":"IF(SUMIF(Gifts!F$4:F$5000, A649,Gifts!B$4:B$5000) > 0, SUMIF(Gifts!F$4:F$5000, A649,Gifts!B$4:B$5000), \"\")","v":""}]
[null,null,{"$f":"IF(SUMIF(Gifts!F$4:F$5000, A650,Gifts!B$4:B$5000) > 0, SUMIF(Gifts!F$4:F$5000, A650,Gifts!B$4:B$5000), \"\")","v":""}]
[null,null,{"$f":"IF(SUMIF(Gifts!F$4:F$5000, A651,Gifts!B$4:B$5000) > 0, SUMIF(Gifts!F$4:F$5000, A651,Gifts!B$4:B$5000), \"\")","v":""}]
[null,null,{"$f":"IF(SUMIF(Gifts!F$4:F$5000, A652,Gifts!B$4:B$5000) > 0, SUMIF(Gifts!F$4:F$5000, A652,Gifts!B$4:B$5000), \"\")","v":""}]
[null,null,{"$f":"IF(SUMIF(Gifts!F$4:F$5000, A653,Gifts!B$4:B$5000) > 0, SUMIF(Gifts!F$4:F$5000, A653,Gifts!B$4:B$5000), \"\")","v":""}]
[null,null,{"$f":"IF(SUMIF(Gifts!F$4:F$5000, A654,Gifts!B$4:B$5000) > 0, SUMIF(Gifts!F$4:F$5000, A654,Gifts!B$4:B$5000), \"\")","v":""}]
[null,null,{"$f":"IF(SUMIF(Gifts!F$4:F$5000, A655,Gifts!B$4:B$5000) > 0, SUMIF(Gifts!F$4:F$5000, A655,Gifts!B$4:B$5000), \"\")","v":""}]
[null,null,{"$f":"IF(SUMIF(Gifts!F$4:F$5000, A656,Gifts!B$4:B$5000) > 0, SUMIF(Gifts!F$4:F$5000, A656,Gifts!B$4:B$5000), \"\")","v":""}]
[null,null,{"$f":"IF(SUMIF(Gifts!F$4:F$5000, A657,Gifts!B$4:B$5000) > 0, SUMIF(Gifts!F$4:F$5000, A657,Gifts!B$4:B$5000), \"\")","v":""}]
[null,null,{"$f":"IF(SUMIF(Gifts!F$4:F$5000, A658,Gifts!B$4:B$5000) > 0, SUMIF(Gifts!F$4:F$5000, A658,Gifts!B$4:B$5000), \"\")","v":""}]
[null,null,{"$f":"IF(SUMIF(Gifts!F$4:F$5000, A659,Gifts!B$4:B$5000) > 0, SUMIF(Gifts!F$4:F$5000, A659,Gifts!B$4:B$5000), \"\")","v":""}]
[null,null,{"$f":"IF(SUMIF(Gifts!F$4:F$5000, A660,Gifts!B$4:B$5000) > 0, SUMIF(Gifts!F$4:F$5000, A660,Gifts!B$4:B$5000), \"\")","v":""}]
[null,null,{"$f":"IF(SUMIF(Gifts!F$4:F$5000, A661,Gifts!B$4:B$5000) > 0, SUMIF(Gifts!F$4:F$5000, A661,Gifts!B$4:B$5000), \"\")","v":""}]
[null,null,{"$f":"IF(SUMIF(Gifts!F$4:F$5000, A662,Gifts!B$4:B$5000) > 0, SUMIF(Gifts!F$4:F$5000, A662,Gifts!B$4:B$5000), \"\")","v":""}]
[null,null,{"$f":"IF(SUMIF(Gifts!F$4:F$5000, A663,Gifts!B$4:B$5000) > 0, SUMIF(Gifts!F$4:F$5000, A663,Gifts!B$4:B$5000), \"\")","v":""}]
[null,null,{"$f":"IF(SUMIF(Gifts!F$4:F$5000, A664,Gifts!B$4:B$5000) > 0, SUMIF(Gifts!F$4:F$5000, A664,Gifts!B$4:B$5000), \"\")","v":""}]
[null,null,{"$f":"IF(SUMIF(Gifts!F$4:F$5000, A665,Gifts!B$4:B$5000) > 0, SUMIF(Gifts!F$4:F$5000, A665,Gifts!B$4:B$5000), \"\")","v":""}]
[null,null,{"$f":"IF(SUMIF(Gifts!F$4:F$5000, A666,Gifts!B$4:B$5000) > 0, SUMIF(Gifts!F$4:F$5000, A666,Gifts!B$4:B$5000), \"\")","v":""}]
[null,null,{"$f":"IF(SUMIF(Gifts!F$4:F$5000, A667,Gifts!B$4:B$5000) > 0, SUMIF(Gifts!F$4:F$5000, A667,Gifts!B$4:B$5000), \"\")","v":""}]
[null,null,{"$f":"IF(SUMIF(Gifts!F$4:F$5000, A668,Gifts!B$4:B$5000) > 0, SUMIF(Gifts!F$4:F$5000, A668,Gifts!B$4:B$5000), \"\")","v":""}]
[null,null,{"$f":"IF(SUMIF(Gifts!F$4:F$5000, A669,Gifts!B$4:B$5000) > 0, SUMIF(Gifts!F$4:F$5000, A669,Gifts!B$4:B$5000), \"\")","v":""}]
[null,null,{"$f":"IF(SUMIF(Gifts!F$4:F$5000, A670,Gifts!B$4:B$5000) > 0, SUMIF(Gifts!F$4:F$5000, A670,Gifts!B$4:B$5000), \"\")","v":""}]
[null,null,{"$f":"IF(SUMIF(Gifts!F$4:F$5000, A671,Gifts!B$4:B$5000) > 0, SUMIF(Gifts!F$4:F$5000, A671,Gifts!B$4:B$5000), \"\")","v":""}]
[null,null,{"$f":"IF(SUMIF(Gifts!F$4:F$5000, A672,Gifts!B$4:B$5000) > 0, SUMIF(Gifts!F$4:F$5000, A672,Gifts!B$4:B$5000), \"\")","v":""}]
[null,null,{"$f":"IF(SUMIF(Gifts!F$4:F$5000, A673,Gifts!B$4:B$5000) > 0, SUMIF(Gifts!F$4:F$5000, A673,Gifts!B$4:B$5000), \"\")","v":""}]
[null,null,{"$f":"IF(SUMIF(Gifts!F$4:F$5000, A674,Gifts!B$4:B$5000) > 0, SUMIF(Gifts!F$4:F$5000, A674,Gifts!B$4:B$5000), \"\")","v":""}]
[null,null,{"$f":"IF(SUMIF(Gifts!F$4:F$5000, A675,Gifts!B$4:B$5000) > 0, SUMIF(Gifts!F$4:F$5000, A675,Gifts!B$4:B$5000), \"\")","v":""}]
[null,null,{"$f":"IF(SUMIF(Gifts!F$4:F$5000, A676,Gifts!B$4:B$5000) > 0, SUMIF(Gifts!F$4:F$5000, A676,Gifts!B$4:B$5000), \"\")","v":""}]
[null,null,{"$f":"IF(SUMIF(Gifts!F$4:F$5000, A677,Gifts!B$4:B$5000) > 0, SUMIF(Gifts!F$4:F$5000, A677,Gifts!B$4:B$5000), \"\")","v":""}]
[null,null,{"$f":"IF(SUMIF(Gifts!F$4:F$5000, A678,Gifts!B$4:B$5000) > 0, SUMIF(Gifts!F$4:F$5000, A678,Gifts!B$4:B$5000), \"\")","v":""}]
[null,null,{"$f":"IF(SUMIF(Gifts!F$4:F$5000, A679,Gifts!B$4:B$5000) > 0, SUMIF(Gifts!F$4:F$5000, A679,Gifts!B$4:B$5000), \"\")","v":""}]
[null,null,{"$f":"IF(SUMIF(Gifts!F$4:F$5000, A680,Gifts!B$4:B$5000) > 0, SUMIF(Gifts!F$4:F$5000, A680,Gifts!B$4:B$5000), \"\")","v":""}]
[null,null,{"$f":"IF(SUMIF(Gifts!F$4:F$5000, A681,Gifts!B$4:B$5000) > 0, SUMIF(Gifts!F$4:F$5000, A681,Gifts!B$4:B$5000), \"\")","v":""}]
[null,null,{"$f":"IF(SUMIF(Gifts!F$4:F$5000, A682,Gifts!B$4:B$5000) > 0, SUMIF(Gifts!F$4:F$5000, A682,Gifts!B$4:B$5000), \"\")","v":""}]
[null,null,{"$f":"IF(SUMIF(Gifts!F$4:F$5000, A683,Gifts!B$4:B$5000) > 0, SUMIF(Gifts!F$4:F$5000, A683,Gifts!B$4:B$5000), \"\")","v":""}]
[null,null,{"$f":"IF(SUMIF(Gifts!F$4:F$5000, A684,Gifts!B$4:B$5000) > 0, SUMIF(Gifts!F$4:F$5000, A684,Gifts!B$4:B$5000), \"\")","v":""}]
[null,null,{"$f":"IF(SUMIF(Gifts!F$4:F$5000, A685,Gifts!B$4:B$5000) > 0, SUMIF(Gifts!F$4:F$5000, A685,Gifts!B$4:B$5000), \"\")","v":""}]
[null,null,{"$f":"IF(SUMIF(Gifts!F$4:F$5000, A686,Gifts!B$4:B$5000) > 0, SUMIF(Gifts!F$4:F$5000, A686,Gifts!B$4:B$5000), \"\")","v":""}]
[null,null,{"$f":"IF(SUMIF(Gifts!F$4:F$5000, A687,Gifts!B$4:B$5000) > 0, SUMIF(Gifts!F$4:F$5000, A687,Gifts!B$4:B$5000), \"\")","v":""}]
[null,null,{"$f":"IF(SUMIF(Gifts!F$4:F$5000, A688,Gifts!B$4:B$5000) > 0, SUMIF(Gifts!F$4:F$5000, A688,Gifts!B$4:B$5000), \"\")","v":""}]
[null,null,{"$f":"IF(SUMIF(Gifts!F$4:F$5000, A689,Gifts!B$4:B$5000) > 0, SUMIF(Gifts!F$4:F$5000, A689,Gifts!B$4:B$5000), \"\")","v":""}]
[null,null,{"$f":"IF(SUMIF(Gifts!F$4:F$5000, A690,Gifts!B$4:B$5000) > 0, SUMIF(Gifts!F$4:F$5000, A690,Gifts!B$4:B$5000), \"\")","v":""}]
[null,null,{"$f":"IF(SUMIF(Gifts!F$4:F$5000, A691,Gifts!B$4:B$5000) > 0, SUMIF(Gifts!F$4:F$5000, A691,Gifts!B$4:B$5000), \"\")","v":""}]
[null,null,{"$f":"IF(SUMIF(Gifts!F$4:F$5000, A692,Gifts!B$4:B$5000) > 0, SUMIF(Gifts!F$4:F$5000, A692,Gifts!B$4:B$5000), \"\")","v":""}]
[null,null,{"$f":"IF(SUMIF(Gifts!F$4:F$5000, A693,Gifts!B$4:B$5000) > 0, SUMIF(Gifts!F$4:F$5000, A693,Gifts!B$4:B$5000), \"\")","v":""}]
[null,null,{"$f":"IF(SUMIF(Gifts!F$4:F$5000, A694,Gifts!B$4:B$5000) > 0, SUMIF(Gifts!F$4:F$5000, A694,Gifts!B$4:B$5000), \"\")","v":""}]
[null,null,{"$f":"IF(SUMIF(Gifts!F$4:F$5000, A695,Gifts!B$4:B$5000) > 0, SUMIF(Gifts!F$4:F$5000, A695,Gifts!B$4:B$5000), \"\")","v":""}]
[null,null,{"$f":"IF(SUMIF(Gifts!F$4:F$5000, A696,Gifts!B$4:B$5000) > 0, SUMIF(Gifts!F$4:F$5000, A696,Gifts!B$4:B$5000), \"\")","v":""}]
[null,null,{"$f":"IF(SUMIF(Gifts!F$4:F$5000, A697,Gifts!B$4:B$5000) > 0, SUMIF(Gifts!F$4:F$5000, A697,Gifts!B$4:B$5000), \"\")","v":""}]
[null,null,{"$f":"IF(SUMIF(Gifts!F$4:F$5000, A698,Gifts!B$4:B$5000) > 0, SUMIF(Gifts!F$4:F$5000, A698,Gifts!B$4:B$5000), \"\")","v":""}]
[null,null,{"$f":"IF(SUMIF(Gifts!F$4:F$5000, A699,Gifts!B$4:B$5000) > 0, SUMIF(Gifts!F$4:F$5000, A699,Gifts!B$4:B$5000), \"\")","v":""}]
[null,null,{"$f":"IF(SUMIF(Gifts!F$4:F$5000, A700,Gifts!B$4:B$5000) > 0, SUMIF(Gifts!F$4:F$5000, A700,Gifts!B$4:B$5000), \"\")","v":""}]
[null,null,{"$f":"IF(SUMIF(Gifts!F$4:F$5000, A701,Gifts!B$4:B$5000) > 0, SUMIF(Gifts!F$4:F$5000, A701,Gifts!B$4:B$5000), \"\")","v":""}]
[null,null,{"$f":"IF(SUMIF(Gifts!F$4:F$5000, A702,Gifts!B$4:B$5000) > 0, SUMIF(Gifts!F$4:F$5000, A702,Gifts!B$4:B$5000), \"\")","v":""}]
[null,null,{"$f":"IF(SUMIF(Gifts!F$4:F$5000, A703,Gifts!B$4:B$5000) > 0, SUMIF(Gifts!F$4:F$5000, A703,Gifts!B$4:B$5000), \"\")","v":""}]
[null,null,{"$f":"IF(SUMIF(Gifts!F$4:F$5000, A704,Gifts!B$4:B$5000) > 0, SUMIF(Gifts!F$4:F$5000, A704,Gifts!B$4:B$5000), \"\")","v":""}]
[null,null,{"$f":"IF(SUMIF(Gifts!F$4:F$5000, A705,Gifts!B$4:B$5000) > 0, SUMIF(Gifts!F$4:F$5000, A705,Gifts!B$4:B$5000), \"\")","v":""}]
[null,null,{"$f":"IF(SUMIF(Gifts!F$4:F$5000, A706,Gifts!B$4:B$5000) > 0, SUMIF(Gifts!F$4:F$5000, A706,Gifts!B$4:B$5000), \"\")","v":""}]
[null,null,{"$f":"IF(SUMIF(Gifts!F$4:F$5000, A707,Gifts!B$4:B$5000) > 0, SUMIF(Gifts!F$4:F$5000, A707,Gifts!B$4:B$5000), \"\")","v":""}]
[null,null,{"$f":"IF(SUMIF(Gifts!F$4:F$5000, A708,Gifts!B$4:B$5000) > 0, SUMIF(Gifts!F$4:F$5000, A708,Gifts!B$4:B$5000), \"\")","v":""}]
[null,null,{"$f":"IF(SUMIF(Gifts!F$4:F$5000, A709,Gifts!B$4:B$5000) > 0, SUMIF(Gifts!F$4:F$5000, A709,Gifts!B$4:B$5000), \"\")","v":""}]
[null,null,{"$f":"IF(SUMIF(Gifts!F$4:F$5000, A710,Gifts!B$4:B$5000) > 0, SUMIF(Gifts!F$4:F$5000, A710,Gifts!B$4:B$5000), \"\")","v":""}]
[null,null,{"$f":"IF(SUMIF(Gifts!F$4:F$5000, A711,Gifts!B$4:B$5000) > 0, SUMIF(Gifts!F$4:F$5000, A711,Gifts!B$4:B$5000), \"\")","v":""}]
[null,null,{"$f":"IF(SUMIF(Gifts!F$4:F$5000, A712,Gifts!B$4:B$5000) > 0, SUMIF(Gifts!F$4:F$5000, A712,Gifts!B$4:B$5000), \"\")","v":""}]
[null,null,{"$f":"IF(SUMIF(Gifts!F$4:F$5000, A713,Gifts!B$4:B$5000) > 0, SUMIF(Gifts!F$4:F$5000, A713,Gifts!B$4:B$5000), \"\")","v":""}]
[null,null,{"$f":"IF(SUMIF(Gifts!F$4:F$5000, A714,Gifts!B$4:B$5000) > 0, SUMIF(Gifts!F$4:F$5000, A714,Gifts!B$4:B$5000), \"\")","v":""}]
[null,null,{"$f":"IF(SUMIF(Gifts!F$4:F$5000, A715,Gifts!B$4:B$5000) > 0, SUMIF(Gifts!F$4:F$5000, A715,Gifts!B$4:B$5000), \"\")","v":""}]
[null,null,{"$f":"IF(SUMIF(Gifts!F$4:F$5000, A716,Gifts!B$4:B$5000) > 0, SUMIF(Gifts!F$4:F$5000, A716,Gifts!B$4:B$5000), \"\")","v":""}]
[null,null,{"$f":"IF(SUMIF(Gifts!F$4:F$5000, A717,Gifts!B$4:B$5000) > 0, SUMIF(Gifts!F$4:F$5000, A717,Gifts!B$4:B$5000), \"\")","v":""}]
[null,null,{"$f":"IF(SUMIF(Gifts!F$4:F$5000, A718,Gifts!B$4:B$5000) > 0, SUMIF(Gifts!F$4:F$5000, A718,Gifts!B$4:B$5000), \"\")","v":""}]
[null,null,{"$f":"IF(SUMIF(Gifts!F$4:F$5000, A719,Gifts!B$4:B$5000) > 0, SUMIF(Gifts!F$4:F$5000, A719,Gifts!B$4:B$5000), \"\")","v":""}]
[null,null,{"$f":"IF(SUMIF(Gifts!F$4:F$5000, A720,Gifts!B$4:B$5000) > 0, SUMIF(Gifts!F$4:F$5000, A720,Gifts!B$4:B$5000), \"\")","v":""}]
[null,null,{"$f":"IF(SUMIF(Gifts!F$4:F$5000, A721,Gifts!B$4:B$5000) > 0, SUMIF(Gifts!F$4:F$5000, A721,Gifts!B$4:B$5000), \"\")","v":""}]
[null,null,{"$f":"IF(SUMIF(Gifts!F$4:F$5000, A722,Gifts!B$4:B$5000) > 0, SUMIF(Gifts!F$4:F$5000, A722,Gifts!B$4:B$5000), \"\")","v":""}]
[null,null,{"$f":"IF(SUMIF(Gifts!F$4:F$5000, A723,Gifts!B$4:B$5000) > 0, SUMIF(Gifts!F$4:F$5000, A723,Gifts!B$4:B$5000), \"\")","v":""}]
[null,null,{"$f":"IF(SUMIF(Gifts!F$4:F$5000, A724,Gifts!B$4:B$5000) > 0, SUMIF(Gifts!F$4:F$5000, A724,Gifts!B$4:B$5000), \"\")","v":""}]
[null,null,{"$f":"IF(SUMIF(Gifts!F$4:F$5000, A725,Gifts!B$4:B$5000) > 0, SUMIF(Gifts!F$4:F$5000, A725,Gifts!B$4:B$5000), \"\")","v":""}]
[null,null,{"$f":"IF(SUMIF(Gifts!F$4:F$5000, A726,Gifts!B$4:B$5000) > 0, SUMIF(Gifts!F$4:F$5000, A726,Gifts!B$4:B$5000), \"\")","v":""}]
[null,null,{"$f":"IF(SUMIF(Gifts!F$4:F$5000, A727,Gifts!B$4:B$5000) > 0, SUMIF(Gifts!F$4:F$5000, A727,Gifts!B$4:B$5000), \"\")","v":""}]
[null,null,{"$f":"IF(SUMIF(Gifts!F$4:F$5000, A728,Gifts!B$4:B$5000) > 0, SUMIF(Gifts!F$4:F$5000, A728,Gifts!B$4:B$5000), \"\")","v":""}]
[null,null,{"$f":"IF(SUMIF(Gifts!F$4:F$5000, A729,Gifts!B$4:B$5000) > 0, SUMIF(Gifts!F$4:F$5000, A729,Gifts!B$4:B$5000), \"\")","v":""}]
[null,null,{"$f":"IF(SUMIF(Gifts!F$4:F$5000, A730,Gifts!B$4:B$5000) > 0, SUMIF(Gifts!F$4:F$5000, A730,Gifts!B$4:B$5000), \"\")","v":""}]
[null,null,{"$f":"IF(SUMIF(Gifts!F$4:F$5000, A731,Gifts!B$4:B$5000) > 0, SUMIF(Gifts!F$4:F$5000, A731,Gifts!B$4:B$5000), \"\")","v":""}]
[null,null,{"$f":"IF(SUMIF(Gifts!F$4:F$5000, A732,Gifts!B$4:B$5000) > 0, SUMIF(Gifts!F$4:F$5000, A732,Gifts!B$4:B$5000), \"\")","v":""}]
[null,null,{"$f":"IF(SUMIF(Gifts!F$4:F$5000, A733,Gifts!B$4:B$5000) > 0, SUMIF(Gifts!F$4:F$5000, A733,Gifts!B$4:B$5000), \"\")","v":""}]
[null,null,{"$f":"IF(SUMIF(Gifts!F$4:F$5000, A734,Gifts!B$4:B$5000) > 0, SUMIF(Gifts!F$4:F$5000, A734,Gifts!B$4:B$5000), \"\")","v":""}]
[null,null,{"$f":"IF(SUMIF(Gifts!F$4:F$5000, A735,Gifts!B$4:B$5000) > 0, SUMIF(Gifts!F$4:F$5000, A735,Gifts!B$4:B$5000), \"\")","v":""}]
[null,null,{"$f":"IF(SUMIF(Gifts!F$4:F$5000, A736,Gifts!B$4:B$5000) > 0, SUMIF(Gifts!F$4:F$5000, A736,Gifts!B$4:B$5000), \"\")","v":""}]
[null,null,{"$f":"IF(SUMIF(Gifts!F$4:F$5000, A737,Gifts!B$4:B$5000) > 0, SUMIF(Gifts!F$4:F$5000, A737,Gifts!B$4:B$5000), \"\")","v":""}]
[null,null,{"$f":"IF(SUMIF(Gifts!F$4:F$5000, A738,Gifts!B$4:B$5000) > 0, SUMIF(Gifts!F$4:F$5000, A738,Gifts!B$4:B$5000), \"\")","v":""}]
[null,null,{"$f":"IF(SUMIF(Gifts!F$4:F$5000, A739,Gifts!B$4:B$5000) > 0, SUMIF(Gifts!F$4:F$5000, A739,Gifts!B$4:B$5000), \"\")","v":""}]
[null,null,{"$f":"IF(SUMIF(Gifts!F$4:F$5000, A740,Gifts!B$4:B$5000) > 0, SUMIF(Gifts!F$4:F$5000, A740,Gifts!B$4:B$5000), \"\")","v":""}]
[null,null,{"$f":"IF(SUMIF(Gifts!F$4:F$5000, A741,Gifts!B$4:B$5000) > 0, SUMIF(Gifts!F$4:F$5000, A741,Gifts!B$4:B$5000), \"\")","v":""}]
[null,null,{"$f":"IF(SUMIF(Gifts!F$4:F$5000, A742,Gifts!B$4:B$5000) > 0, SUMIF(Gifts!F$4:F$5000, A742,Gifts!B$4:B$5000), \"\")","v":""}]
[null,null,{"$f":"IF(SUMIF(Gifts!F$4:F$5000, A743,Gifts!B$4:B$5000) > 0, SUMIF(Gifts!F$4:F$5000, A743,Gifts!B$4:B$5000), \"\")","v":""}]
[null,null,{"$f":"IF(SUMIF(Gifts!F$4:F$5000, A744,Gifts!B$4:B$5000) > 0, SUMIF(Gifts!F$4:F$5000, A744,Gifts!B$4:B$5000), \"\")","v":""}]
[null,null,{"$f":"IF(SUMIF(Gifts!F$4:F$5000, A745,Gifts!B$4:B$5000) > 0, SUMIF(Gifts!F$4:F$5000, A745,Gifts!B$4:B$5000), \"\")","v":""}]
[null,null,{"$f":"IF(SUMIF(Gifts!F$4:F$5000, A746,Gifts!B$4:B$5000) > 0, SUMIF(Gifts!F$4:F$5000, A746,Gifts!B$4:B$5000), \"\")","v":""}]
[null,null,{"$f":"IF(SUMIF(Gifts!F$4:F$5000, A747,Gifts!B$4:B$5000) > 0, SUMIF(Gifts!F$4:F$5000, A747,Gifts!B$4:B$5000), \"\")","v":""}]
[null,null,{"$f":"IF(SUMIF(Gifts!F$4:F$5000, A748,Gifts!B$4:B$5000) > 0, SUMIF(Gifts!F$4:F$5000, A748,Gifts!B$4:B$5000), \"\")","v":""}]
[null,null,{"$f":"IF(SUMIF(Gifts!F$4:F$5000, A749,Gifts!B$4:B$5000) > 0, SUMIF(Gifts!F$4:F$5000, A749,Gifts!B$4:B$5000), \"\")","v":""}]
[null,null,{"$f":"IF(SUMIF(Gifts!F$4:F$5000, A750,Gifts!B$4:B$5000) > 0, SUMIF(Gifts!F$4:F$5000, A750,Gifts!B$4:B$5000), \"\")","v":""}]
[null,null,{"$f":"IF(SUMIF(Gifts!F$4:F$5000, A751,Gifts!B$4:B$5000) > 0, SUMIF(Gifts!F$4:F$5000, A751,Gifts!B$4:B$5000), \"\")","v":""}]
[null,null,{"$f":"IF(SUMIF(Gifts!F$4:F$5000, A752,Gifts!B$4:B$5000) > 0, SUMIF(Gifts!F$4:F$5000, A752,Gifts!B$4:B$5000), \"\")","v":""}]
[null,null,{"$f":"IF(SUMIF(Gifts!F$4:F$5000, A753,Gifts!B$4:B$5000) > 0, SUMIF(Gifts!F$4:F$5000, A753,Gifts!B$4:B$5000), \"\")","v":""}]
[null,null,{"$f":"IF(SUMIF(Gifts!F$4:F$5000, A754,Gifts!B$4:B$5000) > 0, SUMIF(Gifts!F$4:F$5000, A754,Gifts!B$4:B$5000), \"\")","v":""}]
[null,null,{"$f":"IF(SUMIF(Gifts!F$4:F$5000, A755,Gifts!B$4:B$5000) > 0, SUMIF(Gifts!F$4:F$5000, A755,Gifts!B$4:B$5000), \"\")","v":""}]
[null,null,{"$f":"IF(SUMIF(Gifts!F$4:F$5000, A756,Gifts!B$4:B$5000) > 0, SUMIF(Gifts!F$4:F$5000, A756,Gifts!B$4:B$5000), \"\")","v":""}]
[null,null,{"$f":"IF(SUMIF(Gifts!F$4:F$5000, A757,Gifts!B$4:B$5000) > 0, SUMIF(Gifts!F$4:F$5000, A757,Gifts!B$4:B$5000), \"\")","v":""}]
[null,null,{"$f":"IF(SUMIF(Gifts!F$4:F$5000, A758,Gifts!B$4:B$5000) > 0, SUMIF(Gifts!F$4:F$5000, A758,Gifts!B$4:B$5000), \"\")","v":""}]
[null,null,{"$f":"IF(SUMIF(Gifts!F$4:F$5000, A759,Gifts!B$4:B$5000) > 0, SUMIF(Gifts!F$4:F$5000, A759,Gifts!B$4:B$5000), \"\")","v":""}]
[null,null,{"$f":"IF(SUMIF(Gifts!F$4:F$5000, A760,Gifts!B$4:B$5000) > 0, SUMIF(Gifts!F$4:F$5000, A760,Gifts!B$4:B$5000), \"\")","v":""}]
[null,null,{"$f":"IF(SUMIF(Gifts!F$4:F$5000, A761,Gifts!B$4:B$5000) > 0, SUMIF(Gifts!F$4:F$5000, A761,Gifts!B$4:B$5000), \"\")","v":""}]
[null,null,{"$f":"IF(SUMIF(Gifts!F$4:F$5000, A762,Gifts!B$4:B$5000) > 0, SUMIF(Gifts!F$4:F$5000, A762,Gifts!B$4:B$5000), \"\")","v":""}]
[null,null,{"$f":"IF(SUMIF(Gifts!F$4:F$5000, A763,Gifts!B$4:B$5000) > 0, SUMIF(Gifts!F$4:F$5000, A763,Gifts!B$4:B$5000), \"\")","v":""}]
[null,null,{"$f":"IF(SUMIF(Gifts!F$4:F$5000, A764,Gifts!B$4:B$5000) > 0, SUMIF(Gifts!F$4:F$5000, A764,Gifts!B$4:B$5000), \"\")","v":""}]
[null,null,{"$f":"IF(SUMIF(Gifts!F$4:F$5000, A765,Gifts!B$4:B$5000) > 0, SUMIF(Gifts!F$4:F$5000, A765,Gifts!B$4:B$5000), \"\")","v":""}]
[null,null,{"$f":"IF(SUMIF(Gifts!F$4:F$5000, A766,Gifts!B$4:B$5000) > 0, SUMIF(Gifts!F$4:F$5000, A766,Gifts!B$4:B$5000), \"\")","v":""}]
[null,null,{"$f":"IF(SUMIF(Gifts!F$4:F$5000, A767,Gifts!B$4:B$5000) > 0, SUMIF(Gifts!F$4:F$5000, A767,Gifts!B$4:B$5000), \"\")","v":""}]
[null,null,{"$f":"IF(SUMIF(Gifts!F$4:F$5000, A768,Gifts!B$4:B$5000) > 0, SUMIF(Gifts!F$4:F$5000, A768,Gifts!B$4:B$5000), \"\")","v":""}]
[null,null,{"$f":"IF(SUMIF(Gifts!F$4:F$5000, A769,Gifts!B$4:B$5000) > 0, SUMIF(Gifts!F$4:F$5000, A769,Gifts!B$4:B$5000), \"\")","v":""}]
[null,null,{"$f":"IF(SUMIF(Gifts!F$4:F$5000, A770,Gifts!B$4:B$5000) > 0, SUMIF(Gifts!F$4:F$5000, A770,Gifts!B$4:B$5000), \"\")","v":""}]
[null,null,{"$f":"IF(SUMIF(Gifts!F$4:F$5000, A771,Gifts!B$4:B$5000) > 0, SUMIF(Gifts!F$4:F$5000, A771,Gifts!B$4:B$5000), \"\")","v":""}]
[null,null,{"$f":"IF(SUMIF(Gifts!F$4:F$5000, A772,Gifts!B$4:B$5000) > 0, SUMIF(Gifts!F$4:F$5000, A772,Gifts!B$4:B$5000), \"\")","v":""}]
[null,null,{"$f":"IF(SUMIF(Gifts!F$4:F$5000, A773,Gifts!B$4:B$5000) > 0, SUMIF(Gifts!F$4:F$5000, A773,Gifts!B$4:B$5000), \"\")","v":""}]
[null,null,{"$f":"IF(SUMIF(Gifts!F$4:F$5000, A774,Gifts!B$4:B$5000) > 0, SUMIF(Gifts!F$4:F$5000, A774,Gifts!B$4:B$5000), \"\")","v":""}]
[null,null,{"$f":"IF(SUMIF(Gifts!F$4:F$5000, A775,Gifts!B$4:B$5000) > 0, SUMIF(Gifts!F$4:F$5000, A775,Gifts!B$4:B$5000), \"\")","v":""}]
[null,null,{"$f":"IF(SUMIF(Gifts!F$4:F$5000, A776,Gifts!B$4:B$5000) > 0, SUMIF(Gifts!F$4:F$5000, A776,Gifts!B$4:B$5000), \"\")","v":""}]
[null,null,{"$f":"IF(SUMIF(Gifts!F$4:F$5000, A777,Gifts!B$4:B$5000) > 0, SUMIF(Gifts!F$4:F$5000, A777,Gifts!B$4:B$5000), \"\")","v":""}]
[null,null,{"$f":"IF(SUMIF(Gifts!F$4:F$5000, A778,Gifts!B$4:B$5000) > 0, SUMIF(Gifts!F$4:F$5000, A778,Gifts!B$4:B$5000), \"\")","v":""}]
[null,null,{"$f":"IF(SUMIF(Gifts!F$4:F$5000, A779,Gifts!B$4:B$5000) > 0, SUMIF(Gifts!F$4:F$5000, A779,Gifts!B$4:B$5000), \"\")","v":""}]
[null,null,{"$f":"IF(SUMIF(Gifts!F$4:F$5000, A780,Gifts!B$4:B$5000) > 0, SUMIF(Gifts!F$4:F$5000, A780,Gifts!B$4:B$5000), \"\")","v":""}]
[null,null,{"$f":"IF(SUMIF(Gifts!F$4:F$5000, A781,Gifts!B$4:B$5000) > 0, SUMIF(Gifts!F$4:F$5000, A781,Gifts!B$4:B$5000), \"\")","v":""}]
[null,null,{"$f":"IF(SUMIF(Gifts!F$4:F$5000, A782,Gifts!B$4:B$5000) > 0, SUMIF(Gifts!F$4:F$5000, A782,Gifts!B$4:B$5000), \"\")","v":""}]
[null,null,{"$f":"IF(SUMIF(Gifts!F$4:F$5000, A783,Gifts!B$4:B$5000) > 0, SUMIF(Gifts!F$4:F$5000, A783,Gifts!B$4:B$5000), \"\")","v":""}]
[null,null,{"$f":"IF(SUMIF(Gifts!F$4:F$5000, A784,Gifts!B$4:B$5000) > 0, SUMIF(Gifts!F$4:F$5000, A784,Gifts!B$4:B$5000), \"\")","v":""}]
[null,null,{"$f":"IF(SUMIF(Gifts!F$4:F$5000, A785,Gifts!B$4:B$5000) > 0, SUMIF(Gifts!F$4:F$5000, A785,Gifts!B$4:B$5000), \"\")","v":""}]
[null,null,{"$f":"IF(SUMIF(Gifts!F$4:F$5000, A786,Gifts!B$4:B$5000) > 0, SUMIF(Gifts!F$4:F$5000, A786,Gifts!B$4:B$5000), \"\")","v":""}]
[null,null,{"$f":"IF(SUMIF(Gifts!F$4:F$5000, A787,Gifts!B$4:B$5000) > 0, SUMIF(Gifts!F$4:F$5000, A787,Gifts!B$4:B$5000), \"\")","v":""}]
[null,null,{"$f":"IF(SUMIF(Gifts!F$4:F$5000, A788,Gifts!B$4:B$5000) > 0, SUMIF(Gifts!F$4:F$5000, A788,Gifts!B$4:B$5000), \"\")","v":""}]
[null,null,{"$f":"IF(SUMIF(Gifts!F$4:F$5000, A789,Gifts!B$4:B$5000) > 0, SUMIF(Gifts!F$4:F$5000, A789,Gifts!B$4:B$5000), \"\")","v":""}]
[null,null,{"$f":"IF(SUMIF(Gifts!F$4:F$5000, A790,Gifts!B$4:B$5000) > 0, SUMIF(Gifts!F$4:F$5000, A790,Gifts!B$4:B$5000), \"\")","v":""}]
[null,null,{"$f":"IF(SUMIF(Gifts!F$4:F$5000, A791,Gifts!B$4:B$5000) > 0, SUMIF(Gifts!F$4:F$5000, A791,Gifts!B$4:B$5000), \"\")","v":""}]
[null,null,{"$f":"IF(SUMIF(Gifts!F$4:F$5000, A792,Gifts!B$4:B$5000) > 0, SUMIF(Gifts!F$4:F$5000, A792,Gifts!B$4:B$5000), \"\")","v":""}]
[null,null,{"$f":"IF(SUMIF(Gifts!F$4:F$5000, A793,Gifts!B$4:B$5000) > 0, SUMIF(Gifts!F$4:F$5000, A793,Gifts!B$4:B$5000), \"\")","v":""}]
[null,null,{"$f":"IF(SUMIF(Gifts!F$4:F$5000, A794,Gifts!B$4:B$5000) > 0, SUMIF(Gifts!F$4:F$5000, A794,Gifts!B$4:B$5000), \"\")","v":""}]
[null,null,{"$f":"IF(SUMIF(Gifts!F$4:F$5000, A795,Gifts!B$4:B$5000) > 0, SUMIF(Gifts!F$4:F$5000, A795,Gifts!B$4:B$5000), \"\")","v":""}]
[null,null,{"$f":"IF(SUMIF(Gifts!F$4:F$5000, A796,Gifts!B$4:B$5000) > 0, SUMIF(Gifts!F$4:F$5000, A796,Gifts!B$4:B$5000), \"\")","v":""}]
[null,null,{"$f":"IF(SUMIF(Gifts!F$4:F$5000, A797,Gifts!B$4:B$5000) > 0, SUMIF(Gifts!F$4:F$5000, A797,Gifts!B$4:B$5000), \"\")","v":""}]
[null,null,{"$f":"IF(SUMIF(Gifts!F$4:F$5000, A798,Gifts!B$4:B$5000) > 0, SUMIF(Gifts!F$4:F$5000, A798,Gifts!B$4:B$5000), \"\")","v":""}]
[null,null,{"$f":"IF(SUMIF(Gifts!F$4:F$5000, A799,Gifts!B$4:B$5000) > 0, SUMIF(Gifts!F$4:F$5000, A799,Gifts!B$4:B$5000), \"\")","v":""}]
[null,null,{"$f":"IF(SUMIF(Gifts!F$4:F$5000, A800,Gifts!B$4:B$5000) > 0, SUMIF(Gifts!F$4:F$5000, A800,Gifts!B$4:B$5000), \"\")","v":""}]
[null,null,{"$f":"IF(SUMIF(Gifts!F$4:F$5000, A801,Gifts!B$4:B$5000) > 0, SUMIF(Gifts!F$4:F$5000, A801,Gifts!B$4:B$5000), \"\")","v":""}]
[null,null,{"$f":"IF(SUMIF(Gifts!F$4:F$5000, A802,Gifts!B$4:B$5000) > 0, SUMIF(Gifts!F$4:F$5000, A802,Gifts!B$4:B$5000), \"\")","v":""}]
[null,null,{"$f":"IF(SUMIF(Gifts!F$4:F$5000, A803,Gifts!B$4:B$5000) > 0, SUMIF(Gifts!F$4:F$5000, A803,Gifts!B$4:B$5000), \"\")","v":""}]
[null,null,{"$f":"IF(SUMIF(Gifts!F$4:F$5000, A804,Gifts!B$4:B$5000) > 0, SUMIF(Gifts!F$4:F$5000, A804,Gifts!B$4:B$5000), \"\")","v":""}]
[null,null,{"$f":"IF(SUMIF(Gifts!F$4:F$5000, A805,Gifts!B$4:B$5000) > 0, SUMIF(Gifts!F$4:F$5000, A805,Gifts!B$4:B$5000), \"\")","v":""}]
[null,null,{"$f":"IF(SUMIF(Gifts!F$4:F$5000, A806,Gifts!B$4:B$5000) > 0, SUMIF(Gifts!F$4:F$5000, A806,Gifts!B$4:B$5000), \"\")","v":""}]
[null,null,{"$f":"IF(SUMIF(Gifts!F$4:F$5000, A807,Gifts!B$4:B$5000) > 0, SUMIF(Gifts!F$4:F$5000, A807,Gifts!B$4:B$5000), \"\")","v":""}]
[null,null,{"$f":"IF(SUMIF(Gifts!F$4:F$5000, A808,Gifts!B$4:B$5000) > 0, SUMIF(Gifts!F$4:F$5000, A808,Gifts!B$4:B$5000), \"\")","v":""}]
[null,null,{"$f":"IF(SUMIF(Gifts!F$4:F$5000, A809,Gifts!B$4:B$5000) > 0, SUMIF(Gifts!F$4:F$5000, A809,Gifts!B$4:B$5000), \"\")","v":""}]
[null,null,{"$f":"IF(SUMIF(Gifts!F$4:F$5000, A810,Gifts!B$4:B$5000) > 0, SUMIF(Gifts!F$4:F$5000, A810,Gifts!B$4:B$5000), \"\")","v":""}]
[null,null,{"$f":"IF(SUMIF(Gifts!F$4:F$5000, A811,Gifts!B$4:B$5000) > 0, SUMIF(Gifts!F$4:F$5000, A811,Gifts!B$4:B$5000), \"\")","v":""}]
[null,null,{"$f":"IF(SUMIF(Gifts!F$4:F$5000, A812,Gifts!B$4:B$5000) > 0, SUMIF(Gifts!F$4:F$5000, A812,Gifts!B$4:B$5000), \"\")","v":""}]
[null,null,{"$f":"IF(SUMIF(Gifts!F$4:F$5000, A813,Gifts!B$4:B$5000) > 0, SUMIF(Gifts!F$4:F$5000, A813,Gifts!B$4:B$5000), \"\")","v":""}]
[null,null,{"$f":"IF(SUMIF(Gifts!F$4:F$5000, A814,Gifts!B$4:B$5000) > 0, SUMIF(Gifts!F$4:F$5000, A814,Gifts!B$4:B$5000), \"\")","v":""}]
[null,null,{"$f":"IF(SUMIF(Gifts!F$4:F$5000, A815,Gifts!B$4:B$5000) > 0, SUMIF(Gifts!F$4:F$5000, A815,Gifts!B$4:B$5000), \"\")","v":""}]
[null,null,{"$f":"IF(SUMIF(Gifts!F$4:F$5000, A816,Gifts!B$4:B$5000) > 0, SUMIF(Gifts!F$4:F$5000, A816,Gifts!B$4:B$5000), \"\")","v":""}]
[null,null,{"$f":"IF(SUMIF(Gifts!F$4:F$5000, A817,Gifts!B$4:B$5000) > 0, SUMIF(Gifts!F$4:F$5000, A817,Gifts!B$4:B$5000), \"\")","v":""}]
[null,null,{"$f":"IF(SUMIF(Gifts!F$4:F$5000, A818,Gifts!B$4:B$5000) > 0, SUMIF(Gifts!F$4:F$5000, A818,Gifts!B$4:B$5000), \"\")","v":""}]
[null,null,{"$f":"IF(SUMIF(Gifts!F$4:F$5000, A819,Gifts!B$4:B$5000) > 0, SUMIF(Gifts!F$4:F$5000, A819,Gifts!B$4:B$5000), \"\")","v":""}]
[null,null,{"$f":"IF(SUMIF(Gifts!F$4:F$5000, A820,Gifts!B$4:B$5000) > 0, SUMIF(Gifts!F$4:F$5000, A820,Gifts!B$4:B$5000), \"\")","v":""}]
[null,null,{"$f":"IF(SUMIF(Gifts!F$4:F$5000, A821,Gifts!B$4:B$5000) > 0, SUMIF(Gifts!F$4:F$5000, A821,Gifts!B$4:B$5000), \"\")","v":""}]
[null,null,{"$f":"IF(SUMIF(Gifts!F$4:F$5000, A822,Gifts!B$4:B$5000) > 0, SUMIF(Gifts!F$4:F$5000, A822,Gifts!B$4:B$5000), \"\")","v":""}]
[null,null,{"$f":"IF(SUMIF(Gifts!F$4:F$5000, A823,Gifts!B$4:B$5000) > 0, SUMIF(Gifts!F$4:F$5000, A823,Gifts!B$4:B$5000), \"\")","v":""}]
[null,null,{"$f":"IF(SUMIF(Gifts!F$4:F$5000, A824,Gifts!B$4:B$5000) > 0, SUMIF(Gifts!F$4:F$5000, A824,Gifts!B$4:B$5000), \"\")","v":""}]
[null,null,{"$f":"IF(SUMIF(Gifts!F$4:F$5000, A825,Gifts!B$4:B$5000) > 0, SUMIF(Gifts!F$4:F$5000, A825,Gifts!B$4:B$5000), \"\")","v":""}]
[null,null,{"$f":"IF(SUMIF(Gifts!F$4:F$5000, A826,Gifts!B$4:B$5000) > 0, SUMIF(Gifts!F$4:F$5000, A826,Gifts!B$4:B$5000), \"\")","v":""}]
[null,null,{"$f":"IF(SUMIF(Gifts!F$4:F$5000, A827,Gifts!B$4:B$5000) > 0, SUMIF(Gifts!F$4:F$5000, A827,Gifts!B$4:B$5000), \"\")","v":""}]
[null,null,{"$f":"IF(SUMIF(Gifts!F$4:F$5000, A828,Gifts!B$4:B$5000) > 0, SUMIF(Gifts!F$4:F$5000, A828,Gifts!B$4:B$5000), \"\")","v":""}]
[null,null,{"$f":"IF(SUMIF(Gifts!F$4:F$5000, A829,Gifts!B$4:B$5000) > 0, SUMIF(Gifts!F$4:F$5000, A829,Gifts!B$4:B$5000), \"\")","v":""}]
[null,null,{"$f":"IF(SUMIF(Gifts!F$4:F$5000, A830,Gifts!B$4:B$5000) > 0, SUMIF(Gifts!F$4:F$5000, A830,Gifts!B$4:B$5000), \"\")","v":""}]
[null,null,{"$f":"IF(SUMIF(Gifts!F$4:F$5000, A831,Gifts!B$4:B$5000) > 0, SUMIF(Gifts!F$4:F$5000, A831,Gifts!B$4:B$5000), \"\")","v":""}]
[null,null,{"$f":"IF(SUMIF(Gifts!F$4:F$5000, A832,Gifts!B$4:B$5000) > 0, SUMIF(Gifts!F$4:F$5000, A832,Gifts!B$4:B$5000), \"\")","v":""}]
[null,null,{"$f":"IF(SUMIF(Gifts!F$4:F$5000, A833,Gifts!B$4:B$5000) > 0, SUMIF(Gifts!F$4:F$5000, A833,Gifts!B$4:B$5000), \"\")","v":""}]
[null,null,{"$f":"IF(SUMIF(Gifts!F$4:F$5000, A834,Gifts!B$4:B$5000) > 0, SUMIF(Gifts!F$4:F$5000, A834,Gifts!B$4:B$5000), \"\")","v":""}]
[null,null,{"$f":"IF(SUMIF(Gifts!F$4:F$5000, A835,Gifts!B$4:B$5000) > 0, SUMIF(Gifts!F$4:F$5000, A835,Gifts!B$4:B$5000), \"\")","v":""}]
[null,null,{"$f":"IF(SUMIF(Gifts!F$4:F$5000, A836,Gifts!B$4:B$5000) > 0, SUMIF(Gifts!F$4:F$5000, A836,Gifts!B$4:B$5000), \"\")","v":""}]
[null,null,{"$f":"IF(SUMIF(Gifts!F$4:F$5000, A837,Gifts!B$4:B$5000) > 0, SUMIF(Gifts!F$4:F$5000, A837,Gifts!B$4:B$5000), \"\")","v":""}]
[null,null,{"$f":"IF(SUMIF(Gifts!F$4:F$5000, A838,Gifts!B$4:B$5000) > 0, SUMIF(Gifts!F$4:F$5000, A838,Gifts!B$4:B$5000), \"\")","v":""}]
[null,null,{"$f":"IF(SUMIF(Gifts!F$4:F$5000, A839,Gifts!B$4:B$5000) > 0, SUMIF(Gifts!F$4:F$5000, A839,Gifts!B$4:B$5000), \"\")","v":""}]
[null,null,{"$f":"IF(SUMIF(Gifts!F$4:F$5000, A840,Gifts!B$4:B$5000) > 0, SUMIF(Gifts!F$4:F$5000, A840,Gifts!B$4:B$5000), \"\")","v":""}]
[null,null,{"$f":"IF(SUMIF(Gifts!F$4:F$5000, A841,Gifts!B$4:B$5000) > 0, SUMIF(Gifts!F$4:F$5000, A841,Gifts!B$4:B$5000), \"\")","v":""}]
[null,null,{"$f":"IF(SUMIF(Gifts!F$4:F$5000, A842,Gifts!B$4:B$5000) > 0, SUMIF(Gifts!F$4:F$5000, A842,Gifts!B$4:B$5000), \"\")","v":""}]
[null,null,{"$f":"IF(SUMIF(Gifts!F$4:F$5000, A843,Gifts!B$4:B$5000) > 0, SUMIF(Gifts!F$4:F$5000, A843,Gifts!B$4:B$5000), \"\")","v":""}]
[null,null,{"$f":"IF(SUMIF(Gifts!F$4:F$5000, A844,Gifts!B$4:B$5000) > 0, SUMIF(Gifts!F$4:F$5000, A844,Gifts!B$4:B$5000), \"\")","v":""}]
[null,null,{"$f":"IF(SUMIF(Gifts!F$4:F$5000, A845,Gifts!B$4:B$5000) > 0, SUMIF(Gifts!F$4:F$5000, A845,Gifts!B$4:B$5000), \"\")","v":""}]
[null,null,{"$f":"IF(SUMIF(Gifts!F$4:F$5000, A846,Gifts!B$4:B$5000) > 0, SUMIF(Gifts!F$4:F$5000, A846,Gifts!B$4:B$5000), \"\")","v":""}]
[null,null,{"$f":"IF(SUMIF(Gifts!F$4:F$5000, A847,Gifts!B$4:B$5000) > 0, SUMIF(Gifts!F$4:F$5000, A847,Gifts!B$4:B$5000), \"\")","v":""}]
[null,null,{"$f":"IF(SUMIF(Gifts!F$4:F$5000, A848,Gifts!B$4:B$5000) > 0, SUMIF(Gifts!F$4:F$5000, A848,Gifts!B$4:B$5000), \"\")","v":""}]
[null,null,{"$f":"IF(SUMIF(Gifts!F$4:F$5000, A849,Gifts!B$4:B$5000) > 0, SUMIF(Gifts!F$4:F$5000, A849,Gifts!B$4:B$5000), \"\")","v":""}]
[null,null,{"$f":"IF(SUMIF(Gifts!F$4:F$5000, A850,Gifts!B$4:B$5000) > 0, SUMIF(Gifts!F$4:F$5000, A850,Gifts!B$4:B$5000), \"\")","v":""}]
[null,null,{"$f":"IF(SUMIF(Gifts!F$4:F$5000, A851,Gifts!B$4:B$5000) > 0, SUMIF(Gifts!F$4:F$5000, A851,Gifts!B$4:B$5000), \"\")","v":""}]
[null,null,{"$f":"IF(SUMIF(Gifts!F$4:F$5000, A852,Gifts!B$4:B$5000) > 0, SUMIF(Gifts!F$4:F$5000, A852,Gifts!B$4:B$5000), \"\")","v":""}]
[null,null,{"$f":"IF(SUMIF(Gifts!F$4:F$5000, A853,Gifts!B$4:B$5000) > 0, SUMIF(Gifts!F$4:F$5000, A853,Gifts!B$4:B$5000), \"\")","v":""}]
[null,null,{"$f":"IF(SUMIF(Gifts!F$4:F$5000, A854,Gifts!B$4:B$5000) > 0, SUMIF(Gifts!F$4:F$5000, A854,Gifts!B$4:B$5000), \"\")","v":""}]
[null,null,{"$f":"IF(SUMIF(Gifts!F$4:F$5000, A855,Gifts!B$4:B$5000) > 0, SUMIF(Gifts!F$4:F$5000, A855,Gifts!B$4:B$5000), \"\")","v":""}]
[null,null,{"$f":"IF(SUMIF(Gifts!F$4:F$5000, A856,Gifts!B$4:B$5000) > 0, SUMIF(Gifts!F$4:F$5000, A856,Gifts!B$4:B$5000), \"\")","v":""}]
[null,null,{"$f":"IF(SUMIF(Gifts!F$4:F$5000, A857,Gifts!B$4:B$5000) > 0, SUMIF(Gifts!F$4:F$5000, A857,Gifts!B$4:B$5000), \"\")","v":""}]
[null,null,{"$f":"IF(SUMIF(Gifts!F$4:F$5000, A858,Gifts!B$4:B$5000) > 0, SUMIF(Gifts!F$4:F$5000, A858,Gifts!B$4:B$5000), \"\")","v":""}]
[null,null,{"$f":"IF(SUMIF(Gifts!F$4:F$5000, A859,Gifts!B$4:B$5000) > 0, SUMIF(Gifts!F$4:F$5000, A859,Gifts!B$4:B$5000), \"\")","v":""}]
[null,null,{"$f":"IF(SUMIF(Gifts!F$4:F$5000, A860,Gifts!B$4:B$5000) > 0, SUMIF(Gifts!F$4:F$5000, A860,Gifts!B$4:B$5000), \"\")","v":""}]
[null,null,{"$f":"IF(SUMIF(Gifts!F$4:F$5000, A861,Gifts!B$4:B$5000) > 0, SUMIF(Gifts!F$4:F$5000, A861,Gifts!B$4:B$5000), \"\")","v":""}]
[null,null,{"$f":"IF(SUMIF(Gifts!F$4:F$5000, A862,Gifts!B$4:B$5000) > 0, SUMIF(Gifts!F$4:F$5000, A862,Gifts!B$4:B$5000), \"\")","v":""}]
[null,null,{"$f":"IF(SUMIF(Gifts!F$4:F$5000, A863,Gifts!B$4:B$5000) > 0, SUMIF(Gifts!F$4:F$5000, A863,Gifts!B$4:B$5000), \"\")","v":""}]
[null,null,{"$f":"IF(SUMIF(Gifts!F$4:F$5000, A864,Gifts!B$4:B$5000) > 0, SUMIF(Gifts!F$4:F$5000, A864,Gifts!B$4:B$5000), \"\")","v":""}]
[null,null,{"$f":"IF(SUMIF(Gifts!F$4:F$5000, A865,Gifts!B$4:B$5000) > 0, SUMIF(Gifts!F$4:F$5000, A865,Gifts!B$4:B$5000), \"\")","v":""}]
[null,null,{"$f":"IF(SUMIF(Gifts!F$4:F$5000, A866,Gifts!B$4:B$5000) > 0, SUMIF(Gifts!F$4:F$5000, A866,Gifts!B$4:B$5000), \"\")","v":""}]
[null,null,{"$f":"IF(SUMIF(Gifts!F$4:F$5000, A867,Gifts!B$4:B$5000) > 0, SUMIF(Gifts!F$4:F$5000, A867,Gifts!B$4:B$5000), \"\")","v":""}]
[null,null,{"$f":"IF(SUMIF(Gifts!F$4:F$5000, A868,Gifts!B$4:B$5000) > 0, SUMIF(Gifts!F$4:F$5000, A868,Gifts!B$4:B$5000), \"\")","v":""}]
[null,null,{"$f":"IF(SUMIF(Gifts!F$4:F$5000, A869,Gifts!B$4:B$5000) > 0, SUMIF(Gifts!F$4:F$5000, A869,Gifts!B$4:B$5000), \"\")","v":""}]
[null,null,{"$f":"IF(SUMIF(Gifts!F$4:F$5000, A870,Gifts!B$4:B$5000) > 0, SUMIF(Gifts!F$4:F$5000, A870,Gifts!B$4:B$5000), \"\")","v":""}]
[null,null,{"$f":"IF(SUMIF(Gifts!F$4:F$5000, A871,Gifts!B$4:B$5000) > 0, SUMIF(Gifts!F$4:F$5000, A871,Gifts!B$4:B$5000), \"\")","v":""}]
[null,null,{"$f":"IF(SUMIF(Gifts!F$4:F$5000, A872,Gifts!B$4:B$5000) > 0, SUMIF(Gifts!F$4:F$5000, A872,Gifts!B$4:B$5000), \"\")","v":""}]
[null,null,{"$f":"IF(SUMIF(Gifts!F$4:F$5000, A873,Gifts!B$4:B$5000) > 0, SUMIF(Gifts!F$4:F$5000, A873,Gifts!B$4:B$5000), \"\")","v":""}]
[null,null,{"$f":"IF(SUMIF(Gifts!F$4:F$5000, A874,Gifts!B$4:B$5000) > 0, SUMIF(Gifts!F$4:F$5000, A874,Gifts!B$4:B$5000), \"\")","v":""}]
[null,null,{"$f":"IF(SUMIF(Gifts!F$4:F$5000, A875,Gifts!B$4:B$5000) > 0, SUMIF(Gifts!F$4:F$5000, A875,Gifts!B$4:B$5000), \"\")","v":""}]
[null,null,{"$f":"IF(SUMIF(Gifts!F$4:F$5000, A876,Gifts!B$4:B$5000) > 0, SUMIF(Gifts!F$4:F$5000, A876,Gifts!B$4:B$5000), \"\")","v":""}]
[null,null,{"$f":"IF(SUMIF(Gifts!F$4:F$5000, A877,Gifts!B$4:B$5000) > 0, SUMIF(Gifts!F$4:F$5000, A877,Gifts!B$4:B$5000), \"\")","v":""}]
[null,null,{"$f":"IF(SUMIF(Gifts!F$4:F$5000, A878,Gifts!B$4:B$5000) > 0, SUMIF(Gifts!F$4:F$5000, A878,Gifts!B$4:B$5000), \"\")","v":""}]
[null,null,{"$f":"IF(SUMIF(Gifts!F$4:F$5000, A879,Gifts!B$4:B$5000) > 0, SUMIF(Gifts!F$4:F$5000, A879,Gifts!B$4:B$5000), \"\")","v":""}]
[null,null,{"$f":"IF(SUMIF(Gifts!F$4:F$5000, A880,Gifts!B$4:B$5000) > 0, SUMIF(Gifts!F$4:F$5000, A880,Gifts!B$4:B$5000), \"\")","v":""}]
[null,null,{"$f":"IF(SUMIF(Gifts!F$4:F$5000, A881,Gifts!B$4:B$5000) > 0, SUMIF(Gifts!F$4:F$5000, A881,Gifts!B$4:B$5000), \"\")","v":""}]
[null,null,{"$f":"IF(SUMIF(Gifts!F$4:F$5000, A882,Gifts!B$4:B$5000) > 0, SUMIF(Gifts!F$4:F$5000, A882,Gifts!B$4:B$5000), \"\")","v":""}]
[null,null,{"$f":"IF(SUMIF(Gifts!F$4:F$5000, A883,Gifts!B$4:B$5000) > 0, SUMIF(Gifts!F$4:F$5000, A883,Gifts!B$4:B$5000), \"\")","v":""}]
[null,null,{"$f":"IF(SUMIF(Gifts!F$4:F$5000, A884,Gifts!B$4:B$5000) > 0, SUMIF(Gifts!F$4:F$5000, A884,Gifts!B$4:B$5000), \"\")","v":""}]
[null,null,{"$f":"IF(SUMIF(Gifts!F$4:F$5000, A885,Gifts!B$4:B$5000) > 0, SUMIF(Gifts!F$4:F$5000, A885,Gifts!B$4:B$5000), \"\")","v":""}]
[null,null,{"$f":"IF(SUMIF(Gifts!F$4:F$5000, A886,Gifts!B$4:B$5000) > 0, SUMIF(Gifts!F$4:F$5000, A886,Gifts!B$4:B$5000), \"\")","v":""}]
[null,null,{"$f":"IF(SUMIF(Gifts!F$4:F$5000, A887,Gifts!B$4:B$5000) > 0, SUMIF(Gifts!F$4:F$5000, A887,Gifts!B$4:B$5000), \"\")","v":""}]
[null,null,{"$f":"IF(SUMIF(Gifts!F$4:F$5000, A888,Gifts!B$4:B$5000) > 0, SUMIF(Gifts!F$4:F$5000, A888,Gifts!B$4:B$5000), \"\")","v":""}]
[null,null,{"$f":"IF(SUMIF(Gifts!F$4:F$5000, A889,Gifts!B$4:B$5000) > 0, SUMIF(Gifts!F$4:F$5000, A889,Gifts!B$4:B$5000), \"\")","v":""}]
[null,null,{"$f":"IF(SUMIF(Gifts!F$4:F$5000, A890,Gifts!B$4:B$5000) > 0, SUMIF(Gifts!F$4:F$5000, A890,Gifts!B$4:B$5000), \"\")","v":""}]
[null,null,{"$f":"IF(SUMIF(Gifts!F$4:F$5000, A891,Gifts!B$4:B$5000) > 0, SUMIF(Gifts!F$4:F$5000, A891,Gifts!B$4:B$5000), \"\")","v":""}]
[null,null,{"$f":"IF(SUMIF(Gifts!F$4:F$5000, A892,Gifts!B$4:B$5000) > 0, SUMIF(Gifts!F$4:F$5000, A892,Gifts!B$4:B$5000), \"\")","v":""}]
[null,null,{"$f":"IF(SUMIF(Gifts!F$4:F$5000, A893,Gifts!B$4:B$5000) > 0, SUMIF(Gifts!F$4:F$5000, A893,Gifts!B$4:B$5000), \"\")","v":""}]
[null,null,{"$f":"IF(SUMIF(Gifts!F$4:F$5000, A894,Gifts!B$4:B$5000) > 0, SUMIF(Gifts!F$4:F$5000, A894,Gifts!B$4:B$5000), \"\")","v":""}]
[null,null,{"$f":"IF(SUMIF(Gifts!F$4:F$5000, A895,Gifts!B$4:B$5000) > 0, SUMIF(Gifts!F$4:F$5000, A895,Gifts!B$4:B$5000), \"\")","v":""}]
[null,null,{"$f":"IF(SUMIF(Gifts!F$4:F$5000, A896,Gifts!B$4:B$5000) > 0, SUMIF(Gifts!F$4:F$5000, A896,Gifts!B$4:B$5000), \"\")","v":""}]
[null,null,{"$f":"IF(SUMIF(Gifts!F$4:F$5000, A897,Gifts!B$4:B$5000) > 0, SUMIF(Gifts!F$4:F$5000, A897,Gifts!B$4:B$5000), \"\")","v":""}]
[null,null,{"$f":"IF(SUMIF(Gifts!F$4:F$5000, A898,Gifts!B$4:B$5000) > 0, SUMIF(Gifts!F$4:F$5000, A898,Gifts!B$4:B$5000), \"\")","v":""}]
[null,null,{"$f":"IF(SUMIF(Gifts!F$4:F$5000, A899,Gifts!B$4:B$5000) > 0, SUMIF(Gifts!F$4:F$5000, A899,Gifts!B$4:B$5000), \"\")","v":""}]
[null,null,{"$f":"IF(SUMIF(Gifts!F$4:F$5000, A900,Gifts!B$4:B$5000) > 0, SUMIF(Gifts!F$4:F$5000, A900,Gifts!B$4:B$5000), \"\")","v":""}]
[null,null,{"$f":"IF(SUMIF(Gifts!F$4:F$5000, A901,Gifts!B$4:B$5000) > 0, SUMIF(Gifts!F$4:F$5000, A901,Gifts!B$4:B$5000), \"\")","v":""}]
[null,null,{"$f":"IF(SUMIF(Gifts!F$4:F$5000, A902,Gifts!B$4:B$5000) > 0, SUMIF(Gifts!F$4:F$5000, A902,Gifts!B$4:B$5000), \"\")","v":""}]
[null,null,{"$f":"IF(SUMIF(Gifts!F$4:F$5000, A903,Gifts!B$4:B$5000) > 0, SUMIF(Gifts!F$4:F$5000, A903,Gifts!B$4:B$5000), \"\")","v":""}]
[null,null,{"$f":"IF(SUMIF(Gifts!F$4:F$5000, A904,Gifts!B$4:B$5000) > 0, SUMIF(Gifts!F$4:F$5000, A904,Gifts!B$4:B$5000), \"\")","v":""}]
[null,null,{"$f":"IF(SUMIF(Gifts!F$4:F$5000, A905,Gifts!B$4:B$5000) > 0, SUMIF(Gifts!F$4:F$5000, A905,Gifts!B$4:B$5000), \"\")","v":""}]
[null,null,{"$f":"IF(SUMIF(Gifts!F$4:F$5000, A906,Gifts!B$4:B$5000) > 0, SUMIF(Gifts!F$4:F$5000, A906,Gifts!B$4:B$5000), \"\")","v":""}]
[null,null,{"$f":"IF(SUMIF(Gifts!F$4:F$5000, A907,Gifts!B$4:B$5000) > 0, SUMIF(Gifts!F$4:F$5000, A907,Gifts!B$4:B$5000), \"\")","v":""}]
[null,null,{"$f":"IF(SUMIF(Gifts!F$4:F$5000, A908,Gifts!B$4:B$5000) > 0, SUMIF(Gifts!F$4:F$5000, A908,Gifts!B$4:B$5000), \"\")","v":""}]
[null,null,{"$f":"IF(SUMIF(Gifts!F$4:F$5000, A909,Gifts!B$4:B$5000) > 0, SUMIF(Gifts!F$4:F$5000, A909,Gifts!B$4:B$5000), \"\")","v":""}]
[null,null,{"$f":"IF(SUMIF(Gifts!F$4:F$5000, A910,Gifts!B$4:B$5000) > 0, SUMIF(Gifts!F$4:F$5000, A910,Gifts!B$4:B$5000), \"\")","v":""}]
[null,null,{"$f":"IF(SUMIF(Gifts!F$4:F$5000, A911,Gifts!B$4:B$5000) > 0, SUMIF(Gifts!F$4:F$5000, A911,Gifts!B$4:B$5000), \"\")","v":""}]
[null,null,{"$f":"IF(SUMIF(Gifts!F$4:F$5000, A912,Gifts!B$4:B$5000) > 0, SUMIF(Gifts!F$4:F$5000, A912,Gifts!B$4:B$5000), \"\")","v":""}]
[null,null,{"$f":"IF(SUMIF(Gifts!F$4:F$5000, A913,Gifts!B$4:B$5000) > 0, SUMIF(Gifts!F$4:F$5000, A913,Gifts!B$4:B$5000), \"\")","v":""}]
[null,null,{"$f":"IF(SUMIF(Gifts!F$4:F$5000, A914,Gifts!B$4:B$5000) > 0, SUMIF(Gifts!F$4:F$5000, A914,Gifts!B$4:B$5000), \"\")","v":""}]
[null,null,{"$f":"IF(SUMIF(Gifts!F$4:F$5000, A915,Gifts!B$4:B$5000) > 0, SUMIF(Gifts!F$4:F$5000, A915,Gifts!B$4:B$5000), \"\")","v":""}]
[null,null,{"$f":"IF(SUMIF(Gifts!F$4:F$5000, A916,Gifts!B$4:B$5000) > 0, SUMIF(Gifts!F$4:F$5000, A916,Gifts!B$4:B$5000), \"\")","v":""}]
[null,null,{"$f":"IF(SUMIF(Gifts!F$4:F$5000, A917,Gifts!B$4:B$5000) > 0, SUMIF(Gifts!F$4:F$5000, A917,Gifts!B$4:B$5000), \"\")","v":""}]
[null,null,{"$f":"IF(SUMIF(Gifts!F$4:F$5000, A918,Gifts!B$4:B$5000) > 0, SUMIF(Gifts!F$4:F$5000, A918,Gifts!B$4:B$5000), \"\")","v":""}]
[null,null,{"$f":"IF(SUMIF(Gifts!F$4:F$5000, A919,Gifts!B$4:B$5000) > 0, SUMIF(Gifts!F$4:F$5000, A919,Gifts!B$4:B$5000), \"\")","v":""}]
[null,null,{"$f":"IF(SUMIF(Gifts!F$4:F$5000, A920,Gifts!B$4:B$5000) > 0, SUMIF(Gifts!F$4:F$5000, A920,Gifts!B$4:B$5000), \"\")","v":""}]
[null,null,{"$f":"IF(SUMIF(Gifts!F$4:F$5000, A921,Gifts!B$4:B$5000) > 0, SUMIF(Gifts!F$4:F$5000, A921,Gifts!B$4:B$5000), \"\")","v":""}]
[null,null,{"$f":"IF(SUMIF(Gifts!F$4:F$5000, A922,Gifts!B$4:B$5000) > 0, SUMIF(Gifts!F$4:F$5000, A922,Gifts!B$4:B$5000), \"\")","v":""}]
[null,null,{"$f":"IF(SUMIF(Gifts!F$4:F$5000, A923,Gifts!B$4:B$5000) > 0, SUMIF(Gifts!F$4:F$5000, A923,Gifts!B$4:B$5000), \"\")","v":""}]
[null,null,{"$f":"IF(SUMIF(Gifts!F$4:F$5000, A924,Gifts!B$4:B$5000) > 0, SUMIF(Gifts!F$4:F$5000, A924,Gifts!B$4:B$5000), \"\")","v":""}]
[null,null,{"$f":"IF(SUMIF(Gifts!F$4:F$5000, A925,Gifts!B$4:B$5000) > 0, SUMIF(Gifts!F$4:F$5000, A925,Gifts!B$4:B$5000), \"\")","v":""}]
[null,null,{"$f":"IF(SUMIF(Gifts!F$4:F$5000, A926,Gifts!B$4:B$5000) > 0, SUMIF(Gifts!F$4:F$5000, A926,Gifts!B$4:B$5000), \"\")","v":""}]
[null,null,{"$f":"IF(SUMIF(Gifts!F$4:F$5000, A927,Gifts!B$4:B$5000) > 0, SUMIF(Gifts!F$4:F$5000, A927,Gifts!B$4:B$5000), \"\")","v":""}]
[null,null,{"$f":"IF(SUMIF(Gifts!F$4:F$5000, A928,Gifts!B$4:B$5000) > 0, SUMIF(Gifts!F$4:F$5000, A928,Gifts!B$4:B$5000), \"\")","v":""}]
[null,null,{"$f":"IF(SUMIF(Gifts!F$4:F$5000, A929,Gifts!B$4:B$5000) > 0, SUMIF(Gifts!F$4:F$5000, A929,Gifts!B$4:B$5000), \"\")","v":""}]
[null,null,{"$f":"IF(SUMIF(Gifts!F$4:F$5000, A930,Gifts!B$4:B$5000) > 0, SUMIF(Gifts!F$4:F$5000, A930,Gifts!B$4:B$5000), \"\")","v":""}]
[null,null,{"$f":"IF(SUMIF(Gifts!F$4:F$5000, A931,Gifts!B$4:B$5000) > 0, SUMIF(Gifts!F$4:F$5000, A931,Gifts!B$4:B$5000), \"\")","v":""}]
[null,null,{"$f":"IF(SUMIF(Gifts!F$4:F$5000, A932,Gifts!B$4:B$5000) > 0, SUMIF(Gifts!F$4:F$5000, A932,Gifts!B$4:B$5000), \"\")","v":""}]
[null,null,{"$f":"IF(SUMIF(Gifts!F$4:F$5000, A933,Gifts!B$4:B$5000) > 0, SUMIF(Gifts!F$4:F$5000, A933,Gifts!B$4:B$5000), \"\")","v":""}]
[null,null,{"$f":"IF(SUMIF(Gifts!F$4:F$5000, A934,Gifts!B$4:B$5000) > 0, SUMIF(Gifts!F$4:F$5000, A934,Gifts!B$4:B$5000), \"\")","v":""}]
[null,null,{"$f":"IF(SUMIF(Gifts!F$4:F$5000, A935,Gifts!B$4:B$5000) > 0, SUMIF(Gifts!F$4:F$5000, A935,Gifts!B$4:B$5000), \"\")","v":""}]
[null,null,{"$f":"IF(SUMIF(Gifts!F$4:F$5000, A936,Gifts!B$4:B$5000) > 0, SUMIF(Gifts!F$4:F$5000, A936,Gifts!B$4:B$5000), \"\")","v":""}]
[null,null,{"$f":"IF(SUMIF(Gifts!F$4:F$5000, A937,Gifts!B$4:B$5000) > 0, SUMIF(Gifts!F$4:F$5000, A937,Gifts!B$4:B$5000), \"\")","v":""}]
[null,null,{"$f":"IF(SUMIF(Gifts!F$4:F$5000, A938,Gifts!B$4:B$5000) > 0, SUMIF(Gifts!F$4:F$5000, A938,Gifts!B$4:B$5000), \"\")","v":""}]
[null,null,{"$f":"IF(SUMIF(Gifts!F$4:F$5000, A939,Gifts!B$4:B$5000) > 0, SUMIF(Gifts!F$4:F$5000, A939,Gifts!B$4:B$5000), \"\")","v":""}]
[null,null,{"$f":"IF(SUMIF(Gifts!F$4:F$5000, A940,Gifts!B$4:B$5000) > 0, SUMIF(Gifts!F$4:F$5000, A940,Gifts!B$4:B$5000), \"\")","v":""}]
[null,null,{"$f":"IF(SUMIF(Gifts!F$4:F$5000, A941,Gifts!B$4:B$5000) > 0, SUMIF(Gifts!F$4:F$5000, A941,Gifts!B$4:B$5000), \"\")","v":""}]
[null,null,{"$f":"IF(SUMIF(Gifts!F$4:F$5000, A942,Gifts!B$4:B$5000) > 0, SUMIF(Gifts!F$4:F$5000, A942,Gifts!B$4:B$5000), \"\")","v":""}]
[null,null,{"$f":"IF(SUMIF(Gifts!F$4:F$5000, A943,Gifts!B$4:B$5000) > 0, SUMIF(Gifts!F$4:F$5000, A943,Gifts!B$4:B$5000), \"\")","v":""}]
[null,null,{"$f":"IF(SUMIF(Gifts!F$4:F$5000, A944,Gifts!B$4:B$5000) > 0, SUMIF(Gifts!F$4:F$5000, A944,Gifts!B$4:B$5000), \"\")","v":""}]
[null,null,{"$f":"IF(SUMIF(Gifts!F$4:F$5000, A945,Gifts!B$4:B$5000) > 0, SUMIF(Gifts!F$4:F$5000, A945,Gifts!B$4:B$5000), \"\")","v":""}]
[null,null,{"$f":"IF(SUMIF(Gifts!F$4:F$5000, A946,Gifts!B$4:B$5000) > 0, SUMIF(Gifts!F$4:F$5000, A946,Gifts!B$4:B$5000), \"\")","v":""}]
[null,null,{"$f":"IF(SUMIF(Gifts!F$4:F$5000, A947,Gifts!B$4:B$5000) > 0, SUMIF(Gifts!F$4:F$5000, A947,Gifts!B$4:B$5000), \"\")","v":""}]
[null,null,{"$f":"IF(SUMIF(Gifts!F$4:F$5000, A948,Gifts!B$4:B$5000) > 0, SUMIF(Gifts!F$4:F$5000, A948,Gifts!B$4:B$5000), \"\")","v":""}]
[null,null,{"$f":"IF(SUMIF(Gifts!F$4:F$5000, A949,Gifts!B$4:B$5000) > 0, SUMIF(Gifts!F$4:F$5000, A949,Gifts!B$4:B$5000), \"\")","v":""}]
[null,null,{"$f":"IF(SUMIF(Gifts!F$4:F$5000, A950,Gifts!B$4:B$5000) > 0, SUMIF(Gifts!F$4:F$5000, A950,Gifts!B$4:B$5000), \"\")","v":""}]
[null,null,{"$f":"IF(SUMIF(Gifts!F$4:F$5000, A951,Gifts!B$4:B$5000) > 0, SUMIF(Gifts!F$4:F$5000, A951,Gifts!B$4:B$5000), \"\")","v":""}]
[null,null,{"$f":"IF(SUMIF(Gifts!F$4:F$5000, A952,Gifts!B$4:B$5000) > 0, SUMIF(Gifts!F$4:F$5000, A952,Gifts!B$4:B$5000), \"\")","v":""}]
[null,null,{"$f":"IF(SUMIF(Gifts!F$4:F$5000, A953,Gifts!B$4:B$5000) > 0, SUMIF(Gifts!F$4:F$5000, A953,Gifts!B$4:B$5000), \"\")","v":""}]
[null,null,{"$f":"IF(SUMIF(Gifts!F$4:F$5000, A954,Gifts!B$4:B$5000) > 0, SUMIF(Gifts!F$4:F$5000, A954,Gifts!B$4:B$5000), \"\")","v":""}]
[null,null,{"$f":"IF(SUMIF(Gifts!F$4:F$5000, A955,Gifts!B$4:B$5000) > 0, SUMIF(Gifts!F$4:F$5000, A955,Gifts!B$4:B$5000), \"\")","v":""}]
[null,null,{"$f":"IF(SUMIF(Gifts!F$4:F$5000, A956,Gifts!B$4:B$5000) > 0, SUMIF(Gifts!F$4:F$5000, A956,Gifts!B$4:B$5000), \"\")","v":""}]
[null,null,{"$f":"IF(SUMIF(Gifts!F$4:F$5000, A957,Gifts!B$4:B$5000) > 0, SUMIF(Gifts!F$4:F$5000, A957,Gifts!B$4:B$5000), \"\")","v":""}]
[null,null,{"$f":"IF(SUMIF(Gifts!F$4:F$5000, A958,Gifts!B$4:B$5000) > 0, SUMIF(Gifts!F$4:F$5000, A958,Gifts!B$4:B$5000), \"\")","v":""}]
[null,null,{"$f":"IF(SUMIF(Gifts!F$4:F$5000, A959,Gifts!B$4:B$5000) > 0, SUMIF(Gifts!F$4:F$5000, A959,Gifts!B$4:B$5000), \"\")","v":""}]
[null,null,{"$f":"IF(SUMIF(Gifts!F$4:F$5000, A960,Gifts!B$4:B$5000) > 0, SUMIF(Gifts!F$4:F$5000, A960,Gifts!B$4:B$5000), \"\")","v":""}]
[null,null,{"$f":"IF(SUMIF(Gifts!F$4:F$5000, A961,Gifts!B$4:B$5000) > 0, SUMIF(Gifts!F$4:F$5000, A961,Gifts!B$4:B$5000), \"\")","v":""}]
[null,null,{"$f":"IF(SUMIF(Gifts!F$4:F$5000, A962,Gifts!B$4:B$5000) > 0, SUMIF(Gifts!F$4:F$5000, A962,Gifts!B$4:B$5000), \"\")","v":""}]
[null,null,{"$f":"IF(SUMIF(Gifts!F$4:F$5000, A963,Gifts!B$4:B$5000) > 0, SUMIF(Gifts!F$4:F$5000, A963,Gifts!B$4:B$5000), \"\")","v":""}]
[null,null,{"$f":"IF(SUMIF(Gifts!F$4:F$5000, A964,Gifts!B$4:B$5000) > 0, SUMIF(Gifts!F$4:F$5000, A964,Gifts!B$4:B$5000), \"\")","v":""}]
[null,null,{"$f":"IF(SUMIF(Gifts!F$4:F$5000, A965,Gifts!B$4:B$5000) > 0, SUMIF(Gifts!F$4:F$5000, A965,Gifts!B$4:B$5000), \"\")","v":""}]
[null,null,{"$f":"IF(SUMIF(Gifts!F$4:F$5000, A966,Gifts!B$4:B$5000) > 0, SUMIF(Gifts!F$4:F$5000, A966,Gifts!B$4:B$5000), \"\")","v":""}]
[null,null,{"$f":"IF(SUMIF(Gifts!F$4:F$5000, A967,Gifts!B$4:B$5000) > 0, SUMIF(Gifts!F$4:F$5000, A967,Gifts!B$4:B$5000), \"\")","v":""}]
[null,null,{"$f":"IF(SUMIF(Gifts!F$4:F$5000, A968,Gifts!B$4:B$5000) > 0, SUMIF(Gifts!F$4:F$5000, A968,Gifts!B$4:B$5000), \"\")","v":""}]
[null,null,{"$f":"IF(SUMIF(Gifts!F$4:F$5000, A969,Gifts!B$4:B$5000) > 0, SUMIF(Gifts!F$4:F$5000, A969,Gifts!B$4:B$5000), \"\")","v":""}]
[null,null,{"$f":"IF(SUMIF(Gifts!F$4:F$5000, A970,Gifts!B$4:B$5000) > 0, SUMIF(Gifts!F$4:F$5000, A970,Gifts!B$4:B$5000), \"\")","v":""}]
[null,null,{"$f":"IF(SUMIF(Gifts!F$4:F$5000, A971,Gifts!B$4:B$5000) > 0, SUMIF(Gifts!F$4:F$5000, A971,Gifts!B$4:B$5000), \"\")","v":""}]
[null,null,{"$f":"IF(SUMIF(Gifts!F$4:F$5000, A972,Gifts!B$4:B$5000) > 0, SUMIF(Gifts!F$4:F$5000, A972,Gifts!B$4:B$5000), \"\")","v":""}]
[null,null,{"$f":"IF(SUMIF(Gifts!F$4:F$5000, A973,Gifts!B$4:B$5000) > 0, SUMIF(Gifts!F$4:F$5000, A973,Gifts!B$4:B$5000), \"\")","v":""}]
[null,null,{"$f":"IF(SUMIF(Gifts!F$4:F$5000, A974,Gifts!B$4:B$5000) > 0, SUMIF(Gifts!F$4:F$5000, A974,Gifts!B$4:B$5000), \"\")","v":""}]
[null,null,{"$f":"IF(SUMIF(Gifts!F$4:F$5000, A975,Gifts!B$4:B$5000) > 0, SUMIF(Gifts!F$4:F$5000, A975,Gifts!B$4:B$5000), \"\")","v":""}]
[null,null,{"$f":"IF(SUMIF(Gifts!F$4:F$5000, A976,Gifts!B$4:B$5000) > 0, SUMIF(Gifts!F$4:F$5000, A976,Gifts!B$4:B$5000), \"\")","v":""}]
[null,null,{"$f":"IF(SUMIF(Gifts!F$4:F$5000, A977,Gifts!B$4:B$5000) > 0, SUMIF(Gifts!F$4:F$5000, A977,Gifts!B$4:B$5000), \"\")","v":""}]
[null,null,{"$f":"IF(SUMIF(Gifts!F$4:F$5000, A978,Gifts!B$4:B$5000) > 0, SUMIF(Gifts!F$4:F$5000, A978,Gifts!B$4:B$5000), \"\")","v":""}]
[null,null,{"$f":"IF(SUMIF(Gifts!F$4:F$5000, A979,Gifts!B$4:B$5000) > 0, SUMIF(Gifts!F$4:F$5000, A979,Gifts!B$4:B$5000), \"\")","v":""}]
[null,null,{"$f":"IF(SUMIF(Gifts!F$4:F$5000, A980,Gifts!B$4:B$5000) > 0, SUMIF(Gifts!F$4:F$5000, A980,Gifts!B$4:B$5000), \"\")","v":""}]
[null,null,{"$f":"IF(SUMIF(Gifts!F$4:F$5000, A981,Gifts!B$4:B$5000) > 0, SUMIF(Gifts!F$4:F$5000, A981,Gifts!B$4:B$5000), \"\")","v":""}]
[null,null,{"$f":"IF(SUMIF(Gifts!F$4:F$5000, A982,Gifts!B$4:B$5000) > 0, SUMIF(Gifts!F$4:F$5000, A982,Gifts!B$4:B$5000), \"\")","v":""}]
[null,null,{"$f":"IF(SUMIF(Gifts!F$4:F$5000, A983,Gifts!B$4:B$5000) > 0, SUMIF(Gifts!F$4:F$5000, A983,Gifts!B$4:B$5000), \"\")","v":""}]
[null,null,{"$f":"IF(SUMIF(Gifts!F$4:F$5000, A984,Gifts!B$4:B$5000) > 0, SUMIF(Gifts!F$4:F$5000, A984,Gifts!B$4:B$5000), \"\")","v":""}]
[null,null,{"$f":"IF(SUMIF(Gifts!F$4:F$5000, A985,Gifts!B$4:B$5000) > 0, SUMIF(Gifts!F$4:F$5000, A985,Gifts!B$4:B$5000), \"\")","v":""}]
[null,null,{"$f":"IF(SUMIF(Gifts!F$4:F$5000, A986,Gifts!B$4:B$5000) > 0, SUMIF(Gifts!F$4:F$5000, A986,Gifts!B$4:B$5000), \"\")","v":""}]
[null,null,{"$f":"IF(SUMIF(Gifts!F$4:F$5000, A987,Gifts!B$4:B$5000) > 0, SUMIF(Gifts!F$4:F$5000, A987,Gifts!B$4:B$5000), \"\")","v":""}]
[null,null,{"$f":"IF(SUMIF(Gifts!F$4:F$5000, A988,Gifts!B$4:B$5000) > 0, SUMIF(Gifts!F$4:F$5000, A988,Gifts!B$4:B$5000), \"\")","v":""}]
[null,null,{"$f":"IF(SUMIF(Gifts!F$4:F$5000, A989,Gifts!B$4:B$5000) > 0, SUMIF(Gifts!F$4:F$5000, A989,Gifts!B$4:B$5000), \"\")","v":""}]
[null,null,{"$f":"IF(SUMIF(Gifts!F$4:F$5000, A990,Gifts!B$4:B$5000) > 0, SUMIF(Gifts!F$4:F$5000, A990,Gifts!B$4:B$5000), \"\")","v":""}]
[null,null,{"$f":"IF(SUMIF(Gifts!F$4:F$5000, A991,Gifts!B$4:B$5000) > 0, SUMIF(Gifts!F$4:F$5000, A991,Gifts!B$4:B$5000), \"\")","v":""}]
[null,null,{"$f":"IF(SUMIF(Gifts!F$4:F$5000, A992,Gifts!B$4:B$5000) > 0, SUMIF(Gifts!F$4:F$5000, A992,Gifts!B$4:B$5000), \"\")","v":""}]
[null,null,{"$f":"IF(SUMIF(Gifts!F$4:F$5000, A993,Gifts!B$4:B$5000) > 0, SUMIF(Gifts!F$4:F$5000, A993,Gifts!B$4:B$5000), \"\")","v":""}]
[null,null,{"$f":"IF(SUMIF(Gifts!F$4:F$5000, A994,Gifts!B$4:B$5000) > 0, SUMIF(Gifts!F$4:F$5000, A994,Gifts!B$4:B$5000), \"\")","v":""}]
[null,null,{"$f":"IF(SUMIF(Gifts!F$4:F$5000, A995,Gifts!B$4:B$5000) > 0, SUMIF(Gifts!F$4:F$5000, A995,Gifts!B$4:B$5000), \"\")","v":""}]
[null,null,{"$f":"IF(SUMIF(Gifts!F$4:F$5000, A996,Gifts!B$4:B$5000) > 0, SUMIF(Gifts!F$4:F$5000, A996,Gifts!B$4:B$5000), \"\")","v":""}]
[null,null,{"$f":"IF(SUMIF(Gifts!F$4:F$5000, A997,Gifts!B$4:B$5000) > 0, SUMIF(Gifts!F$4:F$5000, A997,Gifts!B$4:B$5000), \"\")","v":""}]
[null,null,{"$f":"IF(SUMIF(Gifts!F$4:F$5000, A998,Gifts!B$4:B$5000) > 0, SUMIF(Gifts!F$4:F$5000, A998,Gifts!B$4:B$5000), \"\")","v":""}]
[null,null,{"$f":"IF(SUMIF(Gifts!F$4:F$5000, A999,Gifts!B$4:B$5000) > 0, SUMIF(Gifts!F$4:F$5000, A999,Gifts!B$4:B$5000), \"\")","v":""}]
[null,null,{"$f":"IF(SUMIF(Gifts!F$4:F$5000, A1000,Gifts!B$4:B$5000) > 0, SUMIF(Gifts!F$4:F$5000, A1000,Gifts!B$4:B$5000), \"\")","v":""}]

{"sheet":"Dashboard","index":6,"n_rows":72,"n_cols":6,"rows_kept":72,"cut":false,"hidden":false,"merged":[]}
["Dashboard"]
["Donations By Date"]
["Date","(All)"]
[]
[null,"Column Labels"]
[null,"<4/1/2020","<4/1/2020 Total","2020","2020 Total","Grand Total"]
[null,"<4/1/2020",null,"Qtr2"]
["Sum of Amount",null,null,100,100,100]
[]
[]
[]
[]
[]
[]
[]
[]
[]
[]
[]
[]
[]
[]
[]
["Donations By Campaign"]
["Date","(All)"]
[]
[null,"Column Labels"]
[null,"(blank)","Sample Campaign","Grand Total"]
["Sum of Amount",null,100,100]
[]
[]
[]
[]
[]
[]
[]
[]
[]
[]
[]
[]
[]
[]
[]
["Donations By Fund"]
["Date","(All)"]
[]
[null,"Column Labels"]
[null,"(blank)","Sample Fund","Grand Total"]
["Sum of Amount",null,100,100]
[]
[]
[]
[]
[]
[]
[]
[]
[]
[]
[]
[]
[]
[]
[]
[]
["Donations By Appeal"]
["Date","(All)"]
[]
[null,"Column Labels"]
[null,"(blank)","Sample Appeal","Grand Total"]
["Sum of Amount",null,100,100]

{"sheet":"Settings","index":7,"n_rows":4,"n_cols":2,"rows_kept":4,"cut":false,"hidden":true,"merged":[]}
[]
[null,"Donor Types"]
[null,"Individual"]
[null,"Organization"]